{"text_format":"1","workbook":"xlsx","n_sheets":7,"sheets":["EMS Details","Copy your Raw data here","Stroke Ready Hospital List","Calculations","Awards Report Sheet","Insights","Data Definitions"],"not_rendered":{"charts":2,"images":4,"macros":1,"external_links":0,"defined_names":2,"comments":2,"pivot_tables":2},"unopened":[],"bounds":{"document_bytes":16777216,"sheet_cells":100000,"rows_first":2000,"rows_last":500,"rows_between":2000,"halvings":0,"cell_chars":16384,"cell_head_chars":4096},"cells_cut":0,"cells_raw":0,"read":"whole","date_system":"1900"}

{"sheet":"EMS Details","index":0,"n_rows":19,"n_cols":9,"rows_kept":19,"cut":false,"hidden":false,"merged":[[7,1,7,2]]}
[]
[]
[]
[]
[]
[]
[]
[null,"Angels EMS Awards"]
[]
[null,"EMS Company name:"]
[null,null,null,null,null,null,null,null,"Yes"]
[null,"Is there a stroke specific protocol in place?",null,{"$f":"IF(C12=\"Yes\",1,0)","v":0},null,null,null,null,"No"]
[null,"Is an annual Stroke Education program in place?",null,{"$f":"IF(C13=\"Yes\",1,0)","v":0}]
[null,"Does your service make use of specific stroke scales? ",null,0]
[null,"Stroke Scale name"]
[]
[]
[null,"If you have answered No to any of the questions above, please go to www.angels-initiative.com where you will find resources that may help you put this in place. "]
[null,"Alternatively if you have an Angels Consultant in your country plesae contact them as they can assist you with the process of implimentation. "]

{"sheet":"Copy your Raw data here","index":1,"n_rows":1,"n_cols":8,"rows_kept":1,"cut":false,"hidden":false,"merged":[]}
["Case id","Time Ambulance arrived on scene","Ambulance deperture from scene","Hospital Pre-notified","Hospital name where the patient was delieverd to","Current medication ","Time last known normal","Hospital arrival time"]

{"sheet":"Stroke Ready Hospital List","index":2,"n_rows":4,"n_cols":3,"rows_kept":4,"cut":false,"hidden":false,"merged":[]}
[]
["Please keep this list updated as it is used to calculate the % of patients delivered to Stroke Ready Hospitals"]
[]
["Hospital Name","Hospital region","Hospital Phone number"]

{"sheet":"Calculations","index":3,"n_rows":502,"n_cols":27,"rows_kept":502,"cut":false,"hidden":true,"merged":[]}
["Case id","Time on Scene","Hospital Pre-notified","Hospital the patient was delieverd to","% of patients delivered to Stroke Ready Hospitals","Current medication ","Time last known normal","Wrong hospitals","Symptom to door time",null,null,"Hour arrive","Hour depart","Minute arrive","Minute depart","Same day","Next day","Time on scene",null,null,"Normal Hour","Hospital Hour","Normal Minute","Hospital Minute","Same day","Next day","Sympto to door time"]
[{"$f":"COUNTA('Copy your Raw data here'!A2:A2000)","v":0},{"$f":"MEDIAN(B3:B2000)","v":{"$error":"#NUM!"}},{"$f":"SUM(C3:C2000)/A2","v":{"$error":"#DIV/0!"}},null,{"$f":"SUM(E3:E2000)/A2","v":{"$error":"#DIV/0!"}},{"$f":"SUM(F3:F2000)/A2","v":{"$error":"#DIV/0!"}},{"$f":"SUM(G3:G2000)/A2","v":{"$error":"#DIV/0!"}},null,{"$f":"MEDIAN(I3:I2000)","v":{"$error":"#NUM!"}}]
[{"$f":"IF(ISBLANK('Copy your Raw data here'!A2),\"\",('Copy your Raw data here'!A2))","v":""},{"$f":"IF(R3=0,\"\",R3)","v":""},{"$f":"IF('Copy your Raw data here'!D2=\"YES\",1,0)","v":0},{"$f":"VLOOKUP('Copy your Raw data here'!E2,'Stroke Ready Hospital List'!A:B,1,FALSE)","v":{"$error":"#N/A"}},{"$f":"IF(ISERROR(D3),0,1)","v":0},{"$f":"IF(OR(ISBLANK('Copy your Raw data here'!F2),('Copy your Raw data here'!F2=\"NO\")),0,1)","v":0},{"$f":"IF(ISBLANK('Copy your Raw data here'!G2),0,1)","v":0},{"$f":"IF(ISERROR(D3),'Copy your Raw data here'!E2,\"\")","v":0},{"$f":"IF(R3=0,\"\",AA3)","v":""},null,null,{"$f":"HOUR('Copy your Raw data here'!B2)","v":0},{"$f":"HOUR('Copy your Raw data here'!C2)","v":0},{"$f":"MINUTE('Copy your Raw data here'!B2)","v":0},{"$f":"MINUTE('Copy your Raw data here'!C2)","v":0},{"$f":"('Copy your Raw data here'!C2-'Copy your Raw data here'!B2)*1440","v":0},{"$f":"SUM(60-N3)+O3","v":60},{"$f":"IF(M3<L3,Q3,P3)","v":0},null,null,{"$f":"HOUR('Copy your Raw data here'!G2)","v":0},{"$f":"HOUR('Copy your Raw data here'!H2)","v":0},{"$f":"MINUTE('Copy your Raw data here'!G2)","v":0},{"$f":"MINUTE('Copy your Raw data here'!H2)","v":0},{"$f":"('Copy your Raw data here'!H2-'Copy your Raw data here'!G2)*1440","v":0},{"$f":"SUM((60-W3)+X3)+SUM((23-U3)*60)","v":1440},{"$f":"IF('Copy your Raw data here'!G2=\"\",\"\",IF(V3<U3,Z3,Y3))","v":""}]
[{"$f":"IF(ISBLANK('Copy your Raw data here'!A3),\"\",('Copy your Raw data here'!A3))","v":""},"",{"$f":"IF('Copy your Raw data here'!D3=\"YES\",1,0)","v":0},{"$f":"VLOOKUP('Copy your Raw data here'!E3,'Stroke Ready Hospital List'!A:B,1,FALSE)","v":{"$error":"#N/A"}},{"$f":"IF(ISERROR(D4),0,1)","v":0},{"$f":"IF(OR(ISBLANK('Copy your Raw data here'!F3),('Copy your Raw data here'!F3=\"NO\")),0,1)","v":0},{"$f":"IF(ISBLANK('Copy your Raw data here'!G3),0,1)","v":0},{"$f":"IF(ISERROR(D4),'Copy your Raw data here'!E3,\"\")","v":0},{"$f":"IF(R4=0,\"\",AA4)","v":""},null,null,{"$f":"HOUR('Copy your Raw data here'!B3)","v":0},{"$f":"HOUR('Copy your Raw data here'!C3)","v":0},{"$f":"MINUTE('Copy your Raw data here'!B3)","v":0},{"$f":"MINUTE('Copy your Raw data here'!C3)","v":0},{"$f":"('Copy your Raw data here'!C3-'Copy your Raw data here'!B3)*1440","v":0},{"$f":"SUM(60-N4)+O4","v":60},{"$f":"IF(M4<L4,Q4,P4)","v":0},null,null,{"$f":"HOUR('Copy your Raw data here'!G3)","v":0},{"$f":"HOUR('Copy your Raw data here'!H3)","v":0},{"$f":"MINUTE('Copy your Raw data here'!G3)","v":0},{"$f":"MINUTE('Copy your Raw data here'!H3)","v":0},{"$f":"('Copy your Raw data here'!H3-'Copy your Raw data here'!G3)*1440","v":0},{"$f":"SUM((60-W4)+X4)+SUM((23-U4)*60)","v":1440},{"$f":"IF('Copy your Raw data here'!G3=\"\",\"\",IF(V4<U4,Z4,Y4))","v":""}]
[{"$f":"IF(ISBLANK('Copy your Raw data here'!A4),\"\",('Copy your Raw data here'!A4))","v":""},"",{"$f":"IF('Copy your Raw data here'!D4=\"YES\",1,0)","v":0},{"$f":"VLOOKUP('Copy your Raw data here'!E4,'Stroke Ready Hospital List'!A:B,1,FALSE)","v":{"$error":"#N/A"}},0,{"$f":"IF(OR(ISBLANK('Copy your Raw data here'!F4),('Copy your Raw data here'!F4=\"NO\")),0,1)","v":0},{"$f":"IF(ISBLANK('Copy your Raw data here'!G4),0,1)","v":0},{"$f":"IF(ISERROR(D5),'Copy your Raw data here'!E4,\"\")","v":0},"",null,null,{"$f":"HOUR('Copy your Raw data here'!B4)","v":0},{"$f":"HOUR('Copy your Raw data here'!C4)","v":0},{"$f":"MINUTE('Copy your Raw data here'!B4)","v":0},{"$f":"MINUTE('Copy your Raw data here'!C4)","v":0},{"$f":"('Copy your Raw data here'!C4-'Copy your Raw data here'!B4)*1440","v":0},60,0,null,null,{"$f":"HOUR('Copy your Raw data here'!G4)","v":0},{"$f":"HOUR('Copy your Raw data here'!H4)","v":0},{"$f":"MINUTE('Copy your Raw data here'!G4)","v":0},{"$f":"MINUTE('Copy your Raw data here'!H4)","v":0},{"$f":"('Copy your Raw data here'!H4-'Copy your Raw data here'!G4)*1440","v":0},1440,{"$f":"IF('Copy your Raw data here'!G4=\"\",\"\",IF(V5<U5,Z5,Y5))","v":""}]
[{"$f":"IF(ISBLANK('Copy your Raw data here'!A5),\"\",('Copy your Raw data here'!A5))","v":""},"",{"$f":"IF('Copy your Raw data here'!D5=\"YES\",1,0)","v":0},{"$f":"VLOOKUP('Copy your Raw data here'!E5,'Stroke Ready Hospital List'!A:B,1,FALSE)","v":{"$error":"#N/A"}},0,{"$f":"IF(OR(ISBLANK('Copy your Raw data here'!F5),('Copy your Raw data here'!F5=\"NO\")),0,1)","v":0},{"$f":"IF(ISBLANK('Copy your Raw data here'!G5),0,1)","v":0},{"$f":"IF(ISERROR(D6),'Copy your Raw data here'!E5,\"\")","v":0},"",null,null,{"$f":"HOUR('Copy your Raw data here'!B5)","v":0},{"$f":"HOUR('Copy your Raw data here'!C5)","v":0},{"$f":"MINUTE('Copy your Raw data here'!B5)","v":0},{"$f":"MINUTE('Copy your Raw data here'!C5)","v":0},{"$f":"('Copy your Raw data here'!C5-'Copy your Raw data here'!B5)*1440","v":0},60,0,null,null,{"$f":"HOUR('Copy your Raw data here'!G5)","v":0},{"$f":"HOUR('Copy your Raw data here'!H5)","v":0},{"$f":"MINUTE('Copy your Raw data here'!G5)","v":0},{"$f":"MINUTE('Copy your Raw data here'!H5)","v":0},{"$f":"('Copy your Raw data here'!H5-'Copy your Raw data here'!G5)*1440","v":0},1440,{"$f":"IF('Copy your Raw data here'!G5=\"\",\"\",IF(V6<U6,Z6,Y6))","v":""}]
[{"$f":"IF(ISBLANK('Copy your Raw data here'!A6),\"\",('Copy your Raw data here'!A6))","v":""},"",{"$f":"IF('Copy your Raw data here'!D6=\"YES\",1,0)","v":0},{"$f":"VLOOKUP('Copy your Raw data here'!E6,'Stroke Ready Hospital List'!A:B,1,FALSE)","v":{"$error":"#N/A"}},0,{"$f":"IF(OR(ISBLANK('Copy your Raw data here'!F6),('Copy your Raw data here'!F6=\"NO\")),0,1)","v":0},{"$f":"IF(ISBLANK('Copy your Raw data here'!G6),0,1)","v":0},{"$f":"IF(ISERROR(D7),'Copy your Raw data here'!E6,\"\")","v":0},"",null,null,{"$f":"HOUR('Copy your Raw data here'!B6)","v":0},{"$f":"HOUR('Copy your Raw data here'!C6)","v":0},{"$f":"MINUTE('Copy your Raw data here'!B6)","v":0},{"$f":"MINUTE('Copy your Raw data here'!C6)","v":0},{"$f":"('Copy your Raw data here'!C6-'Copy your Raw data here'!B6)*1440","v":0},60,0,null,null,{"$f":"HOUR('Copy your Raw data here'!G6)","v":0},{"$f":"HOUR('Copy your Raw data here'!H6)","v":0},{"$f":"MINUTE('Copy your Raw data here'!G6)","v":0},{"$f":"MINUTE('Copy your Raw data here'!H6)","v":0},{"$f":"('Copy your Raw data here'!H6-'Copy your Raw data here'!G6)*1440","v":0},1440,{"$f":"IF('Copy your Raw data here'!G6=\"\",\"\",IF(V7<U7,Z7,Y7))","v":""}]
[{"$f":"IF(ISBLANK('Copy your Raw data here'!A7),\"\",('Copy your Raw data here'!A7))","v":""},"",{"$f":"IF('Copy your Raw data here'!D7=\"YES\",1,0)","v":0},{"$f":"VLOOKUP('Copy your Raw data here'!E7,'Stroke Ready Hospital List'!A:B,1,FALSE)","v":{"$error":"#N/A"}},0,{"$f":"IF(OR(ISBLANK('Copy your Raw data here'!F7),('Copy your Raw data here'!F7=\"NO\")),0,1)","v":0},{"$f":"IF(ISBLANK('Copy your Raw data here'!G7),0,1)","v":0},{"$f":"IF(ISERROR(D8),'Copy your Raw data here'!E7,\"\")","v":0},"",null,null,{"$f":"HOUR('Copy your Raw data here'!B7)","v":0},{"$f":"HOUR('Copy your Raw data here'!C7)","v":0},{"$f":"MINUTE('Copy your Raw data here'!B7)","v":0},{"$f":"MINUTE('Copy your Raw data here'!C7)","v":0},{"$f":"('Copy your Raw data here'!C7-'Copy your Raw data here'!B7)*1440","v":0},60,0,null,null,{"$f":"HOUR('Copy your Raw data here'!G7)","v":0},{"$f":"HOUR('Copy your Raw data here'!H7)","v":0},{"$f":"MINUTE('Copy your Raw data here'!G7)","v":0},{"$f":"MINUTE('Copy your Raw data here'!H7)","v":0},{"$f":"('Copy your Raw data here'!H7-'Copy your Raw data here'!G7)*1440","v":0},1440,{"$f":"IF('Copy your Raw data here'!G7=\"\",\"\",IF(V8<U8,Z8,Y8))","v":""}]
[{"$f":"IF(ISBLANK('Copy your Raw data here'!A8),\"\",('Copy your Raw data here'!A8))","v":""},"",{"$f":"IF('Copy your Raw data here'!D8=\"YES\",1,0)","v":0},{"$f":"VLOOKUP('Copy your Raw data here'!E8,'Stroke Ready Hospital List'!A:B,1,FALSE)","v":{"$error":"#N/A"}},0,{"$f":"IF(OR(ISBLANK('Copy your Raw data here'!F8),('Copy your Raw data here'!F8=\"NO\")),0,1)","v":0},{"$f":"IF(ISBLANK('Copy your Raw data here'!G8),0,1)","v":0},{"$f":"IF(ISERROR(D9),'Copy your Raw data here'!E8,\"\")","v":0},"",null,null,{"$f":"HOUR('Copy your Raw data here'!B8)","v":0},{"$f":"HOUR('Copy your Raw data here'!C8)","v":0},{"$f":"MINUTE('Copy your Raw data here'!B8)","v":0},{"$f":"MINUTE('Copy your Raw data here'!C8)","v":0},{"$f":"('Copy your Raw data here'!C8-'Copy your Raw data here'!B8)*1440","v":0},60,0,null,null,{"$f":"HOUR('Copy your Raw data here'!G8)","v":0},{"$f":"HOUR('Copy your Raw data here'!H8)","v":0},{"$f":"MINUTE('Copy your Raw data here'!G8)","v":0},{"$f":"MINUTE('Copy your Raw data here'!H8)","v":0},{"$f":"('Copy your Raw data here'!H8-'Copy your Raw data here'!G8)*1440","v":0},1440,{"$f":"IF('Copy your Raw data here'!G8=\"\",\"\",IF(V9<U9,Z9,Y9))","v":""}]
[{"$f":"IF(ISBLANK('Copy your Raw data here'!A9),\"\",('Copy your Raw data here'!A9))","v":""},"",{"$f":"IF('Copy your Raw data here'!D9=\"YES\",1,0)","v":0},{"$f":"VLOOKUP('Copy your Raw data here'!E9,'Stroke Ready Hospital List'!A:B,1,FALSE)","v":{"$error":"#N/A"}},0,{"$f":"IF(OR(ISBLANK('Copy your Raw data here'!F9),('Copy your Raw data here'!F9=\"NO\")),0,1)","v":0},{"$f":"IF(ISBLANK('Copy your Raw data here'!G9),0,1)","v":0},{"$f":"IF(ISERROR(D10),'Copy your Raw data here'!E9,\"\")","v":0},"",null,null,{"$f":"HOUR('Copy your Raw data here'!B9)","v":0},{"$f":"HOUR('Copy your Raw data here'!C9)","v":0},{"$f":"MINUTE('Copy your Raw data here'!B9)","v":0},{"$f":"MINUTE('Copy your Raw data here'!C9)","v":0},{"$f":"('Copy your Raw data here'!C9-'Copy your Raw data here'!B9)*1440","v":0},60,0,null,null,{"$f":"HOUR('Copy your Raw data here'!G9)","v":0},{"$f":"HOUR('Copy your Raw data here'!H9)","v":0},{"$f":"MINUTE('Copy your Raw data here'!G9)","v":0},{"$f":"MINUTE('Copy your Raw data here'!H9)","v":0},{"$f":"('Copy your Raw data here'!H9-'Copy your Raw data here'!G9)*1440","v":0},1440,{"$f":"IF('Copy your Raw data here'!G9=\"\",\"\",IF(V10<U10,Z10,Y10))","v":""}]
[{"$f":"IF(ISBLANK('Copy your Raw data here'!A10),\"\",('Copy your Raw data here'!A10))","v":""},"",{"$f":"IF('Copy your Raw data here'!D10=\"YES\",1,0)","v":0},{"$f":"VLOOKUP('Copy your Raw data here'!E10,'Stroke Ready Hospital List'!A:B,1,FALSE)","v":{"$error":"#N/A"}},0,{"$f":"IF(OR(ISBLANK('Copy your Raw data here'!F10),('Copy your Raw data here'!F10=\"NO\")),0,1)","v":0},{"$f":"IF(ISBLANK('Copy your Raw data here'!G10),0,1)","v":0},{"$f":"IF(ISERROR(D11),'Copy your Raw data here'!E10,\"\")","v":0},"",null,null,{"$f":"HOUR('Copy your Raw data here'!B10)","v":0},{"$f":"HOUR('Copy your Raw data here'!C10)","v":0},{"$f":"MINUTE('Copy your Raw data here'!B10)","v":0},{"$f":"MINUTE('Copy your Raw data here'!C10)","v":0},{"$f":"('Copy your Raw data here'!C10-'Copy your Raw data here'!B10)*1440","v":0},60,0,null,null,{"$f":"HOUR('Copy your Raw data here'!G10)","v":0},{"$f":"HOUR('Copy your Raw data here'!H10)","v":0},{"$f":"MINUTE('Copy your Raw data here'!G10)","v":0},{"$f":"MINUTE('Copy your Raw data here'!H10)","v":0},{"$f":"('Copy your Raw data here'!H10-'Copy your Raw data here'!G10)*1440","v":0},1440,{"$f":"IF('Copy your Raw data here'!G10=\"\",\"\",IF(V11<U11,Z11,Y11))","v":""}]
[{"$f":"IF(ISBLANK('Copy your Raw data here'!A11),\"\",('Copy your Raw data here'!A11))","v":""},"",{"$f":"IF('Copy your Raw data here'!D11=\"YES\",1,0)","v":0},{"$f":"VLOOKUP('Copy your Raw data here'!E11,'Stroke Ready Hospital List'!A:B,1,FALSE)","v":{"$error":"#N/A"}},0,{"$f":"IF(OR(ISBLANK('Copy your Raw data here'!F11),('Copy your Raw data here'!F11=\"NO\")),0,1)","v":0},{"$f":"IF(ISBLANK('Copy your Raw data here'!G11),0,1)","v":0},{"$f":"IF(ISERROR(D12),'Copy your Raw data here'!E11,\"\")","v":0},"",null,null,{"$f":"HOUR('Copy your Raw data here'!B11)","v":0},{"$f":"HOUR('Copy your Raw data here'!C11)","v":0},{"$f":"MINUTE('Copy your Raw data here'!B11)","v":0},{"$f":"MINUTE('Copy your Raw data here'!C11)","v":0},{"$f":"('Copy your Raw data here'!C11-'Copy your Raw data here'!B11)*1440","v":0},60,0,null,null,{"$f":"HOUR('Copy your Raw data here'!G11)","v":0},{"$f":"HOUR('Copy your Raw data here'!H11)","v":0},{"$f":"MINUTE('Copy your Raw data here'!G11)","v":0},{"$f":"MINUTE('Copy your Raw data here'!H11)","v":0},{"$f":"('Copy your Raw data here'!H11-'Copy your Raw data here'!G11)*1440","v":0},1440,{"$f":"IF('Copy your Raw data here'!G11=\"\",\"\",IF(V12<U12,Z12,Y12))","v":""}]
[{"$f":"IF(ISBLANK('Copy your Raw data here'!A12),\"\",('Copy your Raw data here'!A12))","v":""},"",{"$f":"IF('Copy your Raw data here'!D12=\"YES\",1,0)","v":0},{"$f":"VLOOKUP('Copy your Raw data here'!E12,'Stroke Ready Hospital List'!A:B,1,FALSE)","v":{"$error":"#N/A"}},0,{"$f":"IF(OR(ISBLANK('Copy your Raw data here'!F12),('Copy your Raw data here'!F12=\"NO\")),0,1)","v":0},{"$f":"IF(ISBLANK('Copy your Raw data here'!G12),0,1)","v":0},{"$f":"IF(ISERROR(D13),'Copy your Raw data here'!E12,\"\")","v":0},"",null,null,{"$f":"HOUR('Copy your Raw data here'!B12)","v":0},{"$f":"HOUR('Copy your Raw data here'!C12)","v":0},{"$f":"MINUTE('Copy your Raw data here'!B12)","v":0},{"$f":"MINUTE('Copy your Raw data here'!C12)","v":0},{"$f":"('Copy your Raw data here'!C12-'Copy your Raw data here'!B12)*1440","v":0},60,0,null,null,{"$f":"HOUR('Copy your Raw data here'!G12)","v":0},{"$f":"HOUR('Copy your Raw data here'!H12)","v":0},{"$f":"MINUTE('Copy your Raw data here'!G12)","v":0},{"$f":"MINUTE('Copy your Raw data here'!H12)","v":0},{"$f":"('Copy your Raw data here'!H12-'Copy your Raw data here'!G12)*1440","v":0},1440,{"$f":"IF('Copy your Raw data here'!G12=\"\",\"\",IF(V13<U13,Z13,Y13))","v":""}]
[{"$f":"IF(ISBLANK('Copy your Raw data here'!A13),\"\",('Copy your Raw data here'!A13))","v":""},"",{"$f":"IF('Copy your Raw data here'!D13=\"YES\",1,0)","v":0},{"$f":"VLOOKUP('Copy your Raw data here'!E13,'Stroke Ready Hospital List'!A:B,1,FALSE)","v":{"$error":"#N/A"}},0,{"$f":"IF(OR(ISBLANK('Copy your Raw data here'!F13),('Copy your Raw data here'!F13=\"NO\")),0,1)","v":0},{"$f":"IF(ISBLANK('Copy your Raw data here'!G13),0,1)","v":0},{"$f":"IF(ISERROR(D14),'Copy your Raw data here'!E13,\"\")","v":0},"",null,null,{"$f":"HOUR('Copy your Raw data here'!B13)","v":0},{"$f":"HOUR('Copy your Raw data here'!C13)","v":0},{"$f":"MINUTE('Copy your Raw data here'!B13)","v":0},{"$f":"MINUTE('Copy your Raw data here'!C13)","v":0},{"$f":"('Copy your Raw data here'!C13-'Copy your Raw data here'!B13)*1440","v":0},60,0,null,null,{"$f":"HOUR('Copy your Raw data here'!G13)","v":0},{"$f":"HOUR('Copy your Raw data here'!H13)","v":0},{"$f":"MINUTE('Copy your Raw data here'!G13)","v":0},{"$f":"MINUTE('Copy your Raw data here'!H13)","v":0},{"$f":"('Copy your Raw data here'!H13-'Copy your Raw data here'!G13)*1440","v":0},1440,{"$f":"IF('Copy your Raw data here'!G13=\"\",\"\",IF(V14<U14,Z14,Y14))","v":""}]
[{"$f":"IF(ISBLANK('Copy your Raw data here'!A14),\"\",('Copy your Raw data here'!A14))","v":""},"",{"$f":"IF('Copy your Raw data here'!D14=\"YES\",1,0)","v":0},{"$f":"VLOOKUP('Copy your Raw data here'!E14,'Stroke Ready Hospital List'!A:B,1,FALSE)","v":{"$error":"#N/A"}},0,{"$f":"IF(OR(ISBLANK('Copy your Raw data here'!F14),('Copy your Raw data here'!F14=\"NO\")),0,1)","v":0},{"$f":"IF(ISBLANK('Copy your Raw data here'!G14),0,1)","v":0},{"$f":"IF(ISERROR(D15),'Copy your Raw data here'!E14,\"\")","v":0},"",null,null,{"$f":"HOUR('Copy your Raw data here'!B14)","v":0},{"$f":"HOUR('Copy your Raw data here'!C14)","v":0},{"$f":"MINUTE('Copy your Raw data here'!B14)","v":0},{"$f":"MINUTE('Copy your Raw data here'!C14)","v":0},{"$f":"('Copy your Raw data here'!C14-'Copy your Raw data here'!B14)*1440","v":0},60,0,null,null,{"$f":"HOUR('Copy your Raw data here'!G14)","v":0},{"$f":"HOUR('Copy your Raw data here'!H14)","v":0},{"$f":"MINUTE('Copy your Raw data here'!G14)","v":0},{"$f":"MINUTE('Copy your Raw data here'!H14)","v":0},{"$f":"('Copy your Raw data here'!H14-'Copy your Raw data here'!G14)*1440","v":0},1440,{"$f":"IF('Copy your Raw data here'!G14=\"\",\"\",IF(V15<U15,Z15,Y15))","v":""}]
[{"$f":"IF(ISBLANK('Copy your Raw data here'!A15),\"\",('Copy your Raw data here'!A15))","v":""},"",{"$f":"IF('Copy your Raw data here'!D15=\"YES\",1,0)","v":0},{"$f":"VLOOKUP('Copy your Raw data here'!E15,'Stroke Ready Hospital List'!A:B,1,FALSE)","v":{"$error":"#N/A"}},0,{"$f":"IF(OR(ISBLANK('Copy your Raw data here'!F15),('Copy your Raw data here'!F15=\"NO\")),0,1)","v":0},{"$f":"IF(ISBLANK('Copy your Raw data here'!G15),0,1)","v":0},{"$f":"IF(ISERROR(D16),'Copy your Raw data here'!E15,\"\")","v":0},"",null,null,{"$f":"HOUR('Copy your Raw data here'!B15)","v":0},{"$f":"HOUR('Copy your Raw data here'!C15)","v":0},{"$f":"MINUTE('Copy your Raw data here'!B15)","v":0},{"$f":"MINUTE('Copy your Raw data here'!C15)","v":0},{"$f":"('Copy your Raw data here'!C15-'Copy your Raw data here'!B15)*1440","v":0},60,0,null,null,{"$f":"HOUR('Copy your Raw data here'!G15)","v":0},{"$f":"HOUR('Copy your Raw data here'!H15)","v":0},{"$f":"MINUTE('Copy your Raw data here'!G15)","v":0},{"$f":"MINUTE('Copy your Raw data here'!H15)","v":0},{"$f":"('Copy your Raw data here'!H15-'Copy your Raw data here'!G15)*1440","v":0},1440,{"$f":"IF('Copy your Raw data here'!G15=\"\",\"\",IF(V16<U16,Z16,Y16))","v":""}]
[{"$f":"IF(ISBLANK('Copy your Raw data here'!A16),\"\",('Copy your Raw data here'!A16))","v":""},"",{"$f":"IF('Copy your Raw data here'!D16=\"YES\",1,0)","v":0},{"$f":"VLOOKUP('Copy your Raw data here'!E16,'Stroke Ready Hospital List'!A:B,1,FALSE)","v":{"$error":"#N/A"}},0,{"$f":"IF(OR(ISBLANK('Copy your Raw data here'!F16),('Copy your Raw data here'!F16=\"NO\")),0,1)","v":0},{"$f":"IF(ISBLANK('Copy your Raw data here'!G16),0,1)","v":0},{"$f":"IF(ISERROR(D17),'Copy your Raw data here'!E16,\"\")","v":0},"",null,null,{"$f":"HOUR('Copy your Raw data here'!B16)","v":0},{"$f":"HOUR('Copy your Raw data here'!C16)","v":0},{"$f":"MINUTE('Copy your Raw data here'!B16)","v":0},{"$f":"MINUTE('Copy your Raw data here'!C16)","v":0},{"$f":"('Copy your Raw data here'!C16-'Copy your Raw data here'!B16)*1440","v":0},60,0,null,null,{"$f":"HOUR('Copy your Raw data here'!G16)","v":0},{"$f":"HOUR('Copy your Raw data here'!H16)","v":0},{"$f":"MINUTE('Copy your Raw data here'!G16)","v":0},{"$f":"MINUTE('Copy your Raw data here'!H16)","v":0},{"$f":"('Copy your Raw data here'!H16-'Copy your Raw data here'!G16)*1440","v":0},1440,{"$f":"IF('Copy your Raw data here'!G16=\"\",\"\",IF(V17<U17,Z17,Y17))","v":""}]
[{"$f":"IF(ISBLANK('Copy your Raw data here'!A17),\"\",('Copy your Raw data here'!A17))","v":""},"",{"$f":"IF('Copy your Raw data here'!D17=\"YES\",1,0)","v":0},{"$f":"VLOOKUP('Copy your Raw data here'!E17,'Stroke Ready Hospital List'!A:B,1,FALSE)","v":{"$error":"#N/A"}},0,{"$f":"IF(OR(ISBLANK('Copy your Raw data here'!F17),('Copy your Raw data here'!F17=\"NO\")),0,1)","v":0},{"$f":"IF(ISBLANK('Copy your Raw data here'!G17),0,1)","v":0},{"$f":"IF(ISERROR(D18),'Copy your Raw data here'!E17,\"\")","v":0},"",null,null,{"$f":"HOUR('Copy your Raw data here'!B17)","v":0},{"$f":"HOUR('Copy your Raw data here'!C17)","v":0},{"$f":"MINUTE('Copy your Raw data here'!B17)","v":0},{"$f":"MINUTE('Copy your Raw data here'!C17)","v":0},{"$f":"('Copy your Raw data here'!C17-'Copy your Raw data here'!B17)*1440","v":0},60,0,null,null,{"$f":"HOUR('Copy your Raw data here'!G17)","v":0},{"$f":"HOUR('Copy your Raw data here'!H17)","v":0},{"$f":"MINUTE('Copy your Raw data here'!G17)","v":0},{"$f":"MINUTE('Copy your Raw data here'!H17)","v":0},{"$f":"('Copy your Raw data here'!H17-'Copy your Raw data here'!G17)*1440","v":0},1440,{"$f":"IF('Copy your Raw data here'!G17=\"\",\"\",IF(V18<U18,Z18,Y18))","v":""}]
[{"$f":"IF(ISBLANK('Copy your Raw data here'!A18),\"\",('Copy your Raw data here'!A18))","v":""},"",{"$f":"IF('Copy your Raw data here'!D18=\"YES\",1,0)","v":0},{"$f":"VLOOKUP('Copy your Raw data here'!E18,'Stroke Ready Hospital List'!A:B,1,FALSE)","v":{"$error":"#N/A"}},0,{"$f":"IF(OR(ISBLANK('Copy your Raw data here'!F18),('Copy your Raw data here'!F18=\"NO\")),0,1)","v":0},{"$f":"IF(ISBLANK('Copy your Raw data here'!G18),0,1)","v":0},{"$f":"IF(ISERROR(D19),'Copy your Raw data here'!E18,\"\")","v":0},"",null,null,{"$f":"HOUR('Copy your Raw data here'!B18)","v":0},{"$f":"HOUR('Copy your Raw data here'!C18)","v":0},{"$f":"MINUTE('Copy your Raw data here'!B18)","v":0},{"$f":"MINUTE('Copy your Raw data here'!C18)","v":0},{"$f":"('Copy your Raw data here'!C18-'Copy your Raw data here'!B18)*1440","v":0},60,0,null,null,{"$f":"HOUR('Copy your Raw data here'!G18)","v":0},{"$f":"HOUR('Copy your Raw data here'!H18)","v":0},{"$f":"MINUTE('Copy your Raw data here'!G18)","v":0},{"$f":"MINUTE('Copy your Raw data here'!H18)","v":0},{"$f":"('Copy your Raw data here'!H18-'Copy your Raw data here'!G18)*1440","v":0},1440,{"$f":"IF('Copy your Raw data here'!G18=\"\",\"\",IF(V19<U19,Z19,Y19))","v":""}]
[{"$f":"IF(ISBLANK('Copy your Raw data here'!A19),\"\",('Copy your Raw data here'!A19))","v":""},"",{"$f":"IF('Copy your Raw data here'!D19=\"YES\",1,0)","v":0},{"$f":"VLOOKUP('Copy your Raw data here'!E19,'Stroke Ready Hospital List'!A:B,1,FALSE)","v":{"$error":"#N/A"}},0,{"$f":"IF(OR(ISBLANK('Copy your Raw data here'!F19),('Copy your Raw data here'!F19=\"NO\")),0,1)","v":0},{"$f":"IF(ISBLANK('Copy your Raw data here'!G19),0,1)","v":0},{"$f":"IF(ISERROR(D20),'Copy your Raw data here'!E19,\"\")","v":0},"",null,null,{"$f":"HOUR('Copy your Raw data here'!B19)","v":0},{"$f":"HOUR('Copy your Raw data here'!C19)","v":0},{"$f":"MINUTE('Copy your Raw data here'!B19)","v":0},{"$f":"MINUTE('Copy your Raw data here'!C19)","v":0},{"$f":"('Copy your Raw data here'!C19-'Copy your Raw data here'!B19)*1440","v":0},60,0,null,null,{"$f":"HOUR('Copy your Raw data here'!G19)","v":0},{"$f":"HOUR('Copy your Raw data here'!H19)","v":0},{"$f":"MINUTE('Copy your Raw data here'!G19)","v":0},{"$f":"MINUTE('Copy your Raw data here'!H19)","v":0},{"$f":"('Copy your Raw data here'!H19-'Copy your Raw data here'!G19)*1440","v":0},1440,{"$f":"IF('Copy your Raw data here'!G19=\"\",\"\",IF(V20<U20,Z20,Y20))","v":""}]
[{"$f":"IF(ISBLANK('Copy your Raw data here'!A20),\"\",('Copy your Raw data here'!A20))","v":""},"",{"$f":"IF('Copy your Raw data here'!D20=\"YES\",1,0)","v":0},{"$f":"VLOOKUP('Copy your Raw data here'!E20,'Stroke Ready Hospital List'!A:B,1,FALSE)","v":{"$error":"#N/A"}},0,{"$f":"IF(OR(ISBLANK('Copy your Raw data here'!F20),('Copy your Raw data here'!F20=\"NO\")),0,1)","v":0},{"$f":"IF(ISBLANK('Copy your Raw data here'!G20),0,1)","v":0},{"$f":"IF(ISERROR(D21),'Copy your Raw data here'!E20,\"\")","v":0},"",null,null,{"$f":"HOUR('Copy your Raw data here'!B20)","v":0},{"$f":"HOUR('Copy your Raw data here'!C20)","v":0},{"$f":"MINUTE('Copy your Raw data here'!B20)","v":0},{"$f":"MINUTE('Copy your Raw data here'!C20)","v":0},{"$f":"('Copy your Raw data here'!C20-'Copy your Raw data here'!B20)*1440","v":0},60,0,null,null,{"$f":"HOUR('Copy your Raw data here'!G20)","v":0},{"$f":"HOUR('Copy your Raw data here'!H20)","v":0},{"$f":"MINUTE('Copy your Raw data here'!G20)","v":0},{"$f":"MINUTE('Copy your Raw data here'!H20)","v":0},{"$f":"('Copy your Raw data here'!H20-'Copy your Raw data here'!G20)*1440","v":0},1440,{"$f":"IF('Copy your Raw data here'!G20=\"\",\"\",IF(V21<U21,Z21,Y21))","v":""}]
[{"$f":"IF(ISBLANK('Copy your Raw data here'!A21),\"\",('Copy your Raw data here'!A21))","v":""},"",{"$f":"IF('Copy your Raw data here'!D21=\"YES\",1,0)","v":0},{"$f":"VLOOKUP('Copy your Raw data here'!E21,'Stroke Ready Hospital List'!A:B,1,FALSE)","v":{"$error":"#N/A"}},0,{"$f":"IF(OR(ISBLANK('Copy your Raw data here'!F21),('Copy your Raw data here'!F21=\"NO\")),0,1)","v":0},{"$f":"IF(ISBLANK('Copy your Raw data here'!G21),0,1)","v":0},{"$f":"IF(ISERROR(D22),'Copy your Raw data here'!E21,\"\")","v":0},"",null,null,{"$f":"HOUR('Copy your Raw data here'!B21)","v":0},{"$f":"HOUR('Copy your Raw data here'!C21)","v":0},{"$f":"MINUTE('Copy your Raw data here'!B21)","v":0},{"$f":"MINUTE('Copy your Raw data here'!C21)","v":0},{"$f":"('Copy your Raw data here'!C21-'Copy your Raw data here'!B21)*1440","v":0},60,0,null,null,{"$f":"HOUR('Copy your Raw data here'!G21)","v":0},{"$f":"HOUR('Copy your Raw data here'!H21)","v":0},{"$f":"MINUTE('Copy your Raw data here'!G21)","v":0},{"$f":"MINUTE('Copy your Raw data here'!H21)","v":0},{"$f":"('Copy your Raw data here'!H21-'Copy your Raw data here'!G21)*1440","v":0},1440,{"$f":"IF('Copy your Raw data here'!G21=\"\",\"\",IF(V22<U22,Z22,Y22))","v":""}]
[{"$f":"IF(ISBLANK('Copy your Raw data here'!A22),\"\",('Copy your Raw data here'!A22))","v":""},"",{"$f":"IF('Copy your Raw data here'!D22=\"YES\",1,0)","v":0},{"$f":"VLOOKUP('Copy your Raw data here'!E22,'Stroke Ready Hospital List'!A:B,1,FALSE)","v":{"$error":"#N/A"}},0,{"$f":"IF(OR(ISBLANK('Copy your Raw data here'!F22),('Copy your Raw data here'!F22=\"NO\")),0,1)","v":0},{"$f":"IF(ISBLANK('Copy your Raw data here'!G22),0,1)","v":0},{"$f":"IF(ISERROR(D23),'Copy your Raw data here'!E22,\"\")","v":0},"",null,null,{"$f":"HOUR('Copy your Raw data here'!B22)","v":0},{"$f":"HOUR('Copy your Raw data here'!C22)","v":0},{"$f":"MINUTE('Copy your Raw data here'!B22)","v":0},{"$f":"MINUTE('Copy your Raw data here'!C22)","v":0},{"$f":"('Copy your Raw data here'!C22-'Copy your Raw data here'!B22)*1440","v":0},60,0,null,null,{"$f":"HOUR('Copy your Raw data here'!G22)","v":0},{"$f":"HOUR('Copy your Raw data here'!H22)","v":0},{"$f":"MINUTE('Copy your Raw data here'!G22)","v":0},{"$f":"MINUTE('Copy your Raw data here'!H22)","v":0},{"$f":"('Copy your Raw data here'!H22-'Copy your Raw data here'!G22)*1440","v":0},1440,{"$f":"IF('Copy your Raw data here'!G22=\"\",\"\",IF(V23<U23,Z23,Y23))","v":""}]
[{"$f":"IF(ISBLANK('Copy your Raw data here'!A23),\"\",('Copy your Raw data here'!A23))","v":""},"",{"$f":"IF('Copy your Raw data here'!D23=\"YES\",1,0)","v":0},{"$f":"VLOOKUP('Copy your Raw data here'!E23,'Stroke Ready Hospital List'!A:B,1,FALSE)","v":{"$error":"#N/A"}},0,{"$f":"IF(OR(ISBLANK('Copy your Raw data here'!F23),('Copy your Raw data here'!F23=\"NO\")),0,1)","v":0},{"$f":"IF(ISBLANK('Copy your Raw data here'!G23),0,1)","v":0},{"$f":"IF(ISERROR(D24),'Copy your Raw data here'!E23,\"\")","v":0},"",null,null,{"$f":"HOUR('Copy your Raw data here'!B23)","v":0},{"$f":"HOUR('Copy your Raw data here'!C23)","v":0},{"$f":"MINUTE('Copy your Raw data here'!B23)","v":0},{"$f":"MINUTE('Copy your Raw data here'!C23)","v":0},{"$f":"('Copy your Raw data here'!C23-'Copy your Raw data here'!B23)*1440","v":0},60,0,null,null,{"$f":"HOUR('Copy your Raw data here'!G23)","v":0},{"$f":"HOUR('Copy your Raw data here'!H23)","v":0},{"$f":"MINUTE('Copy your Raw data here'!G23)","v":0},{"$f":"MINUTE('Copy your Raw data here'!H23)","v":0},{"$f":"('Copy your Raw data here'!H23-'Copy your Raw data here'!G23)*1440","v":0},1440,{"$f":"IF('Copy your Raw data here'!G23=\"\",\"\",IF(V24<U24,Z24,Y24))","v":""}]
[{"$f":"IF(ISBLANK('Copy your Raw data here'!A24),\"\",('Copy your Raw data here'!A24))","v":""},"",{"$f":"IF('Copy your Raw data here'!D24=\"YES\",1,0)","v":0},{"$f":"VLOOKUP('Copy your Raw data here'!E24,'Stroke Ready Hospital List'!A:B,1,FALSE)","v":{"$error":"#N/A"}},0,{"$f":"IF(OR(ISBLANK('Copy your Raw data here'!F24),('Copy your Raw data here'!F24=\"NO\")),0,1)","v":0},{"$f":"IF(ISBLANK('Copy your Raw data here'!G24),0,1)","v":0},{"$f":"IF(ISERROR(D25),'Copy your Raw data here'!E24,\"\")","v":0},"",null,null,{"$f":"HOUR('Copy your Raw data here'!B24)","v":0},{"$f":"HOUR('Copy your Raw data here'!C24)","v":0},{"$f":"MINUTE('Copy your Raw data here'!B24)","v":0},{"$f":"MINUTE('Copy your Raw data here'!C24)","v":0},{"$f":"('Copy your Raw data here'!C24-'Copy your Raw data here'!B24)*1440","v":0},60,0,null,null,{"$f":"HOUR('Copy your Raw data here'!G24)","v":0},{"$f":"HOUR('Copy your Raw data here'!H24)","v":0},{"$f":"MINUTE('Copy your Raw data here'!G24)","v":0},{"$f":"MINUTE('Copy your Raw data here'!H24)","v":0},{"$f":"('Copy your Raw data here'!H24-'Copy your Raw data here'!G24)*1440","v":0},1440,{"$f":"IF('Copy your Raw data here'!G24=\"\",\"\",IF(V25<U25,Z25,Y25))","v":""}]
[{"$f":"IF(ISBLANK('Copy your Raw data here'!A25),\"\",('Copy your Raw data here'!A25))","v":""},"",{"$f":"IF('Copy your Raw data here'!D25=\"YES\",1,0)","v":0},{"$f":"VLOOKUP('Copy your Raw data here'!E25,'Stroke Ready Hospital List'!A:B,1,FALSE)","v":{"$error":"#N/A"}},0,{"$f":"IF(OR(ISBLANK('Copy your Raw data here'!F25),('Copy your Raw data here'!F25=\"NO\")),0,1)","v":0},{"$f":"IF(ISBLANK('Copy your Raw data here'!G25),0,1)","v":0},{"$f":"IF(ISERROR(D26),'Copy your Raw data here'!E25,\"\")","v":0},"",null,null,{"$f":"HOUR('Copy your Raw data here'!B25)","v":0},{"$f":"HOUR('Copy your Raw data here'!C25)","v":0},{"$f":"MINUTE('Copy your Raw data here'!B25)","v":0},{"$f":"MINUTE('Copy your Raw data here'!C25)","v":0},{"$f":"('Copy your Raw data here'!C25-'Copy your Raw data here'!B25)*1440","v":0},60,0,null,null,{"$f":"HOUR('Copy your Raw data here'!G25)","v":0},{"$f":"HOUR('Copy your Raw data here'!H25)","v":0},{"$f":"MINUTE('Copy your Raw data here'!G25)","v":0},{"$f":"MINUTE('Copy your Raw data here'!H25)","v":0},{"$f":"('Copy your Raw data here'!H25-'Copy your Raw data here'!G25)*1440","v":0},1440,{"$f":"IF('Copy your Raw data here'!G25=\"\",\"\",IF(V26<U26,Z26,Y26))","v":""}]
[{"$f":"IF(ISBLANK('Copy your Raw data here'!A26),\"\",('Copy your Raw data here'!A26))","v":""},"",{"$f":"IF('Copy your Raw data here'!D26=\"YES\",1,0)","v":0},{"$f":"VLOOKUP('Copy your Raw data here'!E26,'Stroke Ready Hospital List'!A:B,1,FALSE)","v":{"$error":"#N/A"}},0,{"$f":"IF(OR(ISBLANK('Copy your Raw data here'!F26),('Copy your Raw data here'!F26=\"NO\")),0,1)","v":0},{"$f":"IF(ISBLANK('Copy your Raw data here'!G26),0,1)","v":0},{"$f":"IF(ISERROR(D27),'Copy your Raw data here'!E26,\"\")","v":0},"",null,null,{"$f":"HOUR('Copy your Raw data here'!B26)","v":0},{"$f":"HOUR('Copy your Raw data here'!C26)","v":0},{"$f":"MINUTE('Copy your Raw data here'!B26)","v":0},{"$f":"MINUTE('Copy your Raw data here'!C26)","v":0},{"$f":"('Copy your Raw data here'!C26-'Copy your Raw data here'!B26)*1440","v":0},60,0,null,null,{"$f":"HOUR('Copy your Raw data here'!G26)","v":0},{"$f":"HOUR('Copy your Raw data here'!H26)","v":0},{"$f":"MINUTE('Copy your Raw data here'!G26)","v":0},{"$f":"MINUTE('Copy your Raw data here'!H26)","v":0},{"$f":"('Copy your Raw data here'!H26-'Copy your Raw data here'!G26)*1440","v":0},1440,{"$f":"IF('Copy your Raw data here'!G26=\"\",\"\",IF(V27<U27,Z27,Y27))","v":""}]
[{"$f":"IF(ISBLANK('Copy your Raw data here'!A27),\"\",('Copy your Raw data here'!A27))","v":""},"",{"$f":"IF('Copy your Raw data here'!D27=\"YES\",1,0)","v":0},{"$f":"VLOOKUP('Copy your Raw data here'!E27,'Stroke Ready Hospital List'!A:B,1,FALSE)","v":{"$error":"#N/A"}},0,{"$f":"IF(OR(ISBLANK('Copy your Raw data here'!F27),('Copy your Raw data here'!F27=\"NO\")),0,1)","v":0},{"$f":"IF(ISBLANK('Copy your Raw data here'!G27),0,1)","v":0},{"$f":"IF(ISERROR(D28),'Copy your Raw data here'!E27,\"\")","v":0},"",null,null,{"$f":"HOUR('Copy your Raw data here'!B27)","v":0},{"$f":"HOUR('Copy your Raw data here'!C27)","v":0},{"$f":"MINUTE('Copy your Raw data here'!B27)","v":0},{"$f":"MINUTE('Copy your Raw data here'!C27)","v":0},{"$f":"('Copy your Raw data here'!C27-'Copy your Raw data here'!B27)*1440","v":0},60,0,null,null,{"$f":"HOUR('Copy your Raw data here'!G27)","v":0},{"$f":"HOUR('Copy your Raw data here'!H27)","v":0},{"$f":"MINUTE('Copy your Raw data here'!G27)","v":0},{"$f":"MINUTE('Copy your Raw data here'!H27)","v":0},{"$f":"('Copy your Raw data here'!H27-'Copy your Raw data here'!G27)*1440","v":0},1440,{"$f":"IF('Copy your Raw data here'!G27=\"\",\"\",IF(V28<U28,Z28,Y28))","v":""}]
[{"$f":"IF(ISBLANK('Copy your Raw data here'!A28),\"\",('Copy your Raw data here'!A28))","v":""},"",{"$f":"IF('Copy your Raw data here'!D28=\"YES\",1,0)","v":0},{"$f":"VLOOKUP('Copy your Raw data here'!E28,'Stroke Ready Hospital List'!A:B,1,FALSE)","v":{"$error":"#N/A"}},0,{"$f":"IF(OR(ISBLANK('Copy your Raw data here'!F28),('Copy your Raw data here'!F28=\"NO\")),0,1)","v":0},{"$f":"IF(ISBLANK('Copy your Raw data here'!G28),0,1)","v":0},{"$f":"IF(ISERROR(D29),'Copy your Raw data here'!E28,\"\")","v":0},"",null,null,{"$f":"HOUR('Copy your Raw data here'!B28)","v":0},{"$f":"HOUR('Copy your Raw data here'!C28)","v":0},{"$f":"MINUTE('Copy your Raw data here'!B28)","v":0},{"$f":"MINUTE('Copy your Raw data here'!C28)","v":0},{"$f":"('Copy your Raw data here'!C28-'Copy your Raw data here'!B28)*1440","v":0},60,0,null,null,{"$f":"HOUR('Copy your Raw data here'!G28)","v":0},{"$f":"HOUR('Copy your Raw data here'!H28)","v":0},{"$f":"MINUTE('Copy your Raw data here'!G28)","v":0},{"$f":"MINUTE('Copy your Raw data here'!H28)","v":0},{"$f":"('Copy your Raw data here'!H28-'Copy your Raw data here'!G28)*1440","v":0},1440,{"$f":"IF('Copy your Raw data here'!G28=\"\",\"\",IF(V29<U29,Z29,Y29))","v":""}]
[{"$f":"IF(ISBLANK('Copy your Raw data here'!A29),\"\",('Copy your Raw data here'!A29))","v":""},"",{"$f":"IF('Copy your Raw data here'!D29=\"YES\",1,0)","v":0},{"$f":"VLOOKUP('Copy your Raw data here'!E29,'Stroke Ready Hospital List'!A:B,1,FALSE)","v":{"$error":"#N/A"}},0,{"$f":"IF(OR(ISBLANK('Copy your Raw data here'!F29),('Copy your Raw data here'!F29=\"NO\")),0,1)","v":0},{"$f":"IF(ISBLANK('Copy your Raw data here'!G29),0,1)","v":0},{"$f":"IF(ISERROR(D30),'Copy your Raw data here'!E29,\"\")","v":0},"",null,null,{"$f":"HOUR('Copy your Raw data here'!B29)","v":0},{"$f":"HOUR('Copy your Raw data here'!C29)","v":0},{"$f":"MINUTE('Copy your Raw data here'!B29)","v":0},{"$f":"MINUTE('Copy your Raw data here'!C29)","v":0},{"$f":"('Copy your Raw data here'!C29-'Copy your Raw data here'!B29)*1440","v":0},60,0,null,null,{"$f":"HOUR('Copy your Raw data here'!G29)","v":0},{"$f":"HOUR('Copy your Raw data here'!H29)","v":0},{"$f":"MINUTE('Copy your Raw data here'!G29)","v":0},{"$f":"MINUTE('Copy your Raw data here'!H29)","v":0},{"$f":"('Copy your Raw data here'!H29-'Copy your Raw data here'!G29)*1440","v":0},1440,{"$f":"IF('Copy your Raw data here'!G29=\"\",\"\",IF(V30<U30,Z30,Y30))","v":""}]
[{"$f":"IF(ISBLANK('Copy your Raw data here'!A30),\"\",('Copy your Raw data here'!A30))","v":""},"",{"$f":"IF('Copy your Raw data here'!D30=\"YES\",1,0)","v":0},{"$f":"VLOOKUP('Copy your Raw data here'!E30,'Stroke Ready Hospital List'!A:B,1,FALSE)","v":{"$error":"#N/A"}},0,{"$f":"IF(OR(ISBLANK('Copy your Raw data here'!F30),('Copy your Raw data here'!F30=\"NO\")),0,1)","v":0},{"$f":"IF(ISBLANK('Copy your Raw data here'!G30),0,1)","v":0},{"$f":"IF(ISERROR(D31),'Copy your Raw data here'!E30,\"\")","v":0},"",null,null,{"$f":"HOUR('Copy your Raw data here'!B30)","v":0},{"$f":"HOUR('Copy your Raw data here'!C30)","v":0},{"$f":"MINUTE('Copy your Raw data here'!B30)","v":0},{"$f":"MINUTE('Copy your Raw data here'!C30)","v":0},{"$f":"('Copy your Raw data here'!C30-'Copy your Raw data here'!B30)*1440","v":0},60,0,null,null,{"$f":"HOUR('Copy your Raw data here'!G30)","v":0},{"$f":"HOUR('Copy your Raw data here'!H30)","v":0},{"$f":"MINUTE('Copy your Raw data here'!G30)","v":0},{"$f":"MINUTE('Copy your Raw data here'!H30)","v":0},{"$f":"('Copy your Raw data here'!H30-'Copy your Raw data here'!G30)*1440","v":0},1440,{"$f":"IF('Copy your Raw data here'!G30=\"\",\"\",IF(V31<U31,Z31,Y31))","v":""}]
[{"$f":"IF(ISBLANK('Copy your Raw data here'!A31),\"\",('Copy your Raw data here'!A31))","v":""},"",{"$f":"IF('Copy your Raw data here'!D31=\"YES\",1,0)","v":0},{"$f":"VLOOKUP('Copy your Raw data here'!E31,'Stroke Ready Hospital List'!A:B,1,FALSE)","v":{"$error":"#N/A"}},0,{"$f":"IF(OR(ISBLANK('Copy your Raw data here'!F31),('Copy your Raw data here'!F31=\"NO\")),0,1)","v":0},{"$f":"IF(ISBLANK('Copy your Raw data here'!G31),0,1)","v":0},{"$f":"IF(ISERROR(D32),'Copy your Raw data here'!E31,\"\")","v":0},"",null,null,{"$f":"HOUR('Copy your Raw data here'!B31)","v":0},{"$f":"HOUR('Copy your Raw data here'!C31)","v":0},{"$f":"MINUTE('Copy your Raw data here'!B31)","v":0},{"$f":"MINUTE('Copy your Raw data here'!C31)","v":0},{"$f":"('Copy your Raw data here'!C31-'Copy your Raw data here'!B31)*1440","v":0},60,0,null,null,{"$f":"HOUR('Copy your Raw data here'!G31)","v":0},{"$f":"HOUR('Copy your Raw data here'!H31)","v":0},{"$f":"MINUTE('Copy your Raw data here'!G31)","v":0},{"$f":"MINUTE('Copy your Raw data here'!H31)","v":0},{"$f":"('Copy your Raw data here'!H31-'Copy your Raw data here'!G31)*1440","v":0},1440,{"$f":"IF('Copy your Raw data here'!G31=\"\",\"\",IF(V32<U32,Z32,Y32))","v":""}]
[{"$f":"IF(ISBLANK('Copy your Raw data here'!A32),\"\",('Copy your Raw data here'!A32))","v":""},"",{"$f":"IF('Copy your Raw data here'!D32=\"YES\",1,0)","v":0},{"$f":"VLOOKUP('Copy your Raw data here'!E32,'Stroke Ready Hospital List'!A:B,1,FALSE)","v":{"$error":"#N/A"}},0,{"$f":"IF(OR(ISBLANK('Copy your Raw data here'!F32),('Copy your Raw data here'!F32=\"NO\")),0,1)","v":0},{"$f":"IF(ISBLANK('Copy your Raw data here'!G32),0,1)","v":0},{"$f":"IF(ISERROR(D33),'Copy your Raw data here'!E32,\"\")","v":0},"",null,null,{"$f":"HOUR('Copy your Raw data here'!B32)","v":0},{"$f":"HOUR('Copy your Raw data here'!C32)","v":0},{"$f":"MINUTE('Copy your Raw data here'!B32)","v":0},{"$f":"MINUTE('Copy your Raw data here'!C32)","v":0},{"$f":"('Copy your Raw data here'!C32-'Copy your Raw data here'!B32)*1440","v":0},60,0,null,null,{"$f":"HOUR('Copy your Raw data here'!G32)","v":0},{"$f":"HOUR('Copy your Raw data here'!H32)","v":0},{"$f":"MINUTE('Copy your Raw data here'!G32)","v":0},{"$f":"MINUTE('Copy your Raw data here'!H32)","v":0},{"$f":"('Copy your Raw data here'!H32-'Copy your Raw data here'!G32)*1440","v":0},1440,{"$f":"IF('Copy your Raw data here'!G32=\"\",\"\",IF(V33<U33,Z33,Y33))","v":""}]
[{"$f":"IF(ISBLANK('Copy your Raw data here'!A33),\"\",('Copy your Raw data here'!A33))","v":""},"",{"$f":"IF('Copy your Raw data here'!D33=\"YES\",1,0)","v":0},{"$f":"VLOOKUP('Copy your Raw data here'!E33,'Stroke Ready Hospital List'!A:B,1,FALSE)","v":{"$error":"#N/A"}},0,{"$f":"IF(OR(ISBLANK('Copy your Raw data here'!F33),('Copy your Raw data here'!F33=\"NO\")),0,1)","v":0},{"$f":"IF(ISBLANK('Copy your Raw data here'!G33),0,1)","v":0},{"$f":"IF(ISERROR(D34),'Copy your Raw data here'!E33,\"\")","v":0},"",null,null,{"$f":"HOUR('Copy your Raw data here'!B33)","v":0},{"$f":"HOUR('Copy your Raw data here'!C33)","v":0},{"$f":"MINUTE('Copy your Raw data here'!B33)","v":0},{"$f":"MINUTE('Copy your Raw data here'!C33)","v":0},{"$f":"('Copy your Raw data here'!C33-'Copy your Raw data here'!B33)*1440","v":0},60,0,null,null,{"$f":"HOUR('Copy your Raw data here'!G33)","v":0},{"$f":"HOUR('Copy your Raw data here'!H33)","v":0},{"$f":"MINUTE('Copy your Raw data here'!G33)","v":0},{"$f":"MINUTE('Copy your Raw data here'!H33)","v":0},{"$f":"('Copy your Raw data here'!H33-'Copy your Raw data here'!G33)*1440","v":0},1440,{"$f":"IF('Copy your Raw data here'!G33=\"\",\"\",IF(V34<U34,Z34,Y34))","v":""}]
[{"$f":"IF(ISBLANK('Copy your Raw data here'!A34),\"\",('Copy your Raw data here'!A34))","v":""},"",{"$f":"IF('Copy your Raw data here'!D34=\"YES\",1,0)","v":0},{"$f":"VLOOKUP('Copy your Raw data here'!E34,'Stroke Ready Hospital List'!A:B,1,FALSE)","v":{"$error":"#N/A"}},0,{"$f":"IF(OR(ISBLANK('Copy your Raw data here'!F34),('Copy your Raw data here'!F34=\"NO\")),0,1)","v":0},{"$f":"IF(ISBLANK('Copy your Raw data here'!G34),0,1)","v":0},{"$f":"IF(ISERROR(D35),'Copy your Raw data here'!E34,\"\")","v":0},"",null,null,{"$f":"HOUR('Copy your Raw data here'!B34)","v":0},{"$f":"HOUR('Copy your Raw data here'!C34)","v":0},{"$f":"MINUTE('Copy your Raw data here'!B34)","v":0},{"$f":"MINUTE('Copy your Raw data here'!C34)","v":0},{"$f":"('Copy your Raw data here'!C34-'Copy your Raw data here'!B34)*1440","v":0},60,0,null,null,{"$f":"HOUR('Copy your Raw data here'!G34)","v":0},{"$f":"HOUR('Copy your Raw data here'!H34)","v":0},{"$f":"MINUTE('Copy your Raw data here'!G34)","v":0},{"$f":"MINUTE('Copy your Raw data here'!H34)","v":0},{"$f":"('Copy your Raw data here'!H34-'Copy your Raw data here'!G34)*1440","v":0},1440,{"$f":"IF('Copy your Raw data here'!G34=\"\",\"\",IF(V35<U35,Z35,Y35))","v":""}]
[{"$f":"IF(ISBLANK('Copy your Raw data here'!A35),\"\",('Copy your Raw data here'!A35))","v":""},"",{"$f":"IF('Copy your Raw data here'!D35=\"YES\",1,0)","v":0},{"$f":"VLOOKUP('Copy your Raw data here'!E35,'Stroke Ready Hospital List'!A:B,1,FALSE)","v":{"$error":"#N/A"}},0,{"$f":"IF(OR(ISBLANK('Copy your Raw data here'!F35),('Copy your Raw data here'!F35=\"NO\")),0,1)","v":0},{"$f":"IF(ISBLANK('Copy your Raw data here'!G35),0,1)","v":0},{"$f":"IF(ISERROR(D36),'Copy your Raw data here'!E35,\"\")","v":0},"",null,null,{"$f":"HOUR('Copy your Raw data here'!B35)","v":0},{"$f":"HOUR('Copy your Raw data here'!C35)","v":0},{"$f":"MINUTE('Copy your Raw data here'!B35)","v":0},{"$f":"MINUTE('Copy your Raw data here'!C35)","v":0},{"$f":"('Copy your Raw data here'!C35-'Copy your Raw data here'!B35)*1440","v":0},60,0,null,null,{"$f":"HOUR('Copy your Raw data here'!G35)","v":0},{"$f":"HOUR('Copy your Raw data here'!H35)","v":0},{"$f":"MINUTE('Copy your Raw data here'!G35)","v":0},{"$f":"MINUTE('Copy your Raw data here'!H35)","v":0},{"$f":"('Copy your Raw data here'!H35-'Copy your Raw data here'!G35)*1440","v":0},1440,{"$f":"IF('Copy your Raw data here'!G35=\"\",\"\",IF(V36<U36,Z36,Y36))","v":""}]
[{"$f":"IF(ISBLANK('Copy your Raw data here'!A36),\"\",('Copy your Raw data here'!A36))","v":""},"",{"$f":"IF('Copy your Raw data here'!D36=\"YES\",1,0)","v":0},{"$f":"VLOOKUP('Copy your Raw data here'!E36,'Stroke Ready Hospital List'!A:B,1,FALSE)","v":{"$error":"#N/A"}},0,{"$f":"IF(OR(ISBLANK('Copy your Raw data here'!F36),('Copy your Raw data here'!F36=\"NO\")),0,1)","v":0},{"$f":"IF(ISBLANK('Copy your Raw data here'!G36),0,1)","v":0},{"$f":"IF(ISERROR(D37),'Copy your Raw data here'!E36,\"\")","v":0},"",null,null,{"$f":"HOUR('Copy your Raw data here'!B36)","v":0},{"$f":"HOUR('Copy your Raw data here'!C36)","v":0},{"$f":"MINUTE('Copy your Raw data here'!B36)","v":0},{"$f":"MINUTE('Copy your Raw data here'!C36)","v":0},{"$f":"('Copy your Raw data here'!C36-'Copy your Raw data here'!B36)*1440","v":0},60,0,null,null,{"$f":"HOUR('Copy your Raw data here'!G36)","v":0},{"$f":"HOUR('Copy your Raw data here'!H36)","v":0},{"$f":"MINUTE('Copy your Raw data here'!G36)","v":0},{"$f":"MINUTE('Copy your Raw data here'!H36)","v":0},{"$f":"('Copy your Raw data here'!H36-'Copy your Raw data here'!G36)*1440","v":0},1440,{"$f":"IF('Copy your Raw data here'!G36=\"\",\"\",IF(V37<U37,Z37,Y37))","v":""}]
[{"$f":"IF(ISBLANK('Copy your Raw data here'!A37),\"\",('Copy your Raw data here'!A37))","v":""},"",{"$f":"IF('Copy your Raw data here'!D37=\"YES\",1,0)","v":0},{"$f":"VLOOKUP('Copy your Raw data here'!E37,'Stroke Ready Hospital List'!A:B,1,FALSE)","v":{"$error":"#N/A"}},0,{"$f":"IF(OR(ISBLANK('Copy your Raw data here'!F37),('Copy your Raw data here'!F37=\"NO\")),0,1)","v":0},{"$f":"IF(ISBLANK('Copy your Raw data here'!G37),0,1)","v":0},{"$f":"IF(ISERROR(D38),'Copy your Raw data here'!E37,\"\")","v":0},"",null,null,{"$f":"HOUR('Copy your Raw data here'!B37)","v":0},{"$f":"HOUR('Copy your Raw data here'!C37)","v":0},{"$f":"MINUTE('Copy your Raw data here'!B37)","v":0},{"$f":"MINUTE('Copy your Raw data here'!C37)","v":0},{"$f":"('Copy your Raw data here'!C37-'Copy your Raw data here'!B37)*1440","v":0},60,0,null,null,{"$f":"HOUR('Copy your Raw data here'!G37)","v":0},{"$f":"HOUR('Copy your Raw data here'!H37)","v":0},{"$f":"MINUTE('Copy your Raw data here'!G37)","v":0},{"$f":"MINUTE('Copy your Raw data here'!H37)","v":0},{"$f":"('Copy your Raw data here'!H37-'Copy your Raw data here'!G37)*1440","v":0},1440,{"$f":"IF('Copy your Raw data here'!G37=\"\",\"\",IF(V38<U38,Z38,Y38))","v":""}]
[{"$f":"IF(ISBLANK('Copy your Raw data here'!A38),\"\",('Copy your Raw data here'!A38))","v":""},"",{"$f":"IF('Copy your Raw data here'!D38=\"YES\",1,0)","v":0},{"$f":"VLOOKUP('Copy your Raw data here'!E38,'Stroke Ready Hospital List'!A:B,1,FALSE)","v":{"$error":"#N/A"}},0,{"$f":"IF(OR(ISBLANK('Copy your Raw data here'!F38),('Copy your Raw data here'!F38=\"NO\")),0,1)","v":0},{"$f":"IF(ISBLANK('Copy your Raw data here'!G38),0,1)","v":0},{"$f":"IF(ISERROR(D39),'Copy your Raw data here'!E38,\"\")","v":0},"",null,null,{"$f":"HOUR('Copy your Raw data here'!B38)","v":0},{"$f":"HOUR('Copy your Raw data here'!C38)","v":0},{"$f":"MINUTE('Copy your Raw data here'!B38)","v":0},{"$f":"MINUTE('Copy your Raw data here'!C38)","v":0},{"$f":"('Copy your Raw data here'!C38-'Copy your Raw data here'!B38)*1440","v":0},60,0,null,null,{"$f":"HOUR('Copy your Raw data here'!G38)","v":0},{"$f":"HOUR('Copy your Raw data here'!H38)","v":0},{"$f":"MINUTE('Copy your Raw data here'!G38)","v":0},{"$f":"MINUTE('Copy your Raw data here'!H38)","v":0},{"$f":"('Copy your Raw data here'!H38-'Copy your Raw data here'!G38)*1440","v":0},1440,{"$f":"IF('Copy your Raw data here'!G38=\"\",\"\",IF(V39<U39,Z39,Y39))","v":""}]
[{"$f":"IF(ISBLANK('Copy your Raw data here'!A39),\"\",('Copy your Raw data here'!A39))","v":""},"",{"$f":"IF('Copy your Raw data here'!D39=\"YES\",1,0)","v":0},{"$f":"VLOOKUP('Copy your Raw data here'!E39,'Stroke Ready Hospital List'!A:B,1,FALSE)","v":{"$error":"#N/A"}},0,{"$f":"IF(OR(ISBLANK('Copy your Raw data here'!F39),('Copy your Raw data here'!F39=\"NO\")),0,1)","v":0},{"$f":"IF(ISBLANK('Copy your Raw data here'!G39),0,1)","v":0},{"$f":"IF(ISERROR(D40),'Copy your Raw data here'!E39,\"\")","v":0},"",null,null,{"$f":"HOUR('Copy your Raw data here'!B39)","v":0},{"$f":"HOUR('Copy your Raw data here'!C39)","v":0},{"$f":"MINUTE('Copy your Raw data here'!B39)","v":0},{"$f":"MINUTE('Copy your Raw data here'!C39)","v":0},{"$f":"('Copy your Raw data here'!C39-'Copy your Raw data here'!B39)*1440","v":0},60,0,null,null,{"$f":"HOUR('Copy your Raw data here'!G39)","v":0},{"$f":"HOUR('Copy your Raw data here'!H39)","v":0},{"$f":"MINUTE('Copy your Raw data here'!G39)","v":0},{"$f":"MINUTE('Copy your Raw data here'!H39)","v":0},{"$f":"('Copy your Raw data here'!H39-'Copy your Raw data here'!G39)*1440","v":0},1440,{"$f":"IF('Copy your Raw data here'!G39=\"\",\"\",IF(V40<U40,Z40,Y40))","v":""}]
[{"$f":"IF(ISBLANK('Copy your Raw data here'!A40),\"\",('Copy your Raw data here'!A40))","v":""},"",{"$f":"IF('Copy your Raw data here'!D40=\"YES\",1,0)","v":0},{"$f":"VLOOKUP('Copy your Raw data here'!E40,'Stroke Ready Hospital List'!A:B,1,FALSE)","v":{"$error":"#N/A"}},0,{"$f":"IF(OR(ISBLANK('Copy your Raw data here'!F40),('Copy your Raw data here'!F40=\"NO\")),0,1)","v":0},{"$f":"IF(ISBLANK('Copy your Raw data here'!G40),0,1)","v":0},{"$f":"IF(ISERROR(D41),'Copy your Raw data here'!E40,\"\")","v":0},"",null,null,{"$f":"HOUR('Copy your Raw data here'!B40)","v":0},{"$f":"HOUR('Copy your Raw data here'!C40)","v":0},{"$f":"MINUTE('Copy your Raw data here'!B40)","v":0},{"$f":"MINUTE('Copy your Raw data here'!C40)","v":0},{"$f":"('Copy your Raw data here'!C40-'Copy your Raw data here'!B40)*1440","v":0},60,0,null,null,{"$f":"HOUR('Copy your Raw data here'!G40)","v":0},{"$f":"HOUR('Copy your Raw data here'!H40)","v":0},{"$f":"MINUTE('Copy your Raw data here'!G40)","v":0},{"$f":"MINUTE('Copy your Raw data here'!H40)","v":0},{"$f":"('Copy your Raw data here'!H40-'Copy your Raw data here'!G40)*1440","v":0},1440,{"$f":"IF('Copy your Raw data here'!G40=\"\",\"\",IF(V41<U41,Z41,Y41))","v":""}]
[{"$f":"IF(ISBLANK('Copy your Raw data here'!A41),\"\",('Copy your Raw data here'!A41))","v":""},"",{"$f":"IF('Copy your Raw data here'!D41=\"YES\",1,0)","v":0},{"$f":"VLOOKUP('Copy your Raw data here'!E41,'Stroke Ready Hospital List'!A:B,1,FALSE)","v":{"$error":"#N/A"}},0,{"$f":"IF(OR(ISBLANK('Copy your Raw data here'!F41),('Copy your Raw data here'!F41=\"NO\")),0,1)","v":0},{"$f":"IF(ISBLANK('Copy your Raw data here'!G41),0,1)","v":0},{"$f":"IF(ISERROR(D42),'Copy your Raw data here'!E41,\"\")","v":0},"",null,null,{"$f":"HOUR('Copy your Raw data here'!B41)","v":0},{"$f":"HOUR('Copy your Raw data here'!C41)","v":0},{"$f":"MINUTE('Copy your Raw data here'!B41)","v":0},{"$f":"MINUTE('Copy your Raw data here'!C41)","v":0},{"$f":"('Copy your Raw data here'!C41-'Copy your Raw data here'!B41)*1440","v":0},60,0,null,null,{"$f":"HOUR('Copy your Raw data here'!G41)","v":0},{"$f":"HOUR('Copy your Raw data here'!H41)","v":0},{"$f":"MINUTE('Copy your Raw data here'!G41)","v":0},{"$f":"MINUTE('Copy your Raw data here'!H41)","v":0},{"$f":"('Copy your Raw data here'!H41-'Copy your Raw data here'!G41)*1440","v":0},1440,{"$f":"IF('Copy your Raw data here'!G41=\"\",\"\",IF(V42<U42,Z42,Y42))","v":""}]
[{"$f":"IF(ISBLANK('Copy your Raw data here'!A42),\"\",('Copy your Raw data here'!A42))","v":""},"",{"$f":"IF('Copy your Raw data here'!D42=\"YES\",1,0)","v":0},{"$f":"VLOOKUP('Copy your Raw data here'!E42,'Stroke Ready Hospital List'!A:B,1,FALSE)","v":{"$error":"#N/A"}},0,{"$f":"IF(OR(ISBLANK('Copy your Raw data here'!F42),('Copy your Raw data here'!F42=\"NO\")),0,1)","v":0},{"$f":"IF(ISBLANK('Copy your Raw data here'!G42),0,1)","v":0},{"$f":"IF(ISERROR(D43),'Copy your Raw data here'!E42,\"\")","v":0},"",null,null,{"$f":"HOUR('Copy your Raw data here'!B42)","v":0},{"$f":"HOUR('Copy your Raw data here'!C42)","v":0},{"$f":"MINUTE('Copy your Raw data here'!B42)","v":0},{"$f":"MINUTE('Copy your Raw data here'!C42)","v":0},{"$f":"('Copy your Raw data here'!C42-'Copy your Raw data here'!B42)*1440","v":0},60,0,null,null,{"$f":"HOUR('Copy your Raw data here'!G42)","v":0},{"$f":"HOUR('Copy your Raw data here'!H42)","v":0},{"$f":"MINUTE('Copy your Raw data here'!G42)","v":0},{"$f":"MINUTE('Copy your Raw data here'!H42)","v":0},{"$f":"('Copy your Raw data here'!H42-'Copy your Raw data here'!G42)*1440","v":0},1440,{"$f":"IF('Copy your Raw data here'!G42=\"\",\"\",IF(V43<U43,Z43,Y43))","v":""}]
[{"$f":"IF(ISBLANK('Copy your Raw data here'!A43),\"\",('Copy your Raw data here'!A43))","v":""},"",{"$f":"IF('Copy your Raw data here'!D43=\"YES\",1,0)","v":0},{"$f":"VLOOKUP('Copy your Raw data here'!E43,'Stroke Ready Hospital List'!A:B,1,FALSE)","v":{"$error":"#N/A"}},0,{"$f":"IF(OR(ISBLANK('Copy your Raw data here'!F43),('Copy your Raw data here'!F43=\"NO\")),0,1)","v":0},{"$f":"IF(ISBLANK('Copy your Raw data here'!G43),0,1)","v":0},{"$f":"IF(ISERROR(D44),'Copy your Raw data here'!E43,\"\")","v":0},"",null,null,{"$f":"HOUR('Copy your Raw data here'!B43)","v":0},{"$f":"HOUR('Copy your Raw data here'!C43)","v":0},{"$f":"MINUTE('Copy your Raw data here'!B43)","v":0},{"$f":"MINUTE('Copy your Raw data here'!C43)","v":0},{"$f":"('Copy your Raw data here'!C43-'Copy your Raw data here'!B43)*1440","v":0},60,0,null,null,{"$f":"HOUR('Copy your Raw data here'!G43)","v":0},{"$f":"HOUR('Copy your Raw data here'!H43)","v":0},{"$f":"MINUTE('Copy your Raw data here'!G43)","v":0},{"$f":"MINUTE('Copy your Raw data here'!H43)","v":0},{"$f":"('Copy your Raw data here'!H43-'Copy your Raw data here'!G43)*1440","v":0},1440,{"$f":"IF('Copy your Raw data here'!G43=\"\",\"\",IF(V44<U44,Z44,Y44))","v":""}]
[{"$f":"IF(ISBLANK('Copy your Raw data here'!A44),\"\",('Copy your Raw data here'!A44))","v":""},"",{"$f":"IF('Copy your Raw data here'!D44=\"YES\",1,0)","v":0},{"$f":"VLOOKUP('Copy your Raw data here'!E44,'Stroke Ready Hospital List'!A:B,1,FALSE)","v":{"$error":"#N/A"}},0,{"$f":"IF(OR(ISBLANK('Copy your Raw data here'!F44),('Copy your Raw data here'!F44=\"NO\")),0,1)","v":0},{"$f":"IF(ISBLANK('Copy your Raw data here'!G44),0,1)","v":0},{"$f":"IF(ISERROR(D45),'Copy your Raw data here'!E44,\"\")","v":0},"",null,null,{"$f":"HOUR('Copy your Raw data here'!B44)","v":0},{"$f":"HOUR('Copy your Raw data here'!C44)","v":0},{"$f":"MINUTE('Copy your Raw data here'!B44)","v":0},{"$f":"MINUTE('Copy your Raw data here'!C44)","v":0},{"$f":"('Copy your Raw data here'!C44-'Copy your Raw data here'!B44)*1440","v":0},60,0,null,null,{"$f":"HOUR('Copy your Raw data here'!G44)","v":0},{"$f":"HOUR('Copy your Raw data here'!H44)","v":0},{"$f":"MINUTE('Copy your Raw data here'!G44)","v":0},{"$f":"MINUTE('Copy your Raw data here'!H44)","v":0},{"$f":"('Copy your Raw data here'!H44-'Copy your Raw data here'!G44)*1440","v":0},1440,{"$f":"IF('Copy your Raw data here'!G44=\"\",\"\",IF(V45<U45,Z45,Y45))","v":""}]
[{"$f":"IF(ISBLANK('Copy your Raw data here'!A45),\"\",('Copy your Raw data here'!A45))","v":""},"",{"$f":"IF('Copy your Raw data here'!D45=\"YES\",1,0)","v":0},{"$f":"VLOOKUP('Copy your Raw data here'!E45,'Stroke Ready Hospital List'!A:B,1,FALSE)","v":{"$error":"#N/A"}},0,{"$f":"IF(OR(ISBLANK('Copy your Raw data here'!F45),('Copy your Raw data here'!F45=\"NO\")),0,1)","v":0},{"$f":"IF(ISBLANK('Copy your Raw data here'!G45),0,1)","v":0},{"$f":"IF(ISERROR(D46),'Copy your Raw data here'!E45,\"\")","v":0},"",null,null,{"$f":"HOUR('Copy your Raw data here'!B45)","v":0},{"$f":"HOUR('Copy your Raw data here'!C45)","v":0},{"$f":"MINUTE('Copy your Raw data here'!B45)","v":0},{"$f":"MINUTE('Copy your Raw data here'!C45)","v":0},{"$f":"('Copy your Raw data here'!C45-'Copy your Raw data here'!B45)*1440","v":0},60,0,null,null,{"$f":"HOUR('Copy your Raw data here'!G45)","v":0},{"$f":"HOUR('Copy your Raw data here'!H45)","v":0},{"$f":"MINUTE('Copy your Raw data here'!G45)","v":0},{"$f":"MINUTE('Copy your Raw data here'!H45)","v":0},{"$f":"('Copy your Raw data here'!H45-'Copy your Raw data here'!G45)*1440","v":0},1440,{"$f":"IF('Copy your Raw data here'!G45=\"\",\"\",IF(V46<U46,Z46,Y46))","v":""}]
[{"$f":"IF(ISBLANK('Copy your Raw data here'!A46),\"\",('Copy your Raw data here'!A46))","v":""},"",{"$f":"IF('Copy your Raw data here'!D46=\"YES\",1,0)","v":0},{"$f":"VLOOKUP('Copy your Raw data here'!E46,'Stroke Ready Hospital List'!A:B,1,FALSE)","v":{"$error":"#N/A"}},0,{"$f":"IF(OR(ISBLANK('Copy your Raw data here'!F46),('Copy your Raw data here'!F46=\"NO\")),0,1)","v":0},{"$f":"IF(ISBLANK('Copy your Raw data here'!G46),0,1)","v":0},{"$f":"IF(ISERROR(D47),'Copy your Raw data here'!E46,\"\")","v":0},"",null,null,{"$f":"HOUR('Copy your Raw data here'!B46)","v":0},{"$f":"HOUR('Copy your Raw data here'!C46)","v":0},{"$f":"MINUTE('Copy your Raw data here'!B46)","v":0},{"$f":"MINUTE('Copy your Raw data here'!C46)","v":0},{"$f":"('Copy your Raw data here'!C46-'Copy your Raw data here'!B46)*1440","v":0},60,0,null,null,{"$f":"HOUR('Copy your Raw data here'!G46)","v":0},{"$f":"HOUR('Copy your Raw data here'!H46)","v":0},{"$f":"MINUTE('Copy your Raw data here'!G46)","v":0},{"$f":"MINUTE('Copy your Raw data here'!H46)","v":0},{"$f":"('Copy your Raw data here'!H46-'Copy your Raw data here'!G46)*1440","v":0},1440,{"$f":"IF('Copy your Raw data here'!G46=\"\",\"\",IF(V47<U47,Z47,Y47))","v":""}]
[{"$f":"IF(ISBLANK('Copy your Raw data here'!A47),\"\",('Copy your Raw data here'!A47))","v":""},"",{"$f":"IF('Copy your Raw data here'!D47=\"YES\",1,0)","v":0},{"$f":"VLOOKUP('Copy your Raw data here'!E47,'Stroke Ready Hospital List'!A:B,1,FALSE)","v":{"$error":"#N/A"}},0,{"$f":"IF(OR(ISBLANK('Copy your Raw data here'!F47),('Copy your Raw data here'!F47=\"NO\")),0,1)","v":0},{"$f":"IF(ISBLANK('Copy your Raw data here'!G47),0,1)","v":0},{"$f":"IF(ISERROR(D48),'Copy your Raw data here'!E47,\"\")","v":0},"",null,null,{"$f":"HOUR('Copy your Raw data here'!B47)","v":0},{"$f":"HOUR('Copy your Raw data here'!C47)","v":0},{"$f":"MINUTE('Copy your Raw data here'!B47)","v":0},{"$f":"MINUTE('Copy your Raw data here'!C47)","v":0},{"$f":"('Copy your Raw data here'!C47-'Copy your Raw data here'!B47)*1440","v":0},60,0,null,null,{"$f":"HOUR('Copy your Raw data here'!G47)","v":0},{"$f":"HOUR('Copy your Raw data here'!H47)","v":0},{"$f":"MINUTE('Copy your Raw data here'!G47)","v":0},{"$f":"MINUTE('Copy your Raw data here'!H47)","v":0},{"$f":"('Copy your Raw data here'!H47-'Copy your Raw data here'!G47)*1440","v":0},1440,{"$f":"IF('Copy your Raw data here'!G47=\"\",\"\",IF(V48<U48,Z48,Y48))","v":""}]
[{"$f":"IF(ISBLANK('Copy your Raw data here'!A48),\"\",('Copy your Raw data here'!A48))","v":""},"",{"$f":"IF('Copy your Raw data here'!D48=\"YES\",1,0)","v":0},{"$f":"VLOOKUP('Copy your Raw data here'!E48,'Stroke Ready Hospital List'!A:B,1,FALSE)","v":{"$error":"#N/A"}},0,{"$f":"IF(OR(ISBLANK('Copy your Raw data here'!F48),('Copy your Raw data here'!F48=\"NO\")),0,1)","v":0},{"$f":"IF(ISBLANK('Copy your Raw data here'!G48),0,1)","v":0},{"$f":"IF(ISERROR(D49),'Copy your Raw data here'!E48,\"\")","v":0},"",null,null,{"$f":"HOUR('Copy your Raw data here'!B48)","v":0},{"$f":"HOUR('Copy your Raw data here'!C48)","v":0},{"$f":"MINUTE('Copy your Raw data here'!B48)","v":0},{"$f":"MINUTE('Copy your Raw data here'!C48)","v":0},{"$f":"('Copy your Raw data here'!C48-'Copy your Raw data here'!B48)*1440","v":0},60,0,null,null,{"$f":"HOUR('Copy your Raw data here'!G48)","v":0},{"$f":"HOUR('Copy your Raw data here'!H48)","v":0},{"$f":"MINUTE('Copy your Raw data here'!G48)","v":0},{"$f":"MINUTE('Copy your Raw data here'!H48)","v":0},{"$f":"('Copy your Raw data here'!H48-'Copy your Raw data here'!G48)*1440","v":0},1440,{"$f":"IF('Copy your Raw data here'!G48=\"\",\"\",IF(V49<U49,Z49,Y49))","v":""}]
[{"$f":"IF(ISBLANK('Copy your Raw data here'!A49),\"\",('Copy your Raw data here'!A49))","v":""},"",{"$f":"IF('Copy your Raw data here'!D49=\"YES\",1,0)","v":0},{"$f":"VLOOKUP('Copy your Raw data here'!E49,'Stroke Ready Hospital List'!A:B,1,FALSE)","v":{"$error":"#N/A"}},0,{"$f":"IF(OR(ISBLANK('Copy your Raw data here'!F49),('Copy your Raw data here'!F49=\"NO\")),0,1)","v":0},{"$f":"IF(ISBLANK('Copy your Raw data here'!G49),0,1)","v":0},{"$f":"IF(ISERROR(D50),'Copy your Raw data here'!E49,\"\")","v":0},"",null,null,{"$f":"HOUR('Copy your Raw data here'!B49)","v":0},{"$f":"HOUR('Copy your Raw data here'!C49)","v":0},{"$f":"MINUTE('Copy your Raw data here'!B49)","v":0},{"$f":"MINUTE('Copy your Raw data here'!C49)","v":0},{"$f":"('Copy your Raw data here'!C49-'Copy your Raw data here'!B49)*1440","v":0},60,0,null,null,{"$f":"HOUR('Copy your Raw data here'!G49)","v":0},{"$f":"HOUR('Copy your Raw data here'!H49)","v":0},{"$f":"MINUTE('Copy your Raw data here'!G49)","v":0},{"$f":"MINUTE('Copy your Raw data here'!H49)","v":0},{"$f":"('Copy your Raw data here'!H49-'Copy your Raw data here'!G49)*1440","v":0},1440,{"$f":"IF('Copy your Raw data here'!G49=\"\",\"\",IF(V50<U50,Z50,Y50))","v":""}]
[{"$f":"IF(ISBLANK('Copy your Raw data here'!A50),\"\",('Copy your Raw data here'!A50))","v":""},"",{"$f":"IF('Copy your Raw data here'!D50=\"YES\",1,0)","v":0},{"$f":"VLOOKUP('Copy your Raw data here'!E50,'Stroke Ready Hospital List'!A:B,1,FALSE)","v":{"$error":"#N/A"}},0,{"$f":"IF(OR(ISBLANK('Copy your Raw data here'!F50),('Copy your Raw data here'!F50=\"NO\")),0,1)","v":0},{"$f":"IF(ISBLANK('Copy your Raw data here'!G50),0,1)","v":0},{"$f":"IF(ISERROR(D51),'Copy your Raw data here'!E50,\"\")","v":0},"",null,null,{"$f":"HOUR('Copy your Raw data here'!B50)","v":0},{"$f":"HOUR('Copy your Raw data here'!C50)","v":0},{"$f":"MINUTE('Copy your Raw data here'!B50)","v":0},{"$f":"MINUTE('Copy your Raw data here'!C50)","v":0},{"$f":"('Copy your Raw data here'!C50-'Copy your Raw data here'!B50)*1440","v":0},60,0,null,null,{"$f":"HOUR('Copy your Raw data here'!G50)","v":0},{"$f":"HOUR('Copy your Raw data here'!H50)","v":0},{"$f":"MINUTE('Copy your Raw data here'!G50)","v":0},{"$f":"MINUTE('Copy your Raw data here'!H50)","v":0},{"$f":"('Copy your Raw data here'!H50-'Copy your Raw data here'!G50)*1440","v":0},1440,{"$f":"IF('Copy your Raw data here'!G50=\"\",\"\",IF(V51<U51,Z51,Y51))","v":""}]
[{"$f":"IF(ISBLANK('Copy your Raw data here'!A51),\"\",('Copy your Raw data here'!A51))","v":""},"",{"$f":"IF('Copy your Raw data here'!D51=\"YES\",1,0)","v":0},{"$f":"VLOOKUP('Copy your Raw data here'!E51,'Stroke Ready Hospital List'!A:B,1,FALSE)","v":{"$error":"#N/A"}},0,{"$f":"IF(OR(ISBLANK('Copy your Raw data here'!F51),('Copy your Raw data here'!F51=\"NO\")),0,1)","v":0},{"$f":"IF(ISBLANK('Copy your Raw data here'!G51),0,1)","v":0},{"$f":"IF(ISERROR(D52),'Copy your Raw data here'!E51,\"\")","v":0},"",null,null,{"$f":"HOUR('Copy your Raw data here'!B51)","v":0},{"$f":"HOUR('Copy your Raw data here'!C51)","v":0},{"$f":"MINUTE('Copy your Raw data here'!B51)","v":0},{"$f":"MINUTE('Copy your Raw data here'!C51)","v":0},{"$f":"('Copy your Raw data here'!C51-'Copy your Raw data here'!B51)*1440","v":0},60,0,null,null,{"$f":"HOUR('Copy your Raw data here'!G51)","v":0},{"$f":"HOUR('Copy your Raw data here'!H51)","v":0},{"$f":"MINUTE('Copy your Raw data here'!G51)","v":0},{"$f":"MINUTE('Copy your Raw data here'!H51)","v":0},{"$f":"('Copy your Raw data here'!H51-'Copy your Raw data here'!G51)*1440","v":0},1440,{"$f":"IF('Copy your Raw data here'!G51=\"\",\"\",IF(V52<U52,Z52,Y52))","v":""}]
[{"$f":"IF(ISBLANK('Copy your Raw data here'!A52),\"\",('Copy your Raw data here'!A52))","v":""},"",{"$f":"IF('Copy your Raw data here'!D52=\"YES\",1,0)","v":0},{"$f":"VLOOKUP('Copy your Raw data here'!E52,'Stroke Ready Hospital List'!A:B,1,FALSE)","v":{"$error":"#N/A"}},0,{"$f":"IF(OR(ISBLANK('Copy your Raw data here'!F52),('Copy your Raw data here'!F52=\"NO\")),0,1)","v":0},{"$f":"IF(ISBLANK('Copy your Raw data here'!G52),0,1)","v":0},{"$f":"IF(ISERROR(D53),'Copy your Raw data here'!E52,\"\")","v":0},"",null,null,{"$f":"HOUR('Copy your Raw data here'!B52)","v":0},{"$f":"HOUR('Copy your Raw data here'!C52)","v":0},{"$f":"MINUTE('Copy your Raw data here'!B52)","v":0},{"$f":"MINUTE('Copy your Raw data here'!C52)","v":0},{"$f":"('Copy your Raw data here'!C52-'Copy your Raw data here'!B52)*1440","v":0},60,0,null,null,{"$f":"HOUR('Copy your Raw data here'!G52)","v":0},{"$f":"HOUR('Copy your Raw data here'!H52)","v":0},{"$f":"MINUTE('Copy your Raw data here'!G52)","v":0},{"$f":"MINUTE('Copy your Raw data here'!H52)","v":0},{"$f":"('Copy your Raw data here'!H52-'Copy your Raw data here'!G52)*1440","v":0},1440,{"$f":"IF('Copy your Raw data here'!G52=\"\",\"\",IF(V53<U53,Z53,Y53))","v":""}]
[{"$f":"IF(ISBLANK('Copy your Raw data here'!A53),\"\",('Copy your Raw data here'!A53))","v":""},"",{"$f":"IF('Copy your Raw data here'!D53=\"YES\",1,0)","v":0},{"$f":"VLOOKUP('Copy your Raw data here'!E53,'Stroke Ready Hospital List'!A:B,1,FALSE)","v":{"$error":"#N/A"}},0,{"$f":"IF(OR(ISBLANK('Copy your Raw data here'!F53),('Copy your Raw data here'!F53=\"NO\")),0,1)","v":0},{"$f":"IF(ISBLANK('Copy your Raw data here'!G53),0,1)","v":0},{"$f":"IF(ISERROR(D54),'Copy your Raw data here'!E53,\"\")","v":0},"",null,null,{"$f":"HOUR('Copy your Raw data here'!B53)","v":0},{"$f":"HOUR('Copy your Raw data here'!C53)","v":0},{"$f":"MINUTE('Copy your Raw data here'!B53)","v":0},{"$f":"MINUTE('Copy your Raw data here'!C53)","v":0},{"$f":"('Copy your Raw data here'!C53-'Copy your Raw data here'!B53)*1440","v":0},60,0,null,null,{"$f":"HOUR('Copy your Raw data here'!G53)","v":0},{"$f":"HOUR('Copy your Raw data here'!H53)","v":0},{"$f":"MINUTE('Copy your Raw data here'!G53)","v":0},{"$f":"MINUTE('Copy your Raw data here'!H53)","v":0},{"$f":"('Copy your Raw data here'!H53-'Copy your Raw data here'!G53)*1440","v":0},1440,{"$f":"IF('Copy your Raw data here'!G53=\"\",\"\",IF(V54<U54,Z54,Y54))","v":""}]
[{"$f":"IF(ISBLANK('Copy your Raw data here'!A54),\"\",('Copy your Raw data here'!A54))","v":""},"",{"$f":"IF('Copy your Raw data here'!D54=\"YES\",1,0)","v":0},{"$f":"VLOOKUP('Copy your Raw data here'!E54,'Stroke Ready Hospital List'!A:B,1,FALSE)","v":{"$error":"#N/A"}},0,{"$f":"IF(OR(ISBLANK('Copy your Raw data here'!F54),('Copy your Raw data here'!F54=\"NO\")),0,1)","v":0},{"$f":"IF(ISBLANK('Copy your Raw data here'!G54),0,1)","v":0},{"$f":"IF(ISERROR(D55),'Copy your Raw data here'!E54,\"\")","v":0},"",null,null,{"$f":"HOUR('Copy your Raw data here'!B54)","v":0},{"$f":"HOUR('Copy your Raw data here'!C54)","v":0},{"$f":"MINUTE('Copy your Raw data here'!B54)","v":0},{"$f":"MINUTE('Copy your Raw data here'!C54)","v":0},{"$f":"('Copy your Raw data here'!C54-'Copy your Raw data here'!B54)*1440","v":0},60,0,null,null,{"$f":"HOUR('Copy your Raw data here'!G54)","v":0},{"$f":"HOUR('Copy your Raw data here'!H54)","v":0},{"$f":"MINUTE('Copy your Raw data here'!G54)","v":0},{"$f":"MINUTE('Copy your Raw data here'!H54)","v":0},{"$f":"('Copy your Raw data here'!H54-'Copy your Raw data here'!G54)*1440","v":0},1440,{"$f":"IF('Copy your Raw data here'!G54=\"\",\"\",IF(V55<U55,Z55,Y55))","v":""}]
[{"$f":"IF(ISBLANK('Copy your Raw data here'!A55),\"\",('Copy your Raw data here'!A55))","v":""},"",{"$f":"IF('Copy your Raw data here'!D55=\"YES\",1,0)","v":0},{"$f":"VLOOKUP('Copy your Raw data here'!E55,'Stroke Ready Hospital List'!A:B,1,FALSE)","v":{"$error":"#N/A"}},0,{"$f":"IF(OR(ISBLANK('Copy your Raw data here'!F55),('Copy your Raw data here'!F55=\"NO\")),0,1)","v":0},{"$f":"IF(ISBLANK('Copy your Raw data here'!G55),0,1)","v":0},{"$f":"IF(ISERROR(D56),'Copy your Raw data here'!E55,\"\")","v":0},"",null,null,{"$f":"HOUR('Copy your Raw data here'!B55)","v":0},{"$f":"HOUR('Copy your Raw data here'!C55)","v":0},{"$f":"MINUTE('Copy your Raw data here'!B55)","v":0},{"$f":"MINUTE('Copy your Raw data here'!C55)","v":0},{"$f":"('Copy your Raw data here'!C55-'Copy your Raw data here'!B55)*1440","v":0},60,0,null,null,{"$f":"HOUR('Copy your Raw data here'!G55)","v":0},{"$f":"HOUR('Copy your Raw data here'!H55)","v":0},{"$f":"MINUTE('Copy your Raw data here'!G55)","v":0},{"$f":"MINUTE('Copy your Raw data here'!H55)","v":0},{"$f":"('Copy your Raw data here'!H55-'Copy your Raw data here'!G55)*1440","v":0},1440,{"$f":"IF('Copy your Raw data here'!G55=\"\",\"\",IF(V56<U56,Z56,Y56))","v":""}]
[{"$f":"IF(ISBLANK('Copy your Raw data here'!A56),\"\",('Copy your Raw data here'!A56))","v":""},"",{"$f":"IF('Copy your Raw data here'!D56=\"YES\",1,0)","v":0},{"$f":"VLOOKUP('Copy your Raw data here'!E56,'Stroke Ready Hospital List'!A:B,1,FALSE)","v":{"$error":"#N/A"}},0,{"$f":"IF(OR(ISBLANK('Copy your Raw data here'!F56),('Copy your Raw data here'!F56=\"NO\")),0,1)","v":0},{"$f":"IF(ISBLANK('Copy your Raw data here'!G56),0,1)","v":0},{"$f":"IF(ISERROR(D57),'Copy your Raw data here'!E56,\"\")","v":0},"",null,null,{"$f":"HOUR('Copy your Raw data here'!B56)","v":0},{"$f":"HOUR('Copy your Raw data here'!C56)","v":0},{"$f":"MINUTE('Copy your Raw data here'!B56)","v":0},{"$f":"MINUTE('Copy your Raw data here'!C56)","v":0},{"$f":"('Copy your Raw data here'!C56-'Copy your Raw data here'!B56)*1440","v":0},60,0,null,null,{"$f":"HOUR('Copy your Raw data here'!G56)","v":0},{"$f":"HOUR('Copy your Raw data here'!H56)","v":0},{"$f":"MINUTE('Copy your Raw data here'!G56)","v":0},{"$f":"MINUTE('Copy your Raw data here'!H56)","v":0},{"$f":"('Copy your Raw data here'!H56-'Copy your Raw data here'!G56)*1440","v":0},1440,{"$f":"IF('Copy your Raw data here'!G56=\"\",\"\",IF(V57<U57,Z57,Y57))","v":""}]
[{"$f":"IF(ISBLANK('Copy your Raw data here'!A57),\"\",('Copy your Raw data here'!A57))","v":""},"",{"$f":"IF('Copy your Raw data here'!D57=\"YES\",1,0)","v":0},{"$f":"VLOOKUP('Copy your Raw data here'!E57,'Stroke Ready Hospital List'!A:B,1,FALSE)","v":{"$error":"#N/A"}},0,{"$f":"IF(OR(ISBLANK('Copy your Raw data here'!F57),('Copy your Raw data here'!F57=\"NO\")),0,1)","v":0},{"$f":"IF(ISBLANK('Copy your Raw data here'!G57),0,1)","v":0},{"$f":"IF(ISERROR(D58),'Copy your Raw data here'!E57,\"\")","v":0},"",null,null,{"$f":"HOUR('Copy your Raw data here'!B57)","v":0},{"$f":"HOUR('Copy your Raw data here'!C57)","v":0},{"$f":"MINUTE('Copy your Raw data here'!B57)","v":0},{"$f":"MINUTE('Copy your Raw data here'!C57)","v":0},{"$f":"('Copy your Raw data here'!C57-'Copy your Raw data here'!B57)*1440","v":0},60,0,null,null,{"$f":"HOUR('Copy your Raw data here'!G57)","v":0},{"$f":"HOUR('Copy your Raw data here'!H57)","v":0},{"$f":"MINUTE('Copy your Raw data here'!G57)","v":0},{"$f":"MINUTE('Copy your Raw data here'!H57)","v":0},{"$f":"('Copy your Raw data here'!H57-'Copy your Raw data here'!G57)*1440","v":0},1440,{"$f":"IF('Copy your Raw data here'!G57=\"\",\"\",IF(V58<U58,Z58,Y58))","v":""}]
[{"$f":"IF(ISBLANK('Copy your Raw data here'!A58),\"\",('Copy your Raw data here'!A58))","v":""},"",{"$f":"IF('Copy your Raw data here'!D58=\"YES\",1,0)","v":0},{"$f":"VLOOKUP('Copy your Raw data here'!E58,'Stroke Ready Hospital List'!A:B,1,FALSE)","v":{"$error":"#N/A"}},0,{"$f":"IF(OR(ISBLANK('Copy your Raw data here'!F58),('Copy your Raw data here'!F58=\"NO\")),0,1)","v":0},{"$f":"IF(ISBLANK('Copy your Raw data here'!G58),0,1)","v":0},{"$f":"IF(ISERROR(D59),'Copy your Raw data here'!E58,\"\")","v":0},"",null,null,{"$f":"HOUR('Copy your Raw data here'!B58)","v":0},{"$f":"HOUR('Copy your Raw data here'!C58)","v":0},{"$f":"MINUTE('Copy your Raw data here'!B58)","v":0},{"$f":"MINUTE('Copy your Raw data here'!C58)","v":0},{"$f":"('Copy your Raw data here'!C58-'Copy your Raw data here'!B58)*1440","v":0},60,0,null,null,{"$f":"HOUR('Copy your Raw data here'!G58)","v":0},{"$f":"HOUR('Copy your Raw data here'!H58)","v":0},{"$f":"MINUTE('Copy your Raw data here'!G58)","v":0},{"$f":"MINUTE('Copy your Raw data here'!H58)","v":0},{"$f":"('Copy your Raw data here'!H58-'Copy your Raw data here'!G58)*1440","v":0},1440,{"$f":"IF('Copy your Raw data here'!G58=\"\",\"\",IF(V59<U59,Z59,Y59))","v":""}]
[{"$f":"IF(ISBLANK('Copy your Raw data here'!A59),\"\",('Copy your Raw data here'!A59))","v":""},"",{"$f":"IF('Copy your Raw data here'!D59=\"YES\",1,0)","v":0},{"$f":"VLOOKUP('Copy your Raw data here'!E59,'Stroke Ready Hospital List'!A:B,1,FALSE)","v":{"$error":"#N/A"}},0,{"$f":"IF(OR(ISBLANK('Copy your Raw data here'!F59),('Copy your Raw data here'!F59=\"NO\")),0,1)","v":0},{"$f":"IF(ISBLANK('Copy your Raw data here'!G59),0,1)","v":0},{"$f":"IF(ISERROR(D60),'Copy your Raw data here'!E59,\"\")","v":0},"",null,null,{"$f":"HOUR('Copy your Raw data here'!B59)","v":0},{"$f":"HOUR('Copy your Raw data here'!C59)","v":0},{"$f":"MINUTE('Copy your Raw data here'!B59)","v":0},{"$f":"MINUTE('Copy your Raw data here'!C59)","v":0},{"$f":"('Copy your Raw data here'!C59-'Copy your Raw data here'!B59)*1440","v":0},60,0,null,null,{"$f":"HOUR('Copy your Raw data here'!G59)","v":0},{"$f":"HOUR('Copy your Raw data here'!H59)","v":0},{"$f":"MINUTE('Copy your Raw data here'!G59)","v":0},{"$f":"MINUTE('Copy your Raw data here'!H59)","v":0},{"$f":"('Copy your Raw data here'!H59-'Copy your Raw data here'!G59)*1440","v":0},1440,{"$f":"IF('Copy your Raw data here'!G59=\"\",\"\",IF(V60<U60,Z60,Y60))","v":""}]
[{"$f":"IF(ISBLANK('Copy your Raw data here'!A60),\"\",('Copy your Raw data here'!A60))","v":""},"",{"$f":"IF('Copy your Raw data here'!D60=\"YES\",1,0)","v":0},{"$f":"VLOOKUP('Copy your Raw data here'!E60,'Stroke Ready Hospital List'!A:B,1,FALSE)","v":{"$error":"#N/A"}},0,{"$f":"IF(OR(ISBLANK('Copy your Raw data here'!F60),('Copy your Raw data here'!F60=\"NO\")),0,1)","v":0},{"$f":"IF(ISBLANK('Copy your Raw data here'!G60),0,1)","v":0},{"$f":"IF(ISERROR(D61),'Copy your Raw data here'!E60,\"\")","v":0},"",null,null,{"$f":"HOUR('Copy your Raw data here'!B60)","v":0},{"$f":"HOUR('Copy your Raw data here'!C60)","v":0},{"$f":"MINUTE('Copy your Raw data here'!B60)","v":0},{"$f":"MINUTE('Copy your Raw data here'!C60)","v":0},{"$f":"('Copy your Raw data here'!C60-'Copy your Raw data here'!B60)*1440","v":0},60,0,null,null,{"$f":"HOUR('Copy your Raw data here'!G60)","v":0},{"$f":"HOUR('Copy your Raw data here'!H60)","v":0},{"$f":"MINUTE('Copy your Raw data here'!G60)","v":0},{"$f":"MINUTE('Copy your Raw data here'!H60)","v":0},{"$f":"('Copy your Raw data here'!H60-'Copy your Raw data here'!G60)*1440","v":0},1440,{"$f":"IF('Copy your Raw data here'!G60=\"\",\"\",IF(V61<U61,Z61,Y61))","v":""}]
[{"$f":"IF(ISBLANK('Copy your Raw data here'!A61),\"\",('Copy your Raw data here'!A61))","v":""},"",{"$f":"IF('Copy your Raw data here'!D61=\"YES\",1,0)","v":0},{"$f":"VLOOKUP('Copy your Raw data here'!E61,'Stroke Ready Hospital List'!A:B,1,FALSE)","v":{"$error":"#N/A"}},0,{"$f":"IF(OR(ISBLANK('Copy your Raw data here'!F61),('Copy your Raw data here'!F61=\"NO\")),0,1)","v":0},{"$f":"IF(ISBLANK('Copy your Raw data here'!G61),0,1)","v":0},{"$f":"IF(ISERROR(D62),'Copy your Raw data here'!E61,\"\")","v":0},"",null,null,{"$f":"HOUR('Copy your Raw data here'!B61)","v":0},{"$f":"HOUR('Copy your Raw data here'!C61)","v":0},{"$f":"MINUTE('Copy your Raw data here'!B61)","v":0},{"$f":"MINUTE('Copy your Raw data here'!C61)","v":0},{"$f":"('Copy your Raw data here'!C61-'Copy your Raw data here'!B61)*1440","v":0},60,0,null,null,{"$f":"HOUR('Copy your Raw data here'!G61)","v":0},{"$f":"HOUR('Copy your Raw data here'!H61)","v":0},{"$f":"MINUTE('Copy your Raw data here'!G61)","v":0},{"$f":"MINUTE('Copy your Raw data here'!H61)","v":0},{"$f":"('Copy your Raw data here'!H61-'Copy your Raw data here'!G61)*1440","v":0},1440,{"$f":"IF('Copy your Raw data here'!G61=\"\",\"\",IF(V62<U62,Z62,Y62))","v":""}]
[{"$f":"IF(ISBLANK('Copy your Raw data here'!A62),\"\",('Copy your Raw data here'!A62))","v":""},"",{"$f":"IF('Copy your Raw data here'!D62=\"YES\",1,0)","v":0},{"$f":"VLOOKUP('Copy your Raw data here'!E62,'Stroke Ready Hospital List'!A:B,1,FALSE)","v":{"$error":"#N/A"}},0,{"$f":"IF(OR(ISBLANK('Copy your Raw data here'!F62),('Copy your Raw data here'!F62=\"NO\")),0,1)","v":0},{"$f":"IF(ISBLANK('Copy your Raw data here'!G62),0,1)","v":0},{"$f":"IF(ISERROR(D63),'Copy your Raw data here'!E62,\"\")","v":0},"",null,null,{"$f":"HOUR('Copy your Raw data here'!B62)","v":0},{"$f":"HOUR('Copy your Raw data here'!C62)","v":0},{"$f":"MINUTE('Copy your Raw data here'!B62)","v":0},{"$f":"MINUTE('Copy your Raw data here'!C62)","v":0},{"$f":"('Copy your Raw data here'!C62-'Copy your Raw data here'!B62)*1440","v":0},60,0,null,null,{"$f":"HOUR('Copy your Raw data here'!G62)","v":0},{"$f":"HOUR('Copy your Raw data here'!H62)","v":0},{"$f":"MINUTE('Copy your Raw data here'!G62)","v":0},{"$f":"MINUTE('Copy your Raw data here'!H62)","v":0},{"$f":"('Copy your Raw data here'!H62-'Copy your Raw data here'!G62)*1440","v":0},1440,{"$f":"IF('Copy your Raw data here'!G62=\"\",\"\",IF(V63<U63,Z63,Y63))","v":""}]
[{"$f":"IF(ISBLANK('Copy your Raw data here'!A63),\"\",('Copy your Raw data here'!A63))","v":""},"",{"$f":"IF('Copy your Raw data here'!D63=\"YES\",1,0)","v":0},{"$f":"VLOOKUP('Copy your Raw data here'!E63,'Stroke Ready Hospital List'!A:B,1,FALSE)","v":{"$error":"#N/A"}},0,{"$f":"IF(OR(ISBLANK('Copy your Raw data here'!F63),('Copy your Raw data here'!F63=\"NO\")),0,1)","v":0},{"$f":"IF(ISBLANK('Copy your Raw data here'!G63),0,1)","v":0},{"$f":"IF(ISERROR(D64),'Copy your Raw data here'!E63,\"\")","v":0},"",null,null,{"$f":"HOUR('Copy your Raw data here'!B63)","v":0},{"$f":"HOUR('Copy your Raw data here'!C63)","v":0},{"$f":"MINUTE('Copy your Raw data here'!B63)","v":0},{"$f":"MINUTE('Copy your Raw data here'!C63)","v":0},{"$f":"('Copy your Raw data here'!C63-'Copy your Raw data here'!B63)*1440","v":0},60,0,null,null,{"$f":"HOUR('Copy your Raw data here'!G63)","v":0},{"$f":"HOUR('Copy your Raw data here'!H63)","v":0},{"$f":"MINUTE('Copy your Raw data here'!G63)","v":0},{"$f":"MINUTE('Copy your Raw data here'!H63)","v":0},{"$f":"('Copy your Raw data here'!H63-'Copy your Raw data here'!G63)*1440","v":0},1440,{"$f":"IF('Copy your Raw data here'!G63=\"\",\"\",IF(V64<U64,Z64,Y64))","v":""}]
[{"$f":"IF(ISBLANK('Copy your Raw data here'!A64),\"\",('Copy your Raw data here'!A64))","v":""},"",{"$f":"IF('Copy your Raw data here'!D64=\"YES\",1,0)","v":0},{"$f":"VLOOKUP('Copy your Raw data here'!E64,'Stroke Ready Hospital List'!A:B,1,FALSE)","v":{"$error":"#N/A"}},0,{"$f":"IF(OR(ISBLANK('Copy your Raw data here'!F64),('Copy your Raw data here'!F64=\"NO\")),0,1)","v":0},{"$f":"IF(ISBLANK('Copy your Raw data here'!G64),0,1)","v":0},{"$f":"IF(ISERROR(D65),'Copy your Raw data here'!E64,\"\")","v":0},"",null,null,{"$f":"HOUR('Copy your Raw data here'!B64)","v":0},{"$f":"HOUR('Copy your Raw data here'!C64)","v":0},{"$f":"MINUTE('Copy your Raw data here'!B64)","v":0},{"$f":"MINUTE('Copy your Raw data here'!C64)","v":0},{"$f":"('Copy your Raw data here'!C64-'Copy your Raw data here'!B64)*1440","v":0},60,0,null,null,{"$f":"HOUR('Copy your Raw data here'!G64)","v":0},{"$f":"HOUR('Copy your Raw data here'!H64)","v":0},{"$f":"MINUTE('Copy your Raw data here'!G64)","v":0},{"$f":"MINUTE('Copy your Raw data here'!H64)","v":0},{"$f":"('Copy your Raw data here'!H64-'Copy your Raw data here'!G64)*1440","v":0},1440,{"$f":"IF('Copy your Raw data here'!G64=\"\",\"\",IF(V65<U65,Z65,Y65))","v":""}]
[{"$f":"IF(ISBLANK('Copy your Raw data here'!A65),\"\",('Copy your Raw data here'!A65))","v":""},"",{"$f":"IF('Copy your Raw data here'!D65=\"YES\",1,0)","v":0},{"$f":"VLOOKUP('Copy your Raw data here'!E65,'Stroke Ready Hospital List'!A:B,1,FALSE)","v":{"$error":"#N/A"}},0,{"$f":"IF(OR(ISBLANK('Copy your Raw data here'!F65),('Copy your Raw data here'!F65=\"NO\")),0,1)","v":0},{"$f":"IF(ISBLANK('Copy your Raw data here'!G65),0,1)","v":0},{"$f":"IF(ISERROR(D66),'Copy your Raw data here'!E65,\"\")","v":0},"",null,null,{"$f":"HOUR('Copy your Raw data here'!B65)","v":0},{"$f":"HOUR('Copy your Raw data here'!C65)","v":0},{"$f":"MINUTE('Copy your Raw data here'!B65)","v":0},{"$f":"MINUTE('Copy your Raw data here'!C65)","v":0},{"$f":"('Copy your Raw data here'!C65-'Copy your Raw data here'!B65)*1440","v":0},60,0,null,null,{"$f":"HOUR('Copy your Raw data here'!G65)","v":0},{"$f":"HOUR('Copy your Raw data here'!H65)","v":0},{"$f":"MINUTE('Copy your Raw data here'!G65)","v":0},{"$f":"MINUTE('Copy your Raw data here'!H65)","v":0},{"$f":"('Copy your Raw data here'!H65-'Copy your Raw data here'!G65)*1440","v":0},1440,{"$f":"IF('Copy your Raw data here'!G65=\"\",\"\",IF(V66<U66,Z66,Y66))","v":""}]
[{"$f":"IF(ISBLANK('Copy your Raw data here'!A66),\"\",('Copy your Raw data here'!A66))","v":""},"",{"$f":"IF('Copy your Raw data here'!D66=\"YES\",1,0)","v":0},{"$f":"VLOOKUP('Copy your Raw data here'!E66,'Stroke Ready Hospital List'!A:B,1,FALSE)","v":{"$error":"#N/A"}},0,{"$f":"IF(OR(ISBLANK('Copy your Raw data here'!F66),('Copy your Raw data here'!F66=\"NO\")),0,1)","v":0},{"$f":"IF(ISBLANK('Copy your Raw data here'!G66),0,1)","v":0},{"$f":"IF(ISERROR(D67),'Copy your Raw data here'!E66,\"\")","v":0},"",null,null,{"$f":"HOUR('Copy your Raw data here'!B66)","v":0},{"$f":"HOUR('Copy your Raw data here'!C66)","v":0},{"$f":"MINUTE('Copy your Raw data here'!B66)","v":0},{"$f":"MINUTE('Copy your Raw data here'!C66)","v":0},{"$f":"('Copy your Raw data here'!C66-'Copy your Raw data here'!B66)*1440","v":0},60,0,null,null,{"$f":"HOUR('Copy your Raw data here'!G66)","v":0},{"$f":"HOUR('Copy your Raw data here'!H66)","v":0},{"$f":"MINUTE('Copy your Raw data here'!G66)","v":0},{"$f":"MINUTE('Copy your Raw data here'!H66)","v":0},{"$f":"('Copy your Raw data here'!H66-'Copy your Raw data here'!G66)*1440","v":0},1440,{"$f":"IF('Copy your Raw data here'!G66=\"\",\"\",IF(V67<U67,Z67,Y67))","v":""}]
[{"$f":"IF(ISBLANK('Copy your Raw data here'!A67),\"\",('Copy your Raw data here'!A67))","v":""},{"$f":"IF(R68=0,\"\",R68)","v":""},{"$f":"IF('Copy your Raw data here'!D67=\"YES\",1,0)","v":0},{"$f":"VLOOKUP('Copy your Raw data here'!E67,'Stroke Ready Hospital List'!A:B,1,FALSE)","v":{"$error":"#N/A"}},{"$f":"IF(ISERROR(D68),0,1)","v":0},{"$f":"IF(OR(ISBLANK('Copy your Raw data here'!F67),('Copy your Raw data here'!F67=\"NO\")),0,1)","v":0},{"$f":"IF(ISBLANK('Copy your Raw data here'!G67),0,1)","v":0},{"$f":"IF(ISERROR(D68),'Copy your Raw data here'!E67,\"\")","v":0},{"$f":"IF(R68=0,\"\",AA68)","v":""},null,null,{"$f":"HOUR('Copy your Raw data here'!B67)","v":0},{"$f":"HOUR('Copy your Raw data here'!C67)","v":0},{"$f":"MINUTE('Copy your Raw data here'!B67)","v":0},{"$f":"MINUTE('Copy your Raw data here'!C67)","v":0},{"$f":"('Copy your Raw data here'!C67-'Copy your Raw data here'!B67)*1440","v":0},{"$f":"SUM(60-N68)+O68","v":60},{"$f":"IF(M68<L68,Q68,P68)","v":0},null,null,{"$f":"HOUR('Copy your Raw data here'!G67)","v":0},{"$f":"HOUR('Copy your Raw data here'!H67)","v":0},{"$f":"MINUTE('Copy your Raw data here'!G67)","v":0},{"$f":"MINUTE('Copy your Raw data here'!H67)","v":0},{"$f":"('Copy your Raw data here'!H67-'Copy your Raw data here'!G67)*1440","v":0},{"$f":"SUM((60-W68)+X68)+SUM((23-U68)*60)","v":1440},{"$f":"IF('Copy your Raw data here'!G67=\"\",\"\",IF(V68<U68,Z68,Y68))","v":""}]
[{"$f":"IF(ISBLANK('Copy your Raw data here'!A68),\"\",('Copy your Raw data here'!A68))","v":""},"",{"$f":"IF('Copy your Raw data here'!D68=\"YES\",1,0)","v":0},{"$f":"VLOOKUP('Copy your Raw data here'!E68,'Stroke Ready Hospital List'!A:B,1,FALSE)","v":{"$error":"#N/A"}},0,{"$f":"IF(OR(ISBLANK('Copy your Raw data here'!F68),('Copy your Raw data here'!F68=\"NO\")),0,1)","v":0},{"$f":"IF(ISBLANK('Copy your Raw data here'!G68),0,1)","v":0},{"$f":"IF(ISERROR(D69),'Copy your Raw data here'!E68,\"\")","v":0},"",null,null,{"$f":"HOUR('Copy your Raw data here'!B68)","v":0},{"$f":"HOUR('Copy your Raw data here'!C68)","v":0},{"$f":"MINUTE('Copy your Raw data here'!B68)","v":0},{"$f":"MINUTE('Copy your Raw data here'!C68)","v":0},{"$f":"('Copy your Raw data here'!C68-'Copy your Raw data here'!B68)*1440","v":0},60,0,null,null,{"$f":"HOUR('Copy your Raw data here'!G68)","v":0},{"$f":"HOUR('Copy your Raw data here'!H68)","v":0},{"$f":"MINUTE('Copy your Raw data here'!G68)","v":0},{"$f":"MINUTE('Copy your Raw data here'!H68)","v":0},{"$f":"('Copy your Raw data here'!H68-'Copy your Raw data here'!G68)*1440","v":0},1440,{"$f":"IF('Copy your Raw data here'!G68=\"\",\"\",IF(V69<U69,Z69,Y69))","v":""}]
[{"$f":"IF(ISBLANK('Copy your Raw data here'!A69),\"\",('Copy your Raw data here'!A69))","v":""},"",{"$f":"IF('Copy your Raw data here'!D69=\"YES\",1,0)","v":0},{"$f":"VLOOKUP('Copy your Raw data here'!E69,'Stroke Ready Hospital List'!A:B,1,FALSE)","v":{"$error":"#N/A"}},0,{"$f":"IF(OR(ISBLANK('Copy your Raw data here'!F69),('Copy your Raw data here'!F69=\"NO\")),0,1)","v":0},{"$f":"IF(ISBLANK('Copy your Raw data here'!G69),0,1)","v":0},{"$f":"IF(ISERROR(D70),'Copy your Raw data here'!E69,\"\")","v":0},"",null,null,{"$f":"HOUR('Copy your Raw data here'!B69)","v":0},{"$f":"HOUR('Copy your Raw data here'!C69)","v":0},{"$f":"MINUTE('Copy your Raw data here'!B69)","v":0},{"$f":"MINUTE('Copy your Raw data here'!C69)","v":0},{"$f":"('Copy your Raw data here'!C69-'Copy your Raw data here'!B69)*1440","v":0},60,0,null,null,{"$f":"HOUR('Copy your Raw data here'!G69)","v":0},{"$f":"HOUR('Copy your Raw data here'!H69)","v":0},{"$f":"MINUTE('Copy your Raw data here'!G69)","v":0},{"$f":"MINUTE('Copy your Raw data here'!H69)","v":0},{"$f":"('Copy your Raw data here'!H69-'Copy your Raw data here'!G69)*1440","v":0},1440,{"$f":"IF('Copy your Raw data here'!G69=\"\",\"\",IF(V70<U70,Z70,Y70))","v":""}]
[{"$f":"IF(ISBLANK('Copy your Raw data here'!A70),\"\",('Copy your Raw data here'!A70))","v":""},"",{"$f":"IF('Copy your Raw data here'!D70=\"YES\",1,0)","v":0},{"$f":"VLOOKUP('Copy your Raw data here'!E70,'Stroke Ready Hospital List'!A:B,1,FALSE)","v":{"$error":"#N/A"}},0,{"$f":"IF(OR(ISBLANK('Copy your Raw data here'!F70),('Copy your Raw data here'!F70=\"NO\")),0,1)","v":0},{"$f":"IF(ISBLANK('Copy your Raw data here'!G70),0,1)","v":0},{"$f":"IF(ISERROR(D71),'Copy your Raw data here'!E70,\"\")","v":0},"",null,null,{"$f":"HOUR('Copy your Raw data here'!B70)","v":0},{"$f":"HOUR('Copy your Raw data here'!C70)","v":0},{"$f":"MINUTE('Copy your Raw data here'!B70)","v":0},{"$f":"MINUTE('Copy your Raw data here'!C70)","v":0},{"$f":"('Copy your Raw data here'!C70-'Copy your Raw data here'!B70)*1440","v":0},60,0,null,null,{"$f":"HOUR('Copy your Raw data here'!G70)","v":0},{"$f":"HOUR('Copy your Raw data here'!H70)","v":0},{"$f":"MINUTE('Copy your Raw data here'!G70)","v":0},{"$f":"MINUTE('Copy your Raw data here'!H70)","v":0},{"$f":"('Copy your Raw data here'!H70-'Copy your Raw data here'!G70)*1440","v":0},1440,{"$f":"IF('Copy your Raw data here'!G70=\"\",\"\",IF(V71<U71,Z71,Y71))","v":""}]
[{"$f":"IF(ISBLANK('Copy your Raw data here'!A71),\"\",('Copy your Raw data here'!A71))","v":""},"",{"$f":"IF('Copy your Raw data here'!D71=\"YES\",1,0)","v":0},{"$f":"VLOOKUP('Copy your Raw data here'!E71,'Stroke Ready Hospital List'!A:B,1,FALSE)","v":{"$error":"#N/A"}},0,{"$f":"IF(OR(ISBLANK('Copy your Raw data here'!F71),('Copy your Raw data here'!F71=\"NO\")),0,1)","v":0},{"$f":"IF(ISBLANK('Copy your Raw data here'!G71),0,1)","v":0},{"$f":"IF(ISERROR(D72),'Copy your Raw data here'!E71,\"\")","v":0},"",null,null,{"$f":"HOUR('Copy your Raw data here'!B71)","v":0},{"$f":"HOUR('Copy your Raw data here'!C71)","v":0},{"$f":"MINUTE('Copy your Raw data here'!B71)","v":0},{"$f":"MINUTE('Copy your Raw data here'!C71)","v":0},{"$f":"('Copy your Raw data here'!C71-'Copy your Raw data here'!B71)*1440","v":0},60,0,null,null,{"$f":"HOUR('Copy your Raw data here'!G71)","v":0},{"$f":"HOUR('Copy your Raw data here'!H71)","v":0},{"$f":"MINUTE('Copy your Raw data here'!G71)","v":0},{"$f":"MINUTE('Copy your Raw data here'!H71)","v":0},{"$f":"('Copy your Raw data here'!H71-'Copy your Raw data here'!G71)*1440","v":0},1440,{"$f":"IF('Copy your Raw data here'!G71=\"\",\"\",IF(V72<U72,Z72,Y72))","v":""}]
[{"$f":"IF(ISBLANK('Copy your Raw data here'!A72),\"\",('Copy your Raw data here'!A72))","v":""},"",{"$f":"IF('Copy your Raw data here'!D72=\"YES\",1,0)","v":0},{"$f":"VLOOKUP('Copy your Raw data here'!E72,'Stroke Ready Hospital List'!A:B,1,FALSE)","v":{"$error":"#N/A"}},0,{"$f":"IF(OR(ISBLANK('Copy your Raw data here'!F72),('Copy your Raw data here'!F72=\"NO\")),0,1)","v":0},{"$f":"IF(ISBLANK('Copy your Raw data here'!G72),0,1)","v":0},{"$f":"IF(ISERROR(D73),'Copy your Raw data here'!E72,\"\")","v":0},"",null,null,{"$f":"HOUR('Copy your Raw data here'!B72)","v":0},{"$f":"HOUR('Copy your Raw data here'!C72)","v":0},{"$f":"MINUTE('Copy your Raw data here'!B72)","v":0},{"$f":"MINUTE('Copy your Raw data here'!C72)","v":0},{"$f":"('Copy your Raw data here'!C72-'Copy your Raw data here'!B72)*1440","v":0},60,0,null,null,{"$f":"HOUR('Copy your Raw data here'!G72)","v":0},{"$f":"HOUR('Copy your Raw data here'!H72)","v":0},{"$f":"MINUTE('Copy your Raw data here'!G72)","v":0},{"$f":"MINUTE('Copy your Raw data here'!H72)","v":0},{"$f":"('Copy your Raw data here'!H72-'Copy your Raw data here'!G72)*1440","v":0},1440,{"$f":"IF('Copy your Raw data here'!G72=\"\",\"\",IF(V73<U73,Z73,Y73))","v":""}]
[{"$f":"IF(ISBLANK('Copy your Raw data here'!A73),\"\",('Copy your Raw data here'!A73))","v":""},"",{"$f":"IF('Copy your Raw data here'!D73=\"YES\",1,0)","v":0},{"$f":"VLOOKUP('Copy your Raw data here'!E73,'Stroke Ready Hospital List'!A:B,1,FALSE)","v":{"$error":"#N/A"}},0,{"$f":"IF(OR(ISBLANK('Copy your Raw data here'!F73),('Copy your Raw data here'!F73=\"NO\")),0,1)","v":0},{"$f":"IF(ISBLANK('Copy your Raw data here'!G73),0,1)","v":0},{"$f":"IF(ISERROR(D74),'Copy your Raw data here'!E73,\"\")","v":0},"",null,null,{"$f":"HOUR('Copy your Raw data here'!B73)","v":0},{"$f":"HOUR('Copy your Raw data here'!C73)","v":0},{"$f":"MINUTE('Copy your Raw data here'!B73)","v":0},{"$f":"MINUTE('Copy your Raw data here'!C73)","v":0},{"$f":"('Copy your Raw data here'!C73-'Copy your Raw data here'!B73)*1440","v":0},60,0,null,null,{"$f":"HOUR('Copy your Raw data here'!G73)","v":0},{"$f":"HOUR('Copy your Raw data here'!H73)","v":0},{"$f":"MINUTE('Copy your Raw data here'!G73)","v":0},{"$f":"MINUTE('Copy your Raw data here'!H73)","v":0},{"$f":"('Copy your Raw data here'!H73-'Copy your Raw data here'!G73)*1440","v":0},1440,{"$f":"IF('Copy your Raw data here'!G73=\"\",\"\",IF(V74<U74,Z74,Y74))","v":""}]
[{"$f":"IF(ISBLANK('Copy your Raw data here'!A74),\"\",('Copy your Raw data here'!A74))","v":""},"",{"$f":"IF('Copy your Raw data here'!D74=\"YES\",1,0)","v":0},{"$f":"VLOOKUP('Copy your Raw data here'!E74,'Stroke Ready Hospital List'!A:B,1,FALSE)","v":{"$error":"#N/A"}},0,{"$f":"IF(OR(ISBLANK('Copy your Raw data here'!F74),('Copy your Raw data here'!F74=\"NO\")),0,1)","v":0},{"$f":"IF(ISBLANK('Copy your Raw data here'!G74),0,1)","v":0},{"$f":"IF(ISERROR(D75),'Copy your Raw data here'!E74,\"\")","v":0},"",null,null,{"$f":"HOUR('Copy your Raw data here'!B74)","v":0},{"$f":"HOUR('Copy your Raw data here'!C74)","v":0},{"$f":"MINUTE('Copy your Raw data here'!B74)","v":0},{"$f":"MINUTE('Copy your Raw data here'!C74)","v":0},{"$f":"('Copy your Raw data here'!C74-'Copy your Raw data here'!B74)*1440","v":0},60,0,null,null,{"$f":"HOUR('Copy your Raw data here'!G74)","v":0},{"$f":"HOUR('Copy your Raw data here'!H74)","v":0},{"$f":"MINUTE('Copy your Raw data here'!G74)","v":0},{"$f":"MINUTE('Copy your Raw data here'!H74)","v":0},{"$f":"('Copy your Raw data here'!H74-'Copy your Raw data here'!G74)*1440","v":0},1440,{"$f":"IF('Copy your Raw data here'!G74=\"\",\"\",IF(V75<U75,Z75,Y75))","v":""}]
[{"$f":"IF(ISBLANK('Copy your Raw data here'!A75),\"\",('Copy your Raw data here'!A75))","v":""},"",{"$f":"IF('Copy your Raw data here'!D75=\"YES\",1,0)","v":0},{"$f":"VLOOKUP('Copy your Raw data here'!E75,'Stroke Ready Hospital List'!A:B,1,FALSE)","v":{"$error":"#N/A"}},0,{"$f":"IF(OR(ISBLANK('Copy your Raw data here'!F75),('Copy your Raw data here'!F75=\"NO\")),0,1)","v":0},{"$f":"IF(ISBLANK('Copy your Raw data here'!G75),0,1)","v":0},{"$f":"IF(ISERROR(D76),'Copy your Raw data here'!E75,\"\")","v":0},"",null,null,{"$f":"HOUR('Copy your Raw data here'!B75)","v":0},{"$f":"HOUR('Copy your Raw data here'!C75)","v":0},{"$f":"MINUTE('Copy your Raw data here'!B75)","v":0},{"$f":"MINUTE('Copy your Raw data here'!C75)","v":0},{"$f":"('Copy your Raw data here'!C75-'Copy your Raw data here'!B75)*1440","v":0},60,0,null,null,{"$f":"HOUR('Copy your Raw data here'!G75)","v":0},{"$f":"HOUR('Copy your Raw data here'!H75)","v":0},{"$f":"MINUTE('Copy your Raw data here'!G75)","v":0},{"$f":"MINUTE('Copy your Raw data here'!H75)","v":0},{"$f":"('Copy your Raw data here'!H75-'Copy your Raw data here'!G75)*1440","v":0},1440,{"$f":"IF('Copy your Raw data here'!G75=\"\",\"\",IF(V76<U76,Z76,Y76))","v":""}]
[{"$f":"IF(ISBLANK('Copy your Raw data here'!A76),\"\",('Copy your Raw data here'!A76))","v":""},"",{"$f":"IF('Copy your Raw data here'!D76=\"YES\",1,0)","v":0},{"$f":"VLOOKUP('Copy your Raw data here'!E76,'Stroke Ready Hospital List'!A:B,1,FALSE)","v":{"$error":"#N/A"}},0,{"$f":"IF(OR(ISBLANK('Copy your Raw data here'!F76),('Copy your Raw data here'!F76=\"NO\")),0,1)","v":0},{"$f":"IF(ISBLANK('Copy your Raw data here'!G76),0,1)","v":0},{"$f":"IF(ISERROR(D77),'Copy your Raw data here'!E76,\"\")","v":0},"",null,null,{"$f":"HOUR('Copy your Raw data here'!B76)","v":0},{"$f":"HOUR('Copy your Raw data here'!C76)","v":0},{"$f":"MINUTE('Copy your Raw data here'!B76)","v":0},{"$f":"MINUTE('Copy your Raw data here'!C76)","v":0},{"$f":"('Copy your Raw data here'!C76-'Copy your Raw data here'!B76)*1440","v":0},60,0,null,null,{"$f":"HOUR('Copy your Raw data here'!G76)","v":0},{"$f":"HOUR('Copy your Raw data here'!H76)","v":0},{"$f":"MINUTE('Copy your Raw data here'!G76)","v":0},{"$f":"MINUTE('Copy your Raw data here'!H76)","v":0},{"$f":"('Copy your Raw data here'!H76-'Copy your Raw data here'!G76)*1440","v":0},1440,{"$f":"IF('Copy your Raw data here'!G76=\"\",\"\",IF(V77<U77,Z77,Y77))","v":""}]
[{"$f":"IF(ISBLANK('Copy your Raw data here'!A77),\"\",('Copy your Raw data here'!A77))","v":""},"",{"$f":"IF('Copy your Raw data here'!D77=\"YES\",1,0)","v":0},{"$f":"VLOOKUP('Copy your Raw data here'!E77,'Stroke Ready Hospital List'!A:B,1,FALSE)","v":{"$error":"#N/A"}},0,{"$f":"IF(OR(ISBLANK('Copy your Raw data here'!F77),('Copy your Raw data here'!F77=\"NO\")),0,1)","v":0},{"$f":"IF(ISBLANK('Copy your Raw data here'!G77),0,1)","v":0},{"$f":"IF(ISERROR(D78),'Copy your Raw data here'!E77,\"\")","v":0},"",null,null,{"$f":"HOUR('Copy your Raw data here'!B77)","v":0},{"$f":"HOUR('Copy your Raw data here'!C77)","v":0},{"$f":"MINUTE('Copy your Raw data here'!B77)","v":0},{"$f":"MINUTE('Copy your Raw data here'!C77)","v":0},{"$f":"('Copy your Raw data here'!C77-'Copy your Raw data here'!B77)*1440","v":0},60,0,null,null,{"$f":"HOUR('Copy your Raw data here'!G77)","v":0},{"$f":"HOUR('Copy your Raw data here'!H77)","v":0},{"$f":"MINUTE('Copy your Raw data here'!G77)","v":0},{"$f":"MINUTE('Copy your Raw data here'!H77)","v":0},{"$f":"('Copy your Raw data here'!H77-'Copy your Raw data here'!G77)*1440","v":0},1440,{"$f":"IF('Copy your Raw data here'!G77=\"\",\"\",IF(V78<U78,Z78,Y78))","v":""}]
[{"$f":"IF(ISBLANK('Copy your Raw data here'!A78),\"\",('Copy your Raw data here'!A78))","v":""},"",{"$f":"IF('Copy your Raw data here'!D78=\"YES\",1,0)","v":0},{"$f":"VLOOKUP('Copy your Raw data here'!E78,'Stroke Ready Hospital List'!A:B,1,FALSE)","v":{"$error":"#N/A"}},0,{"$f":"IF(OR(ISBLANK('Copy your Raw data here'!F78),('Copy your Raw data here'!F78=\"NO\")),0,1)","v":0},{"$f":"IF(ISBLANK('Copy your Raw data here'!G78),0,1)","v":0},{"$f":"IF(ISERROR(D79),'Copy your Raw data here'!E78,\"\")","v":0},"",null,null,{"$f":"HOUR('Copy your Raw data here'!B78)","v":0},{"$f":"HOUR('Copy your Raw data here'!C78)","v":0},{"$f":"MINUTE('Copy your Raw data here'!B78)","v":0},{"$f":"MINUTE('Copy your Raw data here'!C78)","v":0},{"$f":"('Copy your Raw data here'!C78-'Copy your Raw data here'!B78)*1440","v":0},60,0,null,null,{"$f":"HOUR('Copy your Raw data here'!G78)","v":0},{"$f":"HOUR('Copy your Raw data here'!H78)","v":0},{"$f":"MINUTE('Copy your Raw data here'!G78)","v":0},{"$f":"MINUTE('Copy your Raw data here'!H78)","v":0},{"$f":"('Copy your Raw data here'!H78-'Copy your Raw data here'!G78)*1440","v":0},1440,{"$f":"IF('Copy your Raw data here'!G78=\"\",\"\",IF(V79<U79,Z79,Y79))","v":""}]
[{"$f":"IF(ISBLANK('Copy your Raw data here'!A79),\"\",('Copy your Raw data here'!A79))","v":""},"",{"$f":"IF('Copy your Raw data here'!D79=\"YES\",1,0)","v":0},{"$f":"VLOOKUP('Copy your Raw data here'!E79,'Stroke Ready Hospital List'!A:B,1,FALSE)","v":{"$error":"#N/A"}},0,{"$f":"IF(OR(ISBLANK('Copy your Raw data here'!F79),('Copy your Raw data here'!F79=\"NO\")),0,1)","v":0},{"$f":"IF(ISBLANK('Copy your Raw data here'!G79),0,1)","v":0},{"$f":"IF(ISERROR(D80),'Copy your Raw data here'!E79,\"\")","v":0},"",null,null,{"$f":"HOUR('Copy your Raw data here'!B79)","v":0},{"$f":"HOUR('Copy your Raw data here'!C79)","v":0},{"$f":"MINUTE('Copy your Raw data here'!B79)","v":0},{"$f":"MINUTE('Copy your Raw data here'!C79)","v":0},{"$f":"('Copy your Raw data here'!C79-'Copy your Raw data here'!B79)*1440","v":0},60,0,null,null,{"$f":"HOUR('Copy your Raw data here'!G79)","v":0},{"$f":"HOUR('Copy your Raw data here'!H79)","v":0},{"$f":"MINUTE('Copy your Raw data here'!G79)","v":0},{"$f":"MINUTE('Copy your Raw data here'!H79)","v":0},{"$f":"('Copy your Raw data here'!H79-'Copy your Raw data here'!G79)*1440","v":0},1440,{"$f":"IF('Copy your Raw data here'!G79=\"\",\"\",IF(V80<U80,Z80,Y80))","v":""}]
[{"$f":"IF(ISBLANK('Copy your Raw data here'!A80),\"\",('Copy your Raw data here'!A80))","v":""},"",{"$f":"IF('Copy your Raw data here'!D80=\"YES\",1,0)","v":0},{"$f":"VLOOKUP('Copy your Raw data here'!E80,'Stroke Ready Hospital List'!A:B,1,FALSE)","v":{"$error":"#N/A"}},0,{"$f":"IF(OR(ISBLANK('Copy your Raw data here'!F80),('Copy your Raw data here'!F80=\"NO\")),0,1)","v":0},{"$f":"IF(ISBLANK('Copy your Raw data here'!G80),0,1)","v":0},{"$f":"IF(ISERROR(D81),'Copy your Raw data here'!E80,\"\")","v":0},"",null,null,{"$f":"HOUR('Copy your Raw data here'!B80)","v":0},{"$f":"HOUR('Copy your Raw data here'!C80)","v":0},{"$f":"MINUTE('Copy your Raw data here'!B80)","v":0},{"$f":"MINUTE('Copy your Raw data here'!C80)","v":0},{"$f":"('Copy your Raw data here'!C80-'Copy your Raw data here'!B80)*1440","v":0},60,0,null,null,{"$f":"HOUR('Copy your Raw data here'!G80)","v":0},{"$f":"HOUR('Copy your Raw data here'!H80)","v":0},{"$f":"MINUTE('Copy your Raw data here'!G80)","v":0},{"$f":"MINUTE('Copy your Raw data here'!H80)","v":0},{"$f":"('Copy your Raw data here'!H80-'Copy your Raw data here'!G80)*1440","v":0},1440,{"$f":"IF('Copy your Raw data here'!G80=\"\",\"\",IF(V81<U81,Z81,Y81))","v":""}]
[{"$f":"IF(ISBLANK('Copy your Raw data here'!A81),\"\",('Copy your Raw data here'!A81))","v":""},"",{"$f":"IF('Copy your Raw data here'!D81=\"YES\",1,0)","v":0},{"$f":"VLOOKUP('Copy your Raw data here'!E81,'Stroke Ready Hospital List'!A:B,1,FALSE)","v":{"$error":"#N/A"}},0,{"$f":"IF(OR(ISBLANK('Copy your Raw data here'!F81),('Copy your Raw data here'!F81=\"NO\")),0,1)","v":0},{"$f":"IF(ISBLANK('Copy your Raw data here'!G81),0,1)","v":0},{"$f":"IF(ISERROR(D82),'Copy your Raw data here'!E81,\"\")","v":0},"",null,null,{"$f":"HOUR('Copy your Raw data here'!B81)","v":0},{"$f":"HOUR('Copy your Raw data here'!C81)","v":0},{"$f":"MINUTE('Copy your Raw data here'!B81)","v":0},{"$f":"MINUTE('Copy your Raw data here'!C81)","v":0},{"$f":"('Copy your Raw data here'!C81-'Copy your Raw data here'!B81)*1440","v":0},60,0,null,null,{"$f":"HOUR('Copy your Raw data here'!G81)","v":0},{"$f":"HOUR('Copy your Raw data here'!H81)","v":0},{"$f":"MINUTE('Copy your Raw data here'!G81)","v":0},{"$f":"MINUTE('Copy your Raw data here'!H81)","v":0},{"$f":"('Copy your Raw data here'!H81-'Copy your Raw data here'!G81)*1440","v":0},1440,{"$f":"IF('Copy your Raw data here'!G81=\"\",\"\",IF(V82<U82,Z82,Y82))","v":""}]
[{"$f":"IF(ISBLANK('Copy your Raw data here'!A82),\"\",('Copy your Raw data here'!A82))","v":""},"",{"$f":"IF('Copy your Raw data here'!D82=\"YES\",1,0)","v":0},{"$f":"VLOOKUP('Copy your Raw data here'!E82,'Stroke Ready Hospital List'!A:B,1,FALSE)","v":{"$error":"#N/A"}},0,{"$f":"IF(OR(ISBLANK('Copy your Raw data here'!F82),('Copy your Raw data here'!F82=\"NO\")),0,1)","v":0},{"$f":"IF(ISBLANK('Copy your Raw data here'!G82),0,1)","v":0},{"$f":"IF(ISERROR(D83),'Copy your Raw data here'!E82,\"\")","v":0},"",null,null,{"$f":"HOUR('Copy your Raw data here'!B82)","v":0},{"$f":"HOUR('Copy your Raw data here'!C82)","v":0},{"$f":"MINUTE('Copy your Raw data here'!B82)","v":0},{"$f":"MINUTE('Copy your Raw data here'!C82)","v":0},{"$f":"('Copy your Raw data here'!C82-'Copy your Raw data here'!B82)*1440","v":0},60,0,null,null,{"$f":"HOUR('Copy your Raw data here'!G82)","v":0},{"$f":"HOUR('Copy your Raw data here'!H82)","v":0},{"$f":"MINUTE('Copy your Raw data here'!G82)","v":0},{"$f":"MINUTE('Copy your Raw data here'!H82)","v":0},{"$f":"('Copy your Raw data here'!H82-'Copy your Raw data here'!G82)*1440","v":0},1440,{"$f":"IF('Copy your Raw data here'!G82=\"\",\"\",IF(V83<U83,Z83,Y83))","v":""}]
[{"$f":"IF(ISBLANK('Copy your Raw data here'!A83),\"\",('Copy your Raw data here'!A83))","v":""},"",{"$f":"IF('Copy your Raw data here'!D83=\"YES\",1,0)","v":0},{"$f":"VLOOKUP('Copy your Raw data here'!E83,'Stroke Ready Hospital List'!A:B,1,FALSE)","v":{"$error":"#N/A"}},0,{"$f":"IF(OR(ISBLANK('Copy your Raw data here'!F83),('Copy your Raw data here'!F83=\"NO\")),0,1)","v":0},{"$f":"IF(ISBLANK('Copy your Raw data here'!G83),0,1)","v":0},{"$f":"IF(ISERROR(D84),'Copy your Raw data here'!E83,\"\")","v":0},"",null,null,{"$f":"HOUR('Copy your Raw data here'!B83)","v":0},{"$f":"HOUR('Copy your Raw data here'!C83)","v":0},{"$f":"MINUTE('Copy your Raw data here'!B83)","v":0},{"$f":"MINUTE('Copy your Raw data here'!C83)","v":0},{"$f":"('Copy your Raw data here'!C83-'Copy your Raw data here'!B83)*1440","v":0},60,0,null,null,{"$f":"HOUR('Copy your Raw data here'!G83)","v":0},{"$f":"HOUR('Copy your Raw data here'!H83)","v":0},{"$f":"MINUTE('Copy your Raw data here'!G83)","v":0},{"$f":"MINUTE('Copy your Raw data here'!H83)","v":0},{"$f":"('Copy your Raw data here'!H83-'Copy your Raw data here'!G83)*1440","v":0},1440,{"$f":"IF('Copy your Raw data here'!G83=\"\",\"\",IF(V84<U84,Z84,Y84))","v":""}]
[{"$f":"IF(ISBLANK('Copy your Raw data here'!A84),\"\",('Copy your Raw data here'!A84))","v":""},"",{"$f":"IF('Copy your Raw data here'!D84=\"YES\",1,0)","v":0},{"$f":"VLOOKUP('Copy your Raw data here'!E84,'Stroke Ready Hospital List'!A:B,1,FALSE)","v":{"$error":"#N/A"}},0,{"$f":"IF(OR(ISBLANK('Copy your Raw data here'!F84),('Copy your Raw data here'!F84=\"NO\")),0,1)","v":0},{"$f":"IF(ISBLANK('Copy your Raw data here'!G84),0,1)","v":0},{"$f":"IF(ISERROR(D85),'Copy your Raw data here'!E84,\"\")","v":0},"",null,null,{"$f":"HOUR('Copy your Raw data here'!B84)","v":0},{"$f":"HOUR('Copy your Raw data here'!C84)","v":0},{"$f":"MINUTE('Copy your Raw data here'!B84)","v":0},{"$f":"MINUTE('Copy your Raw data here'!C84)","v":0},{"$f":"('Copy your Raw data here'!C84-'Copy your Raw data here'!B84)*1440","v":0},60,0,null,null,{"$f":"HOUR('Copy your Raw data here'!G84)","v":0},{"$f":"HOUR('Copy your Raw data here'!H84)","v":0},{"$f":"MINUTE('Copy your Raw data here'!G84)","v":0},{"$f":"MINUTE('Copy your Raw data here'!H84)","v":0},{"$f":"('Copy your Raw data here'!H84-'Copy your Raw data here'!G84)*1440","v":0},1440,{"$f":"IF('Copy your Raw data here'!G84=\"\",\"\",IF(V85<U85,Z85,Y85))","v":""}]
[{"$f":"IF(ISBLANK('Copy your Raw data here'!A85),\"\",('Copy your Raw data here'!A85))","v":""},"",{"$f":"IF('Copy your Raw data here'!D85=\"YES\",1,0)","v":0},{"$f":"VLOOKUP('Copy your Raw data here'!E85,'Stroke Ready Hospital List'!A:B,1,FALSE)","v":{"$error":"#N/A"}},0,{"$f":"IF(OR(ISBLANK('Copy your Raw data here'!F85),('Copy your Raw data here'!F85=\"NO\")),0,1)","v":0},{"$f":"IF(ISBLANK('Copy your Raw data here'!G85),0,1)","v":0},{"$f":"IF(ISERROR(D86),'Copy your Raw data here'!E85,\"\")","v":0},"",null,null,{"$f":"HOUR('Copy your Raw data here'!B85)","v":0},{"$f":"HOUR('Copy your Raw data here'!C85)","v":0},{"$f":"MINUTE('Copy your Raw data here'!B85)","v":0},{"$f":"MINUTE('Copy your Raw data here'!C85)","v":0},{"$f":"('Copy your Raw data here'!C85-'Copy your Raw data here'!B85)*1440","v":0},60,0,null,null,{"$f":"HOUR('Copy your Raw data here'!G85)","v":0},{"$f":"HOUR('Copy your Raw data here'!H85)","v":0},{"$f":"MINUTE('Copy your Raw data here'!G85)","v":0},{"$f":"MINUTE('Copy your Raw data here'!H85)","v":0},{"$f":"('Copy your Raw data here'!H85-'Copy your Raw data here'!G85)*1440","v":0},1440,{"$f":"IF('Copy your Raw data here'!G85=\"\",\"\",IF(V86<U86,Z86,Y86))","v":""}]
[{"$f":"IF(ISBLANK('Copy your Raw data here'!A86),\"\",('Copy your Raw data here'!A86))","v":""},"",{"$f":"IF('Copy your Raw data here'!D86=\"YES\",1,0)","v":0},{"$f":"VLOOKUP('Copy your Raw data here'!E86,'Stroke Ready Hospital List'!A:B,1,FALSE)","v":{"$error":"#N/A"}},0,{"$f":"IF(OR(ISBLANK('Copy your Raw data here'!F86),('Copy your Raw data here'!F86=\"NO\")),0,1)","v":0},{"$f":"IF(ISBLANK('Copy your Raw data here'!G86),0,1)","v":0},{"$f":"IF(ISERROR(D87),'Copy your Raw data here'!E86,\"\")","v":0},"",null,null,{"$f":"HOUR('Copy your Raw data here'!B86)","v":0},{"$f":"HOUR('Copy your Raw data here'!C86)","v":0},{"$f":"MINUTE('Copy your Raw data here'!B86)","v":0},{"$f":"MINUTE('Copy your Raw data here'!C86)","v":0},{"$f":"('Copy your Raw data here'!C86-'Copy your Raw data here'!B86)*1440","v":0},60,0,null,null,{"$f":"HOUR('Copy your Raw data here'!G86)","v":0},{"$f":"HOUR('Copy your Raw data here'!H86)","v":0},{"$f":"MINUTE('Copy your Raw data here'!G86)","v":0},{"$f":"MINUTE('Copy your Raw data here'!H86)","v":0},{"$f":"('Copy your Raw data here'!H86-'Copy your Raw data here'!G86)*1440","v":0},1440,{"$f":"IF('Copy your Raw data here'!G86=\"\",\"\",IF(V87<U87,Z87,Y87))","v":""}]
[{"$f":"IF(ISBLANK('Copy your Raw data here'!A87),\"\",('Copy your Raw data here'!A87))","v":""},"",{"$f":"IF('Copy your Raw data here'!D87=\"YES\",1,0)","v":0},{"$f":"VLOOKUP('Copy your Raw data here'!E87,'Stroke Ready Hospital List'!A:B,1,FALSE)","v":{"$error":"#N/A"}},0,{"$f":"IF(OR(ISBLANK('Copy your Raw data here'!F87),('Copy your Raw data here'!F87=\"NO\")),0,1)","v":0},{"$f":"IF(ISBLANK('Copy your Raw data here'!G87),0,1)","v":0},{"$f":"IF(ISERROR(D88),'Copy your Raw data here'!E87,\"\")","v":0},"",null,null,{"$f":"HOUR('Copy your Raw data here'!B87)","v":0},{"$f":"HOUR('Copy your Raw data here'!C87)","v":0},{"$f":"MINUTE('Copy your Raw data here'!B87)","v":0},{"$f":"MINUTE('Copy your Raw data here'!C87)","v":0},{"$f":"('Copy your Raw data here'!C87-'Copy your Raw data here'!B87)*1440","v":0},60,0,null,null,{"$f":"HOUR('Copy your Raw data here'!G87)","v":0},{"$f":"HOUR('Copy your Raw data here'!H87)","v":0},{"$f":"MINUTE('Copy your Raw data here'!G87)","v":0},{"$f":"MINUTE('Copy your Raw data here'!H87)","v":0},{"$f":"('Copy your Raw data here'!H87-'Copy your Raw data here'!G87)*1440","v":0},1440,{"$f":"IF('Copy your Raw data here'!G87=\"\",\"\",IF(V88<U88,Z88,Y88))","v":""}]
[{"$f":"IF(ISBLANK('Copy your Raw data here'!A88),\"\",('Copy your Raw data here'!A88))","v":""},"",{"$f":"IF('Copy your Raw data here'!D88=\"YES\",1,0)","v":0},{"$f":"VLOOKUP('Copy your Raw data here'!E88,'Stroke Ready Hospital List'!A:B,1,FALSE)","v":{"$error":"#N/A"}},0,{"$f":"IF(OR(ISBLANK('Copy your Raw data here'!F88),('Copy your Raw data here'!F88=\"NO\")),0,1)","v":0},{"$f":"IF(ISBLANK('Copy your Raw data here'!G88),0,1)","v":0},{"$f":"IF(ISERROR(D89),'Copy your Raw data here'!E88,\"\")","v":0},"",null,null,{"$f":"HOUR('Copy your Raw data here'!B88)","v":0},{"$f":"HOUR('Copy your Raw data here'!C88)","v":0},{"$f":"MINUTE('Copy your Raw data here'!B88)","v":0},{"$f":"MINUTE('Copy your Raw data here'!C88)","v":0},{"$f":"('Copy your Raw data here'!C88-'Copy your Raw data here'!B88)*1440","v":0},60,0,null,null,{"$f":"HOUR('Copy your Raw data here'!G88)","v":0},{"$f":"HOUR('Copy your Raw data here'!H88)","v":0},{"$f":"MINUTE('Copy your Raw data here'!G88)","v":0},{"$f":"MINUTE('Copy your Raw data here'!H88)","v":0},{"$f":"('Copy your Raw data here'!H88-'Copy your Raw data here'!G88)*1440","v":0},1440,{"$f":"IF('Copy your Raw data here'!G88=\"\",\"\",IF(V89<U89,Z89,Y89))","v":""}]
[{"$f":"IF(ISBLANK('Copy your Raw data here'!A89),\"\",('Copy your Raw data here'!A89))","v":""},"",{"$f":"IF('Copy your Raw data here'!D89=\"YES\",1,0)","v":0},{"$f":"VLOOKUP('Copy your Raw data here'!E89,'Stroke Ready Hospital List'!A:B,1,FALSE)","v":{"$error":"#N/A"}},0,{"$f":"IF(OR(ISBLANK('Copy your Raw data here'!F89),('Copy your Raw data here'!F89=\"NO\")),0,1)","v":0},{"$f":"IF(ISBLANK('Copy your Raw data here'!G89),0,1)","v":0},{"$f":"IF(ISERROR(D90),'Copy your Raw data here'!E89,\"\")","v":0},"",null,null,{"$f":"HOUR('Copy your Raw data here'!B89)","v":0},{"$f":"HOUR('Copy your Raw data here'!C89)","v":0},{"$f":"MINUTE('Copy your Raw data here'!B89)","v":0},{"$f":"MINUTE('Copy your Raw data here'!C89)","v":0},{"$f":"('Copy your Raw data here'!C89-'Copy your Raw data here'!B89)*1440","v":0},60,0,null,null,{"$f":"HOUR('Copy your Raw data here'!G89)","v":0},{"$f":"HOUR('Copy your Raw data here'!H89)","v":0},{"$f":"MINUTE('Copy your Raw data here'!G89)","v":0},{"$f":"MINUTE('Copy your Raw data here'!H89)","v":0},{"$f":"('Copy your Raw data here'!H89-'Copy your Raw data here'!G89)*1440","v":0},1440,{"$f":"IF('Copy your Raw data here'!G89=\"\",\"\",IF(V90<U90,Z90,Y90))","v":""}]
[{"$f":"IF(ISBLANK('Copy your Raw data here'!A90),\"\",('Copy your Raw data here'!A90))","v":""},"",{"$f":"IF('Copy your Raw data here'!D90=\"YES\",1,0)","v":0},{"$f":"VLOOKUP('Copy your Raw data here'!E90,'Stroke Ready Hospital List'!A:B,1,FALSE)","v":{"$error":"#N/A"}},0,{"$f":"IF(OR(ISBLANK('Copy your Raw data here'!F90),('Copy your Raw data here'!F90=\"NO\")),0,1)","v":0},{"$f":"IF(ISBLANK('Copy your Raw data here'!G90),0,1)","v":0},{"$f":"IF(ISERROR(D91),'Copy your Raw data here'!E90,\"\")","v":0},"",null,null,{"$f":"HOUR('Copy your Raw data here'!B90)","v":0},{"$f":"HOUR('Copy your Raw data here'!C90)","v":0},{"$f":"MINUTE('Copy your Raw data here'!B90)","v":0},{"$f":"MINUTE('Copy your Raw data here'!C90)","v":0},{"$f":"('Copy your Raw data here'!C90-'Copy your Raw data here'!B90)*1440","v":0},60,0,null,null,{"$f":"HOUR('Copy your Raw data here'!G90)","v":0},{"$f":"HOUR('Copy your Raw data here'!H90)","v":0},{"$f":"MINUTE('Copy your Raw data here'!G90)","v":0},{"$f":"MINUTE('Copy your Raw data here'!H90)","v":0},{"$f":"('Copy your Raw data here'!H90-'Copy your Raw data here'!G90)*1440","v":0},1440,{"$f":"IF('Copy your Raw data here'!G90=\"\",\"\",IF(V91<U91,Z91,Y91))","v":""}]
[{"$f":"IF(ISBLANK('Copy your Raw data here'!A91),\"\",('Copy your Raw data here'!A91))","v":""},"",{"$f":"IF('Copy your Raw data here'!D91=\"YES\",1,0)","v":0},{"$f":"VLOOKUP('Copy your Raw data here'!E91,'Stroke Ready Hospital List'!A:B,1,FALSE)","v":{"$error":"#N/A"}},{"$f":"IF(ISERROR(D92),0,1)","v":0},{"$f":"IF(OR(ISBLANK('Copy your Raw data here'!F91),('Copy your Raw data here'!F91=\"NO\")),0,1)","v":0},{"$f":"IF(ISBLANK('Copy your Raw data here'!G91),0,1)","v":0},{"$f":"IF(ISERROR(D92),'Copy your Raw data here'!E91,\"\")","v":0},"",null,null,{"$f":"HOUR('Copy your Raw data here'!B91)","v":0},{"$f":"HOUR('Copy your Raw data here'!C91)","v":0},{"$f":"MINUTE('Copy your Raw data here'!B91)","v":0},{"$f":"MINUTE('Copy your Raw data here'!C91)","v":0},{"$f":"('Copy your Raw data here'!C91-'Copy your Raw data here'!B91)*1440","v":0},60,0,null,null,{"$f":"HOUR('Copy your Raw data here'!G91)","v":0},{"$f":"HOUR('Copy your Raw data here'!H91)","v":0},{"$f":"MINUTE('Copy your Raw data here'!G91)","v":0},{"$f":"MINUTE('Copy your Raw data here'!H91)","v":0},{"$f":"('Copy your Raw data here'!H91-'Copy your Raw data here'!G91)*1440","v":0},1440,{"$f":"IF('Copy your Raw data here'!G91=\"\",\"\",IF(V92<U92,Z92,Y92))","v":""}]
[{"$f":"IF(ISBLANK('Copy your Raw data here'!A92),\"\",('Copy your Raw data here'!A92))","v":""},"",{"$f":"IF('Copy your Raw data here'!D92=\"YES\",1,0)","v":0},{"$f":"VLOOKUP('Copy your Raw data here'!E92,'Stroke Ready Hospital List'!A:B,1,FALSE)","v":{"$error":"#N/A"}},0,{"$f":"IF(OR(ISBLANK('Copy your Raw data here'!F92),('Copy your Raw data here'!F92=\"NO\")),0,1)","v":0},{"$f":"IF(ISBLANK('Copy your Raw data here'!G92),0,1)","v":0},{"$f":"IF(ISERROR(D93),'Copy your Raw data here'!E92,\"\")","v":0},"",null,null,{"$f":"HOUR('Copy your Raw data here'!B92)","v":0},{"$f":"HOUR('Copy your Raw data here'!C92)","v":0},{"$f":"MINUTE('Copy your Raw data here'!B92)","v":0},{"$f":"MINUTE('Copy your Raw data here'!C92)","v":0},{"$f":"('Copy your Raw data here'!C92-'Copy your Raw data here'!B92)*1440","v":0},60,0,null,null,{"$f":"HOUR('Copy your Raw data here'!G92)","v":0},{"$f":"HOUR('Copy your Raw data here'!H92)","v":0},{"$f":"MINUTE('Copy your Raw data here'!G92)","v":0},{"$f":"MINUTE('Copy your Raw data here'!H92)","v":0},{"$f":"('Copy your Raw data here'!H92-'Copy your Raw data here'!G92)*1440","v":0},1440,{"$f":"IF('Copy your Raw data here'!G92=\"\",\"\",IF(V93<U93,Z93,Y93))","v":""}]
[{"$f":"IF(ISBLANK('Copy your Raw data here'!A93),\"\",('Copy your Raw data here'!A93))","v":""},"",{"$f":"IF('Copy your Raw data here'!D93=\"YES\",1,0)","v":0},{"$f":"VLOOKUP('Copy your Raw data here'!E93,'Stroke Ready Hospital List'!A:B,1,FALSE)","v":{"$error":"#N/A"}},0,{"$f":"IF(OR(ISBLANK('Copy your Raw data here'!F93),('Copy your Raw data here'!F93=\"NO\")),0,1)","v":0},{"$f":"IF(ISBLANK('Copy your Raw data here'!G93),0,1)","v":0},{"$f":"IF(ISERROR(D94),'Copy your Raw data here'!E93,\"\")","v":0},"",null,null,{"$f":"HOUR('Copy your Raw data here'!B93)","v":0},{"$f":"HOUR('Copy your Raw data here'!C93)","v":0},{"$f":"MINUTE('Copy your Raw data here'!B93)","v":0},{"$f":"MINUTE('Copy your Raw data here'!C93)","v":0},{"$f":"('Copy your Raw data here'!C93-'Copy your Raw data here'!B93)*1440","v":0},60,0,null,null,{"$f":"HOUR('Copy your Raw data here'!G93)","v":0},{"$f":"HOUR('Copy your Raw data here'!H93)","v":0},{"$f":"MINUTE('Copy your Raw data here'!G93)","v":0},{"$f":"MINUTE('Copy your Raw data here'!H93)","v":0},{"$f":"('Copy your Raw data here'!H93-'Copy your Raw data here'!G93)*1440","v":0},1440,{"$f":"IF('Copy your Raw data here'!G93=\"\",\"\",IF(V94<U94,Z94,Y94))","v":""}]
[{"$f":"IF(ISBLANK('Copy your Raw data here'!A94),\"\",('Copy your Raw data here'!A94))","v":""},"",{"$f":"IF('Copy your Raw data here'!D94=\"YES\",1,0)","v":0},{"$f":"VLOOKUP('Copy your Raw data here'!E94,'Stroke Ready Hospital List'!A:B,1,FALSE)","v":{"$error":"#N/A"}},0,{"$f":"IF(OR(ISBLANK('Copy your Raw data here'!F94),('Copy your Raw data here'!F94=\"NO\")),0,1)","v":0},{"$f":"IF(ISBLANK('Copy your Raw data here'!G94),0,1)","v":0},{"$f":"IF(ISERROR(D95),'Copy your Raw data here'!E94,\"\")","v":0},"",null,null,{"$f":"HOUR('Copy your Raw data here'!B94)","v":0},{"$f":"HOUR('Copy your Raw data here'!C94)","v":0},{"$f":"MINUTE('Copy your Raw data here'!B94)","v":0},{"$f":"MINUTE('Copy your Raw data here'!C94)","v":0},{"$f":"('Copy your Raw data here'!C94-'Copy your Raw data here'!B94)*1440","v":0},60,0,null,null,{"$f":"HOUR('Copy your Raw data here'!G94)","v":0},{"$f":"HOUR('Copy your Raw data here'!H94)","v":0},{"$f":"MINUTE('Copy your Raw data here'!G94)","v":0},{"$f":"MINUTE('Copy your Raw data here'!H94)","v":0},{"$f":"('Copy your Raw data here'!H94-'Copy your Raw data here'!G94)*1440","v":0},1440,{"$f":"IF('Copy your Raw data here'!G94=\"\",\"\",IF(V95<U95,Z95,Y95))","v":""}]
[{"$f":"IF(ISBLANK('Copy your Raw data here'!A95),\"\",('Copy your Raw data here'!A95))","v":""},"",{"$f":"IF('Copy your Raw data here'!D95=\"YES\",1,0)","v":0},{"$f":"VLOOKUP('Copy your Raw data here'!E95,'Stroke Ready Hospital List'!A:B,1,FALSE)","v":{"$error":"#N/A"}},0,{"$f":"IF(OR(ISBLANK('Copy your Raw data here'!F95),('Copy your Raw data here'!F95=\"NO\")),0,1)","v":0},{"$f":"IF(ISBLANK('Copy your Raw data here'!G95),0,1)","v":0},{"$f":"IF(ISERROR(D96),'Copy your Raw data here'!E95,\"\")","v":0},"",null,null,{"$f":"HOUR('Copy your Raw data here'!B95)","v":0},{"$f":"HOUR('Copy your Raw data here'!C95)","v":0},{"$f":"MINUTE('Copy your Raw data here'!B95)","v":0},{"$f":"MINUTE('Copy your Raw data here'!C95)","v":0},{"$f":"('Copy your Raw data here'!C95-'Copy your Raw data here'!B95)*1440","v":0},60,0,null,null,{"$f":"HOUR('Copy your Raw data here'!G95)","v":0},{"$f":"HOUR('Copy your Raw data here'!H95)","v":0},{"$f":"MINUTE('Copy your Raw data here'!G95)","v":0},{"$f":"MINUTE('Copy your Raw data here'!H95)","v":0},{"$f":"('Copy your Raw data here'!H95-'Copy your Raw data here'!G95)*1440","v":0},1440,{"$f":"IF('Copy your Raw data here'!G95=\"\",\"\",IF(V96<U96,Z96,Y96))","v":""}]
[{"$f":"IF(ISBLANK('Copy your Raw data here'!A96),\"\",('Copy your Raw data here'!A96))","v":""},"",{"$f":"IF('Copy your Raw data here'!D96=\"YES\",1,0)","v":0},{"$f":"VLOOKUP('Copy your Raw data here'!E96,'Stroke Ready Hospital List'!A:B,1,FALSE)","v":{"$error":"#N/A"}},0,{"$f":"IF(OR(ISBLANK('Copy your Raw data here'!F96),('Copy your Raw data here'!F96=\"NO\")),0,1)","v":0},{"$f":"IF(ISBLANK('Copy your Raw data here'!G96),0,1)","v":0},{"$f":"IF(ISERROR(D97),'Copy your Raw data here'!E96,\"\")","v":0},"",null,null,{"$f":"HOUR('Copy your Raw data here'!B96)","v":0},{"$f":"HOUR('Copy your Raw data here'!C96)","v":0},{"$f":"MINUTE('Copy your Raw data here'!B96)","v":0},{"$f":"MINUTE('Copy your Raw data here'!C96)","v":0},{"$f":"('Copy your Raw data here'!C96-'Copy your Raw data here'!B96)*1440","v":0},60,0,null,null,{"$f":"HOUR('Copy your Raw data here'!G96)","v":0},{"$f":"HOUR('Copy your Raw data here'!H96)","v":0},{"$f":"MINUTE('Copy your Raw data here'!G96)","v":0},{"$f":"MINUTE('Copy your Raw data here'!H96)","v":0},{"$f":"('Copy your Raw data here'!H96-'Copy your Raw data here'!G96)*1440","v":0},1440,{"$f":"IF('Copy your Raw data here'!G96=\"\",\"\",IF(V97<U97,Z97,Y97))","v":""}]
[{"$f":"IF(ISBLANK('Copy your Raw data here'!A97),\"\",('Copy your Raw data here'!A97))","v":""},"",{"$f":"IF('Copy your Raw data here'!D97=\"YES\",1,0)","v":0},{"$f":"VLOOKUP('Copy your Raw data here'!E97,'Stroke Ready Hospital List'!A:B,1,FALSE)","v":{"$error":"#N/A"}},0,{"$f":"IF(OR(ISBLANK('Copy your Raw data here'!F97),('Copy your Raw data here'!F97=\"NO\")),0,1)","v":0},{"$f":"IF(ISBLANK('Copy your Raw data here'!G97),0,1)","v":0},{"$f":"IF(ISERROR(D98),'Copy your Raw data here'!E97,\"\")","v":0},"",null,null,{"$f":"HOUR('Copy your Raw data here'!B97)","v":0},{"$f":"HOUR('Copy your Raw data here'!C97)","v":0},{"$f":"MINUTE('Copy your Raw data here'!B97)","v":0},{"$f":"MINUTE('Copy your Raw data here'!C97)","v":0},{"$f":"('Copy your Raw data here'!C97-'Copy your Raw data here'!B97)*1440","v":0},60,0,null,null,{"$f":"HOUR('Copy your Raw data here'!G97)","v":0},{"$f":"HOUR('Copy your Raw data here'!H97)","v":0},{"$f":"MINUTE('Copy your Raw data here'!G97)","v":0},{"$f":"MINUTE('Copy your Raw data here'!H97)","v":0},{"$f":"('Copy your Raw data here'!H97-'Copy your Raw data here'!G97)*1440","v":0},1440,{"$f":"IF('Copy your Raw data here'!G97=\"\",\"\",IF(V98<U98,Z98,Y98))","v":""}]
[{"$f":"IF(ISBLANK('Copy your Raw data here'!A98),\"\",('Copy your Raw data here'!A98))","v":""},"",{"$f":"IF('Copy your Raw data here'!D98=\"YES\",1,0)","v":0},{"$f":"VLOOKUP('Copy your Raw data here'!E98,'Stroke Ready Hospital List'!A:B,1,FALSE)","v":{"$error":"#N/A"}},0,{"$f":"IF(OR(ISBLANK('Copy your Raw data here'!F98),('Copy your Raw data here'!F98=\"NO\")),0,1)","v":0},{"$f":"IF(ISBLANK('Copy your Raw data here'!G98),0,1)","v":0},{"$f":"IF(ISERROR(D99),'Copy your Raw data here'!E98,\"\")","v":0},"",null,null,{"$f":"HOUR('Copy your Raw data here'!B98)","v":0},{"$f":"HOUR('Copy your Raw data here'!C98)","v":0},{"$f":"MINUTE('Copy your Raw data here'!B98)","v":0},{"$f":"MINUTE('Copy your Raw data here'!C98)","v":0},{"$f":"('Copy your Raw data here'!C98-'Copy your Raw data here'!B98)*1440","v":0},60,0,null,null,{"$f":"HOUR('Copy your Raw data here'!G98)","v":0},{"$f":"HOUR('Copy your Raw data here'!H98)","v":0},{"$f":"MINUTE('Copy your Raw data here'!G98)","v":0},{"$f":"MINUTE('Copy your Raw data here'!H98)","v":0},{"$f":"('Copy your Raw data here'!H98-'Copy your Raw data here'!G98)*1440","v":0},1440,{"$f":"IF('Copy your Raw data here'!G98=\"\",\"\",IF(V99<U99,Z99,Y99))","v":""}]
[{"$f":"IF(ISBLANK('Copy your Raw data here'!A99),\"\",('Copy your Raw data here'!A99))","v":""},"",{"$f":"IF('Copy your Raw data here'!D99=\"YES\",1,0)","v":0},{"$f":"VLOOKUP('Copy your Raw data here'!E99,'Stroke Ready Hospital List'!A:B,1,FALSE)","v":{"$error":"#N/A"}},0,{"$f":"IF(OR(ISBLANK('Copy your Raw data here'!F99),('Copy your Raw data here'!F99=\"NO\")),0,1)","v":0},{"$f":"IF(ISBLANK('Copy your Raw data here'!G99),0,1)","v":0},{"$f":"IF(ISERROR(D100),'Copy your Raw data here'!E99,\"\")","v":0},"",null,null,{"$f":"HOUR('Copy your Raw data here'!B99)","v":0},{"$f":"HOUR('Copy your Raw data here'!C99)","v":0},{"$f":"MINUTE('Copy your Raw data here'!B99)","v":0},{"$f":"MINUTE('Copy your Raw data here'!C99)","v":0},{"$f":"('Copy your Raw data here'!C99-'Copy your Raw data here'!B99)*1440","v":0},60,0,null,null,{"$f":"HOUR('Copy your Raw data here'!G99)","v":0},{"$f":"HOUR('Copy your Raw data here'!H99)","v":0},{"$f":"MINUTE('Copy your Raw data here'!G99)","v":0},{"$f":"MINUTE('Copy your Raw data here'!H99)","v":0},{"$f":"('Copy your Raw data here'!H99-'Copy your Raw data here'!G99)*1440","v":0},1440,{"$f":"IF('Copy your Raw data here'!G99=\"\",\"\",IF(V100<U100,Z100,Y100))","v":""}]
[{"$f":"IF(ISBLANK('Copy your Raw data here'!A100),\"\",('Copy your Raw data here'!A100))","v":""},"",{"$f":"IF('Copy your Raw data here'!D100=\"YES\",1,0)","v":0},{"$f":"VLOOKUP('Copy your Raw data here'!E100,'Stroke Ready Hospital List'!A:B,1,FALSE)","v":{"$error":"#N/A"}},0,{"$f":"IF(OR(ISBLANK('Copy your Raw data here'!F100),('Copy your Raw data here'!F100=\"NO\")),0,1)","v":0},{"$f":"IF(ISBLANK('Copy your Raw data here'!G100),0,1)","v":0},{"$f":"IF(ISERROR(D101),'Copy your Raw data here'!E100,\"\")","v":0},"",null,null,{"$f":"HOUR('Copy your Raw data here'!B100)","v":0},{"$f":"HOUR('Copy your Raw data here'!C100)","v":0},{"$f":"MINUTE('Copy your Raw data here'!B100)","v":0},{"$f":"MINUTE('Copy your Raw data here'!C100)","v":0},{"$f":"('Copy your Raw data here'!C100-'Copy your Raw data here'!B100)*1440","v":0},60,0,null,null,{"$f":"HOUR('Copy your Raw data here'!G100)","v":0},{"$f":"HOUR('Copy your Raw data here'!H100)","v":0},{"$f":"MINUTE('Copy your Raw data here'!G100)","v":0},{"$f":"MINUTE('Copy your Raw data here'!H100)","v":0},{"$f":"('Copy your Raw data here'!H100-'Copy your Raw data here'!G100)*1440","v":0},1440,{"$f":"IF('Copy your Raw data here'!G100=\"\",\"\",IF(V101<U101,Z101,Y101))","v":""}]
[{"$f":"IF(ISBLANK('Copy your Raw data here'!A101),\"\",('Copy your Raw data here'!A101))","v":""},"",{"$f":"IF('Copy your Raw data here'!D101=\"YES\",1,0)","v":0},{"$f":"VLOOKUP('Copy your Raw data here'!E101,'Stroke Ready Hospital List'!A:B,1,FALSE)","v":{"$error":"#N/A"}},0,{"$f":"IF(OR(ISBLANK('Copy your Raw data here'!F101),('Copy your Raw data here'!F101=\"NO\")),0,1)","v":0},{"$f":"IF(ISBLANK('Copy your Raw data here'!G101),0,1)","v":0},{"$f":"IF(ISERROR(D102),'Copy your Raw data here'!E101,\"\")","v":0},"",null,null,{"$f":"HOUR('Copy your Raw data here'!B101)","v":0},{"$f":"HOUR('Copy your Raw data here'!C101)","v":0},{"$f":"MINUTE('Copy your Raw data here'!B101)","v":0},{"$f":"MINUTE('Copy your Raw data here'!C101)","v":0},{"$f":"('Copy your Raw data here'!C101-'Copy your Raw data here'!B101)*1440","v":0},60,0,null,null,{"$f":"HOUR('Copy your Raw data here'!G101)","v":0},{"$f":"HOUR('Copy your Raw data here'!H101)","v":0},{"$f":"MINUTE('Copy your Raw data here'!G101)","v":0},{"$f":"MINUTE('Copy your Raw data here'!H101)","v":0},{"$f":"('Copy your Raw data here'!H101-'Copy your Raw data here'!G101)*1440","v":0},1440,{"$f":"IF('Copy your Raw data here'!G101=\"\",\"\",IF(V102<U102,Z102,Y102))","v":""}]
[{"$f":"IF(ISBLANK('Copy your Raw data here'!A102),\"\",('Copy your Raw data here'!A102))","v":""},"",{"$f":"IF('Copy your Raw data here'!D102=\"YES\",1,0)","v":0},{"$f":"VLOOKUP('Copy your Raw data here'!E102,'Stroke Ready Hospital List'!A:B,1,FALSE)","v":{"$error":"#N/A"}},0,{"$f":"IF(OR(ISBLANK('Copy your Raw data here'!F102),('Copy your Raw data here'!F102=\"NO\")),0,1)","v":0},{"$f":"IF(ISBLANK('Copy your Raw data here'!G102),0,1)","v":0},{"$f":"IF(ISERROR(D103),'Copy your Raw data here'!E102,\"\")","v":0},"",null,null,{"$f":"HOUR('Copy your Raw data here'!B102)","v":0},{"$f":"HOUR('Copy your Raw data here'!C102)","v":0},{"$f":"MINUTE('Copy your Raw data here'!B102)","v":0},{"$f":"MINUTE('Copy your Raw data here'!C102)","v":0},{"$f":"('Copy your Raw data here'!C102-'Copy your Raw data here'!B102)*1440","v":0},60,0,null,null,{"$f":"HOUR('Copy your Raw data here'!G102)","v":0},{"$f":"HOUR('Copy your Raw data here'!H102)","v":0},{"$f":"MINUTE('Copy your Raw data here'!G102)","v":0},{"$f":"MINUTE('Copy your Raw data here'!H102)","v":0},{"$f":"('Copy your Raw data here'!H102-'Copy your Raw data here'!G102)*1440","v":0},1440,{"$f":"IF('Copy your Raw data here'!G102=\"\",\"\",IF(V103<U103,Z103,Y103))","v":""}]
[{"$f":"IF(ISBLANK('Copy your Raw data here'!A103),\"\",('Copy your Raw data here'!A103))","v":""},"",{"$f":"IF('Copy your Raw data here'!D103=\"YES\",1,0)","v":0},{"$f":"VLOOKUP('Copy your Raw data here'!E103,'Stroke Ready Hospital List'!A:B,1,FALSE)","v":{"$error":"#N/A"}},0,{"$f":"IF(OR(ISBLANK('Copy your Raw data here'!F103),('Copy your Raw data here'!F103=\"NO\")),0,1)","v":0},{"$f":"IF(ISBLANK('Copy your Raw data here'!G103),0,1)","v":0},{"$f":"IF(ISERROR(D104),'Copy your Raw data here'!E103,\"\")","v":0},"",null,null,{"$f":"HOUR('Copy your Raw data here'!B103)","v":0},{"$f":"HOUR('Copy your Raw data here'!C103)","v":0},{"$f":"MINUTE('Copy your Raw data here'!B103)","v":0},{"$f":"MINUTE('Copy your Raw data here'!C103)","v":0},{"$f":"('Copy your Raw data here'!C103-'Copy your Raw data here'!B103)*1440","v":0},60,0,null,null,{"$f":"HOUR('Copy your Raw data here'!G103)","v":0},{"$f":"HOUR('Copy your Raw data here'!H103)","v":0},{"$f":"MINUTE('Copy your Raw data here'!G103)","v":0},{"$f":"MINUTE('Copy your Raw data here'!H103)","v":0},{"$f":"('Copy your Raw data here'!H103-'Copy your Raw data here'!G103)*1440","v":0},1440,{"$f":"IF('Copy your Raw data here'!G103=\"\",\"\",IF(V104<U104,Z104,Y104))","v":""}]
[{"$f":"IF(ISBLANK('Copy your Raw data here'!A104),\"\",('Copy your Raw data here'!A104))","v":""},"",{"$f":"IF('Copy your Raw data here'!D104=\"YES\",1,0)","v":0},{"$f":"VLOOKUP('Copy your Raw data here'!E104,'Stroke Ready Hospital List'!A:B,1,FALSE)","v":{"$error":"#N/A"}},0,{"$f":"IF(OR(ISBLANK('Copy your Raw data here'!F104),('Copy your Raw data here'!F104=\"NO\")),0,1)","v":0},{"$f":"IF(ISBLANK('Copy your Raw data here'!G104),0,1)","v":0},{"$f":"IF(ISERROR(D105),'Copy your Raw data here'!E104,\"\")","v":0},"",null,null,{"$f":"HOUR('Copy your Raw data here'!B104)","v":0},{"$f":"HOUR('Copy your Raw data here'!C104)","v":0},{"$f":"MINUTE('Copy your Raw data here'!B104)","v":0},{"$f":"MINUTE('Copy your Raw data here'!C104)","v":0},{"$f":"('Copy your Raw data here'!C104-'Copy your Raw data here'!B104)*1440","v":0},60,0,null,null,{"$f":"HOUR('Copy your Raw data here'!G104)","v":0},{"$f":"HOUR('Copy your Raw data here'!H104)","v":0},{"$f":"MINUTE('Copy your Raw data here'!G104)","v":0},{"$f":"MINUTE('Copy your Raw data here'!H104)","v":0},{"$f":"('Copy your Raw data here'!H104-'Copy your Raw data here'!G104)*1440","v":0},1440,{"$f":"IF('Copy your Raw data here'!G104=\"\",\"\",IF(V105<U105,Z105,Y105))","v":""}]
[{"$f":"IF(ISBLANK('Copy your Raw data here'!A105),\"\",('Copy your Raw data here'!A105))","v":""},"",{"$f":"IF('Copy your Raw data here'!D105=\"YES\",1,0)","v":0},{"$f":"VLOOKUP('Copy your Raw data here'!E105,'Stroke Ready Hospital List'!A:B,1,FALSE)","v":{"$error":"#N/A"}},0,{"$f":"IF(OR(ISBLANK('Copy your Raw data here'!F105),('Copy your Raw data here'!F105=\"NO\")),0,1)","v":0},{"$f":"IF(ISBLANK('Copy your Raw data here'!G105),0,1)","v":0},{"$f":"IF(ISERROR(D106),'Copy your Raw data here'!E105,\"\")","v":0},"",null,null,{"$f":"HOUR('Copy your Raw data here'!B105)","v":0},{"$f":"HOUR('Copy your Raw data here'!C105)","v":0},{"$f":"MINUTE('Copy your Raw data here'!B105)","v":0},{"$f":"MINUTE('Copy your Raw data here'!C105)","v":0},{"$f":"('Copy your Raw data here'!C105-'Copy your Raw data here'!B105)*1440","v":0},60,0,null,null,{"$f":"HOUR('Copy your Raw data here'!G105)","v":0},{"$f":"HOUR('Copy your Raw data here'!H105)","v":0},{"$f":"MINUTE('Copy your Raw data here'!G105)","v":0},{"$f":"MINUTE('Copy your Raw data here'!H105)","v":0},{"$f":"('Copy your Raw data here'!H105-'Copy your Raw data here'!G105)*1440","v":0},1440,{"$f":"IF('Copy your Raw data here'!G105=\"\",\"\",IF(V106<U106,Z106,Y106))","v":""}]
[{"$f":"IF(ISBLANK('Copy your Raw data here'!A106),\"\",('Copy your Raw data here'!A106))","v":""},"",{"$f":"IF('Copy your Raw data here'!D106=\"YES\",1,0)","v":0},{"$f":"VLOOKUP('Copy your Raw data here'!E106,'Stroke Ready Hospital List'!A:B,1,FALSE)","v":{"$error":"#N/A"}},0,{"$f":"IF(OR(ISBLANK('Copy your Raw data here'!F106),('Copy your Raw data here'!F106=\"NO\")),0,1)","v":0},{"$f":"IF(ISBLANK('Copy your Raw data here'!G106),0,1)","v":0},{"$f":"IF(ISERROR(D107),'Copy your Raw data here'!E106,\"\")","v":0},"",null,null,{"$f":"HOUR('Copy your Raw data here'!B106)","v":0},{"$f":"HOUR('Copy your Raw data here'!C106)","v":0},{"$f":"MINUTE('Copy your Raw data here'!B106)","v":0},{"$f":"MINUTE('Copy your Raw data here'!C106)","v":0},{"$f":"('Copy your Raw data here'!C106-'Copy your Raw data here'!B106)*1440","v":0},60,0,null,null,{"$f":"HOUR('Copy your Raw data here'!G106)","v":0},{"$f":"HOUR('Copy your Raw data here'!H106)","v":0},{"$f":"MINUTE('Copy your Raw data here'!G106)","v":0},{"$f":"MINUTE('Copy your Raw data here'!H106)","v":0},{"$f":"('Copy your Raw data here'!H106-'Copy your Raw data here'!G106)*1440","v":0},1440,{"$f":"IF('Copy your Raw data here'!G106=\"\",\"\",IF(V107<U107,Z107,Y107))","v":""}]
[{"$f":"IF(ISBLANK('Copy your Raw data here'!A107),\"\",('Copy your Raw data here'!A107))","v":""},"",{"$f":"IF('Copy your Raw data here'!D107=\"YES\",1,0)","v":0},{"$f":"VLOOKUP('Copy your Raw data here'!E107,'Stroke Ready Hospital List'!A:B,1,FALSE)","v":{"$error":"#N/A"}},0,{"$f":"IF(OR(ISBLANK('Copy your Raw data here'!F107),('Copy your Raw data here'!F107=\"NO\")),0,1)","v":0},{"$f":"IF(ISBLANK('Copy your Raw data here'!G107),0,1)","v":0},{"$f":"IF(ISERROR(D108),'Copy your Raw data here'!E107,\"\")","v":0},"",null,null,{"$f":"HOUR('Copy your Raw data here'!B107)","v":0},{"$f":"HOUR('Copy your Raw data here'!C107)","v":0},{"$f":"MINUTE('Copy your Raw data here'!B107)","v":0},{"$f":"MINUTE('Copy your Raw data here'!C107)","v":0},{"$f":"('Copy your Raw data here'!C107-'Copy your Raw data here'!B107)*1440","v":0},60,0,null,null,{"$f":"HOUR('Copy your Raw data here'!G107)","v":0},{"$f":"HOUR('Copy your Raw data here'!H107)","v":0},{"$f":"MINUTE('Copy your Raw data here'!G107)","v":0},{"$f":"MINUTE('Copy your Raw data here'!H107)","v":0},{"$f":"('Copy your Raw data here'!H107-'Copy your Raw data here'!G107)*1440","v":0},1440,{"$f":"IF('Copy your Raw data here'!G107=\"\",\"\",IF(V108<U108,Z108,Y108))","v":""}]
[{"$f":"IF(ISBLANK('Copy your Raw data here'!A108),\"\",('Copy your Raw data here'!A108))","v":""},"",{"$f":"IF('Copy your Raw data here'!D108=\"YES\",1,0)","v":0},{"$f":"VLOOKUP('Copy your Raw data here'!E108,'Stroke Ready Hospital List'!A:B,1,FALSE)","v":{"$error":"#N/A"}},0,{"$f":"IF(OR(ISBLANK('Copy your Raw data here'!F108),('Copy your Raw data here'!F108=\"NO\")),0,1)","v":0},{"$f":"IF(ISBLANK('Copy your Raw data here'!G108),0,1)","v":0},{"$f":"IF(ISERROR(D109),'Copy your Raw data here'!E108,\"\")","v":0},"",null,null,{"$f":"HOUR('Copy your Raw data here'!B108)","v":0},{"$f":"HOUR('Copy your Raw data here'!C108)","v":0},{"$f":"MINUTE('Copy your Raw data here'!B108)","v":0},{"$f":"MINUTE('Copy your Raw data here'!C108)","v":0},{"$f":"('Copy your Raw data here'!C108-'Copy your Raw data here'!B108)*1440","v":0},60,0,null,null,{"$f":"HOUR('Copy your Raw data here'!G108)","v":0},{"$f":"HOUR('Copy your Raw data here'!H108)","v":0},{"$f":"MINUTE('Copy your Raw data here'!G108)","v":0},{"$f":"MINUTE('Copy your Raw data here'!H108)","v":0},{"$f":"('Copy your Raw data here'!H108-'Copy your Raw data here'!G108)*1440","v":0},1440,{"$f":"IF('Copy your Raw data here'!G108=\"\",\"\",IF(V109<U109,Z109,Y109))","v":""}]
[{"$f":"IF(ISBLANK('Copy your Raw data here'!A109),\"\",('Copy your Raw data here'!A109))","v":""},"",{"$f":"IF('Copy your Raw data here'!D109=\"YES\",1,0)","v":0},{"$f":"VLOOKUP('Copy your Raw data here'!E109,'Stroke Ready Hospital List'!A:B,1,FALSE)","v":{"$error":"#N/A"}},0,{"$f":"IF(OR(ISBLANK('Copy your Raw data here'!F109),('Copy your Raw data here'!F109=\"NO\")),0,1)","v":0},{"$f":"IF(ISBLANK('Copy your Raw data here'!G109),0,1)","v":0},{"$f":"IF(ISERROR(D110),'Copy your Raw data here'!E109,\"\")","v":0},"",null,null,{"$f":"HOUR('Copy your Raw data here'!B109)","v":0},{"$f":"HOUR('Copy your Raw data here'!C109)","v":0},{"$f":"MINUTE('Copy your Raw data here'!B109)","v":0},{"$f":"MINUTE('Copy your Raw data here'!C109)","v":0},{"$f":"('Copy your Raw data here'!C109-'Copy your Raw data here'!B109)*1440","v":0},60,0,null,null,{"$f":"HOUR('Copy your Raw data here'!G109)","v":0},{"$f":"HOUR('Copy your Raw data here'!H109)","v":0},{"$f":"MINUTE('Copy your Raw data here'!G109)","v":0},{"$f":"MINUTE('Copy your Raw data here'!H109)","v":0},{"$f":"('Copy your Raw data here'!H109-'Copy your Raw data here'!G109)*1440","v":0},1440,{"$f":"IF('Copy your Raw data here'!G109=\"\",\"\",IF(V110<U110,Z110,Y110))","v":""}]
[{"$f":"IF(ISBLANK('Copy your Raw data here'!A110),\"\",('Copy your Raw data here'!A110))","v":""},"",{"$f":"IF('Copy your Raw data here'!D110=\"YES\",1,0)","v":0},{"$f":"VLOOKUP('Copy your Raw data here'!E110,'Stroke Ready Hospital List'!A:B,1,FALSE)","v":{"$error":"#N/A"}},0,{"$f":"IF(OR(ISBLANK('Copy your Raw data here'!F110),('Copy your Raw data here'!F110=\"NO\")),0,1)","v":0},{"$f":"IF(ISBLANK('Copy your Raw data here'!G110),0,1)","v":0},{"$f":"IF(ISERROR(D111),'Copy your Raw data here'!E110,\"\")","v":0},"",null,null,{"$f":"HOUR('Copy your Raw data here'!B110)","v":0},{"$f":"HOUR('Copy your Raw data here'!C110)","v":0},{"$f":"MINUTE('Copy your Raw data here'!B110)","v":0},{"$f":"MINUTE('Copy your Raw data here'!C110)","v":0},{"$f":"('Copy your Raw data here'!C110-'Copy your Raw data here'!B110)*1440","v":0},60,0,null,null,{"$f":"HOUR('Copy your Raw data here'!G110)","v":0},{"$f":"HOUR('Copy your Raw data here'!H110)","v":0},{"$f":"MINUTE('Copy your Raw data here'!G110)","v":0},{"$f":"MINUTE('Copy your Raw data here'!H110)","v":0},{"$f":"('Copy your Raw data here'!H110-'Copy your Raw data here'!G110)*1440","v":0},1440,{"$f":"IF('Copy your Raw data here'!G110=\"\",\"\",IF(V111<U111,Z111,Y111))","v":""}]
[{"$f":"IF(ISBLANK('Copy your Raw data here'!A111),\"\",('Copy your Raw data here'!A111))","v":""},"",{"$f":"IF('Copy your Raw data here'!D111=\"YES\",1,0)","v":0},{"$f":"VLOOKUP('Copy your Raw data here'!E111,'Stroke Ready Hospital List'!A:B,1,FALSE)","v":{"$error":"#N/A"}},0,{"$f":"IF(OR(ISBLANK('Copy your Raw data here'!F111),('Copy your Raw data here'!F111=\"NO\")),0,1)","v":0},{"$f":"IF(ISBLANK('Copy your Raw data here'!G111),0,1)","v":0},{"$f":"IF(ISERROR(D112),'Copy your Raw data here'!E111,\"\")","v":0},"",null,null,{"$f":"HOUR('Copy your Raw data here'!B111)","v":0},{"$f":"HOUR('Copy your Raw data here'!C111)","v":0},{"$f":"MINUTE('Copy your Raw data here'!B111)","v":0},{"$f":"MINUTE('Copy your Raw data here'!C111)","v":0},{"$f":"('Copy your Raw data here'!C111-'Copy your Raw data here'!B111)*1440","v":0},60,0,null,null,{"$f":"HOUR('Copy your Raw data here'!G111)","v":0},{"$f":"HOUR('Copy your Raw data here'!H111)","v":0},{"$f":"MINUTE('Copy your Raw data here'!G111)","v":0},{"$f":"MINUTE('Copy your Raw data here'!H111)","v":0},{"$f":"('Copy your Raw data here'!H111-'Copy your Raw data here'!G111)*1440","v":0},1440,{"$f":"IF('Copy your Raw data here'!G111=\"\",\"\",IF(V112<U112,Z112,Y112))","v":""}]
[{"$f":"IF(ISBLANK('Copy your Raw data here'!A112),\"\",('Copy your Raw data here'!A112))","v":""},"",{"$f":"IF('Copy your Raw data here'!D112=\"YES\",1,0)","v":0},{"$f":"VLOOKUP('Copy your Raw data here'!E112,'Stroke Ready Hospital List'!A:B,1,FALSE)","v":{"$error":"#N/A"}},0,{"$f":"IF(OR(ISBLANK('Copy your Raw data here'!F112),('Copy your Raw data here'!F112=\"NO\")),0,1)","v":0},{"$f":"IF(ISBLANK('Copy your Raw data here'!G112),0,1)","v":0},{"$f":"IF(ISERROR(D113),'Copy your Raw data here'!E112,\"\")","v":0},"",null,null,{"$f":"HOUR('Copy your Raw data here'!B112)","v":0},{"$f":"HOUR('Copy your Raw data here'!C112)","v":0},{"$f":"MINUTE('Copy your Raw data here'!B112)","v":0},{"$f":"MINUTE('Copy your Raw data here'!C112)","v":0},{"$f":"('Copy your Raw data here'!C112-'Copy your Raw data here'!B112)*1440","v":0},60,0,null,null,{"$f":"HOUR('Copy your Raw data here'!G112)","v":0},{"$f":"HOUR('Copy your Raw data here'!H112)","v":0},{"$f":"MINUTE('Copy your Raw data here'!G112)","v":0},{"$f":"MINUTE('Copy your Raw data here'!H112)","v":0},{"$f":"('Copy your Raw data here'!H112-'Copy your Raw data here'!G112)*1440","v":0},1440,{"$f":"IF('Copy your Raw data here'!G112=\"\",\"\",IF(V113<U113,Z113,Y113))","v":""}]
[{"$f":"IF(ISBLANK('Copy your Raw data here'!A113),\"\",('Copy your Raw data here'!A113))","v":""},"",{"$f":"IF('Copy your Raw data here'!D113=\"YES\",1,0)","v":0},{"$f":"VLOOKUP('Copy your Raw data here'!E113,'Stroke Ready Hospital List'!A:B,1,FALSE)","v":{"$error":"#N/A"}},0,{"$f":"IF(OR(ISBLANK('Copy your Raw data here'!F113),('Copy your Raw data here'!F113=\"NO\")),0,1)","v":0},{"$f":"IF(ISBLANK('Copy your Raw data here'!G113),0,1)","v":0},{"$f":"IF(ISERROR(D114),'Copy your Raw data here'!E113,\"\")","v":0},"",null,null,{"$f":"HOUR('Copy your Raw data here'!B113)","v":0},{"$f":"HOUR('Copy your Raw data here'!C113)","v":0},{"$f":"MINUTE('Copy your Raw data here'!B113)","v":0},{"$f":"MINUTE('Copy your Raw data here'!C113)","v":0},{"$f":"('Copy your Raw data here'!C113-'Copy your Raw data here'!B113)*1440","v":0},60,0,null,null,{"$f":"HOUR('Copy your Raw data here'!G113)","v":0},{"$f":"HOUR('Copy your Raw data here'!H113)","v":0},{"$f":"MINUTE('Copy your Raw data here'!G113)","v":0},{"$f":"MINUTE('Copy your Raw data here'!H113)","v":0},{"$f":"('Copy your Raw data here'!H113-'Copy your Raw data here'!G113)*1440","v":0},1440,{"$f":"IF('Copy your Raw data here'!G113=\"\",\"\",IF(V114<U114,Z114,Y114))","v":""}]
[{"$f":"IF(ISBLANK('Copy your Raw data here'!A114),\"\",('Copy your Raw data here'!A114))","v":""},"",{"$f":"IF('Copy your Raw data here'!D114=\"YES\",1,0)","v":0},{"$f":"VLOOKUP('Copy your Raw data here'!E114,'Stroke Ready Hospital List'!A:B,1,FALSE)","v":{"$error":"#N/A"}},0,{"$f":"IF(OR(ISBLANK('Copy your Raw data here'!F114),('Copy your Raw data here'!F114=\"NO\")),0,1)","v":0},{"$f":"IF(ISBLANK('Copy your Raw data here'!G114),0,1)","v":0},{"$f":"IF(ISERROR(D115),'Copy your Raw data here'!E114,\"\")","v":0},"",null,null,{"$f":"HOUR('Copy your Raw data here'!B114)","v":0},{"$f":"HOUR('Copy your Raw data here'!C114)","v":0},{"$f":"MINUTE('Copy your Raw data here'!B114)","v":0},{"$f":"MINUTE('Copy your Raw data here'!C114)","v":0},{"$f":"('Copy your Raw data here'!C114-'Copy your Raw data here'!B114)*1440","v":0},60,0,null,null,{"$f":"HOUR('Copy your Raw data here'!G114)","v":0},{"$f":"HOUR('Copy your Raw data here'!H114)","v":0},{"$f":"MINUTE('Copy your Raw data here'!G114)","v":0},{"$f":"MINUTE('Copy your Raw data here'!H114)","v":0},{"$f":"('Copy your Raw data here'!H114-'Copy your Raw data here'!G114)*1440","v":0},1440,{"$f":"IF('Copy your Raw data here'!G114=\"\",\"\",IF(V115<U115,Z115,Y115))","v":""}]
[{"$f":"IF(ISBLANK('Copy your Raw data here'!A115),\"\",('Copy your Raw data here'!A115))","v":""},"",{"$f":"IF('Copy your Raw data here'!D115=\"YES\",1,0)","v":0},{"$f":"VLOOKUP('Copy your Raw data here'!E115,'Stroke Ready Hospital List'!A:B,1,FALSE)","v":{"$error":"#N/A"}},0,{"$f":"IF(OR(ISBLANK('Copy your Raw data here'!F115),('Copy your Raw data here'!F115=\"NO\")),0,1)","v":0},{"$f":"IF(ISBLANK('Copy your Raw data here'!G115),0,1)","v":0},{"$f":"IF(ISERROR(D116),'Copy your Raw data here'!E115,\"\")","v":0},"",null,null,{"$f":"HOUR('Copy your Raw data here'!B115)","v":0},{"$f":"HOUR('Copy your Raw data here'!C115)","v":0},{"$f":"MINUTE('Copy your Raw data here'!B115)","v":0},{"$f":"MINUTE('Copy your Raw data here'!C115)","v":0},{"$f":"('Copy your Raw data here'!C115-'Copy your Raw data here'!B115)*1440","v":0},60,0,null,null,{"$f":"HOUR('Copy your Raw data here'!G115)","v":0},{"$f":"HOUR('Copy your Raw data here'!H115)","v":0},{"$f":"MINUTE('Copy your Raw data here'!G115)","v":0},{"$f":"MINUTE('Copy your Raw data here'!H115)","v":0},{"$f":"('Copy your Raw data here'!H115-'Copy your Raw data here'!G115)*1440","v":0},1440,{"$f":"IF('Copy your Raw data here'!G115=\"\",\"\",IF(V116<U116,Z116,Y116))","v":""}]
[{"$f":"IF(ISBLANK('Copy your Raw data here'!A116),\"\",('Copy your Raw data here'!A116))","v":""},"",{"$f":"IF('Copy your Raw data here'!D116=\"YES\",1,0)","v":0},{"$f":"VLOOKUP('Copy your Raw data here'!E116,'Stroke Ready Hospital List'!A:B,1,FALSE)","v":{"$error":"#N/A"}},0,{"$f":"IF(OR(ISBLANK('Copy your Raw data here'!F116),('Copy your Raw data here'!F116=\"NO\")),0,1)","v":0},{"$f":"IF(ISBLANK('Copy your Raw data here'!G116),0,1)","v":0},{"$f":"IF(ISERROR(D117),'Copy your Raw data here'!E116,\"\")","v":0},"",null,null,{"$f":"HOUR('Copy your Raw data here'!B116)","v":0},{"$f":"HOUR('Copy your Raw data here'!C116)","v":0},{"$f":"MINUTE('Copy your Raw data here'!B116)","v":0},{"$f":"MINUTE('Copy your Raw data here'!C116)","v":0},{"$f":"('Copy your Raw data here'!C116-'Copy your Raw data here'!B116)*1440","v":0},60,0,null,null,{"$f":"HOUR('Copy your Raw data here'!G116)","v":0},{"$f":"HOUR('Copy your Raw data here'!H116)","v":0},{"$f":"MINUTE('Copy your Raw data here'!G116)","v":0},{"$f":"MINUTE('Copy your Raw data here'!H116)","v":0},{"$f":"('Copy your Raw data here'!H116-'Copy your Raw data here'!G116)*1440","v":0},1440,{"$f":"IF('Copy your Raw data here'!G116=\"\",\"\",IF(V117<U117,Z117,Y117))","v":""}]
[{"$f":"IF(ISBLANK('Copy your Raw data here'!A117),\"\",('Copy your Raw data here'!A117))","v":""},"",{"$f":"IF('Copy your Raw data here'!D117=\"YES\",1,0)","v":0},{"$f":"VLOOKUP('Copy your Raw data here'!E117,'Stroke Ready Hospital List'!A:B,1,FALSE)","v":{"$error":"#N/A"}},0,{"$f":"IF(OR(ISBLANK('Copy your Raw data here'!F117),('Copy your Raw data here'!F117=\"NO\")),0,1)","v":0},{"$f":"IF(ISBLANK('Copy your Raw data here'!G117),0,1)","v":0},{"$f":"IF(ISERROR(D118),'Copy your Raw data here'!E117,\"\")","v":0},"",null,null,{"$f":"HOUR('Copy your Raw data here'!B117)","v":0},{"$f":"HOUR('Copy your Raw data here'!C117)","v":0},{"$f":"MINUTE('Copy your Raw data here'!B117)","v":0},{"$f":"MINUTE('Copy your Raw data here'!C117)","v":0},{"$f":"('Copy your Raw data here'!C117-'Copy your Raw data here'!B117)*1440","v":0},60,0,null,null,{"$f":"HOUR('Copy your Raw data here'!G117)","v":0},{"$f":"HOUR('Copy your Raw data here'!H117)","v":0},{"$f":"MINUTE('Copy your Raw data here'!G117)","v":0},{"$f":"MINUTE('Copy your Raw data here'!H117)","v":0},{"$f":"('Copy your Raw data here'!H117-'Copy your Raw data here'!G117)*1440","v":0},1440,{"$f":"IF('Copy your Raw data here'!G117=\"\",\"\",IF(V118<U118,Z118,Y118))","v":""}]
[{"$f":"IF(ISBLANK('Copy your Raw data here'!A118),\"\",('Copy your Raw data here'!A118))","v":""},"",{"$f":"IF('Copy your Raw data here'!D118=\"YES\",1,0)","v":0},{"$f":"VLOOKUP('Copy your Raw data here'!E118,'Stroke Ready Hospital List'!A:B,1,FALSE)","v":{"$error":"#N/A"}},0,{"$f":"IF(OR(ISBLANK('Copy your Raw data here'!F118),('Copy your Raw data here'!F118=\"NO\")),0,1)","v":0},{"$f":"IF(ISBLANK('Copy your Raw data here'!G118),0,1)","v":0},{"$f":"IF(ISERROR(D119),'Copy your Raw data here'!E118,\"\")","v":0},"",null,null,{"$f":"HOUR('Copy your Raw data here'!B118)","v":0},{"$f":"HOUR('Copy your Raw data here'!C118)","v":0},{"$f":"MINUTE('Copy your Raw data here'!B118)","v":0},{"$f":"MINUTE('Copy your Raw data here'!C118)","v":0},{"$f":"('Copy your Raw data here'!C118-'Copy your Raw data here'!B118)*1440","v":0},60,0,null,null,{"$f":"HOUR('Copy your Raw data here'!G118)","v":0},{"$f":"HOUR('Copy your Raw data here'!H118)","v":0},{"$f":"MINUTE('Copy your Raw data here'!G118)","v":0},{"$f":"MINUTE('Copy your Raw data here'!H118)","v":0},{"$f":"('Copy your Raw data here'!H118-'Copy your Raw data here'!G118)*1440","v":0},1440,{"$f":"IF('Copy your Raw data here'!G118=\"\",\"\",IF(V119<U119,Z119,Y119))","v":""}]
[{"$f":"IF(ISBLANK('Copy your Raw data here'!A119),\"\",('Copy your Raw data here'!A119))","v":""},"",{"$f":"IF('Copy your Raw data here'!D119=\"YES\",1,0)","v":0},{"$f":"VLOOKUP('Copy your Raw data here'!E119,'Stroke Ready Hospital List'!A:B,1,FALSE)","v":{"$error":"#N/A"}},0,{"$f":"IF(OR(ISBLANK('Copy your Raw data here'!F119),('Copy your Raw data here'!F119=\"NO\")),0,1)","v":0},{"$f":"IF(ISBLANK('Copy your Raw data here'!G119),0,1)","v":0},{"$f":"IF(ISERROR(D120),'Copy your Raw data here'!E119,\"\")","v":0},"",null,null,{"$f":"HOUR('Copy your Raw data here'!B119)","v":0},{"$f":"HOUR('Copy your Raw data here'!C119)","v":0},{"$f":"MINUTE('Copy your Raw data here'!B119)","v":0},{"$f":"MINUTE('Copy your Raw data here'!C119)","v":0},{"$f":"('Copy your Raw data here'!C119-'Copy your Raw data here'!B119)*1440","v":0},60,0,null,null,{"$f":"HOUR('Copy your Raw data here'!G119)","v":0},{"$f":"HOUR('Copy your Raw data here'!H119)","v":0},{"$f":"MINUTE('Copy your Raw data here'!G119)","v":0},{"$f":"MINUTE('Copy your Raw data here'!H119)","v":0},{"$f":"('Copy your Raw data here'!H119-'Copy your Raw data here'!G119)*1440","v":0},1440,{"$f":"IF('Copy your Raw data here'!G119=\"\",\"\",IF(V120<U120,Z120,Y120))","v":""}]
[{"$f":"IF(ISBLANK('Copy your Raw data here'!A120),\"\",('Copy your Raw data here'!A120))","v":""},"",{"$f":"IF('Copy your Raw data here'!D120=\"YES\",1,0)","v":0},{"$f":"VLOOKUP('Copy your Raw data here'!E120,'Stroke Ready Hospital List'!A:B,1,FALSE)","v":{"$error":"#N/A"}},0,{"$f":"IF(OR(ISBLANK('Copy your Raw data here'!F120),('Copy your Raw data here'!F120=\"NO\")),0,1)","v":0},{"$f":"IF(ISBLANK('Copy your Raw data here'!G120),0,1)","v":0},{"$f":"IF(ISERROR(D121),'Copy your Raw data here'!E120,\"\")","v":0},"",null,null,{"$f":"HOUR('Copy your Raw data here'!B120)","v":0},{"$f":"HOUR('Copy your Raw data here'!C120)","v":0},{"$f":"MINUTE('Copy your Raw data here'!B120)","v":0},{"$f":"MINUTE('Copy your Raw data here'!C120)","v":0},{"$f":"('Copy your Raw data here'!C120-'Copy your Raw data here'!B120)*1440","v":0},60,0,null,null,{"$f":"HOUR('Copy your Raw data here'!G120)","v":0},{"$f":"HOUR('Copy your Raw data here'!H120)","v":0},{"$f":"MINUTE('Copy your Raw data here'!G120)","v":0},{"$f":"MINUTE('Copy your Raw data here'!H120)","v":0},{"$f":"('Copy your Raw data here'!H120-'Copy your Raw data here'!G120)*1440","v":0},1440,{"$f":"IF('Copy your Raw data here'!G120=\"\",\"\",IF(V121<U121,Z121,Y121))","v":""}]
[{"$f":"IF(ISBLANK('Copy your Raw data here'!A121),\"\",('Copy your Raw data here'!A121))","v":""},"",{"$f":"IF('Copy your Raw data here'!D121=\"YES\",1,0)","v":0},{"$f":"VLOOKUP('Copy your Raw data here'!E121,'Stroke Ready Hospital List'!A:B,1,FALSE)","v":{"$error":"#N/A"}},0,{"$f":"IF(OR(ISBLANK('Copy your Raw data here'!F121),('Copy your Raw data here'!F121=\"NO\")),0,1)","v":0},{"$f":"IF(ISBLANK('Copy your Raw data here'!G121),0,1)","v":0},{"$f":"IF(ISERROR(D122),'Copy your Raw data here'!E121,\"\")","v":0},"",null,null,{"$f":"HOUR('Copy your Raw data here'!B121)","v":0},{"$f":"HOUR('Copy your Raw data here'!C121)","v":0},{"$f":"MINUTE('Copy your Raw data here'!B121)","v":0},{"$f":"MINUTE('Copy your Raw data here'!C121)","v":0},{"$f":"('Copy your Raw data here'!C121-'Copy your Raw data here'!B121)*1440","v":0},60,0,null,null,{"$f":"HOUR('Copy your Raw data here'!G121)","v":0},{"$f":"HOUR('Copy your Raw data here'!H121)","v":0},{"$f":"MINUTE('Copy your Raw data here'!G121)","v":0},{"$f":"MINUTE('Copy your Raw data here'!H121)","v":0},{"$f":"('Copy your Raw data here'!H121-'Copy your Raw data here'!G121)*1440","v":0},1440,{"$f":"IF('Copy your Raw data here'!G121=\"\",\"\",IF(V122<U122,Z122,Y122))","v":""}]
[{"$f":"IF(ISBLANK('Copy your Raw data here'!A122),\"\",('Copy your Raw data here'!A122))","v":""},"",{"$f":"IF('Copy your Raw data here'!D122=\"YES\",1,0)","v":0},{"$f":"VLOOKUP('Copy your Raw data here'!E122,'Stroke Ready Hospital List'!A:B,1,FALSE)","v":{"$error":"#N/A"}},0,{"$f":"IF(OR(ISBLANK('Copy your Raw data here'!F122),('Copy your Raw data here'!F122=\"NO\")),0,1)","v":0},{"$f":"IF(ISBLANK('Copy your Raw data here'!G122),0,1)","v":0},{"$f":"IF(ISERROR(D123),'Copy your Raw data here'!E122,\"\")","v":0},"",null,null,{"$f":"HOUR('Copy your Raw data here'!B122)","v":0},{"$f":"HOUR('Copy your Raw data here'!C122)","v":0},{"$f":"MINUTE('Copy your Raw data here'!B122)","v":0},{"$f":"MINUTE('Copy your Raw data here'!C122)","v":0},{"$f":"('Copy your Raw data here'!C122-'Copy your Raw data here'!B122)*1440","v":0},60,0,null,null,{"$f":"HOUR('Copy your Raw data here'!G122)","v":0},{"$f":"HOUR('Copy your Raw data here'!H122)","v":0},{"$f":"MINUTE('Copy your Raw data here'!G122)","v":0},{"$f":"MINUTE('Copy your Raw data here'!H122)","v":0},{"$f":"('Copy your Raw data here'!H122-'Copy your Raw data here'!G122)*1440","v":0},1440,{"$f":"IF('Copy your Raw data here'!G122=\"\",\"\",IF(V123<U123,Z123,Y123))","v":""}]
[{"$f":"IF(ISBLANK('Copy your Raw data here'!A123),\"\",('Copy your Raw data here'!A123))","v":""},"",{"$f":"IF('Copy your Raw data here'!D123=\"YES\",1,0)","v":0},{"$f":"VLOOKUP('Copy your Raw data here'!E123,'Stroke Ready Hospital List'!A:B,1,FALSE)","v":{"$error":"#N/A"}},0,{"$f":"IF(OR(ISBLANK('Copy your Raw data here'!F123),('Copy your Raw data here'!F123=\"NO\")),0,1)","v":0},{"$f":"IF(ISBLANK('Copy your Raw data here'!G123),0,1)","v":0},{"$f":"IF(ISERROR(D124),'Copy your Raw data here'!E123,\"\")","v":0},"",null,null,{"$f":"HOUR('Copy your Raw data here'!B123)","v":0},{"$f":"HOUR('Copy your Raw data here'!C123)","v":0},{"$f":"MINUTE('Copy your Raw data here'!B123)","v":0},{"$f":"MINUTE('Copy your Raw data here'!C123)","v":0},{"$f":"('Copy your Raw data here'!C123-'Copy your Raw data here'!B123)*1440","v":0},60,0,null,null,{"$f":"HOUR('Copy your Raw data here'!G123)","v":0},{"$f":"HOUR('Copy your Raw data here'!H123)","v":0},{"$f":"MINUTE('Copy your Raw data here'!G123)","v":0},{"$f":"MINUTE('Copy your Raw data here'!H123)","v":0},{"$f":"('Copy your Raw data here'!H123-'Copy your Raw data here'!G123)*1440","v":0},1440,{"$f":"IF('Copy your Raw data here'!G123=\"\",\"\",IF(V124<U124,Z124,Y124))","v":""}]
[{"$f":"IF(ISBLANK('Copy your Raw data here'!A124),\"\",('Copy your Raw data here'!A124))","v":""},"",{"$f":"IF('Copy your Raw data here'!D124=\"YES\",1,0)","v":0},{"$f":"VLOOKUP('Copy your Raw data here'!E124,'Stroke Ready Hospital List'!A:B,1,FALSE)","v":{"$error":"#N/A"}},0,{"$f":"IF(OR(ISBLANK('Copy your Raw data here'!F124),('Copy your Raw data here'!F124=\"NO\")),0,1)","v":0},{"$f":"IF(ISBLANK('Copy your Raw data here'!G124),0,1)","v":0},{"$f":"IF(ISERROR(D125),'Copy your Raw data here'!E124,\"\")","v":0},"",null,null,{"$f":"HOUR('Copy your Raw data here'!B124)","v":0},{"$f":"HOUR('Copy your Raw data here'!C124)","v":0},{"$f":"MINUTE('Copy your Raw data here'!B124)","v":0},{"$f":"MINUTE('Copy your Raw data here'!C124)","v":0},{"$f":"('Copy your Raw data here'!C124-'Copy your Raw data here'!B124)*1440","v":0},60,0,null,null,{"$f":"HOUR('Copy your Raw data here'!G124)","v":0},{"$f":"HOUR('Copy your Raw data here'!H124)","v":0},{"$f":"MINUTE('Copy your Raw data here'!G124)","v":0},{"$f":"MINUTE('Copy your Raw data here'!H124)","v":0},{"$f":"('Copy your Raw data here'!H124-'Copy your Raw data here'!G124)*1440","v":0},1440,{"$f":"IF('Copy your Raw data here'!G124=\"\",\"\",IF(V125<U125,Z125,Y125))","v":""}]
[{"$f":"IF(ISBLANK('Copy your Raw data here'!A125),\"\",('Copy your Raw data here'!A125))","v":""},"",{"$f":"IF('Copy your Raw data here'!D125=\"YES\",1,0)","v":0},{"$f":"VLOOKUP('Copy your Raw data here'!E125,'Stroke Ready Hospital List'!A:B,1,FALSE)","v":{"$error":"#N/A"}},0,{"$f":"IF(OR(ISBLANK('Copy your Raw data here'!F125),('Copy your Raw data here'!F125=\"NO\")),0,1)","v":0},{"$f":"IF(ISBLANK('Copy your Raw data here'!G125),0,1)","v":0},{"$f":"IF(ISERROR(D126),'Copy your Raw data here'!E125,\"\")","v":0},"",null,null,{"$f":"HOUR('Copy your Raw data here'!B125)","v":0},{"$f":"HOUR('Copy your Raw data here'!C125)","v":0},{"$f":"MINUTE('Copy your Raw data here'!B125)","v":0},{"$f":"MINUTE('Copy your Raw data here'!C125)","v":0},{"$f":"('Copy your Raw data here'!C125-'Copy your Raw data here'!B125)*1440","v":0},60,0,null,null,{"$f":"HOUR('Copy your Raw data here'!G125)","v":0},{"$f":"HOUR('Copy your Raw data here'!H125)","v":0},{"$f":"MINUTE('Copy your Raw data here'!G125)","v":0},{"$f":"MINUTE('Copy your Raw data here'!H125)","v":0},{"$f":"('Copy your Raw data here'!H125-'Copy your Raw data here'!G125)*1440","v":0},1440,{"$f":"IF('Copy your Raw data here'!G125=\"\",\"\",IF(V126<U126,Z126,Y126))","v":""}]
[{"$f":"IF(ISBLANK('Copy your Raw data here'!A126),\"\",('Copy your Raw data here'!A126))","v":""},"",{"$f":"IF('Copy your Raw data here'!D126=\"YES\",1,0)","v":0},{"$f":"VLOOKUP('Copy your Raw data here'!E126,'Stroke Ready Hospital List'!A:B,1,FALSE)","v":{"$error":"#N/A"}},0,{"$f":"IF(OR(ISBLANK('Copy your Raw data here'!F126),('Copy your Raw data here'!F126=\"NO\")),0,1)","v":0},{"$f":"IF(ISBLANK('Copy your Raw data here'!G126),0,1)","v":0},{"$f":"IF(ISERROR(D127),'Copy your Raw data here'!E126,\"\")","v":0},"",null,null,{"$f":"HOUR('Copy your Raw data here'!B126)","v":0},{"$f":"HOUR('Copy your Raw data here'!C126)","v":0},{"$f":"MINUTE('Copy your Raw data here'!B126)","v":0},{"$f":"MINUTE('Copy your Raw data here'!C126)","v":0},{"$f":"('Copy your Raw data here'!C126-'Copy your Raw data here'!B126)*1440","v":0},60,0,null,null,{"$f":"HOUR('Copy your Raw data here'!G126)","v":0},{"$f":"HOUR('Copy your Raw data here'!H126)","v":0},{"$f":"MINUTE('Copy your Raw data here'!G126)","v":0},{"$f":"MINUTE('Copy your Raw data here'!H126)","v":0},{"$f":"('Copy your Raw data here'!H126-'Copy your Raw data here'!G126)*1440","v":0},1440,{"$f":"IF('Copy your Raw data here'!G126=\"\",\"\",IF(V127<U127,Z127,Y127))","v":""}]
[{"$f":"IF(ISBLANK('Copy your Raw data here'!A127),\"\",('Copy your Raw data here'!A127))","v":""},"",{"$f":"IF('Copy your Raw data here'!D127=\"YES\",1,0)","v":0},{"$f":"VLOOKUP('Copy your Raw data here'!E127,'Stroke Ready Hospital List'!A:B,1,FALSE)","v":{"$error":"#N/A"}},0,{"$f":"IF(OR(ISBLANK('Copy your Raw data here'!F127),('Copy your Raw data here'!F127=\"NO\")),0,1)","v":0},{"$f":"IF(ISBLANK('Copy your Raw data here'!G127),0,1)","v":0},{"$f":"IF(ISERROR(D128),'Copy your Raw data here'!E127,\"\")","v":0},"",null,null,{"$f":"HOUR('Copy your Raw data here'!B127)","v":0},{"$f":"HOUR('Copy your Raw data here'!C127)","v":0},{"$f":"MINUTE('Copy your Raw data here'!B127)","v":0},{"$f":"MINUTE('Copy your Raw data here'!C127)","v":0},{"$f":"('Copy your Raw data here'!C127-'Copy your Raw data here'!B127)*1440","v":0},60,0,null,null,{"$f":"HOUR('Copy your Raw data here'!G127)","v":0},{"$f":"HOUR('Copy your Raw data here'!H127)","v":0},{"$f":"MINUTE('Copy your Raw data here'!G127)","v":0},{"$f":"MINUTE('Copy your Raw data here'!H127)","v":0},{"$f":"('Copy your Raw data here'!H127-'Copy your Raw data here'!G127)*1440","v":0},1440,{"$f":"IF('Copy your Raw data here'!G127=\"\",\"\",IF(V128<U128,Z128,Y128))","v":""}]
[{"$f":"IF(ISBLANK('Copy your Raw data here'!A128),\"\",('Copy your Raw data here'!A128))","v":""},"",{"$f":"IF('Copy your Raw data here'!D128=\"YES\",1,0)","v":0},{"$f":"VLOOKUP('Copy your Raw data here'!E128,'Stroke Ready Hospital List'!A:B,1,FALSE)","v":{"$error":"#N/A"}},0,{"$f":"IF(OR(ISBLANK('Copy your Raw data here'!F128),('Copy your Raw data here'!F128=\"NO\")),0,1)","v":0},{"$f":"IF(ISBLANK('Copy your Raw data here'!G128),0,1)","v":0},{"$f":"IF(ISERROR(D129),'Copy your Raw data here'!E128,\"\")","v":0},"",null,null,{"$f":"HOUR('Copy your Raw data here'!B128)","v":0},{"$f":"HOUR('Copy your Raw data here'!C128)","v":0},{"$f":"MINUTE('Copy your Raw data here'!B128)","v":0},{"$f":"MINUTE('Copy your Raw data here'!C128)","v":0},{"$f":"('Copy your Raw data here'!C128-'Copy your Raw data here'!B128)*1440","v":0},60,0,null,null,{"$f":"HOUR('Copy your Raw data here'!G128)","v":0},{"$f":"HOUR('Copy your Raw data here'!H128)","v":0},{"$f":"MINUTE('Copy your Raw data here'!G128)","v":0},{"$f":"MINUTE('Copy your Raw data here'!H128)","v":0},{"$f":"('Copy your Raw data here'!H128-'Copy your Raw data here'!G128)*1440","v":0},1440,{"$f":"IF('Copy your Raw data here'!G128=\"\",\"\",IF(V129<U129,Z129,Y129))","v":""}]
[{"$f":"IF(ISBLANK('Copy your Raw data here'!A129),\"\",('Copy your Raw data here'!A129))","v":""},"",{"$f":"IF('Copy your Raw data here'!D129=\"YES\",1,0)","v":0},{"$f":"VLOOKUP('Copy your Raw data here'!E129,'Stroke Ready Hospital List'!A:B,1,FALSE)","v":{"$error":"#N/A"}},0,{"$f":"IF(OR(ISBLANK('Copy your Raw data here'!F129),('Copy your Raw data here'!F129=\"NO\")),0,1)","v":0},{"$f":"IF(ISBLANK('Copy your Raw data here'!G129),0,1)","v":0},{"$f":"IF(ISERROR(D130),'Copy your Raw data here'!E129,\"\")","v":0},"",null,null,{"$f":"HOUR('Copy your Raw data here'!B129)","v":0},{"$f":"HOUR('Copy your Raw data here'!C129)","v":0},{"$f":"MINUTE('Copy your Raw data here'!B129)","v":0},{"$f":"MINUTE('Copy your Raw data here'!C129)","v":0},{"$f":"('Copy your Raw data here'!C129-'Copy your Raw data here'!B129)*1440","v":0},60,0,null,null,{"$f":"HOUR('Copy your Raw data here'!G129)","v":0},{"$f":"HOUR('Copy your Raw data here'!H129)","v":0},{"$f":"MINUTE('Copy your Raw data here'!G129)","v":0},{"$f":"MINUTE('Copy your Raw data here'!H129)","v":0},{"$f":"('Copy your Raw data here'!H129-'Copy your Raw data here'!G129)*1440","v":0},1440,{"$f":"IF('Copy your Raw data here'!G129=\"\",\"\",IF(V130<U130,Z130,Y130))","v":""}]
[{"$f":"IF(ISBLANK('Copy your Raw data here'!A130),\"\",('Copy your Raw data here'!A130))","v":""},"",{"$f":"IF('Copy your Raw data here'!D130=\"YES\",1,0)","v":0},{"$f":"VLOOKUP('Copy your Raw data here'!E130,'Stroke Ready Hospital List'!A:B,1,FALSE)","v":{"$error":"#N/A"}},0,{"$f":"IF(OR(ISBLANK('Copy your Raw data here'!F130),('Copy your Raw data here'!F130=\"NO\")),0,1)","v":0},{"$f":"IF(ISBLANK('Copy your Raw data here'!G130),0,1)","v":0},{"$f":"IF(ISERROR(D131),'Copy your Raw data here'!E130,\"\")","v":0},"",null,null,{"$f":"HOUR('Copy your Raw data here'!B130)","v":0},{"$f":"HOUR('Copy your Raw data here'!C130)","v":0},{"$f":"MINUTE('Copy your Raw data here'!B130)","v":0},{"$f":"MINUTE('Copy your Raw data here'!C130)","v":0},{"$f":"('Copy your Raw data here'!C130-'Copy your Raw data here'!B130)*1440","v":0},60,0,null,null,{"$f":"HOUR('Copy your Raw data here'!G130)","v":0},{"$f":"HOUR('Copy your Raw data here'!H130)","v":0},{"$f":"MINUTE('Copy your Raw data here'!G130)","v":0},{"$f":"MINUTE('Copy your Raw data here'!H130)","v":0},{"$f":"('Copy your Raw data here'!H130-'Copy your Raw data here'!G130)*1440","v":0},1440,{"$f":"IF('Copy your Raw data here'!G130=\"\",\"\",IF(V131<U131,Z131,Y131))","v":""}]
[{"$f":"IF(ISBLANK('Copy your Raw data here'!A131),\"\",('Copy your Raw data here'!A131))","v":""},{"$f":"IF(R132=0,\"\",R132)","v":""},{"$f":"IF('Copy your Raw data here'!D131=\"YES\",1,0)","v":0},{"$f":"VLOOKUP('Copy your Raw data here'!E131,'Stroke Ready Hospital List'!A:B,1,FALSE)","v":{"$error":"#N/A"}},0,{"$f":"IF(OR(ISBLANK('Copy your Raw data here'!F131),('Copy your Raw data here'!F131=\"NO\")),0,1)","v":0},{"$f":"IF(ISBLANK('Copy your Raw data here'!G131),0,1)","v":0},{"$f":"IF(ISERROR(D132),'Copy your Raw data here'!E131,\"\")","v":0},{"$f":"IF(R132=0,\"\",AA132)","v":""},null,null,{"$f":"HOUR('Copy your Raw data here'!B131)","v":0},{"$f":"HOUR('Copy your Raw data here'!C131)","v":0},{"$f":"MINUTE('Copy your Raw data here'!B131)","v":0},{"$f":"MINUTE('Copy your Raw data here'!C131)","v":0},{"$f":"('Copy your Raw data here'!C131-'Copy your Raw data here'!B131)*1440","v":0},{"$f":"SUM(60-N132)+O132","v":60},{"$f":"IF(M132<L132,Q132,P132)","v":0},null,null,{"$f":"HOUR('Copy your Raw data here'!G131)","v":0},{"$f":"HOUR('Copy your Raw data here'!H131)","v":0},{"$f":"MINUTE('Copy your Raw data here'!G131)","v":0},{"$f":"MINUTE('Copy your Raw data here'!H131)","v":0},{"$f":"('Copy your Raw data here'!H131-'Copy your Raw data here'!G131)*1440","v":0},{"$f":"SUM((60-W132)+X132)+SUM((23-U132)*60)","v":1440},{"$f":"IF('Copy your Raw data here'!G131=\"\",\"\",IF(V132<U132,Z132,Y132))","v":""}]
[{"$f":"IF(ISBLANK('Copy your Raw data here'!A132),\"\",('Copy your Raw data here'!A132))","v":""},"",{"$f":"IF('Copy your Raw data here'!D132=\"YES\",1,0)","v":0},{"$f":"VLOOKUP('Copy your Raw data here'!E132,'Stroke Ready Hospital List'!A:B,1,FALSE)","v":{"$error":"#N/A"}},0,{"$f":"IF(OR(ISBLANK('Copy your Raw data here'!F132),('Copy your Raw data here'!F132=\"NO\")),0,1)","v":0},{"$f":"IF(ISBLANK('Copy your Raw data here'!G132),0,1)","v":0},{"$f":"IF(ISERROR(D133),'Copy your Raw data here'!E132,\"\")","v":0},"",null,null,{"$f":"HOUR('Copy your Raw data here'!B132)","v":0},{"$f":"HOUR('Copy your Raw data here'!C132)","v":0},{"$f":"MINUTE('Copy your Raw data here'!B132)","v":0},{"$f":"MINUTE('Copy your Raw data here'!C132)","v":0},{"$f":"('Copy your Raw data here'!C132-'Copy your Raw data here'!B132)*1440","v":0},60,0,null,null,{"$f":"HOUR('Copy your Raw data here'!G132)","v":0},{"$f":"HOUR('Copy your Raw data here'!H132)","v":0},{"$f":"MINUTE('Copy your Raw data here'!G132)","v":0},{"$f":"MINUTE('Copy your Raw data here'!H132)","v":0},{"$f":"('Copy your Raw data here'!H132-'Copy your Raw data here'!G132)*1440","v":0},1440,{"$f":"IF('Copy your Raw data here'!G132=\"\",\"\",IF(V133<U133,Z133,Y133))","v":""}]
[{"$f":"IF(ISBLANK('Copy your Raw data here'!A133),\"\",('Copy your Raw data here'!A133))","v":""},"",{"$f":"IF('Copy your Raw data here'!D133=\"YES\",1,0)","v":0},{"$f":"VLOOKUP('Copy your Raw data here'!E133,'Stroke Ready Hospital List'!A:B,1,FALSE)","v":{"$error":"#N/A"}},0,{"$f":"IF(OR(ISBLANK('Copy your Raw data here'!F133),('Copy your Raw data here'!F133=\"NO\")),0,1)","v":0},{"$f":"IF(ISBLANK('Copy your Raw data here'!G133),0,1)","v":0},{"$f":"IF(ISERROR(D134),'Copy your Raw data here'!E133,\"\")","v":0},"",null,null,{"$f":"HOUR('Copy your Raw data here'!B133)","v":0},{"$f":"HOUR('Copy your Raw data here'!C133)","v":0},{"$f":"MINUTE('Copy your Raw data here'!B133)","v":0},{"$f":"MINUTE('Copy your Raw data here'!C133)","v":0},{"$f":"('Copy your Raw data here'!C133-'Copy your Raw data here'!B133)*1440","v":0},60,0,null,null,{"$f":"HOUR('Copy your Raw data here'!G133)","v":0},{"$f":"HOUR('Copy your Raw data here'!H133)","v":0},{"$f":"MINUTE('Copy your Raw data here'!G133)","v":0},{"$f":"MINUTE('Copy your Raw data here'!H133)","v":0},{"$f":"('Copy your Raw data here'!H133-'Copy your Raw data here'!G133)*1440","v":0},1440,{"$f":"IF('Copy your Raw data here'!G133=\"\",\"\",IF(V134<U134,Z134,Y134))","v":""}]
[{"$f":"IF(ISBLANK('Copy your Raw data here'!A134),\"\",('Copy your Raw data here'!A134))","v":""},"",{"$f":"IF('Copy your Raw data here'!D134=\"YES\",1,0)","v":0},{"$f":"VLOOKUP('Copy your Raw data here'!E134,'Stroke Ready Hospital List'!A:B,1,FALSE)","v":{"$error":"#N/A"}},0,{"$f":"IF(OR(ISBLANK('Copy your Raw data here'!F134),('Copy your Raw data here'!F134=\"NO\")),0,1)","v":0},{"$f":"IF(ISBLANK('Copy your Raw data here'!G134),0,1)","v":0},{"$f":"IF(ISERROR(D135),'Copy your Raw data here'!E134,\"\")","v":0},"",null,null,{"$f":"HOUR('Copy your Raw data here'!B134)","v":0},{"$f":"HOUR('Copy your Raw data here'!C134)","v":0},{"$f":"MINUTE('Copy your Raw data here'!B134)","v":0},{"$f":"MINUTE('Copy your Raw data here'!C134)","v":0},{"$f":"('Copy your Raw data here'!C134-'Copy your Raw data here'!B134)*1440","v":0},60,0,null,null,{"$f":"HOUR('Copy your Raw data here'!G134)","v":0},{"$f":"HOUR('Copy your Raw data here'!H134)","v":0},{"$f":"MINUTE('Copy your Raw data here'!G134)","v":0},{"$f":"MINUTE('Copy your Raw data here'!H134)","v":0},{"$f":"('Copy your Raw data here'!H134-'Copy your Raw data here'!G134)*1440","v":0},1440,{"$f":"IF('Copy your Raw data here'!G134=\"\",\"\",IF(V135<U135,Z135,Y135))","v":""}]
[{"$f":"IF(ISBLANK('Copy your Raw data here'!A135),\"\",('Copy your Raw data here'!A135))","v":""},"",{"$f":"IF('Copy your Raw data here'!D135=\"YES\",1,0)","v":0},{"$f":"VLOOKUP('Copy your Raw data here'!E135,'Stroke Ready Hospital List'!A:B,1,FALSE)","v":{"$error":"#N/A"}},0,{"$f":"IF(OR(ISBLANK('Copy your Raw data here'!F135),('Copy your Raw data here'!F135=\"NO\")),0,1)","v":0},{"$f":"IF(ISBLANK('Copy your Raw data here'!G135),0,1)","v":0},{"$f":"IF(ISERROR(D136),'Copy your Raw data here'!E135,\"\")","v":0},"",null,null,{"$f":"HOUR('Copy your Raw data here'!B135)","v":0},{"$f":"HOUR('Copy your Raw data here'!C135)","v":0},{"$f":"MINUTE('Copy your Raw data here'!B135)","v":0},{"$f":"MINUTE('Copy your Raw data here'!C135)","v":0},{"$f":"('Copy your Raw data here'!C135-'Copy your Raw data here'!B135)*1440","v":0},60,0,null,null,{"$f":"HOUR('Copy your Raw data here'!G135)","v":0},{"$f":"HOUR('Copy your Raw data here'!H135)","v":0},{"$f":"MINUTE('Copy your Raw data here'!G135)","v":0},{"$f":"MINUTE('Copy your Raw data here'!H135)","v":0},{"$f":"('Copy your Raw data here'!H135-'Copy your Raw data here'!G135)*1440","v":0},1440,{"$f":"IF('Copy your Raw data here'!G135=\"\",\"\",IF(V136<U136,Z136,Y136))","v":""}]
[{"$f":"IF(ISBLANK('Copy your Raw data here'!A136),\"\",('Copy your Raw data here'!A136))","v":""},"",{"$f":"IF('Copy your Raw data here'!D136=\"YES\",1,0)","v":0},{"$f":"VLOOKUP('Copy your Raw data here'!E136,'Stroke Ready Hospital List'!A:B,1,FALSE)","v":{"$error":"#N/A"}},0,{"$f":"IF(OR(ISBLANK('Copy your Raw data here'!F136),('Copy your Raw data here'!F136=\"NO\")),0,1)","v":0},{"$f":"IF(ISBLANK('Copy your Raw data here'!G136),0,1)","v":0},{"$f":"IF(ISERROR(D137),'Copy your Raw data here'!E136,\"\")","v":0},"",null,null,{"$f":"HOUR('Copy your Raw data here'!B136)","v":0},{"$f":"HOUR('Copy your Raw data here'!C136)","v":0},{"$f":"MINUTE('Copy your Raw data here'!B136)","v":0},{"$f":"MINUTE('Copy your Raw data here'!C136)","v":0},{"$f":"('Copy your Raw data here'!C136-'Copy your Raw data here'!B136)*1440","v":0},60,0,null,null,{"$f":"HOUR('Copy your Raw data here'!G136)","v":0},{"$f":"HOUR('Copy your Raw data here'!H136)","v":0},{"$f":"MINUTE('Copy your Raw data here'!G136)","v":0},{"$f":"MINUTE('Copy your Raw data here'!H136)","v":0},{"$f":"('Copy your Raw data here'!H136-'Copy your Raw data here'!G136)*1440","v":0},1440,{"$f":"IF('Copy your Raw data here'!G136=\"\",\"\",IF(V137<U137,Z137,Y137))","v":""}]
[{"$f":"IF(ISBLANK('Copy your Raw data here'!A137),\"\",('Copy your Raw data here'!A137))","v":""},"",{"$f":"IF('Copy your Raw data here'!D137=\"YES\",1,0)","v":0},{"$f":"VLOOKUP('Copy your Raw data here'!E137,'Stroke Ready Hospital List'!A:B,1,FALSE)","v":{"$error":"#N/A"}},0,{"$f":"IF(OR(ISBLANK('Copy your Raw data here'!F137),('Copy your Raw data here'!F137=\"NO\")),0,1)","v":0},{"$f":"IF(ISBLANK('Copy your Raw data here'!G137),0,1)","v":0},{"$f":"IF(ISERROR(D138),'Copy your Raw data here'!E137,\"\")","v":0},"",null,null,{"$f":"HOUR('Copy your Raw data here'!B137)","v":0},{"$f":"HOUR('Copy your Raw data here'!C137)","v":0},{"$f":"MINUTE('Copy your Raw data here'!B137)","v":0},{"$f":"MINUTE('Copy your Raw data here'!C137)","v":0},{"$f":"('Copy your Raw data here'!C137-'Copy your Raw data here'!B137)*1440","v":0},60,0,null,null,{"$f":"HOUR('Copy your Raw data here'!G137)","v":0},{"$f":"HOUR('Copy your Raw data here'!H137)","v":0},{"$f":"MINUTE('Copy your Raw data here'!G137)","v":0},{"$f":"MINUTE('Copy your Raw data here'!H137)","v":0},{"$f":"('Copy your Raw data here'!H137-'Copy your Raw data here'!G137)*1440","v":0},1440,{"$f":"IF('Copy your Raw data here'!G137=\"\",\"\",IF(V138<U138,Z138,Y138))","v":""}]
[{"$f":"IF(ISBLANK('Copy your Raw data here'!A138),\"\",('Copy your Raw data here'!A138))","v":""},"",{"$f":"IF('Copy your Raw data here'!D138=\"YES\",1,0)","v":0},{"$f":"VLOOKUP('Copy your Raw data here'!E138,'Stroke Ready Hospital List'!A:B,1,FALSE)","v":{"$error":"#N/A"}},0,{"$f":"IF(OR(ISBLANK('Copy your Raw data here'!F138),('Copy your Raw data here'!F138=\"NO\")),0,1)","v":0},{"$f":"IF(ISBLANK('Copy your Raw data here'!G138),0,1)","v":0},{"$f":"IF(ISERROR(D139),'Copy your Raw data here'!E138,\"\")","v":0},"",null,null,{"$f":"HOUR('Copy your Raw data here'!B138)","v":0},{"$f":"HOUR('Copy your Raw data here'!C138)","v":0},{"$f":"MINUTE('Copy your Raw data here'!B138)","v":0},{"$f":"MINUTE('Copy your Raw data here'!C138)","v":0},{"$f":"('Copy your Raw data here'!C138-'Copy your Raw data here'!B138)*1440","v":0},60,0,null,null,{"$f":"HOUR('Copy your Raw data here'!G138)","v":0},{"$f":"HOUR('Copy your Raw data here'!H138)","v":0},{"$f":"MINUTE('Copy your Raw data here'!G138)","v":0},{"$f":"MINUTE('Copy your Raw data here'!H138)","v":0},{"$f":"('Copy your Raw data here'!H138-'Copy your Raw data here'!G138)*1440","v":0},1440,{"$f":"IF('Copy your Raw data here'!G138=\"\",\"\",IF(V139<U139,Z139,Y139))","v":""}]
[{"$f":"IF(ISBLANK('Copy your Raw data here'!A139),\"\",('Copy your Raw data here'!A139))","v":""},"",{"$f":"IF('Copy your Raw data here'!D139=\"YES\",1,0)","v":0},{"$f":"VLOOKUP('Copy your Raw data here'!E139,'Stroke Ready Hospital List'!A:B,1,FALSE)","v":{"$error":"#N/A"}},0,{"$f":"IF(OR(ISBLANK('Copy your Raw data here'!F139),('Copy your Raw data here'!F139=\"NO\")),0,1)","v":0},{"$f":"IF(ISBLANK('Copy your Raw data here'!G139),0,1)","v":0},{"$f":"IF(ISERROR(D140),'Copy your Raw data here'!E139,\"\")","v":0},"",null,null,{"$f":"HOUR('Copy your Raw data here'!B139)","v":0},{"$f":"HOUR('Copy your Raw data here'!C139)","v":0},{"$f":"MINUTE('Copy your Raw data here'!B139)","v":0},{"$f":"MINUTE('Copy your Raw data here'!C139)","v":0},{"$f":"('Copy your Raw data here'!C139-'Copy your Raw data here'!B139)*1440","v":0},60,0,null,null,{"$f":"HOUR('Copy your Raw data here'!G139)","v":0},{"$f":"HOUR('Copy your Raw data here'!H139)","v":0},{"$f":"MINUTE('Copy your Raw data here'!G139)","v":0},{"$f":"MINUTE('Copy your Raw data here'!H139)","v":0},{"$f":"('Copy your Raw data here'!H139-'Copy your Raw data here'!G139)*1440","v":0},1440,{"$f":"IF('Copy your Raw data here'!G139=\"\",\"\",IF(V140<U140,Z140,Y140))","v":""}]
[{"$f":"IF(ISBLANK('Copy your Raw data here'!A140),\"\",('Copy your Raw data here'!A140))","v":""},"",{"$f":"IF('Copy your Raw data here'!D140=\"YES\",1,0)","v":0},{"$f":"VLOOKUP('Copy your Raw data here'!E140,'Stroke Ready Hospital List'!A:B,1,FALSE)","v":{"$error":"#N/A"}},0,{"$f":"IF(OR(ISBLANK('Copy your Raw data here'!F140),('Copy your Raw data here'!F140=\"NO\")),0,1)","v":0},{"$f":"IF(ISBLANK('Copy your Raw data here'!G140),0,1)","v":0},{"$f":"IF(ISERROR(D141),'Copy your Raw data here'!E140,\"\")","v":0},"",null,null,{"$f":"HOUR('Copy your Raw data here'!B140)","v":0},{"$f":"HOUR('Copy your Raw data here'!C140)","v":0},{"$f":"MINUTE('Copy your Raw data here'!B140)","v":0},{"$f":"MINUTE('Copy your Raw data here'!C140)","v":0},{"$f":"('Copy your Raw data here'!C140-'Copy your Raw data here'!B140)*1440","v":0},60,0,null,null,{"$f":"HOUR('Copy your Raw data here'!G140)","v":0},{"$f":"HOUR('Copy your Raw data here'!H140)","v":0},{"$f":"MINUTE('Copy your Raw data here'!G140)","v":0},{"$f":"MINUTE('Copy your Raw data here'!H140)","v":0},{"$f":"('Copy your Raw data here'!H140-'Copy your Raw data here'!G140)*1440","v":0},1440,{"$f":"IF('Copy your Raw data here'!G140=\"\",\"\",IF(V141<U141,Z141,Y141))","v":""}]
[{"$f":"IF(ISBLANK('Copy your Raw data here'!A141),\"\",('Copy your Raw data here'!A141))","v":""},"",{"$f":"IF('Copy your Raw data here'!D141=\"YES\",1,0)","v":0},{"$f":"VLOOKUP('Copy your Raw data here'!E141,'Stroke Ready Hospital List'!A:B,1,FALSE)","v":{"$error":"#N/A"}},0,{"$f":"IF(OR(ISBLANK('Copy your Raw data here'!F141),('Copy your Raw data here'!F141=\"NO\")),0,1)","v":0},{"$f":"IF(ISBLANK('Copy your Raw data here'!G141),0,1)","v":0},{"$f":"IF(ISERROR(D142),'Copy your Raw data here'!E141,\"\")","v":0},"",null,null,{"$f":"HOUR('Copy your Raw data here'!B141)","v":0},{"$f":"HOUR('Copy your Raw data here'!C141)","v":0},{"$f":"MINUTE('Copy your Raw data here'!B141)","v":0},{"$f":"MINUTE('Copy your Raw data here'!C141)","v":0},{"$f":"('Copy your Raw data here'!C141-'Copy your Raw data here'!B141)*1440","v":0},60,0,null,null,{"$f":"HOUR('Copy your Raw data here'!G141)","v":0},{"$f":"HOUR('Copy your Raw data here'!H141)","v":0},{"$f":"MINUTE('Copy your Raw data here'!G141)","v":0},{"$f":"MINUTE('Copy your Raw data here'!H141)","v":0},{"$f":"('Copy your Raw data here'!H141-'Copy your Raw data here'!G141)*1440","v":0},1440,{"$f":"IF('Copy your Raw data here'!G141=\"\",\"\",IF(V142<U142,Z142,Y142))","v":""}]
[{"$f":"IF(ISBLANK('Copy your Raw data here'!A142),\"\",('Copy your Raw data here'!A142))","v":""},"",{"$f":"IF('Copy your Raw data here'!D142=\"YES\",1,0)","v":0},{"$f":"VLOOKUP('Copy your Raw data here'!E142,'Stroke Ready Hospital List'!A:B,1,FALSE)","v":{"$error":"#N/A"}},0,{"$f":"IF(OR(ISBLANK('Copy your Raw data here'!F142),('Copy your Raw data here'!F142=\"NO\")),0,1)","v":0},{"$f":"IF(ISBLANK('Copy your Raw data here'!G142),0,1)","v":0},{"$f":"IF(ISERROR(D143),'Copy your Raw data here'!E142,\"\")","v":0},"",null,null,{"$f":"HOUR('Copy your Raw data here'!B142)","v":0},{"$f":"HOUR('Copy your Raw data here'!C142)","v":0},{"$f":"MINUTE('Copy your Raw data here'!B142)","v":0},{"$f":"MINUTE('Copy your Raw data here'!C142)","v":0},{"$f":"('Copy your Raw data here'!C142-'Copy your Raw data here'!B142)*1440","v":0},60,0,null,null,{"$f":"HOUR('Copy your Raw data here'!G142)","v":0},{"$f":"HOUR('Copy your Raw data here'!H142)","v":0},{"$f":"MINUTE('Copy your Raw data here'!G142)","v":0},{"$f":"MINUTE('Copy your Raw data here'!H142)","v":0},{"$f":"('Copy your Raw data here'!H142-'Copy your Raw data here'!G142)*1440","v":0},1440,{"$f":"IF('Copy your Raw data here'!G142=\"\",\"\",IF(V143<U143,Z143,Y143))","v":""}]
[{"$f":"IF(ISBLANK('Copy your Raw data here'!A143),\"\",('Copy your Raw data here'!A143))","v":""},"",{"$f":"IF('Copy your Raw data here'!D143=\"YES\",1,0)","v":0},{"$f":"VLOOKUP('Copy your Raw data here'!E143,'Stroke Ready Hospital List'!A:B,1,FALSE)","v":{"$error":"#N/A"}},0,{"$f":"IF(OR(ISBLANK('Copy your Raw data here'!F143),('Copy your Raw data here'!F143=\"NO\")),0,1)","v":0},{"$f":"IF(ISBLANK('Copy your Raw data here'!G143),0,1)","v":0},{"$f":"IF(ISERROR(D144),'Copy your Raw data here'!E143,\"\")","v":0},"",null,null,{"$f":"HOUR('Copy your Raw data here'!B143)","v":0},{"$f":"HOUR('Copy your Raw data here'!C143)","v":0},{"$f":"MINUTE('Copy your Raw data here'!B143)","v":0},{"$f":"MINUTE('Copy your Raw data here'!C143)","v":0},{"$f":"('Copy your Raw data here'!C143-'Copy your Raw data here'!B143)*1440","v":0},60,0,null,null,{"$f":"HOUR('Copy your Raw data here'!G143)","v":0},{"$f":"HOUR('Copy your Raw data here'!H143)","v":0},{"$f":"MINUTE('Copy your Raw data here'!G143)","v":0},{"$f":"MINUTE('Copy your Raw data here'!H143)","v":0},{"$f":"('Copy your Raw data here'!H143-'Copy your Raw data here'!G143)*1440","v":0},1440,{"$f":"IF('Copy your Raw data here'!G143=\"\",\"\",IF(V144<U144,Z144,Y144))","v":""}]
[{"$f":"IF(ISBLANK('Copy your Raw data here'!A144),\"\",('Copy your Raw data here'!A144))","v":""},"",{"$f":"IF('Copy your Raw data here'!D144=\"YES\",1,0)","v":0},{"$f":"VLOOKUP('Copy your Raw data here'!E144,'Stroke Ready Hospital List'!A:B,1,FALSE)","v":{"$error":"#N/A"}},0,{"$f":"IF(OR(ISBLANK('Copy your Raw data here'!F144),('Copy your Raw data here'!F144=\"NO\")),0,1)","v":0},{"$f":"IF(ISBLANK('Copy your Raw data here'!G144),0,1)","v":0},{"$f":"IF(ISERROR(D145),'Copy your Raw data here'!E144,\"\")","v":0},"",null,null,{"$f":"HOUR('Copy your Raw data here'!B144)","v":0},{"$f":"HOUR('Copy your Raw data here'!C144)","v":0},{"$f":"MINUTE('Copy your Raw data here'!B144)","v":0},{"$f":"MINUTE('Copy your Raw data here'!C144)","v":0},{"$f":"('Copy your Raw data here'!C144-'Copy your Raw data here'!B144)*1440","v":0},60,0,null,null,{"$f":"HOUR('Copy your Raw data here'!G144)","v":0},{"$f":"HOUR('Copy your Raw data here'!H144)","v":0},{"$f":"MINUTE('Copy your Raw data here'!G144)","v":0},{"$f":"MINUTE('Copy your Raw data here'!H144)","v":0},{"$f":"('Copy your Raw data here'!H144-'Copy your Raw data here'!G144)*1440","v":0},1440,{"$f":"IF('Copy your Raw data here'!G144=\"\",\"\",IF(V145<U145,Z145,Y145))","v":""}]
[{"$f":"IF(ISBLANK('Copy your Raw data here'!A145),\"\",('Copy your Raw data here'!A145))","v":""},"",{"$f":"IF('Copy your Raw data here'!D145=\"YES\",1,0)","v":0},{"$f":"VLOOKUP('Copy your Raw data here'!E145,'Stroke Ready Hospital List'!A:B,1,FALSE)","v":{"$error":"#N/A"}},0,{"$f":"IF(OR(ISBLANK('Copy your Raw data here'!F145),('Copy your Raw data here'!F145=\"NO\")),0,1)","v":0},{"$f":"IF(ISBLANK('Copy your Raw data here'!G145),0,1)","v":0},{"$f":"IF(ISERROR(D146),'Copy your Raw data here'!E145,\"\")","v":0},"",null,null,{"$f":"HOUR('Copy your Raw data here'!B145)","v":0},{"$f":"HOUR('Copy your Raw data here'!C145)","v":0},{"$f":"MINUTE('Copy your Raw data here'!B145)","v":0},{"$f":"MINUTE('Copy your Raw data here'!C145)","v":0},{"$f":"('Copy your Raw data here'!C145-'Copy your Raw data here'!B145)*1440","v":0},60,0,null,null,{"$f":"HOUR('Copy your Raw data here'!G145)","v":0},{"$f":"HOUR('Copy your Raw data here'!H145)","v":0},{"$f":"MINUTE('Copy your Raw data here'!G145)","v":0},{"$f":"MINUTE('Copy your Raw data here'!H145)","v":0},{"$f":"('Copy your Raw data here'!H145-'Copy your Raw data here'!G145)*1440","v":0},1440,{"$f":"IF('Copy your Raw data here'!G145=\"\",\"\",IF(V146<U146,Z146,Y146))","v":""}]
[{"$f":"IF(ISBLANK('Copy your Raw data here'!A146),\"\",('Copy your Raw data here'!A146))","v":""},"",{"$f":"IF('Copy your Raw data here'!D146=\"YES\",1,0)","v":0},{"$f":"VLOOKUP('Copy your Raw data here'!E146,'Stroke Ready Hospital List'!A:B,1,FALSE)","v":{"$error":"#N/A"}},0,{"$f":"IF(OR(ISBLANK('Copy your Raw data here'!F146),('Copy your Raw data here'!F146=\"NO\")),0,1)","v":0},{"$f":"IF(ISBLANK('Copy your Raw data here'!G146),0,1)","v":0},{"$f":"IF(ISERROR(D147),'Copy your Raw data here'!E146,\"\")","v":0},"",null,null,{"$f":"HOUR('Copy your Raw data here'!B146)","v":0},{"$f":"HOUR('Copy your Raw data here'!C146)","v":0},{"$f":"MINUTE('Copy your Raw data here'!B146)","v":0},{"$f":"MINUTE('Copy your Raw data here'!C146)","v":0},{"$f":"('Copy your Raw data here'!C146-'Copy your Raw data here'!B146)*1440","v":0},60,0,null,null,{"$f":"HOUR('Copy your Raw data here'!G146)","v":0},{"$f":"HOUR('Copy your Raw data here'!H146)","v":0},{"$f":"MINUTE('Copy your Raw data here'!G146)","v":0},{"$f":"MINUTE('Copy your Raw data here'!H146)","v":0},{"$f":"('Copy your Raw data here'!H146-'Copy your Raw data here'!G146)*1440","v":0},1440,{"$f":"IF('Copy your Raw data here'!G146=\"\",\"\",IF(V147<U147,Z147,Y147))","v":""}]
[{"$f":"IF(ISBLANK('Copy your Raw data here'!A147),\"\",('Copy your Raw data here'!A147))","v":""},"",{"$f":"IF('Copy your Raw data here'!D147=\"YES\",1,0)","v":0},{"$f":"VLOOKUP('Copy your Raw data here'!E147,'Stroke Ready Hospital List'!A:B,1,FALSE)","v":{"$error":"#N/A"}},0,{"$f":"IF(OR(ISBLANK('Copy your Raw data here'!F147),('Copy your Raw data here'!F147=\"NO\")),0,1)","v":0},{"$f":"IF(ISBLANK('Copy your Raw data here'!G147),0,1)","v":0},{"$f":"IF(ISERROR(D148),'Copy your Raw data here'!E147,\"\")","v":0},"",null,null,{"$f":"HOUR('Copy your Raw data here'!B147)","v":0},{"$f":"HOUR('Copy your Raw data here'!C147)","v":0},{"$f":"MINUTE('Copy your Raw data here'!B147)","v":0},{"$f":"MINUTE('Copy your Raw data here'!C147)","v":0},{"$f":"('Copy your Raw data here'!C147-'Copy your Raw data here'!B147)*1440","v":0},60,0,null,null,{"$f":"HOUR('Copy your Raw data here'!G147)","v":0},{"$f":"HOUR('Copy your Raw data here'!H147)","v":0},{"$f":"MINUTE('Copy your Raw data here'!G147)","v":0},{"$f":"MINUTE('Copy your Raw data here'!H147)","v":0},{"$f":"('Copy your Raw data here'!H147-'Copy your Raw data here'!G147)*1440","v":0},1440,{"$f":"IF('Copy your Raw data here'!G147=\"\",\"\",IF(V148<U148,Z148,Y148))","v":""}]
[{"$f":"IF(ISBLANK('Copy your Raw data here'!A148),\"\",('Copy your Raw data here'!A148))","v":""},"",{"$f":"IF('Copy your Raw data here'!D148=\"YES\",1,0)","v":0},{"$f":"VLOOKUP('Copy your Raw data here'!E148,'Stroke Ready Hospital List'!A:B,1,FALSE)","v":{"$error":"#N/A"}},0,{"$f":"IF(OR(ISBLANK('Copy your Raw data here'!F148),('Copy your Raw data here'!F148=\"NO\")),0,1)","v":0},{"$f":"IF(ISBLANK('Copy your Raw data here'!G148),0,1)","v":0},{"$f":"IF(ISERROR(D149),'Copy your Raw data here'!E148,\"\")","v":0},"",null,null,{"$f":"HOUR('Copy your Raw data here'!B148)","v":0},{"$f":"HOUR('Copy your Raw data here'!C148)","v":0},{"$f":"MINUTE('Copy your Raw data here'!B148)","v":0},{"$f":"MINUTE('Copy your Raw data here'!C148)","v":0},{"$f":"('Copy your Raw data here'!C148-'Copy your Raw data here'!B148)*1440","v":0},60,0,null,null,{"$f":"HOUR('Copy your Raw data here'!G148)","v":0},{"$f":"HOUR('Copy your Raw data here'!H148)","v":0},{"$f":"MINUTE('Copy your Raw data here'!G148)","v":0},{"$f":"MINUTE('Copy your Raw data here'!H148)","v":0},{"$f":"('Copy your Raw data here'!H148-'Copy your Raw data here'!G148)*1440","v":0},1440,{"$f":"IF('Copy your Raw data here'!G148=\"\",\"\",IF(V149<U149,Z149,Y149))","v":""}]
[{"$f":"IF(ISBLANK('Copy your Raw data here'!A149),\"\",('Copy your Raw data here'!A149))","v":""},"",{"$f":"IF('Copy your Raw data here'!D149=\"YES\",1,0)","v":0},{"$f":"VLOOKUP('Copy your Raw data here'!E149,'Stroke Ready Hospital List'!A:B,1,FALSE)","v":{"$error":"#N/A"}},0,{"$f":"IF(OR(ISBLANK('Copy your Raw data here'!F149),('Copy your Raw data here'!F149=\"NO\")),0,1)","v":0},{"$f":"IF(ISBLANK('Copy your Raw data here'!G149),0,1)","v":0},{"$f":"IF(ISERROR(D150),'Copy your Raw data here'!E149,\"\")","v":0},"",null,null,{"$f":"HOUR('Copy your Raw data here'!B149)","v":0},{"$f":"HOUR('Copy your Raw data here'!C149)","v":0},{"$f":"MINUTE('Copy your Raw data here'!B149)","v":0},{"$f":"MINUTE('Copy your Raw data here'!C149)","v":0},{"$f":"('Copy your Raw data here'!C149-'Copy your Raw data here'!B149)*1440","v":0},60,0,null,null,{"$f":"HOUR('Copy your Raw data here'!G149)","v":0},{"$f":"HOUR('Copy your Raw data here'!H149)","v":0},{"$f":"MINUTE('Copy your Raw data here'!G149)","v":0},{"$f":"MINUTE('Copy your Raw data here'!H149)","v":0},{"$f":"('Copy your Raw data here'!H149-'Copy your Raw data here'!G149)*1440","v":0},1440,{"$f":"IF('Copy your Raw data here'!G149=\"\",\"\",IF(V150<U150,Z150,Y150))","v":""}]
[{"$f":"IF(ISBLANK('Copy your Raw data here'!A150),\"\",('Copy your Raw data here'!A150))","v":""},"",{"$f":"IF('Copy your Raw data here'!D150=\"YES\",1,0)","v":0},{"$f":"VLOOKUP('Copy your Raw data here'!E150,'Stroke Ready Hospital List'!A:B,1,FALSE)","v":{"$error":"#N/A"}},0,{"$f":"IF(OR(ISBLANK('Copy your Raw data here'!F150),('Copy your Raw data here'!F150=\"NO\")),0,1)","v":0},{"$f":"IF(ISBLANK('Copy your Raw data here'!G150),0,1)","v":0},{"$f":"IF(ISERROR(D151),'Copy your Raw data here'!E150,\"\")","v":0},"",null,null,{"$f":"HOUR('Copy your Raw data here'!B150)","v":0},{"$f":"HOUR('Copy your Raw data here'!C150)","v":0},{"$f":"MINUTE('Copy your Raw data here'!B150)","v":0},{"$f":"MINUTE('Copy your Raw data here'!C150)","v":0},{"$f":"('Copy your Raw data here'!C150-'Copy your Raw data here'!B150)*1440","v":0},60,0,null,null,{"$f":"HOUR('Copy your Raw data here'!G150)","v":0},{"$f":"HOUR('Copy your Raw data here'!H150)","v":0},{"$f":"MINUTE('Copy your Raw data here'!G150)","v":0},{"$f":"MINUTE('Copy your Raw data here'!H150)","v":0},{"$f":"('Copy your Raw data here'!H150-'Copy your Raw data here'!G150)*1440","v":0},1440,{"$f":"IF('Copy your Raw data here'!G150=\"\",\"\",IF(V151<U151,Z151,Y151))","v":""}]
[{"$f":"IF(ISBLANK('Copy your Raw data here'!A151),\"\",('Copy your Raw data here'!A151))","v":""},"",{"$f":"IF('Copy your Raw data here'!D151=\"YES\",1,0)","v":0},{"$f":"VLOOKUP('Copy your Raw data here'!E151,'Stroke Ready Hospital List'!A:B,1,FALSE)","v":{"$error":"#N/A"}},0,{"$f":"IF(OR(ISBLANK('Copy your Raw data here'!F151),('Copy your Raw data here'!F151=\"NO\")),0,1)","v":0},{"$f":"IF(ISBLANK('Copy your Raw data here'!G151),0,1)","v":0},{"$f":"IF(ISERROR(D152),'Copy your Raw data here'!E151,\"\")","v":0},"",null,null,{"$f":"HOUR('Copy your Raw data here'!B151)","v":0},{"$f":"HOUR('Copy your Raw data here'!C151)","v":0},{"$f":"MINUTE('Copy your Raw data here'!B151)","v":0},{"$f":"MINUTE('Copy your Raw data here'!C151)","v":0},{"$f":"('Copy your Raw data here'!C151-'Copy your Raw data here'!B151)*1440","v":0},60,0,null,null,{"$f":"HOUR('Copy your Raw data here'!G151)","v":0},{"$f":"HOUR('Copy your Raw data here'!H151)","v":0},{"$f":"MINUTE('Copy your Raw data here'!G151)","v":0},{"$f":"MINUTE('Copy your Raw data here'!H151)","v":0},{"$f":"('Copy your Raw data here'!H151-'Copy your Raw data here'!G151)*1440","v":0},1440,{"$f":"IF('Copy your Raw data here'!G151=\"\",\"\",IF(V152<U152,Z152,Y152))","v":""}]
[{"$f":"IF(ISBLANK('Copy your Raw data here'!A152),\"\",('Copy your Raw data here'!A152))","v":""},"",{"$f":"IF('Copy your Raw data here'!D152=\"YES\",1,0)","v":0},{"$f":"VLOOKUP('Copy your Raw data here'!E152,'Stroke Ready Hospital List'!A:B,1,FALSE)","v":{"$error":"#N/A"}},0,{"$f":"IF(OR(ISBLANK('Copy your Raw data here'!F152),('Copy your Raw data here'!F152=\"NO\")),0,1)","v":0},{"$f":"IF(ISBLANK('Copy your Raw data here'!G152),0,1)","v":0},{"$f":"IF(ISERROR(D153),'Copy your Raw data here'!E152,\"\")","v":0},"",null,null,{"$f":"HOUR('Copy your Raw data here'!B152)","v":0},{"$f":"HOUR('Copy your Raw data here'!C152)","v":0},{"$f":"MINUTE('Copy your Raw data here'!B152)","v":0},{"$f":"MINUTE('Copy your Raw data here'!C152)","v":0},{"$f":"('Copy your Raw data here'!C152-'Copy your Raw data here'!B152)*1440","v":0},60,0,null,null,{"$f":"HOUR('Copy your Raw data here'!G152)","v":0},{"$f":"HOUR('Copy your Raw data here'!H152)","v":0},{"$f":"MINUTE('Copy your Raw data here'!G152)","v":0},{"$f":"MINUTE('Copy your Raw data here'!H152)","v":0},{"$f":"('Copy your Raw data here'!H152-'Copy your Raw data here'!G152)*1440","v":0},1440,{"$f":"IF('Copy your Raw data here'!G152=\"\",\"\",IF(V153<U153,Z153,Y153))","v":""}]
[{"$f":"IF(ISBLANK('Copy your Raw data here'!A153),\"\",('Copy your Raw data here'!A153))","v":""},"",{"$f":"IF('Copy your Raw data here'!D153=\"YES\",1,0)","v":0},{"$f":"VLOOKUP('Copy your Raw data here'!E153,'Stroke Ready Hospital List'!A:B,1,FALSE)","v":{"$error":"#N/A"}},0,{"$f":"IF(OR(ISBLANK('Copy your Raw data here'!F153),('Copy your Raw data here'!F153=\"NO\")),0,1)","v":0},{"$f":"IF(ISBLANK('Copy your Raw data here'!G153),0,1)","v":0},{"$f":"IF(ISERROR(D154),'Copy your Raw data here'!E153,\"\")","v":0},"",null,null,{"$f":"HOUR('Copy your Raw data here'!B153)","v":0},{"$f":"HOUR('Copy your Raw data here'!C153)","v":0},{"$f":"MINUTE('Copy your Raw data here'!B153)","v":0},{"$f":"MINUTE('Copy your Raw data here'!C153)","v":0},{"$f":"('Copy your Raw data here'!C153-'Copy your Raw data here'!B153)*1440","v":0},60,0,null,null,{"$f":"HOUR('Copy your Raw data here'!G153)","v":0},{"$f":"HOUR('Copy your Raw data here'!H153)","v":0},{"$f":"MINUTE('Copy your Raw data here'!G153)","v":0},{"$f":"MINUTE('Copy your Raw data here'!H153)","v":0},{"$f":"('Copy your Raw data here'!H153-'Copy your Raw data here'!G153)*1440","v":0},1440,{"$f":"IF('Copy your Raw data here'!G153=\"\",\"\",IF(V154<U154,Z154,Y154))","v":""}]
[{"$f":"IF(ISBLANK('Copy your Raw data here'!A154),\"\",('Copy your Raw data here'!A154))","v":""},"",{"$f":"IF('Copy your Raw data here'!D154=\"YES\",1,0)","v":0},{"$f":"VLOOKUP('Copy your Raw data here'!E154,'Stroke Ready Hospital List'!A:B,1,FALSE)","v":{"$error":"#N/A"}},0,{"$f":"IF(OR(ISBLANK('Copy your Raw data here'!F154),('Copy your Raw data here'!F154=\"NO\")),0,1)","v":0},{"$f":"IF(ISBLANK('Copy your Raw data here'!G154),0,1)","v":0},{"$f":"IF(ISERROR(D155),'Copy your Raw data here'!E154,\"\")","v":0},"",null,null,{"$f":"HOUR('Copy your Raw data here'!B154)","v":0},{"$f":"HOUR('Copy your Raw data here'!C154)","v":0},{"$f":"MINUTE('Copy your Raw data here'!B154)","v":0},{"$f":"MINUTE('Copy your Raw data here'!C154)","v":0},{"$f":"('Copy your Raw data here'!C154-'Copy your Raw data here'!B154)*1440","v":0},60,0,null,null,{"$f":"HOUR('Copy your Raw data here'!G154)","v":0},{"$f":"HOUR('Copy your Raw data here'!H154)","v":0},{"$f":"MINUTE('Copy your Raw data here'!G154)","v":0},{"$f":"MINUTE('Copy your Raw data here'!H154)","v":0},{"$f":"('Copy your Raw data here'!H154-'Copy your Raw data here'!G154)*1440","v":0},1440,{"$f":"IF('Copy your Raw data here'!G154=\"\",\"\",IF(V155<U155,Z155,Y155))","v":""}]
[{"$f":"IF(ISBLANK('Copy your Raw data here'!A155),\"\",('Copy your Raw data here'!A155))","v":""},"",{"$f":"IF('Copy your Raw data here'!D155=\"YES\",1,0)","v":0},{"$f":"VLOOKUP('Copy your Raw data here'!E155,'Stroke Ready Hospital List'!A:B,1,FALSE)","v":{"$error":"#N/A"}},{"$f":"IF(ISERROR(D156),0,1)","v":0},{"$f":"IF(OR(ISBLANK('Copy your Raw data here'!F155),('Copy your Raw data here'!F155=\"NO\")),0,1)","v":0},{"$f":"IF(ISBLANK('Copy your Raw data here'!G155),0,1)","v":0},{"$f":"IF(ISERROR(D156),'Copy your Raw data here'!E155,\"\")","v":0},"",null,null,{"$f":"HOUR('Copy your Raw data here'!B155)","v":0},{"$f":"HOUR('Copy your Raw data here'!C155)","v":0},{"$f":"MINUTE('Copy your Raw data here'!B155)","v":0},{"$f":"MINUTE('Copy your Raw data here'!C155)","v":0},{"$f":"('Copy your Raw data here'!C155-'Copy your Raw data here'!B155)*1440","v":0},60,0,null,null,{"$f":"HOUR('Copy your Raw data here'!G155)","v":0},{"$f":"HOUR('Copy your Raw data here'!H155)","v":0},{"$f":"MINUTE('Copy your Raw data here'!G155)","v":0},{"$f":"MINUTE('Copy your Raw data here'!H155)","v":0},{"$f":"('Copy your Raw data here'!H155-'Copy your Raw data here'!G155)*1440","v":0},1440,{"$f":"IF('Copy your Raw data here'!G155=\"\",\"\",IF(V156<U156,Z156,Y156))","v":""}]
[{"$f":"IF(ISBLANK('Copy your Raw data here'!A156),\"\",('Copy your Raw data here'!A156))","v":""},"",{"$f":"IF('Copy your Raw data here'!D156=\"YES\",1,0)","v":0},{"$f":"VLOOKUP('Copy your Raw data here'!E156,'Stroke Ready Hospital List'!A:B,1,FALSE)","v":{"$error":"#N/A"}},0,{"$f":"IF(OR(ISBLANK('Copy your Raw data here'!F156),('Copy your Raw data here'!F156=\"NO\")),0,1)","v":0},{"$f":"IF(ISBLANK('Copy your Raw data here'!G156),0,1)","v":0},{"$f":"IF(ISERROR(D157),'Copy your Raw data here'!E156,\"\")","v":0},"",null,null,{"$f":"HOUR('Copy your Raw data here'!B156)","v":0},{"$f":"HOUR('Copy your Raw data here'!C156)","v":0},{"$f":"MINUTE('Copy your Raw data here'!B156)","v":0},{"$f":"MINUTE('Copy your Raw data here'!C156)","v":0},{"$f":"('Copy your Raw data here'!C156-'Copy your Raw data here'!B156)*1440","v":0},60,0,null,null,{"$f":"HOUR('Copy your Raw data here'!G156)","v":0},{"$f":"HOUR('Copy your Raw data here'!H156)","v":0},{"$f":"MINUTE('Copy your Raw data here'!G156)","v":0},{"$f":"MINUTE('Copy your Raw data here'!H156)","v":0},{"$f":"('Copy your Raw data here'!H156-'Copy your Raw data here'!G156)*1440","v":0},1440,{"$f":"IF('Copy your Raw data here'!G156=\"\",\"\",IF(V157<U157,Z157,Y157))","v":""}]
[{"$f":"IF(ISBLANK('Copy your Raw data here'!A157),\"\",('Copy your Raw data here'!A157))","v":""},"",{"$f":"IF('Copy your Raw data here'!D157=\"YES\",1,0)","v":0},{"$f":"VLOOKUP('Copy your Raw data here'!E157,'Stroke Ready Hospital List'!A:B,1,FALSE)","v":{"$error":"#N/A"}},0,{"$f":"IF(OR(ISBLANK('Copy your Raw data here'!F157),('Copy your Raw data here'!F157=\"NO\")),0,1)","v":0},{"$f":"IF(ISBLANK('Copy your Raw data here'!G157),0,1)","v":0},{"$f":"IF(ISERROR(D158),'Copy your Raw data here'!E157,\"\")","v":0},"",null,null,{"$f":"HOUR('Copy your Raw data here'!B157)","v":0},{"$f":"HOUR('Copy your Raw data here'!C157)","v":0},{"$f":"MINUTE('Copy your Raw data here'!B157)","v":0},{"$f":"MINUTE('Copy your Raw data here'!C157)","v":0},{"$f":"('Copy your Raw data here'!C157-'Copy your Raw data here'!B157)*1440","v":0},60,0,null,null,{"$f":"HOUR('Copy your Raw data here'!G157)","v":0},{"$f":"HOUR('Copy your Raw data here'!H157)","v":0},{"$f":"MINUTE('Copy your Raw data here'!G157)","v":0},{"$f":"MINUTE('Copy your Raw data here'!H157)","v":0},{"$f":"('Copy your Raw data here'!H157-'Copy your Raw data here'!G157)*1440","v":0},1440,{"$f":"IF('Copy your Raw data here'!G157=\"\",\"\",IF(V158<U158,Z158,Y158))","v":""}]
[{"$f":"IF(ISBLANK('Copy your Raw data here'!A158),\"\",('Copy your Raw data here'!A158))","v":""},"",{"$f":"IF('Copy your Raw data here'!D158=\"YES\",1,0)","v":0},{"$f":"VLOOKUP('Copy your Raw data here'!E158,'Stroke Ready Hospital List'!A:B,1,FALSE)","v":{"$error":"#N/A"}},0,{"$f":"IF(OR(ISBLANK('Copy your Raw data here'!F158),('Copy your Raw data here'!F158=\"NO\")),0,1)","v":0},{"$f":"IF(ISBLANK('Copy your Raw data here'!G158),0,1)","v":0},{"$f":"IF(ISERROR(D159),'Copy your Raw data here'!E158,\"\")","v":0},"",null,null,{"$f":"HOUR('Copy your Raw data here'!B158)","v":0},{"$f":"HOUR('Copy your Raw data here'!C158)","v":0},{"$f":"MINUTE('Copy your Raw data here'!B158)","v":0},{"$f":"MINUTE('Copy your Raw data here'!C158)","v":0},{"$f":"('Copy your Raw data here'!C158-'Copy your Raw data here'!B158)*1440","v":0},60,0,null,null,{"$f":"HOUR('Copy your Raw data here'!G158)","v":0},{"$f":"HOUR('Copy your Raw data here'!H158)","v":0},{"$f":"MINUTE('Copy your Raw data here'!G158)","v":0},{"$f":"MINUTE('Copy your Raw data here'!H158)","v":0},{"$f":"('Copy your Raw data here'!H158-'Copy your Raw data here'!G158)*1440","v":0},1440,{"$f":"IF('Copy your Raw data here'!G158=\"\",\"\",IF(V159<U159,Z159,Y159))","v":""}]
[{"$f":"IF(ISBLANK('Copy your Raw data here'!A159),\"\",('Copy your Raw data here'!A159))","v":""},"",{"$f":"IF('Copy your Raw data here'!D159=\"YES\",1,0)","v":0},{"$f":"VLOOKUP('Copy your Raw data here'!E159,'Stroke Ready Hospital List'!A:B,1,FALSE)","v":{"$error":"#N/A"}},0,{"$f":"IF(OR(ISBLANK('Copy your Raw data here'!F159),('Copy your Raw data here'!F159=\"NO\")),0,1)","v":0},{"$f":"IF(ISBLANK('Copy your Raw data here'!G159),0,1)","v":0},{"$f":"IF(ISERROR(D160),'Copy your Raw data here'!E159,\"\")","v":0},"",null,null,{"$f":"HOUR('Copy your Raw data here'!B159)","v":0},{"$f":"HOUR('Copy your Raw data here'!C159)","v":0},{"$f":"MINUTE('Copy your Raw data here'!B159)","v":0},{"$f":"MINUTE('Copy your Raw data here'!C159)","v":0},{"$f":"('Copy your Raw data here'!C159-'Copy your Raw data here'!B159)*1440","v":0},60,0,null,null,{"$f":"HOUR('Copy your Raw data here'!G159)","v":0},{"$f":"HOUR('Copy your Raw data here'!H159)","v":0},{"$f":"MINUTE('Copy your Raw data here'!G159)","v":0},{"$f":"MINUTE('Copy your Raw data here'!H159)","v":0},{"$f":"('Copy your Raw data here'!H159-'Copy your Raw data here'!G159)*1440","v":0},1440,{"$f":"IF('Copy your Raw data here'!G159=\"\",\"\",IF(V160<U160,Z160,Y160))","v":""}]
[{"$f":"IF(ISBLANK('Copy your Raw data here'!A160),\"\",('Copy your Raw data here'!A160))","v":""},"",{"$f":"IF('Copy your Raw data here'!D160=\"YES\",1,0)","v":0},{"$f":"VLOOKUP('Copy your Raw data here'!E160,'Stroke Ready Hospital List'!A:B,1,FALSE)","v":{"$error":"#N/A"}},0,{"$f":"IF(OR(ISBLANK('Copy your Raw data here'!F160),('Copy your Raw data here'!F160=\"NO\")),0,1)","v":0},{"$f":"IF(ISBLANK('Copy your Raw data here'!G160),0,1)","v":0},{"$f":"IF(ISERROR(D161),'Copy your Raw data here'!E160,\"\")","v":0},"",null,null,{"$f":"HOUR('Copy your Raw data here'!B160)","v":0},{"$f":"HOUR('Copy your Raw data here'!C160)","v":0},{"$f":"MINUTE('Copy your Raw data here'!B160)","v":0},{"$f":"MINUTE('Copy your Raw data here'!C160)","v":0},{"$f":"('Copy your Raw data here'!C160-'Copy your Raw data here'!B160)*1440","v":0},60,0,null,null,{"$f":"HOUR('Copy your Raw data here'!G160)","v":0},{"$f":"HOUR('Copy your Raw data here'!H160)","v":0},{"$f":"MINUTE('Copy your Raw data here'!G160)","v":0},{"$f":"MINUTE('Copy your Raw data here'!H160)","v":0},{"$f":"('Copy your Raw data here'!H160-'Copy your Raw data here'!G160)*1440","v":0},1440,{"$f":"IF('Copy your Raw data here'!G160=\"\",\"\",IF(V161<U161,Z161,Y161))","v":""}]
[{"$f":"IF(ISBLANK('Copy your Raw data here'!A161),\"\",('Copy your Raw data here'!A161))","v":""},"",{"$f":"IF('Copy your Raw data here'!D161=\"YES\",1,0)","v":0},{"$f":"VLOOKUP('Copy your Raw data here'!E161,'Stroke Ready Hospital List'!A:B,1,FALSE)","v":{"$error":"#N/A"}},0,{"$f":"IF(OR(ISBLANK('Copy your Raw data here'!F161),('Copy your Raw data here'!F161=\"NO\")),0,1)","v":0},{"$f":"IF(ISBLANK('Copy your Raw data here'!G161),0,1)","v":0},{"$f":"IF(ISERROR(D162),'Copy your Raw data here'!E161,\"\")","v":0},"",null,null,{"$f":"HOUR('Copy your Raw data here'!B161)","v":0},{"$f":"HOUR('Copy your Raw data here'!C161)","v":0},{"$f":"MINUTE('Copy your Raw data here'!B161)","v":0},{"$f":"MINUTE('Copy your Raw data here'!C161)","v":0},{"$f":"('Copy your Raw data here'!C161-'Copy your Raw data here'!B161)*1440","v":0},60,0,null,null,{"$f":"HOUR('Copy your Raw data here'!G161)","v":0},{"$f":"HOUR('Copy your Raw data here'!H161)","v":0},{"$f":"MINUTE('Copy your Raw data here'!G161)","v":0},{"$f":"MINUTE('Copy your Raw data here'!H161)","v":0},{"$f":"('Copy your Raw data here'!H161-'Copy your Raw data here'!G161)*1440","v":0},1440,{"$f":"IF('Copy your Raw data here'!G161=\"\",\"\",IF(V162<U162,Z162,Y162))","v":""}]
[{"$f":"IF(ISBLANK('Copy your Raw data here'!A162),\"\",('Copy your Raw data here'!A162))","v":""},"",{"$f":"IF('Copy your Raw data here'!D162=\"YES\",1,0)","v":0},{"$f":"VLOOKUP('Copy your Raw data here'!E162,'Stroke Ready Hospital List'!A:B,1,FALSE)","v":{"$error":"#N/A"}},0,{"$f":"IF(OR(ISBLANK('Copy your Raw data here'!F162),('Copy your Raw data here'!F162=\"NO\")),0,1)","v":0},{"$f":"IF(ISBLANK('Copy your Raw data here'!G162),0,1)","v":0},{"$f":"IF(ISERROR(D163),'Copy your Raw data here'!E162,\"\")","v":0},"",null,null,{"$f":"HOUR('Copy your Raw data here'!B162)","v":0},{"$f":"HOUR('Copy your Raw data here'!C162)","v":0},{"$f":"MINUTE('Copy your Raw data here'!B162)","v":0},{"$f":"MINUTE('Copy your Raw data here'!C162)","v":0},{"$f":"('Copy your Raw data here'!C162-'Copy your Raw data here'!B162)*1440","v":0},60,0,null,null,{"$f":"HOUR('Copy your Raw data here'!G162)","v":0},{"$f":"HOUR('Copy your Raw data here'!H162)","v":0},{"$f":"MINUTE('Copy your Raw data here'!G162)","v":0},{"$f":"MINUTE('Copy your Raw data here'!H162)","v":0},{"$f":"('Copy your Raw data here'!H162-'Copy your Raw data here'!G162)*1440","v":0},1440,{"$f":"IF('Copy your Raw data here'!G162=\"\",\"\",IF(V163<U163,Z163,Y163))","v":""}]
[{"$f":"IF(ISBLANK('Copy your Raw data here'!A163),\"\",('Copy your Raw data here'!A163))","v":""},"",{"$f":"IF('Copy your Raw data here'!D163=\"YES\",1,0)","v":0},{"$f":"VLOOKUP('Copy your Raw data here'!E163,'Stroke Ready Hospital List'!A:B,1,FALSE)","v":{"$error":"#N/A"}},0,{"$f":"IF(OR(ISBLANK('Copy your Raw data here'!F163),('Copy your Raw data here'!F163=\"NO\")),0,1)","v":0},{"$f":"IF(ISBLANK('Copy your Raw data here'!G163),0,1)","v":0},{"$f":"IF(ISERROR(D164),'Copy your Raw data here'!E163,\"\")","v":0},"",null,null,{"$f":"HOUR('Copy your Raw data here'!B163)","v":0},{"$f":"HOUR('Copy your Raw data here'!C163)","v":0},{"$f":"MINUTE('Copy your Raw data here'!B163)","v":0},{"$f":"MINUTE('Copy your Raw data here'!C163)","v":0},{"$f":"('Copy your Raw data here'!C163-'Copy your Raw data here'!B163)*1440","v":0},60,0,null,null,{"$f":"HOUR('Copy your Raw data here'!G163)","v":0},{"$f":"HOUR('Copy your Raw data here'!H163)","v":0},{"$f":"MINUTE('Copy your Raw data here'!G163)","v":0},{"$f":"MINUTE('Copy your Raw data here'!H163)","v":0},{"$f":"('Copy your Raw data here'!H163-'Copy your Raw data here'!G163)*1440","v":0},1440,{"$f":"IF('Copy your Raw data here'!G163=\"\",\"\",IF(V164<U164,Z164,Y164))","v":""}]
[{"$f":"IF(ISBLANK('Copy your Raw data here'!A164),\"\",('Copy your Raw data here'!A164))","v":""},"",{"$f":"IF('Copy your Raw data here'!D164=\"YES\",1,0)","v":0},{"$f":"VLOOKUP('Copy your Raw data here'!E164,'Stroke Ready Hospital List'!A:B,1,FALSE)","v":{"$error":"#N/A"}},0,{"$f":"IF(OR(ISBLANK('Copy your Raw data here'!F164),('Copy your Raw data here'!F164=\"NO\")),0,1)","v":0},{"$f":"IF(ISBLANK('Copy your Raw data here'!G164),0,1)","v":0},{"$f":"IF(ISERROR(D165),'Copy your Raw data here'!E164,\"\")","v":0},"",null,null,{"$f":"HOUR('Copy your Raw data here'!B164)","v":0},{"$f":"HOUR('Copy your Raw data here'!C164)","v":0},{"$f":"MINUTE('Copy your Raw data here'!B164)","v":0},{"$f":"MINUTE('Copy your Raw data here'!C164)","v":0},{"$f":"('Copy your Raw data here'!C164-'Copy your Raw data here'!B164)*1440","v":0},60,0,null,null,{"$f":"HOUR('Copy your Raw data here'!G164)","v":0},{"$f":"HOUR('Copy your Raw data here'!H164)","v":0},{"$f":"MINUTE('Copy your Raw data here'!G164)","v":0},{"$f":"MINUTE('Copy your Raw data here'!H164)","v":0},{"$f":"('Copy your Raw data here'!H164-'Copy your Raw data here'!G164)*1440","v":0},1440,{"$f":"IF('Copy your Raw data here'!G164=\"\",\"\",IF(V165<U165,Z165,Y165))","v":""}]
[{"$f":"IF(ISBLANK('Copy your Raw data here'!A165),\"\",('Copy your Raw data here'!A165))","v":""},"",{"$f":"IF('Copy your Raw data here'!D165=\"YES\",1,0)","v":0},{"$f":"VLOOKUP('Copy your Raw data here'!E165,'Stroke Ready Hospital List'!A:B,1,FALSE)","v":{"$error":"#N/A"}},0,{"$f":"IF(OR(ISBLANK('Copy your Raw data here'!F165),('Copy your Raw data here'!F165=\"NO\")),0,1)","v":0},{"$f":"IF(ISBLANK('Copy your Raw data here'!G165),0,1)","v":0},{"$f":"IF(ISERROR(D166),'Copy your Raw data here'!E165,\"\")","v":0},"",null,null,{"$f":"HOUR('Copy your Raw data here'!B165)","v":0},{"$f":"HOUR('Copy your Raw data here'!C165)","v":0},{"$f":"MINUTE('Copy your Raw data here'!B165)","v":0},{"$f":"MINUTE('Copy your Raw data here'!C165)","v":0},{"$f":"('Copy your Raw data here'!C165-'Copy your Raw data here'!B165)*1440","v":0},60,0,null,null,{"$f":"HOUR('Copy your Raw data here'!G165)","v":0},{"$f":"HOUR('Copy your Raw data here'!H165)","v":0},{"$f":"MINUTE('Copy your Raw data here'!G165)","v":0},{"$f":"MINUTE('Copy your Raw data here'!H165)","v":0},{"$f":"('Copy your Raw data here'!H165-'Copy your Raw data here'!G165)*1440","v":0},1440,{"$f":"IF('Copy your Raw data here'!G165=\"\",\"\",IF(V166<U166,Z166,Y166))","v":""}]
[{"$f":"IF(ISBLANK('Copy your Raw data here'!A166),\"\",('Copy your Raw data here'!A166))","v":""},"",{"$f":"IF('Copy your Raw data here'!D166=\"YES\",1,0)","v":0},{"$f":"VLOOKUP('Copy your Raw data here'!E166,'Stroke Ready Hospital List'!A:B,1,FALSE)","v":{"$error":"#N/A"}},0,{"$f":"IF(OR(ISBLANK('Copy your Raw data here'!F166),('Copy your Raw data here'!F166=\"NO\")),0,1)","v":0},{"$f":"IF(ISBLANK('Copy your Raw data here'!G166),0,1)","v":0},{"$f":"IF(ISERROR(D167),'Copy your Raw data here'!E166,\"\")","v":0},"",null,null,{"$f":"HOUR('Copy your Raw data here'!B166)","v":0},{"$f":"HOUR('Copy your Raw data here'!C166)","v":0},{"$f":"MINUTE('Copy your Raw data here'!B166)","v":0},{"$f":"MINUTE('Copy your Raw data here'!C166)","v":0},{"$f":"('Copy your Raw data here'!C166-'Copy your Raw data here'!B166)*1440","v":0},60,0,null,null,{"$f":"HOUR('Copy your Raw data here'!G166)","v":0},{"$f":"HOUR('Copy your Raw data here'!H166)","v":0},{"$f":"MINUTE('Copy your Raw data here'!G166)","v":0},{"$f":"MINUTE('Copy your Raw data here'!H166)","v":0},{"$f":"('Copy your Raw data here'!H166-'Copy your Raw data here'!G166)*1440","v":0},1440,{"$f":"IF('Copy your Raw data here'!G166=\"\",\"\",IF(V167<U167,Z167,Y167))","v":""}]
[{"$f":"IF(ISBLANK('Copy your Raw data here'!A167),\"\",('Copy your Raw data here'!A167))","v":""},"",{"$f":"IF('Copy your Raw data here'!D167=\"YES\",1,0)","v":0},{"$f":"VLOOKUP('Copy your Raw data here'!E167,'Stroke Ready Hospital List'!A:B,1,FALSE)","v":{"$error":"#N/A"}},0,{"$f":"IF(OR(ISBLANK('Copy your Raw data here'!F167),('Copy your Raw data here'!F167=\"NO\")),0,1)","v":0},{"$f":"IF(ISBLANK('Copy your Raw data here'!G167),0,1)","v":0},{"$f":"IF(ISERROR(D168),'Copy your Raw data here'!E167,\"\")","v":0},"",null,null,{"$f":"HOUR('Copy your Raw data here'!B167)","v":0},{"$f":"HOUR('Copy your Raw data here'!C167)","v":0},{"$f":"MINUTE('Copy your Raw data here'!B167)","v":0},{"$f":"MINUTE('Copy your Raw data here'!C167)","v":0},{"$f":"('Copy your Raw data here'!C167-'Copy your Raw data here'!B167)*1440","v":0},60,0,null,null,{"$f":"HOUR('Copy your Raw data here'!G167)","v":0},{"$f":"HOUR('Copy your Raw data here'!H167)","v":0},{"$f":"MINUTE('Copy your Raw data here'!G167)","v":0},{"$f":"MINUTE('Copy your Raw data here'!H167)","v":0},{"$f":"('Copy your Raw data here'!H167-'Copy your Raw data here'!G167)*1440","v":0},1440,{"$f":"IF('Copy your Raw data here'!G167=\"\",\"\",IF(V168<U168,Z168,Y168))","v":""}]
[{"$f":"IF(ISBLANK('Copy your Raw data here'!A168),\"\",('Copy your Raw data here'!A168))","v":""},"",{"$f":"IF('Copy your Raw data here'!D168=\"YES\",1,0)","v":0},{"$f":"VLOOKUP('Copy your Raw data here'!E168,'Stroke Ready Hospital List'!A:B,1,FALSE)","v":{"$error":"#N/A"}},0,{"$f":"IF(OR(ISBLANK('Copy your Raw data here'!F168),('Copy your Raw data here'!F168=\"NO\")),0,1)","v":0},{"$f":"IF(ISBLANK('Copy your Raw data here'!G168),0,1)","v":0},{"$f":"IF(ISERROR(D169),'Copy your Raw data here'!E168,\"\")","v":0},"",null,null,{"$f":"HOUR('Copy your Raw data here'!B168)","v":0},{"$f":"HOUR('Copy your Raw data here'!C168)","v":0},{"$f":"MINUTE('Copy your Raw data here'!B168)","v":0},{"$f":"MINUTE('Copy your Raw data here'!C168)","v":0},{"$f":"('Copy your Raw data here'!C168-'Copy your Raw data here'!B168)*1440","v":0},60,0,null,null,{"$f":"HOUR('Copy your Raw data here'!G168)","v":0},{"$f":"HOUR('Copy your Raw data here'!H168)","v":0},{"$f":"MINUTE('Copy your Raw data here'!G168)","v":0},{"$f":"MINUTE('Copy your Raw data here'!H168)","v":0},{"$f":"('Copy your Raw data here'!H168-'Copy your Raw data here'!G168)*1440","v":0},1440,{"$f":"IF('Copy your Raw data here'!G168=\"\",\"\",IF(V169<U169,Z169,Y169))","v":""}]
[{"$f":"IF(ISBLANK('Copy your Raw data here'!A169),\"\",('Copy your Raw data here'!A169))","v":""},"",{"$f":"IF('Copy your Raw data here'!D169=\"YES\",1,0)","v":0},{"$f":"VLOOKUP('Copy your Raw data here'!E169,'Stroke Ready Hospital List'!A:B,1,FALSE)","v":{"$error":"#N/A"}},0,{"$f":"IF(OR(ISBLANK('Copy your Raw data here'!F169),('Copy your Raw data here'!F169=\"NO\")),0,1)","v":0},{"$f":"IF(ISBLANK('Copy your Raw data here'!G169),0,1)","v":0},{"$f":"IF(ISERROR(D170),'Copy your Raw data here'!E169,\"\")","v":0},"",null,null,{"$f":"HOUR('Copy your Raw data here'!B169)","v":0},{"$f":"HOUR('Copy your Raw data here'!C169)","v":0},{"$f":"MINUTE('Copy your Raw data here'!B169)","v":0},{"$f":"MINUTE('Copy your Raw data here'!C169)","v":0},{"$f":"('Copy your Raw data here'!C169-'Copy your Raw data here'!B169)*1440","v":0},60,0,null,null,{"$f":"HOUR('Copy your Raw data here'!G169)","v":0},{"$f":"HOUR('Copy your Raw data here'!H169)","v":0},{"$f":"MINUTE('Copy your Raw data here'!G169)","v":0},{"$f":"MINUTE('Copy your Raw data here'!H169)","v":0},{"$f":"('Copy your Raw data here'!H169-'Copy your Raw data here'!G169)*1440","v":0},1440,{"$f":"IF('Copy your Raw data here'!G169=\"\",\"\",IF(V170<U170,Z170,Y170))","v":""}]
[{"$f":"IF(ISBLANK('Copy your Raw data here'!A170),\"\",('Copy your Raw data here'!A170))","v":""},"",{"$f":"IF('Copy your Raw data here'!D170=\"YES\",1,0)","v":0},{"$f":"VLOOKUP('Copy your Raw data here'!E170,'Stroke Ready Hospital List'!A:B,1,FALSE)","v":{"$error":"#N/A"}},0,{"$f":"IF(OR(ISBLANK('Copy your Raw data here'!F170),('Copy your Raw data here'!F170=\"NO\")),0,1)","v":0},{"$f":"IF(ISBLANK('Copy your Raw data here'!G170),0,1)","v":0},{"$f":"IF(ISERROR(D171),'Copy your Raw data here'!E170,\"\")","v":0},"",null,null,{"$f":"HOUR('Copy your Raw data here'!B170)","v":0},{"$f":"HOUR('Copy your Raw data here'!C170)","v":0},{"$f":"MINUTE('Copy your Raw data here'!B170)","v":0},{"$f":"MINUTE('Copy your Raw data here'!C170)","v":0},{"$f":"('Copy your Raw data here'!C170-'Copy your Raw data here'!B170)*1440","v":0},60,0,null,null,{"$f":"HOUR('Copy your Raw data here'!G170)","v":0},{"$f":"HOUR('Copy your Raw data here'!H170)","v":0},{"$f":"MINUTE('Copy your Raw data here'!G170)","v":0},{"$f":"MINUTE('Copy your Raw data here'!H170)","v":0},{"$f":"('Copy your Raw data here'!H170-'Copy your Raw data here'!G170)*1440","v":0},1440,{"$f":"IF('Copy your Raw data here'!G170=\"\",\"\",IF(V171<U171,Z171,Y171))","v":""}]
[{"$f":"IF(ISBLANK('Copy your Raw data here'!A171),\"\",('Copy your Raw data here'!A171))","v":""},"",{"$f":"IF('Copy your Raw data here'!D171=\"YES\",1,0)","v":0},{"$f":"VLOOKUP('Copy your Raw data here'!E171,'Stroke Ready Hospital List'!A:B,1,FALSE)","v":{"$error":"#N/A"}},0,{"$f":"IF(OR(ISBLANK('Copy your Raw data here'!F171),('Copy your Raw data here'!F171=\"NO\")),0,1)","v":0},{"$f":"IF(ISBLANK('Copy your Raw data here'!G171),0,1)","v":0},{"$f":"IF(ISERROR(D172),'Copy your Raw data here'!E171,\"\")","v":0},"",null,null,{"$f":"HOUR('Copy your Raw data here'!B171)","v":0},{"$f":"HOUR('Copy your Raw data here'!C171)","v":0},{"$f":"MINUTE('Copy your Raw data here'!B171)","v":0},{"$f":"MINUTE('Copy your Raw data here'!C171)","v":0},{"$f":"('Copy your Raw data here'!C171-'Copy your Raw data here'!B171)*1440","v":0},60,0,null,null,{"$f":"HOUR('Copy your Raw data here'!G171)","v":0},{"$f":"HOUR('Copy your Raw data here'!H171)","v":0},{"$f":"MINUTE('Copy your Raw data here'!G171)","v":0},{"$f":"MINUTE('Copy your Raw data here'!H171)","v":0},{"$f":"('Copy your Raw data here'!H171-'Copy your Raw data here'!G171)*1440","v":0},1440,{"$f":"IF('Copy your Raw data here'!G171=\"\",\"\",IF(V172<U172,Z172,Y172))","v":""}]
[{"$f":"IF(ISBLANK('Copy your Raw data here'!A172),\"\",('Copy your Raw data here'!A172))","v":""},"",{"$f":"IF('Copy your Raw data here'!D172=\"YES\",1,0)","v":0},{"$f":"VLOOKUP('Copy your Raw data here'!E172,'Stroke Ready Hospital List'!A:B,1,FALSE)","v":{"$error":"#N/A"}},0,{"$f":"IF(OR(ISBLANK('Copy your Raw data here'!F172),('Copy your Raw data here'!F172=\"NO\")),0,1)","v":0},{"$f":"IF(ISBLANK('Copy your Raw data here'!G172),0,1)","v":0},{"$f":"IF(ISERROR(D173),'Copy your Raw data here'!E172,\"\")","v":0},"",null,null,{"$f":"HOUR('Copy your Raw data here'!B172)","v":0},{"$f":"HOUR('Copy your Raw data here'!C172)","v":0},{"$f":"MINUTE('Copy your Raw data here'!B172)","v":0},{"$f":"MINUTE('Copy your Raw data here'!C172)","v":0},{"$f":"('Copy your Raw data here'!C172-'Copy your Raw data here'!B172)*1440","v":0},60,0,null,null,{"$f":"HOUR('Copy your Raw data here'!G172)","v":0},{"$f":"HOUR('Copy your Raw data here'!H172)","v":0},{"$f":"MINUTE('Copy your Raw data here'!G172)","v":0},{"$f":"MINUTE('Copy your Raw data here'!H172)","v":0},{"$f":"('Copy your Raw data here'!H172-'Copy your Raw data here'!G172)*1440","v":0},1440,{"$f":"IF('Copy your Raw data here'!G172=\"\",\"\",IF(V173<U173,Z173,Y173))","v":""}]
[{"$f":"IF(ISBLANK('Copy your Raw data here'!A173),\"\",('Copy your Raw data here'!A173))","v":""},"",{"$f":"IF('Copy your Raw data here'!D173=\"YES\",1,0)","v":0},{"$f":"VLOOKUP('Copy your Raw data here'!E173,'Stroke Ready Hospital List'!A:B,1,FALSE)","v":{"$error":"#N/A"}},0,{"$f":"IF(OR(ISBLANK('Copy your Raw data here'!F173),('Copy your Raw data here'!F173=\"NO\")),0,1)","v":0},{"$f":"IF(ISBLANK('Copy your Raw data here'!G173),0,1)","v":0},{"$f":"IF(ISERROR(D174),'Copy your Raw data here'!E173,\"\")","v":0},"",null,null,{"$f":"HOUR('Copy your Raw data here'!B173)","v":0},{"$f":"HOUR('Copy your Raw data here'!C173)","v":0},{"$f":"MINUTE('Copy your Raw data here'!B173)","v":0},{"$f":"MINUTE('Copy your Raw data here'!C173)","v":0},{"$f":"('Copy your Raw data here'!C173-'Copy your Raw data here'!B173)*1440","v":0},60,0,null,null,{"$f":"HOUR('Copy your Raw data here'!G173)","v":0},{"$f":"HOUR('Copy your Raw data here'!H173)","v":0},{"$f":"MINUTE('Copy your Raw data here'!G173)","v":0},{"$f":"MINUTE('Copy your Raw data here'!H173)","v":0},{"$f":"('Copy your Raw data here'!H173-'Copy your Raw data here'!G173)*1440","v":0},1440,{"$f":"IF('Copy your Raw data here'!G173=\"\",\"\",IF(V174<U174,Z174,Y174))","v":""}]
[{"$f":"IF(ISBLANK('Copy your Raw data here'!A174),\"\",('Copy your Raw data here'!A174))","v":""},"",{"$f":"IF('Copy your Raw data here'!D174=\"YES\",1,0)","v":0},{"$f":"VLOOKUP('Copy your Raw data here'!E174,'Stroke Ready Hospital List'!A:B,1,FALSE)","v":{"$error":"#N/A"}},0,{"$f":"IF(OR(ISBLANK('Copy your Raw data here'!F174),('Copy your Raw data here'!F174=\"NO\")),0,1)","v":0},{"$f":"IF(ISBLANK('Copy your Raw data here'!G174),0,1)","v":0},{"$f":"IF(ISERROR(D175),'Copy your Raw data here'!E174,\"\")","v":0},"",null,null,{"$f":"HOUR('Copy your Raw data here'!B174)","v":0},{"$f":"HOUR('Copy your Raw data here'!C174)","v":0},{"$f":"MINUTE('Copy your Raw data here'!B174)","v":0},{"$f":"MINUTE('Copy your Raw data here'!C174)","v":0},{"$f":"('Copy your Raw data here'!C174-'Copy your Raw data here'!B174)*1440","v":0},60,0,null,null,{"$f":"HOUR('Copy your Raw data here'!G174)","v":0},{"$f":"HOUR('Copy your Raw data here'!H174)","v":0},{"$f":"MINUTE('Copy your Raw data here'!G174)","v":0},{"$f":"MINUTE('Copy your Raw data here'!H174)","v":0},{"$f":"('Copy your Raw data here'!H174-'Copy your Raw data here'!G174)*1440","v":0},1440,{"$f":"IF('Copy your Raw data here'!G174=\"\",\"\",IF(V175<U175,Z175,Y175))","v":""}]
[{"$f":"IF(ISBLANK('Copy your Raw data here'!A175),\"\",('Copy your Raw data here'!A175))","v":""},"",{"$f":"IF('Copy your Raw data here'!D175=\"YES\",1,0)","v":0},{"$f":"VLOOKUP('Copy your Raw data here'!E175,'Stroke Ready Hospital List'!A:B,1,FALSE)","v":{"$error":"#N/A"}},0,{"$f":"IF(OR(ISBLANK('Copy your Raw data here'!F175),('Copy your Raw data here'!F175=\"NO\")),0,1)","v":0},{"$f":"IF(ISBLANK('Copy your Raw data here'!G175),0,1)","v":0},{"$f":"IF(ISERROR(D176),'Copy your Raw data here'!E175,\"\")","v":0},"",null,null,{"$f":"HOUR('Copy your Raw data here'!B175)","v":0},{"$f":"HOUR('Copy your Raw data here'!C175)","v":0},{"$f":"MINUTE('Copy your Raw data here'!B175)","v":0},{"$f":"MINUTE('Copy your Raw data here'!C175)","v":0},{"$f":"('Copy your Raw data here'!C175-'Copy your Raw data here'!B175)*1440","v":0},60,0,null,null,{"$f":"HOUR('Copy your Raw data here'!G175)","v":0},{"$f":"HOUR('Copy your Raw data here'!H175)","v":0},{"$f":"MINUTE('Copy your Raw data here'!G175)","v":0},{"$f":"MINUTE('Copy your Raw data here'!H175)","v":0},{"$f":"('Copy your Raw data here'!H175-'Copy your Raw data here'!G175)*1440","v":0},1440,{"$f":"IF('Copy your Raw data here'!G175=\"\",\"\",IF(V176<U176,Z176,Y176))","v":""}]
[{"$f":"IF(ISBLANK('Copy your Raw data here'!A176),\"\",('Copy your Raw data here'!A176))","v":""},"",{"$f":"IF('Copy your Raw data here'!D176=\"YES\",1,0)","v":0},{"$f":"VLOOKUP('Copy your Raw data here'!E176,'Stroke Ready Hospital List'!A:B,1,FALSE)","v":{"$error":"#N/A"}},0,{"$f":"IF(OR(ISBLANK('Copy your Raw data here'!F176),('Copy your Raw data here'!F176=\"NO\")),0,1)","v":0},{"$f":"IF(ISBLANK('Copy your Raw data here'!G176),0,1)","v":0},{"$f":"IF(ISERROR(D177),'Copy your Raw data here'!E176,\"\")","v":0},"",null,null,{"$f":"HOUR('Copy your Raw data here'!B176)","v":0},{"$f":"HOUR('Copy your Raw data here'!C176)","v":0},{"$f":"MINUTE('Copy your Raw data here'!B176)","v":0},{"$f":"MINUTE('Copy your Raw data here'!C176)","v":0},{"$f":"('Copy your Raw data here'!C176-'Copy your Raw data here'!B176)*1440","v":0},60,0,null,null,{"$f":"HOUR('Copy your Raw data here'!G176)","v":0},{"$f":"HOUR('Copy your Raw data here'!H176)","v":0},{"$f":"MINUTE('Copy your Raw data here'!G176)","v":0},{"$f":"MINUTE('Copy your Raw data here'!H176)","v":0},{"$f":"('Copy your Raw data here'!H176-'Copy your Raw data here'!G176)*1440","v":0},1440,{"$f":"IF('Copy your Raw data here'!G176=\"\",\"\",IF(V177<U177,Z177,Y177))","v":""}]
[{"$f":"IF(ISBLANK('Copy your Raw data here'!A177),\"\",('Copy your Raw data here'!A177))","v":""},"",{"$f":"IF('Copy your Raw data here'!D177=\"YES\",1,0)","v":0},{"$f":"VLOOKUP('Copy your Raw data here'!E177,'Stroke Ready Hospital List'!A:B,1,FALSE)","v":{"$error":"#N/A"}},0,{"$f":"IF(OR(ISBLANK('Copy your Raw data here'!F177),('Copy your Raw data here'!F177=\"NO\")),0,1)","v":0},{"$f":"IF(ISBLANK('Copy your Raw data here'!G177),0,1)","v":0},{"$f":"IF(ISERROR(D178),'Copy your Raw data here'!E177,\"\")","v":0},"",null,null,{"$f":"HOUR('Copy your Raw data here'!B177)","v":0},{"$f":"HOUR('Copy your Raw data here'!C177)","v":0},{"$f":"MINUTE('Copy your Raw data here'!B177)","v":0},{"$f":"MINUTE('Copy your Raw data here'!C177)","v":0},{"$f":"('Copy your Raw data here'!C177-'Copy your Raw data here'!B177)*1440","v":0},60,0,null,null,{"$f":"HOUR('Copy your Raw data here'!G177)","v":0},{"$f":"HOUR('Copy your Raw data here'!H177)","v":0},{"$f":"MINUTE('Copy your Raw data here'!G177)","v":0},{"$f":"MINUTE('Copy your Raw data here'!H177)","v":0},{"$f":"('Copy your Raw data here'!H177-'Copy your Raw data here'!G177)*1440","v":0},1440,{"$f":"IF('Copy your Raw data here'!G177=\"\",\"\",IF(V178<U178,Z178,Y178))","v":""}]
[{"$f":"IF(ISBLANK('Copy your Raw data here'!A178),\"\",('Copy your Raw data here'!A178))","v":""},"",{"$f":"IF('Copy your Raw data here'!D178=\"YES\",1,0)","v":0},{"$f":"VLOOKUP('Copy your Raw data here'!E178,'Stroke Ready Hospital List'!A:B,1,FALSE)","v":{"$error":"#N/A"}},0,{"$f":"IF(OR(ISBLANK('Copy your Raw data here'!F178),('Copy your Raw data here'!F178=\"NO\")),0,1)","v":0},{"$f":"IF(ISBLANK('Copy your Raw data here'!G178),0,1)","v":0},{"$f":"IF(ISERROR(D179),'Copy your Raw data here'!E178,\"\")","v":0},"",null,null,{"$f":"HOUR('Copy your Raw data here'!B178)","v":0},{"$f":"HOUR('Copy your Raw data here'!C178)","v":0},{"$f":"MINUTE('Copy your Raw data here'!B178)","v":0},{"$f":"MINUTE('Copy your Raw data here'!C178)","v":0},{"$f":"('Copy your Raw data here'!C178-'Copy your Raw data here'!B178)*1440","v":0},60,0,null,null,{"$f":"HOUR('Copy your Raw data here'!G178)","v":0},{"$f":"HOUR('Copy your Raw data here'!H178)","v":0},{"$f":"MINUTE('Copy your Raw data here'!G178)","v":0},{"$f":"MINUTE('Copy your Raw data here'!H178)","v":0},{"$f":"('Copy your Raw data here'!H178-'Copy your Raw data here'!G178)*1440","v":0},1440,{"$f":"IF('Copy your Raw data here'!G178=\"\",\"\",IF(V179<U179,Z179,Y179))","v":""}]
[{"$f":"IF(ISBLANK('Copy your Raw data here'!A179),\"\",('Copy your Raw data here'!A179))","v":""},"",{"$f":"IF('Copy your Raw data here'!D179=\"YES\",1,0)","v":0},{"$f":"VLOOKUP('Copy your Raw data here'!E179,'Stroke Ready Hospital List'!A:B,1,FALSE)","v":{"$error":"#N/A"}},0,{"$f":"IF(OR(ISBLANK('Copy your Raw data here'!F179),('Copy your Raw data here'!F179=\"NO\")),0,1)","v":0},{"$f":"IF(ISBLANK('Copy your Raw data here'!G179),0,1)","v":0},{"$f":"IF(ISERROR(D180),'Copy your Raw data here'!E179,\"\")","v":0},"",null,null,{"$f":"HOUR('Copy your Raw data here'!B179)","v":0},{"$f":"HOUR('Copy your Raw data here'!C179)","v":0},{"$f":"MINUTE('Copy your Raw data here'!B179)","v":0},{"$f":"MINUTE('Copy your Raw data here'!C179)","v":0},{"$f":"('Copy your Raw data here'!C179-'Copy your Raw data here'!B179)*1440","v":0},60,0,null,null,{"$f":"HOUR('Copy your Raw data here'!G179)","v":0},{"$f":"HOUR('Copy your Raw data here'!H179)","v":0},{"$f":"MINUTE('Copy your Raw data here'!G179)","v":0},{"$f":"MINUTE('Copy your Raw data here'!H179)","v":0},{"$f":"('Copy your Raw data here'!H179-'Copy your Raw data here'!G179)*1440","v":0},1440,{"$f":"IF('Copy your Raw data here'!G179=\"\",\"\",IF(V180<U180,Z180,Y180))","v":""}]
[{"$f":"IF(ISBLANK('Copy your Raw data here'!A180),\"\",('Copy your Raw data here'!A180))","v":""},"",{"$f":"IF('Copy your Raw data here'!D180=\"YES\",1,0)","v":0},{"$f":"VLOOKUP('Copy your Raw data here'!E180,'Stroke Ready Hospital List'!A:B,1,FALSE)","v":{"$error":"#N/A"}},0,{"$f":"IF(OR(ISBLANK('Copy your Raw data here'!F180),('Copy your Raw data here'!F180=\"NO\")),0,1)","v":0},{"$f":"IF(ISBLANK('Copy your Raw data here'!G180),0,1)","v":0},{"$f":"IF(ISERROR(D181),'Copy your Raw data here'!E180,\"\")","v":0},"",null,null,{"$f":"HOUR('Copy your Raw data here'!B180)","v":0},{"$f":"HOUR('Copy your Raw data here'!C180)","v":0},{"$f":"MINUTE('Copy your Raw data here'!B180)","v":0},{"$f":"MINUTE('Copy your Raw data here'!C180)","v":0},{"$f":"('Copy your Raw data here'!C180-'Copy your Raw data here'!B180)*1440","v":0},60,0,null,null,{"$f":"HOUR('Copy your Raw data here'!G180)","v":0},{"$f":"HOUR('Copy your Raw data here'!H180)","v":0},{"$f":"MINUTE('Copy your Raw data here'!G180)","v":0},{"$f":"MINUTE('Copy your Raw data here'!H180)","v":0},{"$f":"('Copy your Raw data here'!H180-'Copy your Raw data here'!G180)*1440","v":0},1440,{"$f":"IF('Copy your Raw data here'!G180=\"\",\"\",IF(V181<U181,Z181,Y181))","v":""}]
[{"$f":"IF(ISBLANK('Copy your Raw data here'!A181),\"\",('Copy your Raw data here'!A181))","v":""},"",{"$f":"IF('Copy your Raw data here'!D181=\"YES\",1,0)","v":0},{"$f":"VLOOKUP('Copy your Raw data here'!E181,'Stroke Ready Hospital List'!A:B,1,FALSE)","v":{"$error":"#N/A"}},0,{"$f":"IF(OR(ISBLANK('Copy your Raw data here'!F181),('Copy your Raw data here'!F181=\"NO\")),0,1)","v":0},{"$f":"IF(ISBLANK('Copy your Raw data here'!G181),0,1)","v":0},{"$f":"IF(ISERROR(D182),'Copy your Raw data here'!E181,\"\")","v":0},"",null,null,{"$f":"HOUR('Copy your Raw data here'!B181)","v":0},{"$f":"HOUR('Copy your Raw data here'!C181)","v":0},{"$f":"MINUTE('Copy your Raw data here'!B181)","v":0},{"$f":"MINUTE('Copy your Raw data here'!C181)","v":0},{"$f":"('Copy your Raw data here'!C181-'Copy your Raw data here'!B181)*1440","v":0},60,0,null,null,{"$f":"HOUR('Copy your Raw data here'!G181)","v":0},{"$f":"HOUR('Copy your Raw data here'!H181)","v":0},{"$f":"MINUTE('Copy your Raw data here'!G181)","v":0},{"$f":"MINUTE('Copy your Raw data here'!H181)","v":0},{"$f":"('Copy your Raw data here'!H181-'Copy your Raw data here'!G181)*1440","v":0},1440,{"$f":"IF('Copy your Raw data here'!G181=\"\",\"\",IF(V182<U182,Z182,Y182))","v":""}]
[{"$f":"IF(ISBLANK('Copy your Raw data here'!A182),\"\",('Copy your Raw data here'!A182))","v":""},"",{"$f":"IF('Copy your Raw data here'!D182=\"YES\",1,0)","v":0},{"$f":"VLOOKUP('Copy your Raw data here'!E182,'Stroke Ready Hospital List'!A:B,1,FALSE)","v":{"$error":"#N/A"}},0,{"$f":"IF(OR(ISBLANK('Copy your Raw data here'!F182),('Copy your Raw data here'!F182=\"NO\")),0,1)","v":0},{"$f":"IF(ISBLANK('Copy your Raw data here'!G182),0,1)","v":0},{"$f":"IF(ISERROR(D183),'Copy your Raw data here'!E182,\"\")","v":0},"",null,null,{"$f":"HOUR('Copy your Raw data here'!B182)","v":0},{"$f":"HOUR('Copy your Raw data here'!C182)","v":0},{"$f":"MINUTE('Copy your Raw data here'!B182)","v":0},{"$f":"MINUTE('Copy your Raw data here'!C182)","v":0},{"$f":"('Copy your Raw data here'!C182-'Copy your Raw data here'!B182)*1440","v":0},60,0,null,null,{"$f":"HOUR('Copy your Raw data here'!G182)","v":0},{"$f":"HOUR('Copy your Raw data here'!H182)","v":0},{"$f":"MINUTE('Copy your Raw data here'!G182)","v":0},{"$f":"MINUTE('Copy your Raw data here'!H182)","v":0},{"$f":"('Copy your Raw data here'!H182-'Copy your Raw data here'!G182)*1440","v":0},1440,{"$f":"IF('Copy your Raw data here'!G182=\"\",\"\",IF(V183<U183,Z183,Y183))","v":""}]
[{"$f":"IF(ISBLANK('Copy your Raw data here'!A183),\"\",('Copy your Raw data here'!A183))","v":""},"",{"$f":"IF('Copy your Raw data here'!D183=\"YES\",1,0)","v":0},{"$f":"VLOOKUP('Copy your Raw data here'!E183,'Stroke Ready Hospital List'!A:B,1,FALSE)","v":{"$error":"#N/A"}},0,{"$f":"IF(OR(ISBLANK('Copy your Raw data here'!F183),('Copy your Raw data here'!F183=\"NO\")),0,1)","v":0},{"$f":"IF(ISBLANK('Copy your Raw data here'!G183),0,1)","v":0},{"$f":"IF(ISERROR(D184),'Copy your Raw data here'!E183,\"\")","v":0},"",null,null,{"$f":"HOUR('Copy your Raw data here'!B183)","v":0},{"$f":"HOUR('Copy your Raw data here'!C183)","v":0},{"$f":"MINUTE('Copy your Raw data here'!B183)","v":0},{"$f":"MINUTE('Copy your Raw data here'!C183)","v":0},{"$f":"('Copy your Raw data here'!C183-'Copy your Raw data here'!B183)*1440","v":0},60,0,null,null,{"$f":"HOUR('Copy your Raw data here'!G183)","v":0},{"$f":"HOUR('Copy your Raw data here'!H183)","v":0},{"$f":"MINUTE('Copy your Raw data here'!G183)","v":0},{"$f":"MINUTE('Copy your Raw data here'!H183)","v":0},{"$f":"('Copy your Raw data here'!H183-'Copy your Raw data here'!G183)*1440","v":0},1440,{"$f":"IF('Copy your Raw data here'!G183=\"\",\"\",IF(V184<U184,Z184,Y184))","v":""}]
[{"$f":"IF(ISBLANK('Copy your Raw data here'!A184),\"\",('Copy your Raw data here'!A184))","v":""},"",{"$f":"IF('Copy your Raw data here'!D184=\"YES\",1,0)","v":0},{"$f":"VLOOKUP('Copy your Raw data here'!E184,'Stroke Ready Hospital List'!A:B,1,FALSE)","v":{"$error":"#N/A"}},0,{"$f":"IF(OR(ISBLANK('Copy your Raw data here'!F184),('Copy your Raw data here'!F184=\"NO\")),0,1)","v":0},{"$f":"IF(ISBLANK('Copy your Raw data here'!G184),0,1)","v":0},{"$f":"IF(ISERROR(D185),'Copy your Raw data here'!E184,\"\")","v":0},"",null,null,{"$f":"HOUR('Copy your Raw data here'!B184)","v":0},{"$f":"HOUR('Copy your Raw data here'!C184)","v":0},{"$f":"MINUTE('Copy your Raw data here'!B184)","v":0},{"$f":"MINUTE('Copy your Raw data here'!C184)","v":0},{"$f":"('Copy your Raw data here'!C184-'Copy your Raw data here'!B184)*1440","v":0},60,0,null,null,{"$f":"HOUR('Copy your Raw data here'!G184)","v":0},{"$f":"HOUR('Copy your Raw data here'!H184)","v":0},{"$f":"MINUTE('Copy your Raw data here'!G184)","v":0},{"$f":"MINUTE('Copy your Raw data here'!H184)","v":0},{"$f":"('Copy your Raw data here'!H184-'Copy your Raw data here'!G184)*1440","v":0},1440,{"$f":"IF('Copy your Raw data here'!G184=\"\",\"\",IF(V185<U185,Z185,Y185))","v":""}]
[{"$f":"IF(ISBLANK('Copy your Raw data here'!A185),\"\",('Copy your Raw data here'!A185))","v":""},"",{"$f":"IF('Copy your Raw data here'!D185=\"YES\",1,0)","v":0},{"$f":"VLOOKUP('Copy your Raw data here'!E185,'Stroke Ready Hospital List'!A:B,1,FALSE)","v":{"$error":"#N/A"}},0,{"$f":"IF(OR(ISBLANK('Copy your Raw data here'!F185),('Copy your Raw data here'!F185=\"NO\")),0,1)","v":0},{"$f":"IF(ISBLANK('Copy your Raw data here'!G185),0,1)","v":0},{"$f":"IF(ISERROR(D186),'Copy your Raw data here'!E185,\"\")","v":0},"",null,null,{"$f":"HOUR('Copy your Raw data here'!B185)","v":0},{"$f":"HOUR('Copy your Raw data here'!C185)","v":0},{"$f":"MINUTE('Copy your Raw data here'!B185)","v":0},{"$f":"MINUTE('Copy your Raw data here'!C185)","v":0},{"$f":"('Copy your Raw data here'!C185-'Copy your Raw data here'!B185)*1440","v":0},60,0,null,null,{"$f":"HOUR('Copy your Raw data here'!G185)","v":0},{"$f":"HOUR('Copy your Raw data here'!H185)","v":0},{"$f":"MINUTE('Copy your Raw data here'!G185)","v":0},{"$f":"MINUTE('Copy your Raw data here'!H185)","v":0},{"$f":"('Copy your Raw data here'!H185-'Copy your Raw data here'!G185)*1440","v":0},1440,{"$f":"IF('Copy your Raw data here'!G185=\"\",\"\",IF(V186<U186,Z186,Y186))","v":""}]
[{"$f":"IF(ISBLANK('Copy your Raw data here'!A186),\"\",('Copy your Raw data here'!A186))","v":""},"",{"$f":"IF('Copy your Raw data here'!D186=\"YES\",1,0)","v":0},{"$f":"VLOOKUP('Copy your Raw data here'!E186,'Stroke Ready Hospital List'!A:B,1,FALSE)","v":{"$error":"#N/A"}},0,{"$f":"IF(OR(ISBLANK('Copy your Raw data here'!F186),('Copy your Raw data here'!F186=\"NO\")),0,1)","v":0},{"$f":"IF(ISBLANK('Copy your Raw data here'!G186),0,1)","v":0},{"$f":"IF(ISERROR(D187),'Copy your Raw data here'!E186,\"\")","v":0},"",null,null,{"$f":"HOUR('Copy your Raw data here'!B186)","v":0},{"$f":"HOUR('Copy your Raw data here'!C186)","v":0},{"$f":"MINUTE('Copy your Raw data here'!B186)","v":0},{"$f":"MINUTE('Copy your Raw data here'!C186)","v":0},{"$f":"('Copy your Raw data here'!C186-'Copy your Raw data here'!B186)*1440","v":0},60,0,null,null,{"$f":"HOUR('Copy your Raw data here'!G186)","v":0},{"$f":"HOUR('Copy your Raw data here'!H186)","v":0},{"$f":"MINUTE('Copy your Raw data here'!G186)","v":0},{"$f":"MINUTE('Copy your Raw data here'!H186)","v":0},{"$f":"('Copy your Raw data here'!H186-'Copy your Raw data here'!G186)*1440","v":0},1440,{"$f":"IF('Copy your Raw data here'!G186=\"\",\"\",IF(V187<U187,Z187,Y187))","v":""}]
[{"$f":"IF(ISBLANK('Copy your Raw data here'!A187),\"\",('Copy your Raw data here'!A187))","v":""},"",{"$f":"IF('Copy your Raw data here'!D187=\"YES\",1,0)","v":0},{"$f":"VLOOKUP('Copy your Raw data here'!E187,'Stroke Ready Hospital List'!A:B,1,FALSE)","v":{"$error":"#N/A"}},0,{"$f":"IF(OR(ISBLANK('Copy your Raw data here'!F187),('Copy your Raw data here'!F187=\"NO\")),0,1)","v":0},{"$f":"IF(ISBLANK('Copy your Raw data here'!G187),0,1)","v":0},{"$f":"IF(ISERROR(D188),'Copy your Raw data here'!E187,\"\")","v":0},"",null,null,{"$f":"HOUR('Copy your Raw data here'!B187)","v":0},{"$f":"HOUR('Copy your Raw data here'!C187)","v":0},{"$f":"MINUTE('Copy your Raw data here'!B187)","v":0},{"$f":"MINUTE('Copy your Raw data here'!C187)","v":0},{"$f":"('Copy your Raw data here'!C187-'Copy your Raw data here'!B187)*1440","v":0},60,0,null,null,{"$f":"HOUR('Copy your Raw data here'!G187)","v":0},{"$f":"HOUR('Copy your Raw data here'!H187)","v":0},{"$f":"MINUTE('Copy your Raw data here'!G187)","v":0},{"$f":"MINUTE('Copy your Raw data here'!H187)","v":0},{"$f":"('Copy your Raw data here'!H187-'Copy your Raw data here'!G187)*1440","v":0},1440,{"$f":"IF('Copy your Raw data here'!G187=\"\",\"\",IF(V188<U188,Z188,Y188))","v":""}]
[{"$f":"IF(ISBLANK('Copy your Raw data here'!A188),\"\",('Copy your Raw data here'!A188))","v":""},"",{"$f":"IF('Copy your Raw data here'!D188=\"YES\",1,0)","v":0},{"$f":"VLOOKUP('Copy your Raw data here'!E188,'Stroke Ready Hospital List'!A:B,1,FALSE)","v":{"$error":"#N/A"}},0,{"$f":"IF(OR(ISBLANK('Copy your Raw data here'!F188),('Copy your Raw data here'!F188=\"NO\")),0,1)","v":0},{"$f":"IF(ISBLANK('Copy your Raw data here'!G188),0,1)","v":0},{"$f":"IF(ISERROR(D189),'Copy your Raw data here'!E188,\"\")","v":0},"",null,null,{"$f":"HOUR('Copy your Raw data here'!B188)","v":0},{"$f":"HOUR('Copy your Raw data here'!C188)","v":0},{"$f":"MINUTE('Copy your Raw data here'!B188)","v":0},{"$f":"MINUTE('Copy your Raw data here'!C188)","v":0},{"$f":"('Copy your Raw data here'!C188-'Copy your Raw data here'!B188)*1440","v":0},60,0,null,null,{"$f":"HOUR('Copy your Raw data here'!G188)","v":0},{"$f":"HOUR('Copy your Raw data here'!H188)","v":0},{"$f":"MINUTE('Copy your Raw data here'!G188)","v":0},{"$f":"MINUTE('Copy your Raw data here'!H188)","v":0},{"$f":"('Copy your Raw data here'!H188-'Copy your Raw data here'!G188)*1440","v":0},1440,{"$f":"IF('Copy your Raw data here'!G188=\"\",\"\",IF(V189<U189,Z189,Y189))","v":""}]
[{"$f":"IF(ISBLANK('Copy your Raw data here'!A189),\"\",('Copy your Raw data here'!A189))","v":""},"",{"$f":"IF('Copy your Raw data here'!D189=\"YES\",1,0)","v":0},{"$f":"VLOOKUP('Copy your Raw data here'!E189,'Stroke Ready Hospital List'!A:B,1,FALSE)","v":{"$error":"#N/A"}},0,{"$f":"IF(OR(ISBLANK('Copy your Raw data here'!F189),('Copy your Raw data here'!F189=\"NO\")),0,1)","v":0},{"$f":"IF(ISBLANK('Copy your Raw data here'!G189),0,1)","v":0},{"$f":"IF(ISERROR(D190),'Copy your Raw data here'!E189,\"\")","v":0},"",null,null,{"$f":"HOUR('Copy your Raw data here'!B189)","v":0},{"$f":"HOUR('Copy your Raw data here'!C189)","v":0},{"$f":"MINUTE('Copy your Raw data here'!B189)","v":0},{"$f":"MINUTE('Copy your Raw data here'!C189)","v":0},{"$f":"('Copy your Raw data here'!C189-'Copy your Raw data here'!B189)*1440","v":0},60,0,null,null,{"$f":"HOUR('Copy your Raw data here'!G189)","v":0},{"$f":"HOUR('Copy your Raw data here'!H189)","v":0},{"$f":"MINUTE('Copy your Raw data here'!G189)","v":0},{"$f":"MINUTE('Copy your Raw data here'!H189)","v":0},{"$f":"('Copy your Raw data here'!H189-'Copy your Raw data here'!G189)*1440","v":0},1440,{"$f":"IF('Copy your Raw data here'!G189=\"\",\"\",IF(V190<U190,Z190,Y190))","v":""}]
[{"$f":"IF(ISBLANK('Copy your Raw data here'!A190),\"\",('Copy your Raw data here'!A190))","v":""},"",{"$f":"IF('Copy your Raw data here'!D190=\"YES\",1,0)","v":0},{"$f":"VLOOKUP('Copy your Raw data here'!E190,'Stroke Ready Hospital List'!A:B,1,FALSE)","v":{"$error":"#N/A"}},0,{"$f":"IF(OR(ISBLANK('Copy your Raw data here'!F190),('Copy your Raw data here'!F190=\"NO\")),0,1)","v":0},{"$f":"IF(ISBLANK('Copy your Raw data here'!G190),0,1)","v":0},{"$f":"IF(ISERROR(D191),'Copy your Raw data here'!E190,\"\")","v":0},"",null,null,{"$f":"HOUR('Copy your Raw data here'!B190)","v":0},{"$f":"HOUR('Copy your Raw data here'!C190)","v":0},{"$f":"MINUTE('Copy your Raw data here'!B190)","v":0},{"$f":"MINUTE('Copy your Raw data here'!C190)","v":0},{"$f":"('Copy your Raw data here'!C190-'Copy your Raw data here'!B190)*1440","v":0},60,0,null,null,{"$f":"HOUR('Copy your Raw data here'!G190)","v":0},{"$f":"HOUR('Copy your Raw data here'!H190)","v":0},{"$f":"MINUTE('Copy your Raw data here'!G190)","v":0},{"$f":"MINUTE('Copy your Raw data here'!H190)","v":0},{"$f":"('Copy your Raw data here'!H190-'Copy your Raw data here'!G190)*1440","v":0},1440,{"$f":"IF('Copy your Raw data here'!G190=\"\",\"\",IF(V191<U191,Z191,Y191))","v":""}]
[{"$f":"IF(ISBLANK('Copy your Raw data here'!A191),\"\",('Copy your Raw data here'!A191))","v":""},"",{"$f":"IF('Copy your Raw data here'!D191=\"YES\",1,0)","v":0},{"$f":"VLOOKUP('Copy your Raw data here'!E191,'Stroke Ready Hospital List'!A:B,1,FALSE)","v":{"$error":"#N/A"}},0,{"$f":"IF(OR(ISBLANK('Copy your Raw data here'!F191),('Copy your Raw data here'!F191=\"NO\")),0,1)","v":0},{"$f":"IF(ISBLANK('Copy your Raw data here'!G191),0,1)","v":0},{"$f":"IF(ISERROR(D192),'Copy your Raw data here'!E191,\"\")","v":0},"",null,null,{"$f":"HOUR('Copy your Raw data here'!B191)","v":0},{"$f":"HOUR('Copy your Raw data here'!C191)","v":0},{"$f":"MINUTE('Copy your Raw data here'!B191)","v":0},{"$f":"MINUTE('Copy your Raw data here'!C191)","v":0},{"$f":"('Copy your Raw data here'!C191-'Copy your Raw data here'!B191)*1440","v":0},60,0,null,null,{"$f":"HOUR('Copy your Raw data here'!G191)","v":0},{"$f":"HOUR('Copy your Raw data here'!H191)","v":0},{"$f":"MINUTE('Copy your Raw data here'!G191)","v":0},{"$f":"MINUTE('Copy your Raw data here'!H191)","v":0},{"$f":"('Copy your Raw data here'!H191-'Copy your Raw data here'!G191)*1440","v":0},1440,{"$f":"IF('Copy your Raw data here'!G191=\"\",\"\",IF(V192<U192,Z192,Y192))","v":""}]
[{"$f":"IF(ISBLANK('Copy your Raw data here'!A192),\"\",('Copy your Raw data here'!A192))","v":""},"",{"$f":"IF('Copy your Raw data here'!D192=\"YES\",1,0)","v":0},{"$f":"VLOOKUP('Copy your Raw data here'!E192,'Stroke Ready Hospital List'!A:B,1,FALSE)","v":{"$error":"#N/A"}},0,{"$f":"IF(OR(ISBLANK('Copy your Raw data here'!F192),('Copy your Raw data here'!F192=\"NO\")),0,1)","v":0},{"$f":"IF(ISBLANK('Copy your Raw data here'!G192),0,1)","v":0},{"$f":"IF(ISERROR(D193),'Copy your Raw data here'!E192,\"\")","v":0},"",null,null,{"$f":"HOUR('Copy your Raw data here'!B192)","v":0},{"$f":"HOUR('Copy your Raw data here'!C192)","v":0},{"$f":"MINUTE('Copy your Raw data here'!B192)","v":0},{"$f":"MINUTE('Copy your Raw data here'!C192)","v":0},{"$f":"('Copy your Raw data here'!C192-'Copy your Raw data here'!B192)*1440","v":0},60,0,null,null,{"$f":"HOUR('Copy your Raw data here'!G192)","v":0},{"$f":"HOUR('Copy your Raw data here'!H192)","v":0},{"$f":"MINUTE('Copy your Raw data here'!G192)","v":0},{"$f":"MINUTE('Copy your Raw data here'!H192)","v":0},{"$f":"('Copy your Raw data here'!H192-'Copy your Raw data here'!G192)*1440","v":0},1440,{"$f":"IF('Copy your Raw data here'!G192=\"\",\"\",IF(V193<U193,Z193,Y193))","v":""}]
[{"$f":"IF(ISBLANK('Copy your Raw data here'!A193),\"\",('Copy your Raw data here'!A193))","v":""},"",{"$f":"IF('Copy your Raw data here'!D193=\"YES\",1,0)","v":0},{"$f":"VLOOKUP('Copy your Raw data here'!E193,'Stroke Ready Hospital List'!A:B,1,FALSE)","v":{"$error":"#N/A"}},0,{"$f":"IF(OR(ISBLANK('Copy your Raw data here'!F193),('Copy your Raw data here'!F193=\"NO\")),0,1)","v":0},{"$f":"IF(ISBLANK('Copy your Raw data here'!G193),0,1)","v":0},{"$f":"IF(ISERROR(D194),'Copy your Raw data here'!E193,\"\")","v":0},"",null,null,{"$f":"HOUR('Copy your Raw data here'!B193)","v":0},{"$f":"HOUR('Copy your Raw data here'!C193)","v":0},{"$f":"MINUTE('Copy your Raw data here'!B193)","v":0},{"$f":"MINUTE('Copy your Raw data here'!C193)","v":0},{"$f":"('Copy your Raw data here'!C193-'Copy your Raw data here'!B193)*1440","v":0},60,0,null,null,{"$f":"HOUR('Copy your Raw data here'!G193)","v":0},{"$f":"HOUR('Copy your Raw data here'!H193)","v":0},{"$f":"MINUTE('Copy your Raw data here'!G193)","v":0},{"$f":"MINUTE('Copy your Raw data here'!H193)","v":0},{"$f":"('Copy your Raw data here'!H193-'Copy your Raw data here'!G193)*1440","v":0},1440,{"$f":"IF('Copy your Raw data here'!G193=\"\",\"\",IF(V194<U194,Z194,Y194))","v":""}]
[{"$f":"IF(ISBLANK('Copy your Raw data here'!A194),\"\",('Copy your Raw data here'!A194))","v":""},"",{"$f":"IF('Copy your Raw data here'!D194=\"YES\",1,0)","v":0},{"$f":"VLOOKUP('Copy your Raw data here'!E194,'Stroke Ready Hospital List'!A:B,1,FALSE)","v":{"$error":"#N/A"}},0,{"$f":"IF(OR(ISBLANK('Copy your Raw data here'!F194),('Copy your Raw data here'!F194=\"NO\")),0,1)","v":0},{"$f":"IF(ISBLANK('Copy your Raw data here'!G194),0,1)","v":0},{"$f":"IF(ISERROR(D195),'Copy your Raw data here'!E194,\"\")","v":0},"",null,null,{"$f":"HOUR('Copy your Raw data here'!B194)","v":0},{"$f":"HOUR('Copy your Raw data here'!C194)","v":0},{"$f":"MINUTE('Copy your Raw data here'!B194)","v":0},{"$f":"MINUTE('Copy your Raw data here'!C194)","v":0},{"$f":"('Copy your Raw data here'!C194-'Copy your Raw data here'!B194)*1440","v":0},60,0,null,null,{"$f":"HOUR('Copy your Raw data here'!G194)","v":0},{"$f":"HOUR('Copy your Raw data here'!H194)","v":0},{"$f":"MINUTE('Copy your Raw data here'!G194)","v":0},{"$f":"MINUTE('Copy your Raw data here'!H194)","v":0},{"$f":"('Copy your Raw data here'!H194-'Copy your Raw data here'!G194)*1440","v":0},1440,{"$f":"IF('Copy your Raw data here'!G194=\"\",\"\",IF(V195<U195,Z195,Y195))","v":""}]
[{"$f":"IF(ISBLANK('Copy your Raw data here'!A195),\"\",('Copy your Raw data here'!A195))","v":""},{"$f":"IF(R196=0,\"\",R196)","v":""},{"$f":"IF('Copy your Raw data here'!D195=\"YES\",1,0)","v":0},{"$f":"VLOOKUP('Copy your Raw data here'!E195,'Stroke Ready Hospital List'!A:B,1,FALSE)","v":{"$error":"#N/A"}},0,{"$f":"IF(OR(ISBLANK('Copy your Raw data here'!F195),('Copy your Raw data here'!F195=\"NO\")),0,1)","v":0},{"$f":"IF(ISBLANK('Copy your Raw data here'!G195),0,1)","v":0},{"$f":"IF(ISERROR(D196),'Copy your Raw data here'!E195,\"\")","v":0},{"$f":"IF(R196=0,\"\",AA196)","v":""},null,null,{"$f":"HOUR('Copy your Raw data here'!B195)","v":0},{"$f":"HOUR('Copy your Raw data here'!C195)","v":0},{"$f":"MINUTE('Copy your Raw data here'!B195)","v":0},{"$f":"MINUTE('Copy your Raw data here'!C195)","v":0},{"$f":"('Copy your Raw data here'!C195-'Copy your Raw data here'!B195)*1440","v":0},{"$f":"SUM(60-N196)+O196","v":60},{"$f":"IF(M196<L196,Q196,P196)","v":0},null,null,{"$f":"HOUR('Copy your Raw data here'!G195)","v":0},{"$f":"HOUR('Copy your Raw data here'!H195)","v":0},{"$f":"MINUTE('Copy your Raw data here'!G195)","v":0},{"$f":"MINUTE('Copy your Raw data here'!H195)","v":0},{"$f":"('Copy your Raw data here'!H195-'Copy your Raw data here'!G195)*1440","v":0},{"$f":"SUM((60-W196)+X196)+SUM((23-U196)*60)","v":1440},{"$f":"IF('Copy your Raw data here'!G195=\"\",\"\",IF(V196<U196,Z196,Y196))","v":""}]
[{"$f":"IF(ISBLANK('Copy your Raw data here'!A196),\"\",('Copy your Raw data here'!A196))","v":""},"",{"$f":"IF('Copy your Raw data here'!D196=\"YES\",1,0)","v":0},{"$f":"VLOOKUP('Copy your Raw data here'!E196,'Stroke Ready Hospital List'!A:B,1,FALSE)","v":{"$error":"#N/A"}},0,{"$f":"IF(OR(ISBLANK('Copy your Raw data here'!F196),('Copy your Raw data here'!F196=\"NO\")),0,1)","v":0},{"$f":"IF(ISBLANK('Copy your Raw data here'!G196),0,1)","v":0},{"$f":"IF(ISERROR(D197),'Copy your Raw data here'!E196,\"\")","v":0},"",null,null,{"$f":"HOUR('Copy your Raw data here'!B196)","v":0},{"$f":"HOUR('Copy your Raw data here'!C196)","v":0},{"$f":"MINUTE('Copy your Raw data here'!B196)","v":0},{"$f":"MINUTE('Copy your Raw data here'!C196)","v":0},{"$f":"('Copy your Raw data here'!C196-'Copy your Raw data here'!B196)*1440","v":0},60,0,null,null,{"$f":"HOUR('Copy your Raw data here'!G196)","v":0},{"$f":"HOUR('Copy your Raw data here'!H196)","v":0},{"$f":"MINUTE('Copy your Raw data here'!G196)","v":0},{"$f":"MINUTE('Copy your Raw data here'!H196)","v":0},{"$f":"('Copy your Raw data here'!H196-'Copy your Raw data here'!G196)*1440","v":0},1440,{"$f":"IF('Copy your Raw data here'!G196=\"\",\"\",IF(V197<U197,Z197,Y197))","v":""}]
[{"$f":"IF(ISBLANK('Copy your Raw data here'!A197),\"\",('Copy your Raw data here'!A197))","v":""},"",{"$f":"IF('Copy your Raw data here'!D197=\"YES\",1,0)","v":0},{"$f":"VLOOKUP('Copy your Raw data here'!E197,'Stroke Ready Hospital List'!A:B,1,FALSE)","v":{"$error":"#N/A"}},0,{"$f":"IF(OR(ISBLANK('Copy your Raw data here'!F197),('Copy your Raw data here'!F197=\"NO\")),0,1)","v":0},{"$f":"IF(ISBLANK('Copy your Raw data here'!G197),0,1)","v":0},{"$f":"IF(ISERROR(D198),'Copy your Raw data here'!E197,\"\")","v":0},"",null,null,{"$f":"HOUR('Copy your Raw data here'!B197)","v":0},{"$f":"HOUR('Copy your Raw data here'!C197)","v":0},{"$f":"MINUTE('Copy your Raw data here'!B197)","v":0},{"$f":"MINUTE('Copy your Raw data here'!C197)","v":0},{"$f":"('Copy your Raw data here'!C197-'Copy your Raw data here'!B197)*1440","v":0},60,0,null,null,{"$f":"HOUR('Copy your Raw data here'!G197)","v":0},{"$f":"HOUR('Copy your Raw data here'!H197)","v":0},{"$f":"MINUTE('Copy your Raw data here'!G197)","v":0},{"$f":"MINUTE('Copy your Raw data here'!H197)","v":0},{"$f":"('Copy your Raw data here'!H197-'Copy your Raw data here'!G197)*1440","v":0},1440,{"$f":"IF('Copy your Raw data here'!G197=\"\",\"\",IF(V198<U198,Z198,Y198))","v":""}]
[{"$f":"IF(ISBLANK('Copy your Raw data here'!A198),\"\",('Copy your Raw data here'!A198))","v":""},"",{"$f":"IF('Copy your Raw data here'!D198=\"YES\",1,0)","v":0},{"$f":"VLOOKUP('Copy your Raw data here'!E198,'Stroke Ready Hospital List'!A:B,1,FALSE)","v":{"$error":"#N/A"}},0,{"$f":"IF(OR(ISBLANK('Copy your Raw data here'!F198),('Copy your Raw data here'!F198=\"NO\")),0,1)","v":0},{"$f":"IF(ISBLANK('Copy your Raw data here'!G198),0,1)","v":0},{"$f":"IF(ISERROR(D199),'Copy your Raw data here'!E198,\"\")","v":0},"",null,null,{"$f":"HOUR('Copy your Raw data here'!B198)","v":0},{"$f":"HOUR('Copy your Raw data here'!C198)","v":0},{"$f":"MINUTE('Copy your Raw data here'!B198)","v":0},{"$f":"MINUTE('Copy your Raw data here'!C198)","v":0},{"$f":"('Copy your Raw data here'!C198-'Copy your Raw data here'!B198)*1440","v":0},60,0,null,null,{"$f":"HOUR('Copy your Raw data here'!G198)","v":0},{"$f":"HOUR('Copy your Raw data here'!H198)","v":0},{"$f":"MINUTE('Copy your Raw data here'!G198)","v":0},{"$f":"MINUTE('Copy your Raw data here'!H198)","v":0},{"$f":"('Copy your Raw data here'!H198-'Copy your Raw data here'!G198)*1440","v":0},1440,{"$f":"IF('Copy your Raw data here'!G198=\"\",\"\",IF(V199<U199,Z199,Y199))","v":""}]
[{"$f":"IF(ISBLANK('Copy your Raw data here'!A199),\"\",('Copy your Raw data here'!A199))","v":""},"",{"$f":"IF('Copy your Raw data here'!D199=\"YES\",1,0)","v":0},{"$f":"VLOOKUP('Copy your Raw data here'!E199,'Stroke Ready Hospital List'!A:B,1,FALSE)","v":{"$error":"#N/A"}},0,{"$f":"IF(OR(ISBLANK('Copy your Raw data here'!F199),('Copy your Raw data here'!F199=\"NO\")),0,1)","v":0},{"$f":"IF(ISBLANK('Copy your Raw data here'!G199),0,1)","v":0},{"$f":"IF(ISERROR(D200),'Copy your Raw data here'!E199,\"\")","v":0},"",null,null,{"$f":"HOUR('Copy your Raw data here'!B199)","v":0},{"$f":"HOUR('Copy your Raw data here'!C199)","v":0},{"$f":"MINUTE('Copy your Raw data here'!B199)","v":0},{"$f":"MINUTE('Copy your Raw data here'!C199)","v":0},{"$f":"('Copy your Raw data here'!C199-'Copy your Raw data here'!B199)*1440","v":0},60,0,null,null,{"$f":"HOUR('Copy your Raw data here'!G199)","v":0},{"$f":"HOUR('Copy your Raw data here'!H199)","v":0},{"$f":"MINUTE('Copy your Raw data here'!G199)","v":0},{"$f":"MINUTE('Copy your Raw data here'!H199)","v":0},{"$f":"('Copy your Raw data here'!H199-'Copy your Raw data here'!G199)*1440","v":0},1440,{"$f":"IF('Copy your Raw data here'!G199=\"\",\"\",IF(V200<U200,Z200,Y200))","v":""}]
[{"$f":"IF(ISBLANK('Copy your Raw data here'!A200),\"\",('Copy your Raw data here'!A200))","v":""},"",{"$f":"IF('Copy your Raw data here'!D200=\"YES\",1,0)","v":0},{"$f":"VLOOKUP('Copy your Raw data here'!E200,'Stroke Ready Hospital List'!A:B,1,FALSE)","v":{"$error":"#N/A"}},0,{"$f":"IF(OR(ISBLANK('Copy your Raw data here'!F200),('Copy your Raw data here'!F200=\"NO\")),0,1)","v":0},{"$f":"IF(ISBLANK('Copy your Raw data here'!G200),0,1)","v":0},{"$f":"IF(ISERROR(D201),'Copy your Raw data here'!E200,\"\")","v":0},"",null,null,{"$f":"HOUR('Copy your Raw data here'!B200)","v":0},{"$f":"HOUR('Copy your Raw data here'!C200)","v":0},{"$f":"MINUTE('Copy your Raw data here'!B200)","v":0},{"$f":"MINUTE('Copy your Raw data here'!C200)","v":0},{"$f":"('Copy your Raw data here'!C200-'Copy your Raw data here'!B200)*1440","v":0},60,0,null,null,{"$f":"HOUR('Copy your Raw data here'!G200)","v":0},{"$f":"HOUR('Copy your Raw data here'!H200)","v":0},{"$f":"MINUTE('Copy your Raw data here'!G200)","v":0},{"$f":"MINUTE('Copy your Raw data here'!H200)","v":0},{"$f":"('Copy your Raw data here'!H200-'Copy your Raw data here'!G200)*1440","v":0},1440,{"$f":"IF('Copy your Raw data here'!G200=\"\",\"\",IF(V201<U201,Z201,Y201))","v":""}]
[{"$f":"IF(ISBLANK('Copy your Raw data here'!A201),\"\",('Copy your Raw data here'!A201))","v":""},"",{"$f":"IF('Copy your Raw data here'!D201=\"YES\",1,0)","v":0},{"$f":"VLOOKUP('Copy your Raw data here'!E201,'Stroke Ready Hospital List'!A:B,1,FALSE)","v":{"$error":"#N/A"}},0,{"$f":"IF(OR(ISBLANK('Copy your Raw data here'!F201),('Copy your Raw data here'!F201=\"NO\")),0,1)","v":0},{"$f":"IF(ISBLANK('Copy your Raw data here'!G201),0,1)","v":0},{"$f":"IF(ISERROR(D202),'Copy your Raw data here'!E201,\"\")","v":0},"",null,null,{"$f":"HOUR('Copy your Raw data here'!B201)","v":0},{"$f":"HOUR('Copy your Raw data here'!C201)","v":0},{"$f":"MINUTE('Copy your Raw data here'!B201)","v":0},{"$f":"MINUTE('Copy your Raw data here'!C201)","v":0},{"$f":"('Copy your Raw data here'!C201-'Copy your Raw data here'!B201)*1440","v":0},60,0,null,null,{"$f":"HOUR('Copy your Raw data here'!G201)","v":0},{"$f":"HOUR('Copy your Raw data here'!H201)","v":0},{"$f":"MINUTE('Copy your Raw data here'!G201)","v":0},{"$f":"MINUTE('Copy your Raw data here'!H201)","v":0},{"$f":"('Copy your Raw data here'!H201-'Copy your Raw data here'!G201)*1440","v":0},1440,{"$f":"IF('Copy your Raw data here'!G201=\"\",\"\",IF(V202<U202,Z202,Y202))","v":""}]
[{"$f":"IF(ISBLANK('Copy your Raw data here'!A202),\"\",('Copy your Raw data here'!A202))","v":""},"",{"$f":"IF('Copy your Raw data here'!D202=\"YES\",1,0)","v":0},{"$f":"VLOOKUP('Copy your Raw data here'!E202,'Stroke Ready Hospital List'!A:B,1,FALSE)","v":{"$error":"#N/A"}},0,{"$f":"IF(OR(ISBLANK('Copy your Raw data here'!F202),('Copy your Raw data here'!F202=\"NO\")),0,1)","v":0},{"$f":"IF(ISBLANK('Copy your Raw data here'!G202),0,1)","v":0},{"$f":"IF(ISERROR(D203),'Copy your Raw data here'!E202,\"\")","v":0},"",null,null,{"$f":"HOUR('Copy your Raw data here'!B202)","v":0},{"$f":"HOUR('Copy your Raw data here'!C202)","v":0},{"$f":"MINUTE('Copy your Raw data here'!B202)","v":0},{"$f":"MINUTE('Copy your Raw data here'!C202)","v":0},{"$f":"('Copy your Raw data here'!C202-'Copy your Raw data here'!B202)*1440","v":0},60,0,null,null,{"$f":"HOUR('Copy your Raw data here'!G202)","v":0},{"$f":"HOUR('Copy your Raw data here'!H202)","v":0},{"$f":"MINUTE('Copy your Raw data here'!G202)","v":0},{"$f":"MINUTE('Copy your Raw data here'!H202)","v":0},{"$f":"('Copy your Raw data here'!H202-'Copy your Raw data here'!G202)*1440","v":0},1440,{"$f":"IF('Copy your Raw data here'!G202=\"\",\"\",IF(V203<U203,Z203,Y203))","v":""}]
[{"$f":"IF(ISBLANK('Copy your Raw data here'!A203),\"\",('Copy your Raw data here'!A203))","v":""},"",{"$f":"IF('Copy your Raw data here'!D203=\"YES\",1,0)","v":0},{"$f":"VLOOKUP('Copy your Raw data here'!E203,'Stroke Ready Hospital List'!A:B,1,FALSE)","v":{"$error":"#N/A"}},0,{"$f":"IF(OR(ISBLANK('Copy your Raw data here'!F203),('Copy your Raw data here'!F203=\"NO\")),0,1)","v":0},{"$f":"IF(ISBLANK('Copy your Raw data here'!G203),0,1)","v":0},{"$f":"IF(ISERROR(D204),'Copy your Raw data here'!E203,\"\")","v":0},"",null,null,{"$f":"HOUR('Copy your Raw data here'!B203)","v":0},{"$f":"HOUR('Copy your Raw data here'!C203)","v":0},{"$f":"MINUTE('Copy your Raw data here'!B203)","v":0},{"$f":"MINUTE('Copy your Raw data here'!C203)","v":0},{"$f":"('Copy your Raw data here'!C203-'Copy your Raw data here'!B203)*1440","v":0},60,0,null,null,{"$f":"HOUR('Copy your Raw data here'!G203)","v":0},{"$f":"HOUR('Copy your Raw data here'!H203)","v":0},{"$f":"MINUTE('Copy your Raw data here'!G203)","v":0},{"$f":"MINUTE('Copy your Raw data here'!H203)","v":0},{"$f":"('Copy your Raw data here'!H203-'Copy your Raw data here'!G203)*1440","v":0},1440,{"$f":"IF('Copy your Raw data here'!G203=\"\",\"\",IF(V204<U204,Z204,Y204))","v":""}]
[{"$f":"IF(ISBLANK('Copy your Raw data here'!A204),\"\",('Copy your Raw data here'!A204))","v":""},"",{"$f":"IF('Copy your Raw data here'!D204=\"YES\",1,0)","v":0},{"$f":"VLOOKUP('Copy your Raw data here'!E204,'Stroke Ready Hospital List'!A:B,1,FALSE)","v":{"$error":"#N/A"}},0,{"$f":"IF(OR(ISBLANK('Copy your Raw data here'!F204),('Copy your Raw data here'!F204=\"NO\")),0,1)","v":0},{"$f":"IF(ISBLANK('Copy your Raw data here'!G204),0,1)","v":0},{"$f":"IF(ISERROR(D205),'Copy your Raw data here'!E204,\"\")","v":0},"",null,null,{"$f":"HOUR('Copy your Raw data here'!B204)","v":0},{"$f":"HOUR('Copy your Raw data here'!C204)","v":0},{"$f":"MINUTE('Copy your Raw data here'!B204)","v":0},{"$f":"MINUTE('Copy your Raw data here'!C204)","v":0},{"$f":"('Copy your Raw data here'!C204-'Copy your Raw data here'!B204)*1440","v":0},60,0,null,null,{"$f":"HOUR('Copy your Raw data here'!G204)","v":0},{"$f":"HOUR('Copy your Raw data here'!H204)","v":0},{"$f":"MINUTE('Copy your Raw data here'!G204)","v":0},{"$f":"MINUTE('Copy your Raw data here'!H204)","v":0},{"$f":"('Copy your Raw data here'!H204-'Copy your Raw data here'!G204)*1440","v":0},1440,{"$f":"IF('Copy your Raw data here'!G204=\"\",\"\",IF(V205<U205,Z205,Y205))","v":""}]
[{"$f":"IF(ISBLANK('Copy your Raw data here'!A205),\"\",('Copy your Raw data here'!A205))","v":""},"",{"$f":"IF('Copy your Raw data here'!D205=\"YES\",1,0)","v":0},{"$f":"VLOOKUP('Copy your Raw data here'!E205,'Stroke Ready Hospital List'!A:B,1,FALSE)","v":{"$error":"#N/A"}},0,{"$f":"IF(OR(ISBLANK('Copy your Raw data here'!F205),('Copy your Raw data here'!F205=\"NO\")),0,1)","v":0},{"$f":"IF(ISBLANK('Copy your Raw data here'!G205),0,1)","v":0},{"$f":"IF(ISERROR(D206),'Copy your Raw data here'!E205,\"\")","v":0},"",null,null,{"$f":"HOUR('Copy your Raw data here'!B205)","v":0},{"$f":"HOUR('Copy your Raw data here'!C205)","v":0},{"$f":"MINUTE('Copy your Raw data here'!B205)","v":0},{"$f":"MINUTE('Copy your Raw data here'!C205)","v":0},{"$f":"('Copy your Raw data here'!C205-'Copy your Raw data here'!B205)*1440","v":0},60,0,null,null,{"$f":"HOUR('Copy your Raw data here'!G205)","v":0},{"$f":"HOUR('Copy your Raw data here'!H205)","v":0},{"$f":"MINUTE('Copy your Raw data here'!G205)","v":0},{"$f":"MINUTE('Copy your Raw data here'!H205)","v":0},{"$f":"('Copy your Raw data here'!H205-'Copy your Raw data here'!G205)*1440","v":0},1440,{"$f":"IF('Copy your Raw data here'!G205=\"\",\"\",IF(V206<U206,Z206,Y206))","v":""}]
[{"$f":"IF(ISBLANK('Copy your Raw data here'!A206),\"\",('Copy your Raw data here'!A206))","v":""},"",{"$f":"IF('Copy your Raw data here'!D206=\"YES\",1,0)","v":0},{"$f":"VLOOKUP('Copy your Raw data here'!E206,'Stroke Ready Hospital List'!A:B,1,FALSE)","v":{"$error":"#N/A"}},0,{"$f":"IF(OR(ISBLANK('Copy your Raw data here'!F206),('Copy your Raw data here'!F206=\"NO\")),0,1)","v":0},{"$f":"IF(ISBLANK('Copy your Raw data here'!G206),0,1)","v":0},{"$f":"IF(ISERROR(D207),'Copy your Raw data here'!E206,\"\")","v":0},"",null,null,{"$f":"HOUR('Copy your Raw data here'!B206)","v":0},{"$f":"HOUR('Copy your Raw data here'!C206)","v":0},{"$f":"MINUTE('Copy your Raw data here'!B206)","v":0},{"$f":"MINUTE('Copy your Raw data here'!C206)","v":0},{"$f":"('Copy your Raw data here'!C206-'Copy your Raw data here'!B206)*1440","v":0},60,0,null,null,{"$f":"HOUR('Copy your Raw data here'!G206)","v":0},{"$f":"HOUR('Copy your Raw data here'!H206)","v":0},{"$f":"MINUTE('Copy your Raw data here'!G206)","v":0},{"$f":"MINUTE('Copy your Raw data here'!H206)","v":0},{"$f":"('Copy your Raw data here'!H206-'Copy your Raw data here'!G206)*1440","v":0},1440,{"$f":"IF('Copy your Raw data here'!G206=\"\",\"\",IF(V207<U207,Z207,Y207))","v":""}]
[{"$f":"IF(ISBLANK('Copy your Raw data here'!A207),\"\",('Copy your Raw data here'!A207))","v":""},"",{"$f":"IF('Copy your Raw data here'!D207=\"YES\",1,0)","v":0},{"$f":"VLOOKUP('Copy your Raw data here'!E207,'Stroke Ready Hospital List'!A:B,1,FALSE)","v":{"$error":"#N/A"}},0,{"$f":"IF(OR(ISBLANK('Copy your Raw data here'!F207),('Copy your Raw data here'!F207=\"NO\")),0,1)","v":0},{"$f":"IF(ISBLANK('Copy your Raw data here'!G207),0,1)","v":0},{"$f":"IF(ISERROR(D208),'Copy your Raw data here'!E207,\"\")","v":0},"",null,null,{"$f":"HOUR('Copy your Raw data here'!B207)","v":0},{"$f":"HOUR('Copy your Raw data here'!C207)","v":0},{"$f":"MINUTE('Copy your Raw data here'!B207)","v":0},{"$f":"MINUTE('Copy your Raw data here'!C207)","v":0},{"$f":"('Copy your Raw data here'!C207-'Copy your Raw data here'!B207)*1440","v":0},60,0,null,null,{"$f":"HOUR('Copy your Raw data here'!G207)","v":0},{"$f":"HOUR('Copy your Raw data here'!H207)","v":0},{"$f":"MINUTE('Copy your Raw data here'!G207)","v":0},{"$f":"MINUTE('Copy your Raw data here'!H207)","v":0},{"$f":"('Copy your Raw data here'!H207-'Copy your Raw data here'!G207)*1440","v":0},1440,{"$f":"IF('Copy your Raw data here'!G207=\"\",\"\",IF(V208<U208,Z208,Y208))","v":""}]
[{"$f":"IF(ISBLANK('Copy your Raw data here'!A208),\"\",('Copy your Raw data here'!A208))","v":""},"",{"$f":"IF('Copy your Raw data here'!D208=\"YES\",1,0)","v":0},{"$f":"VLOOKUP('Copy your Raw data here'!E208,'Stroke Ready Hospital List'!A:B,1,FALSE)","v":{"$error":"#N/A"}},0,{"$f":"IF(OR(ISBLANK('Copy your Raw data here'!F208),('Copy your Raw data here'!F208=\"NO\")),0,1)","v":0},{"$f":"IF(ISBLANK('Copy your Raw data here'!G208),0,1)","v":0},{"$f":"IF(ISERROR(D209),'Copy your Raw data here'!E208,\"\")","v":0},"",null,null,{"$f":"HOUR('Copy your Raw data here'!B208)","v":0},{"$f":"HOUR('Copy your Raw data here'!C208)","v":0},{"$f":"MINUTE('Copy your Raw data here'!B208)","v":0},{"$f":"MINUTE('Copy your Raw data here'!C208)","v":0},{"$f":"('Copy your Raw data here'!C208-'Copy your Raw data here'!B208)*1440","v":0},60,0,null,null,{"$f":"HOUR('Copy your Raw data here'!G208)","v":0},{"$f":"HOUR('Copy your Raw data here'!H208)","v":0},{"$f":"MINUTE('Copy your Raw data here'!G208)","v":0},{"$f":"MINUTE('Copy your Raw data here'!H208)","v":0},{"$f":"('Copy your Raw data here'!H208-'Copy your Raw data here'!G208)*1440","v":0},1440,{"$f":"IF('Copy your Raw data here'!G208=\"\",\"\",IF(V209<U209,Z209,Y209))","v":""}]
[{"$f":"IF(ISBLANK('Copy your Raw data here'!A209),\"\",('Copy your Raw data here'!A209))","v":""},"",{"$f":"IF('Copy your Raw data here'!D209=\"YES\",1,0)","v":0},{"$f":"VLOOKUP('Copy your Raw data here'!E209,'Stroke Ready Hospital List'!A:B,1,FALSE)","v":{"$error":"#N/A"}},0,{"$f":"IF(OR(ISBLANK('Copy your Raw data here'!F209),('Copy your Raw data here'!F209=\"NO\")),0,1)","v":0},{"$f":"IF(ISBLANK('Copy your Raw data here'!G209),0,1)","v":0},{"$f":"IF(ISERROR(D210),'Copy your Raw data here'!E209,\"\")","v":0},"",null,null,{"$f":"HOUR('Copy your Raw data here'!B209)","v":0},{"$f":"HOUR('Copy your Raw data here'!C209)","v":0},{"$f":"MINUTE('Copy your Raw data here'!B209)","v":0},{"$f":"MINUTE('Copy your Raw data here'!C209)","v":0},{"$f":"('Copy your Raw data here'!C209-'Copy your Raw data here'!B209)*1440","v":0},60,0,null,null,{"$f":"HOUR('Copy your Raw data here'!G209)","v":0},{"$f":"HOUR('Copy your Raw data here'!H209)","v":0},{"$f":"MINUTE('Copy your Raw data here'!G209)","v":0},{"$f":"MINUTE('Copy your Raw data here'!H209)","v":0},{"$f":"('Copy your Raw data here'!H209-'Copy your Raw data here'!G209)*1440","v":0},1440,{"$f":"IF('Copy your Raw data here'!G209=\"\",\"\",IF(V210<U210,Z210,Y210))","v":""}]
[{"$f":"IF(ISBLANK('Copy your Raw data here'!A210),\"\",('Copy your Raw data here'!A210))","v":""},"",{"$f":"IF('Copy your Raw data here'!D210=\"YES\",1,0)","v":0},{"$f":"VLOOKUP('Copy your Raw data here'!E210,'Stroke Ready Hospital List'!A:B,1,FALSE)","v":{"$error":"#N/A"}},0,{"$f":"IF(OR(ISBLANK('Copy your Raw data here'!F210),('Copy your Raw data here'!F210=\"NO\")),0,1)","v":0},{"$f":"IF(ISBLANK('Copy your Raw data here'!G210),0,1)","v":0},{"$f":"IF(ISERROR(D211),'Copy your Raw data here'!E210,\"\")","v":0},"",null,null,{"$f":"HOUR('Copy your Raw data here'!B210)","v":0},{"$f":"HOUR('Copy your Raw data here'!C210)","v":0},{"$f":"MINUTE('Copy your Raw data here'!B210)","v":0},{"$f":"MINUTE('Copy your Raw data here'!C210)","v":0},{"$f":"('Copy your Raw data here'!C210-'Copy your Raw data here'!B210)*1440","v":0},60,0,null,null,{"$f":"HOUR('Copy your Raw data here'!G210)","v":0},{"$f":"HOUR('Copy your Raw data here'!H210)","v":0},{"$f":"MINUTE('Copy your Raw data here'!G210)","v":0},{"$f":"MINUTE('Copy your Raw data here'!H210)","v":0},{"$f":"('Copy your Raw data here'!H210-'Copy your Raw data here'!G210)*1440","v":0},1440,{"$f":"IF('Copy your Raw data here'!G210=\"\",\"\",IF(V211<U211,Z211,Y211))","v":""}]
[{"$f":"IF(ISBLANK('Copy your Raw data here'!A211),\"\",('Copy your Raw data here'!A211))","v":""},"",{"$f":"IF('Copy your Raw data here'!D211=\"YES\",1,0)","v":0},{"$f":"VLOOKUP('Copy your Raw data here'!E211,'Stroke Ready Hospital List'!A:B,1,FALSE)","v":{"$error":"#N/A"}},0,{"$f":"IF(OR(ISBLANK('Copy your Raw data here'!F211),('Copy your Raw data here'!F211=\"NO\")),0,1)","v":0},{"$f":"IF(ISBLANK('Copy your Raw data here'!G211),0,1)","v":0},{"$f":"IF(ISERROR(D212),'Copy your Raw data here'!E211,\"\")","v":0},"",null,null,{"$f":"HOUR('Copy your Raw data here'!B211)","v":0},{"$f":"HOUR('Copy your Raw data here'!C211)","v":0},{"$f":"MINUTE('Copy your Raw data here'!B211)","v":0},{"$f":"MINUTE('Copy your Raw data here'!C211)","v":0},{"$f":"('Copy your Raw data here'!C211-'Copy your Raw data here'!B211)*1440","v":0},60,0,null,null,{"$f":"HOUR('Copy your Raw data here'!G211)","v":0},{"$f":"HOUR('Copy your Raw data here'!H211)","v":0},{"$f":"MINUTE('Copy your Raw data here'!G211)","v":0},{"$f":"MINUTE('Copy your Raw data here'!H211)","v":0},{"$f":"('Copy your Raw data here'!H211-'Copy your Raw data here'!G211)*1440","v":0},1440,{"$f":"IF('Copy your Raw data here'!G211=\"\",\"\",IF(V212<U212,Z212,Y212))","v":""}]
[{"$f":"IF(ISBLANK('Copy your Raw data here'!A212),\"\",('Copy your Raw data here'!A212))","v":""},"",{"$f":"IF('Copy your Raw data here'!D212=\"YES\",1,0)","v":0},{"$f":"VLOOKUP('Copy your Raw data here'!E212,'Stroke Ready Hospital List'!A:B,1,FALSE)","v":{"$error":"#N/A"}},0,{"$f":"IF(OR(ISBLANK('Copy your Raw data here'!F212),('Copy your Raw data here'!F212=\"NO\")),0,1)","v":0},{"$f":"IF(ISBLANK('Copy your Raw data here'!G212),0,1)","v":0},{"$f":"IF(ISERROR(D213),'Copy your Raw data here'!E212,\"\")","v":0},"",null,null,{"$f":"HOUR('Copy your Raw data here'!B212)","v":0},{"$f":"HOUR('Copy your Raw data here'!C212)","v":0},{"$f":"MINUTE('Copy your Raw data here'!B212)","v":0},{"$f":"MINUTE('Copy your Raw data here'!C212)","v":0},{"$f":"('Copy your Raw data here'!C212-'Copy your Raw data here'!B212)*1440","v":0},60,0,null,null,{"$f":"HOUR('Copy your Raw data here'!G212)","v":0},{"$f":"HOUR('Copy your Raw data here'!H212)","v":0},{"$f":"MINUTE('Copy your Raw data here'!G212)","v":0},{"$f":"MINUTE('Copy your Raw data here'!H212)","v":0},{"$f":"('Copy your Raw data here'!H212-'Copy your Raw data here'!G212)*1440","v":0},1440,{"$f":"IF('Copy your Raw data here'!G212=\"\",\"\",IF(V213<U213,Z213,Y213))","v":""}]
[{"$f":"IF(ISBLANK('Copy your Raw data here'!A213),\"\",('Copy your Raw data here'!A213))","v":""},"",{"$f":"IF('Copy your Raw data here'!D213=\"YES\",1,0)","v":0},{"$f":"VLOOKUP('Copy your Raw data here'!E213,'Stroke Ready Hospital List'!A:B,1,FALSE)","v":{"$error":"#N/A"}},0,{"$f":"IF(OR(ISBLANK('Copy your Raw data here'!F213),('Copy your Raw data here'!F213=\"NO\")),0,1)","v":0},{"$f":"IF(ISBLANK('Copy your Raw data here'!G213),0,1)","v":0},{"$f":"IF(ISERROR(D214),'Copy your Raw data here'!E213,\"\")","v":0},"",null,null,{"$f":"HOUR('Copy your Raw data here'!B213)","v":0},{"$f":"HOUR('Copy your Raw data here'!C213)","v":0},{"$f":"MINUTE('Copy your Raw data here'!B213)","v":0},{"$f":"MINUTE('Copy your Raw data here'!C213)","v":0},{"$f":"('Copy your Raw data here'!C213-'Copy your Raw data here'!B213)*1440","v":0},60,0,null,null,{"$f":"HOUR('Copy your Raw data here'!G213)","v":0},{"$f":"HOUR('Copy your Raw data here'!H213)","v":0},{"$f":"MINUTE('Copy your Raw data here'!G213)","v":0},{"$f":"MINUTE('Copy your Raw data here'!H213)","v":0},{"$f":"('Copy your Raw data here'!H213-'Copy your Raw data here'!G213)*1440","v":0},1440,{"$f":"IF('Copy your Raw data here'!G213=\"\",\"\",IF(V214<U214,Z214,Y214))","v":""}]
[{"$f":"IF(ISBLANK('Copy your Raw data here'!A214),\"\",('Copy your Raw data here'!A214))","v":""},"",{"$f":"IF('Copy your Raw data here'!D214=\"YES\",1,0)","v":0},{"$f":"VLOOKUP('Copy your Raw data here'!E214,'Stroke Ready Hospital List'!A:B,1,FALSE)","v":{"$error":"#N/A"}},0,{"$f":"IF(OR(ISBLANK('Copy your Raw data here'!F214),('Copy your Raw data here'!F214=\"NO\")),0,1)","v":0},{"$f":"IF(ISBLANK('Copy your Raw data here'!G214),0,1)","v":0},{"$f":"IF(ISERROR(D215),'Copy your Raw data here'!E214,\"\")","v":0},"",null,null,{"$f":"HOUR('Copy your Raw data here'!B214)","v":0},{"$f":"HOUR('Copy your Raw data here'!C214)","v":0},{"$f":"MINUTE('Copy your Raw data here'!B214)","v":0},{"$f":"MINUTE('Copy your Raw data here'!C214)","v":0},{"$f":"('Copy your Raw data here'!C214-'Copy your Raw data here'!B214)*1440","v":0},60,0,null,null,{"$f":"HOUR('Copy your Raw data here'!G214)","v":0},{"$f":"HOUR('Copy your Raw data here'!H214)","v":0},{"$f":"MINUTE('Copy your Raw data here'!G214)","v":0},{"$f":"MINUTE('Copy your Raw data here'!H214)","v":0},{"$f":"('Copy your Raw data here'!H214-'Copy your Raw data here'!G214)*1440","v":0},1440,{"$f":"IF('Copy your Raw data here'!G214=\"\",\"\",IF(V215<U215,Z215,Y215))","v":""}]
[{"$f":"IF(ISBLANK('Copy your Raw data here'!A215),\"\",('Copy your Raw data here'!A215))","v":""},"",{"$f":"IF('Copy your Raw data here'!D215=\"YES\",1,0)","v":0},{"$f":"VLOOKUP('Copy your Raw data here'!E215,'Stroke Ready Hospital List'!A:B,1,FALSE)","v":{"$error":"#N/A"}},0,{"$f":"IF(OR(ISBLANK('Copy your Raw data here'!F215),('Copy your Raw data here'!F215=\"NO\")),0,1)","v":0},{"$f":"IF(ISBLANK('Copy your Raw data here'!G215),0,1)","v":0},{"$f":"IF(ISERROR(D216),'Copy your Raw data here'!E215,\"\")","v":0},"",null,null,{"$f":"HOUR('Copy your Raw data here'!B215)","v":0},{"$f":"HOUR('Copy your Raw data here'!C215)","v":0},{"$f":"MINUTE('Copy your Raw data here'!B215)","v":0},{"$f":"MINUTE('Copy your Raw data here'!C215)","v":0},{"$f":"('Copy your Raw data here'!C215-'Copy your Raw data here'!B215)*1440","v":0},60,0,null,null,{"$f":"HOUR('Copy your Raw data here'!G215)","v":0},{"$f":"HOUR('Copy your Raw data here'!H215)","v":0},{"$f":"MINUTE('Copy your Raw data here'!G215)","v":0},{"$f":"MINUTE('Copy your Raw data here'!H215)","v":0},{"$f":"('Copy your Raw data here'!H215-'Copy your Raw data here'!G215)*1440","v":0},1440,{"$f":"IF('Copy your Raw data here'!G215=\"\",\"\",IF(V216<U216,Z216,Y216))","v":""}]
[{"$f":"IF(ISBLANK('Copy your Raw data here'!A216),\"\",('Copy your Raw data here'!A216))","v":""},"",{"$f":"IF('Copy your Raw data here'!D216=\"YES\",1,0)","v":0},{"$f":"VLOOKUP('Copy your Raw data here'!E216,'Stroke Ready Hospital List'!A:B,1,FALSE)","v":{"$error":"#N/A"}},0,{"$f":"IF(OR(ISBLANK('Copy your Raw data here'!F216),('Copy your Raw data here'!F216=\"NO\")),0,1)","v":0},{"$f":"IF(ISBLANK('Copy your Raw data here'!G216),0,1)","v":0},{"$f":"IF(ISERROR(D217),'Copy your Raw data here'!E216,\"\")","v":0},"",null,null,{"$f":"HOUR('Copy your Raw data here'!B216)","v":0},{"$f":"HOUR('Copy your Raw data here'!C216)","v":0},{"$f":"MINUTE('Copy your Raw data here'!B216)","v":0},{"$f":"MINUTE('Copy your Raw data here'!C216)","v":0},{"$f":"('Copy your Raw data here'!C216-'Copy your Raw data here'!B216)*1440","v":0},60,0,null,null,{"$f":"HOUR('Copy your Raw data here'!G216)","v":0},{"$f":"HOUR('Copy your Raw data here'!H216)","v":0},{"$f":"MINUTE('Copy your Raw data here'!G216)","v":0},{"$f":"MINUTE('Copy your Raw data here'!H216)","v":0},{"$f":"('Copy your Raw data here'!H216-'Copy your Raw data here'!G216)*1440","v":0},1440,{"$f":"IF('Copy your Raw data here'!G216=\"\",\"\",IF(V217<U217,Z217,Y217))","v":""}]
[{"$f":"IF(ISBLANK('Copy your Raw data here'!A217),\"\",('Copy your Raw data here'!A217))","v":""},"",{"$f":"IF('Copy your Raw data here'!D217=\"YES\",1,0)","v":0},{"$f":"VLOOKUP('Copy your Raw data here'!E217,'Stroke Ready Hospital List'!A:B,1,FALSE)","v":{"$error":"#N/A"}},0,{"$f":"IF(OR(ISBLANK('Copy your Raw data here'!F217),('Copy your Raw data here'!F217=\"NO\")),0,1)","v":0},{"$f":"IF(ISBLANK('Copy your Raw data here'!G217),0,1)","v":0},{"$f":"IF(ISERROR(D218),'Copy your Raw data here'!E217,\"\")","v":0},"",null,null,{"$f":"HOUR('Copy your Raw data here'!B217)","v":0},{"$f":"HOUR('Copy your Raw data here'!C217)","v":0},{"$f":"MINUTE('Copy your Raw data here'!B217)","v":0},{"$f":"MINUTE('Copy your Raw data here'!C217)","v":0},{"$f":"('Copy your Raw data here'!C217-'Copy your Raw data here'!B217)*1440","v":0},60,0,null,null,{"$f":"HOUR('Copy your Raw data here'!G217)","v":0},{"$f":"HOUR('Copy your Raw data here'!H217)","v":0},{"$f":"MINUTE('Copy your Raw data here'!G217)","v":0},{"$f":"MINUTE('Copy your Raw data here'!H217)","v":0},{"$f":"('Copy your Raw data here'!H217-'Copy your Raw data here'!G217)*1440","v":0},1440,{"$f":"IF('Copy your Raw data here'!G217=\"\",\"\",IF(V218<U218,Z218,Y218))","v":""}]
[{"$f":"IF(ISBLANK('Copy your Raw data here'!A218),\"\",('Copy your Raw data here'!A218))","v":""},"",{"$f":"IF('Copy your Raw data here'!D218=\"YES\",1,0)","v":0},{"$f":"VLOOKUP('Copy your Raw data here'!E218,'Stroke Ready Hospital List'!A:B,1,FALSE)","v":{"$error":"#N/A"}},0,{"$f":"IF(OR(ISBLANK('Copy your Raw data here'!F218),('Copy your Raw data here'!F218=\"NO\")),0,1)","v":0},{"$f":"IF(ISBLANK('Copy your Raw data here'!G218),0,1)","v":0},{"$f":"IF(ISERROR(D219),'Copy your Raw data here'!E218,\"\")","v":0},"",null,null,{"$f":"HOUR('Copy your Raw data here'!B218)","v":0},{"$f":"HOUR('Copy your Raw data here'!C218)","v":0},{"$f":"MINUTE('Copy your Raw data here'!B218)","v":0},{"$f":"MINUTE('Copy your Raw data here'!C218)","v":0},{"$f":"('Copy your Raw data here'!C218-'Copy your Raw data here'!B218)*1440","v":0},60,0,null,null,{"$f":"HOUR('Copy your Raw data here'!G218)","v":0},{"$f":"HOUR('Copy your Raw data here'!H218)","v":0},{"$f":"MINUTE('Copy your Raw data here'!G218)","v":0},{"$f":"MINUTE('Copy your Raw data here'!H218)","v":0},{"$f":"('Copy your Raw data here'!H218-'Copy your Raw data here'!G218)*1440","v":0},1440,{"$f":"IF('Copy your Raw data here'!G218=\"\",\"\",IF(V219<U219,Z219,Y219))","v":""}]
[{"$f":"IF(ISBLANK('Copy your Raw data here'!A219),\"\",('Copy your Raw data here'!A219))","v":""},"",{"$f":"IF('Copy your Raw data here'!D219=\"YES\",1,0)","v":0},{"$f":"VLOOKUP('Copy your Raw data here'!E219,'Stroke Ready Hospital List'!A:B,1,FALSE)","v":{"$error":"#N/A"}},{"$f":"IF(ISERROR(D220),0,1)","v":0},{"$f":"IF(OR(ISBLANK('Copy your Raw data here'!F219),('Copy your Raw data here'!F219=\"NO\")),0,1)","v":0},{"$f":"IF(ISBLANK('Copy your Raw data here'!G219),0,1)","v":0},{"$f":"IF(ISERROR(D220),'Copy your Raw data here'!E219,\"\")","v":0},"",null,null,{"$f":"HOUR('Copy your Raw data here'!B219)","v":0},{"$f":"HOUR('Copy your Raw data here'!C219)","v":0},{"$f":"MINUTE('Copy your Raw data here'!B219)","v":0},{"$f":"MINUTE('Copy your Raw data here'!C219)","v":0},{"$f":"('Copy your Raw data here'!C219-'Copy your Raw data here'!B219)*1440","v":0},60,0,null,null,{"$f":"HOUR('Copy your Raw data here'!G219)","v":0},{"$f":"HOUR('Copy your Raw data here'!H219)","v":0},{"$f":"MINUTE('Copy your Raw data here'!G219)","v":0},{"$f":"MINUTE('Copy your Raw data here'!H219)","v":0},{"$f":"('Copy your Raw data here'!H219-'Copy your Raw data here'!G219)*1440","v":0},1440,{"$f":"IF('Copy your Raw data here'!G219=\"\",\"\",IF(V220<U220,Z220,Y220))","v":""}]
[{"$f":"IF(ISBLANK('Copy your Raw data here'!A220),\"\",('Copy your Raw data here'!A220))","v":""},"",{"$f":"IF('Copy your Raw data here'!D220=\"YES\",1,0)","v":0},{"$f":"VLOOKUP('Copy your Raw data here'!E220,'Stroke Ready Hospital List'!A:B,1,FALSE)","v":{"$error":"#N/A"}},0,{"$f":"IF(OR(ISBLANK('Copy your Raw data here'!F220),('Copy your Raw data here'!F220=\"NO\")),0,1)","v":0},{"$f":"IF(ISBLANK('Copy your Raw data here'!G220),0,1)","v":0},{"$f":"IF(ISERROR(D221),'Copy your Raw data here'!E220,\"\")","v":0},"",null,null,{"$f":"HOUR('Copy your Raw data here'!B220)","v":0},{"$f":"HOUR('Copy your Raw data here'!C220)","v":0},{"$f":"MINUTE('Copy your Raw data here'!B220)","v":0},{"$f":"MINUTE('Copy your Raw data here'!C220)","v":0},{"$f":"('Copy your Raw data here'!C220-'Copy your Raw data here'!B220)*1440","v":0},60,0,null,null,{"$f":"HOUR('Copy your Raw data here'!G220)","v":0},{"$f":"HOUR('Copy your Raw data here'!H220)","v":0},{"$f":"MINUTE('Copy your Raw data here'!G220)","v":0},{"$f":"MINUTE('Copy your Raw data here'!H220)","v":0},{"$f":"('Copy your Raw data here'!H220-'Copy your Raw data here'!G220)*1440","v":0},1440,{"$f":"IF('Copy your Raw data here'!G220=\"\",\"\",IF(V221<U221,Z221,Y221))","v":""}]
[{"$f":"IF(ISBLANK('Copy your Raw data here'!A221),\"\",('Copy your Raw data here'!A221))","v":""},"",{"$f":"IF('Copy your Raw data here'!D221=\"YES\",1,0)","v":0},{"$f":"VLOOKUP('Copy your Raw data here'!E221,'Stroke Ready Hospital List'!A:B,1,FALSE)","v":{"$error":"#N/A"}},0,{"$f":"IF(OR(ISBLANK('Copy your Raw data here'!F221),('Copy your Raw data here'!F221=\"NO\")),0,1)","v":0},{"$f":"IF(ISBLANK('Copy your Raw data here'!G221),0,1)","v":0},{"$f":"IF(ISERROR(D222),'Copy your Raw data here'!E221,\"\")","v":0},"",null,null,{"$f":"HOUR('Copy your Raw data here'!B221)","v":0},{"$f":"HOUR('Copy your Raw data here'!C221)","v":0},{"$f":"MINUTE('Copy your Raw data here'!B221)","v":0},{"$f":"MINUTE('Copy your Raw data here'!C221)","v":0},{"$f":"('Copy your Raw data here'!C221-'Copy your Raw data here'!B221)*1440","v":0},60,0,null,null,{"$f":"HOUR('Copy your Raw data here'!G221)","v":0},{"$f":"HOUR('Copy your Raw data here'!H221)","v":0},{"$f":"MINUTE('Copy your Raw data here'!G221)","v":0},{"$f":"MINUTE('Copy your Raw data here'!H221)","v":0},{"$f":"('Copy your Raw data here'!H221-'Copy your Raw data here'!G221)*1440","v":0},1440,{"$f":"IF('Copy your Raw data here'!G221=\"\",\"\",IF(V222<U222,Z222,Y222))","v":""}]
[{"$f":"IF(ISBLANK('Copy your Raw data here'!A222),\"\",('Copy your Raw data here'!A222))","v":""},"",{"$f":"IF('Copy your Raw data here'!D222=\"YES\",1,0)","v":0},{"$f":"VLOOKUP('Copy your Raw data here'!E222,'Stroke Ready Hospital List'!A:B,1,FALSE)","v":{"$error":"#N/A"}},0,{"$f":"IF(OR(ISBLANK('Copy your Raw data here'!F222),('Copy your Raw data here'!F222=\"NO\")),0,1)","v":0},{"$f":"IF(ISBLANK('Copy your Raw data here'!G222),0,1)","v":0},{"$f":"IF(ISERROR(D223),'Copy your Raw data here'!E222,\"\")","v":0},"",null,null,{"$f":"HOUR('Copy your Raw data here'!B222)","v":0},{"$f":"HOUR('Copy your Raw data here'!C222)","v":0},{"$f":"MINUTE('Copy your Raw data here'!B222)","v":0},{"$f":"MINUTE('Copy your Raw data here'!C222)","v":0},{"$f":"('Copy your Raw data here'!C222-'Copy your Raw data here'!B222)*1440","v":0},60,0,null,null,{"$f":"HOUR('Copy your Raw data here'!G222)","v":0},{"$f":"HOUR('Copy your Raw data here'!H222)","v":0},{"$f":"MINUTE('Copy your Raw data here'!G222)","v":0},{"$f":"MINUTE('Copy your Raw data here'!H222)","v":0},{"$f":"('Copy your Raw data here'!H222-'Copy your Raw data here'!G222)*1440","v":0},1440,{"$f":"IF('Copy your Raw data here'!G222=\"\",\"\",IF(V223<U223,Z223,Y223))","v":""}]
[{"$f":"IF(ISBLANK('Copy your Raw data here'!A223),\"\",('Copy your Raw data here'!A223))","v":""},"",{"$f":"IF('Copy your Raw data here'!D223=\"YES\",1,0)","v":0},{"$f":"VLOOKUP('Copy your Raw data here'!E223,'Stroke Ready Hospital List'!A:B,1,FALSE)","v":{"$error":"#N/A"}},0,{"$f":"IF(OR(ISBLANK('Copy your Raw data here'!F223),('Copy your Raw data here'!F223=\"NO\")),0,1)","v":0},{"$f":"IF(ISBLANK('Copy your Raw data here'!G223),0,1)","v":0},{"$f":"IF(ISERROR(D224),'Copy your Raw data here'!E223,\"\")","v":0},"",null,null,{"$f":"HOUR('Copy your Raw data here'!B223)","v":0},{"$f":"HOUR('Copy your Raw data here'!C223)","v":0},{"$f":"MINUTE('Copy your Raw data here'!B223)","v":0},{"$f":"MINUTE('Copy your Raw data here'!C223)","v":0},{"$f":"('Copy your Raw data here'!C223-'Copy your Raw data here'!B223)*1440","v":0},60,0,null,null,{"$f":"HOUR('Copy your Raw data here'!G223)","v":0},{"$f":"HOUR('Copy your Raw data here'!H223)","v":0},{"$f":"MINUTE('Copy your Raw data here'!G223)","v":0},{"$f":"MINUTE('Copy your Raw data here'!H223)","v":0},{"$f":"('Copy your Raw data here'!H223-'Copy your Raw data here'!G223)*1440","v":0},1440,{"$f":"IF('Copy your Raw data here'!G223=\"\",\"\",IF(V224<U224,Z224,Y224))","v":""}]
[{"$f":"IF(ISBLANK('Copy your Raw data here'!A224),\"\",('Copy your Raw data here'!A224))","v":""},"",{"$f":"IF('Copy your Raw data here'!D224=\"YES\",1,0)","v":0},{"$f":"VLOOKUP('Copy your Raw data here'!E224,'Stroke Ready Hospital List'!A:B,1,FALSE)","v":{"$error":"#N/A"}},0,{"$f":"IF(OR(ISBLANK('Copy your Raw data here'!F224),('Copy your Raw data here'!F224=\"NO\")),0,1)","v":0},{"$f":"IF(ISBLANK('Copy your Raw data here'!G224),0,1)","v":0},{"$f":"IF(ISERROR(D225),'Copy your Raw data here'!E224,\"\")","v":0},"",null,null,{"$f":"HOUR('Copy your Raw data here'!B224)","v":0},{"$f":"HOUR('Copy your Raw data here'!C224)","v":0},{"$f":"MINUTE('Copy your Raw data here'!B224)","v":0},{"$f":"MINUTE('Copy your Raw data here'!C224)","v":0},{"$f":"('Copy your Raw data here'!C224-'Copy your Raw data here'!B224)*1440","v":0},60,0,null,null,{"$f":"HOUR('Copy your Raw data here'!G224)","v":0},{"$f":"HOUR('Copy your Raw data here'!H224)","v":0},{"$f":"MINUTE('Copy your Raw data here'!G224)","v":0},{"$f":"MINUTE('Copy your Raw data here'!H224)","v":0},{"$f":"('Copy your Raw data here'!H224-'Copy your Raw data here'!G224)*1440","v":0},1440,{"$f":"IF('Copy your Raw data here'!G224=\"\",\"\",IF(V225<U225,Z225,Y225))","v":""}]
[{"$f":"IF(ISBLANK('Copy your Raw data here'!A225),\"\",('Copy your Raw data here'!A225))","v":""},"",{"$f":"IF('Copy your Raw data here'!D225=\"YES\",1,0)","v":0},{"$f":"VLOOKUP('Copy your Raw data here'!E225,'Stroke Ready Hospital List'!A:B,1,FALSE)","v":{"$error":"#N/A"}},0,{"$f":"IF(OR(ISBLANK('Copy your Raw data here'!F225),('Copy your Raw data here'!F225=\"NO\")),0,1)","v":0},{"$f":"IF(ISBLANK('Copy your Raw data here'!G225),0,1)","v":0},{"$f":"IF(ISERROR(D226),'Copy your Raw data here'!E225,\"\")","v":0},"",null,null,{"$f":"HOUR('Copy your Raw data here'!B225)","v":0},{"$f":"HOUR('Copy your Raw data here'!C225)","v":0},{"$f":"MINUTE('Copy your Raw data here'!B225)","v":0},{"$f":"MINUTE('Copy your Raw data here'!C225)","v":0},{"$f":"('Copy your Raw data here'!C225-'Copy your Raw data here'!B225)*1440","v":0},60,0,null,null,{"$f":"HOUR('Copy your Raw data here'!G225)","v":0},{"$f":"HOUR('Copy your Raw data here'!H225)","v":0},{"$f":"MINUTE('Copy your Raw data here'!G225)","v":0},{"$f":"MINUTE('Copy your Raw data here'!H225)","v":0},{"$f":"('Copy your Raw data here'!H225-'Copy your Raw data here'!G225)*1440","v":0},1440,{"$f":"IF('Copy your Raw data here'!G225=\"\",\"\",IF(V226<U226,Z226,Y226))","v":""}]
[{"$f":"IF(ISBLANK('Copy your Raw data here'!A226),\"\",('Copy your Raw data here'!A226))","v":""},"",{"$f":"IF('Copy your Raw data here'!D226=\"YES\",1,0)","v":0},{"$f":"VLOOKUP('Copy your Raw data here'!E226,'Stroke Ready Hospital List'!A:B,1,FALSE)","v":{"$error":"#N/A"}},0,{"$f":"IF(OR(ISBLANK('Copy your Raw data here'!F226),('Copy your Raw data here'!F226=\"NO\")),0,1)","v":0},{"$f":"IF(ISBLANK('Copy your Raw data here'!G226),0,1)","v":0},{"$f":"IF(ISERROR(D227),'Copy your Raw data here'!E226,\"\")","v":0},"",null,null,{"$f":"HOUR('Copy your Raw data here'!B226)","v":0},{"$f":"HOUR('Copy your Raw data here'!C226)","v":0},{"$f":"MINUTE('Copy your Raw data here'!B226)","v":0},{"$f":"MINUTE('Copy your Raw data here'!C226)","v":0},{"$f":"('Copy your Raw data here'!C226-'Copy your Raw data here'!B226)*1440","v":0},60,0,null,null,{"$f":"HOUR('Copy your Raw data here'!G226)","v":0},{"$f":"HOUR('Copy your Raw data here'!H226)","v":0},{"$f":"MINUTE('Copy your Raw data here'!G226)","v":0},{"$f":"MINUTE('Copy your Raw data here'!H226)","v":0},{"$f":"('Copy your Raw data here'!H226-'Copy your Raw data here'!G226)*1440","v":0},1440,{"$f":"IF('Copy your Raw data here'!G226=\"\",\"\",IF(V227<U227,Z227,Y227))","v":""}]
[{"$f":"IF(ISBLANK('Copy your Raw data here'!A227),\"\",('Copy your Raw data here'!A227))","v":""},"",{"$f":"IF('Copy your Raw data here'!D227=\"YES\",1,0)","v":0},{"$f":"VLOOKUP('Copy your Raw data here'!E227,'Stroke Ready Hospital List'!A:B,1,FALSE)","v":{"$error":"#N/A"}},0,{"$f":"IF(OR(ISBLANK('Copy your Raw data here'!F227),('Copy your Raw data here'!F227=\"NO\")),0,1)","v":0},{"$f":"IF(ISBLANK('Copy your Raw data here'!G227),0,1)","v":0},{"$f":"IF(ISERROR(D228),'Copy your Raw data here'!E227,\"\")","v":0},"",null,null,{"$f":"HOUR('Copy your Raw data here'!B227)","v":0},{"$f":"HOUR('Copy your Raw data here'!C227)","v":0},{"$f":"MINUTE('Copy your Raw data here'!B227)","v":0},{"$f":"MINUTE('Copy your Raw data here'!C227)","v":0},{"$f":"('Copy your Raw data here'!C227-'Copy your Raw data here'!B227)*1440","v":0},60,0,null,null,{"$f":"HOUR('Copy your Raw data here'!G227)","v":0},{"$f":"HOUR('Copy your Raw data here'!H227)","v":0},{"$f":"MINUTE('Copy your Raw data here'!G227)","v":0},{"$f":"MINUTE('Copy your Raw data here'!H227)","v":0},{"$f":"('Copy your Raw data here'!H227-'Copy your Raw data here'!G227)*1440","v":0},1440,{"$f":"IF('Copy your Raw data here'!G227=\"\",\"\",IF(V228<U228,Z228,Y228))","v":""}]
[{"$f":"IF(ISBLANK('Copy your Raw data here'!A228),\"\",('Copy your Raw data here'!A228))","v":""},"",{"$f":"IF('Copy your Raw data here'!D228=\"YES\",1,0)","v":0},{"$f":"VLOOKUP('Copy your Raw data here'!E228,'Stroke Ready Hospital List'!A:B,1,FALSE)","v":{"$error":"#N/A"}},0,{"$f":"IF(OR(ISBLANK('Copy your Raw data here'!F228),('Copy your Raw data here'!F228=\"NO\")),0,1)","v":0},{"$f":"IF(ISBLANK('Copy your Raw data here'!G228),0,1)","v":0},{"$f":"IF(ISERROR(D229),'Copy your Raw data here'!E228,\"\")","v":0},"",null,null,{"$f":"HOUR('Copy your Raw data here'!B228)","v":0},{"$f":"HOUR('Copy your Raw data here'!C228)","v":0},{"$f":"MINUTE('Copy your Raw data here'!B228)","v":0},{"$f":"MINUTE('Copy your Raw data here'!C228)","v":0},{"$f":"('Copy your Raw data here'!C228-'Copy your Raw data here'!B228)*1440","v":0},60,0,null,null,{"$f":"HOUR('Copy your Raw data here'!G228)","v":0},{"$f":"HOUR('Copy your Raw data here'!H228)","v":0},{"$f":"MINUTE('Copy your Raw data here'!G228)","v":0},{"$f":"MINUTE('Copy your Raw data here'!H228)","v":0},{"$f":"('Copy your Raw data here'!H228-'Copy your Raw data here'!G228)*1440","v":0},1440,{"$f":"IF('Copy your Raw data here'!G228=\"\",\"\",IF(V229<U229,Z229,Y229))","v":""}]
[{"$f":"IF(ISBLANK('Copy your Raw data here'!A229),\"\",('Copy your Raw data here'!A229))","v":""},"",{"$f":"IF('Copy your Raw data here'!D229=\"YES\",1,0)","v":0},{"$f":"VLOOKUP('Copy your Raw data here'!E229,'Stroke Ready Hospital List'!A:B,1,FALSE)","v":{"$error":"#N/A"}},0,{"$f":"IF(OR(ISBLANK('Copy your Raw data here'!F229),('Copy your Raw data here'!F229=\"NO\")),0,1)","v":0},{"$f":"IF(ISBLANK('Copy your Raw data here'!G229),0,1)","v":0},{"$f":"IF(ISERROR(D230),'Copy your Raw data here'!E229,\"\")","v":0},"",null,null,{"$f":"HOUR('Copy your Raw data here'!B229)","v":0},{"$f":"HOUR('Copy your Raw data here'!C229)","v":0},{"$f":"MINUTE('Copy your Raw data here'!B229)","v":0},{"$f":"MINUTE('Copy your Raw data here'!C229)","v":0},{"$f":"('Copy your Raw data here'!C229-'Copy your Raw data here'!B229)*1440","v":0},60,0,null,null,{"$f":"HOUR('Copy your Raw data here'!G229)","v":0},{"$f":"HOUR('Copy your Raw data here'!H229)","v":0},{"$f":"MINUTE('Copy your Raw data here'!G229)","v":0},{"$f":"MINUTE('Copy your Raw data here'!H229)","v":0},{"$f":"('Copy your Raw data here'!H229-'Copy your Raw data here'!G229)*1440","v":0},1440,{"$f":"IF('Copy your Raw data here'!G229=\"\",\"\",IF(V230<U230,Z230,Y230))","v":""}]
[{"$f":"IF(ISBLANK('Copy your Raw data here'!A230),\"\",('Copy your Raw data here'!A230))","v":""},"",{"$f":"IF('Copy your Raw data here'!D230=\"YES\",1,0)","v":0},{"$f":"VLOOKUP('Copy your Raw data here'!E230,'Stroke Ready Hospital List'!A:B,1,FALSE)","v":{"$error":"#N/A"}},0,{"$f":"IF(OR(ISBLANK('Copy your Raw data here'!F230),('Copy your Raw data here'!F230=\"NO\")),0,1)","v":0},{"$f":"IF(ISBLANK('Copy your Raw data here'!G230),0,1)","v":0},{"$f":"IF(ISERROR(D231),'Copy your Raw data here'!E230,\"\")","v":0},"",null,null,{"$f":"HOUR('Copy your Raw data here'!B230)","v":0},{"$f":"HOUR('Copy your Raw data here'!C230)","v":0},{"$f":"MINUTE('Copy your Raw data here'!B230)","v":0},{"$f":"MINUTE('Copy your Raw data here'!C230)","v":0},{"$f":"('Copy your Raw data here'!C230-'Copy your Raw data here'!B230)*1440","v":0},60,0,null,null,{"$f":"HOUR('Copy your Raw data here'!G230)","v":0},{"$f":"HOUR('Copy your Raw data here'!H230)","v":0},{"$f":"MINUTE('Copy your Raw data here'!G230)","v":0},{"$f":"MINUTE('Copy your Raw data here'!H230)","v":0},{"$f":"('Copy your Raw data here'!H230-'Copy your Raw data here'!G230)*1440","v":0},1440,{"$f":"IF('Copy your Raw data here'!G230=\"\",\"\",IF(V231<U231,Z231,Y231))","v":""}]
[{"$f":"IF(ISBLANK('Copy your Raw data here'!A231),\"\",('Copy your Raw data here'!A231))","v":""},"",{"$f":"IF('Copy your Raw data here'!D231=\"YES\",1,0)","v":0},{"$f":"VLOOKUP('Copy your Raw data here'!E231,'Stroke Ready Hospital List'!A:B,1,FALSE)","v":{"$error":"#N/A"}},0,{"$f":"IF(OR(ISBLANK('Copy your Raw data here'!F231),('Copy your Raw data here'!F231=\"NO\")),0,1)","v":0},{"$f":"IF(ISBLANK('Copy your Raw data here'!G231),0,1)","v":0},{"$f":"IF(ISERROR(D232),'Copy your Raw data here'!E231,\"\")","v":0},"",null,null,{"$f":"HOUR('Copy your Raw data here'!B231)","v":0},{"$f":"HOUR('Copy your Raw data here'!C231)","v":0},{"$f":"MINUTE('Copy your Raw data here'!B231)","v":0},{"$f":"MINUTE('Copy your Raw data here'!C231)","v":0},{"$f":"('Copy your Raw data here'!C231-'Copy your Raw data here'!B231)*1440","v":0},60,0,null,null,{"$f":"HOUR('Copy your Raw data here'!G231)","v":0},{"$f":"HOUR('Copy your Raw data here'!H231)","v":0},{"$f":"MINUTE('Copy your Raw data here'!G231)","v":0},{"$f":"MINUTE('Copy your Raw data here'!H231)","v":0},{"$f":"('Copy your Raw data here'!H231-'Copy your Raw data here'!G231)*1440","v":0},1440,{"$f":"IF('Copy your Raw data here'!G231=\"\",\"\",IF(V232<U232,Z232,Y232))","v":""}]
[{"$f":"IF(ISBLANK('Copy your Raw data here'!A232),\"\",('Copy your Raw data here'!A232))","v":""},"",{"$f":"IF('Copy your Raw data here'!D232=\"YES\",1,0)","v":0},{"$f":"VLOOKUP('Copy your Raw data here'!E232,'Stroke Ready Hospital List'!A:B,1,FALSE)","v":{"$error":"#N/A"}},0,{"$f":"IF(OR(ISBLANK('Copy your Raw data here'!F232),('Copy your Raw data here'!F232=\"NO\")),0,1)","v":0},{"$f":"IF(ISBLANK('Copy your Raw data here'!G232),0,1)","v":0},{"$f":"IF(ISERROR(D233),'Copy your Raw data here'!E232,\"\")","v":0},"",null,null,{"$f":"HOUR('Copy your Raw data here'!B232)","v":0},{"$f":"HOUR('Copy your Raw data here'!C232)","v":0},{"$f":"MINUTE('Copy your Raw data here'!B232)","v":0},{"$f":"MINUTE('Copy your Raw data here'!C232)","v":0},{"$f":"('Copy your Raw data here'!C232-'Copy your Raw data here'!B232)*1440","v":0},60,0,null,null,{"$f":"HOUR('Copy your Raw data here'!G232)","v":0},{"$f":"HOUR('Copy your Raw data here'!H232)","v":0},{"$f":"MINUTE('Copy your Raw data here'!G232)","v":0},{"$f":"MINUTE('Copy your Raw data here'!H232)","v":0},{"$f":"('Copy your Raw data here'!H232-'Copy your Raw data here'!G232)*1440","v":0},1440,{"$f":"IF('Copy your Raw data here'!G232=\"\",\"\",IF(V233<U233,Z233,Y233))","v":""}]
[{"$f":"IF(ISBLANK('Copy your Raw data here'!A233),\"\",('Copy your Raw data here'!A233))","v":""},"",{"$f":"IF('Copy your Raw data here'!D233=\"YES\",1,0)","v":0},{"$f":"VLOOKUP('Copy your Raw data here'!E233,'Stroke Ready Hospital List'!A:B,1,FALSE)","v":{"$error":"#N/A"}},0,{"$f":"IF(OR(ISBLANK('Copy your Raw data here'!F233),('Copy your Raw data here'!F233=\"NO\")),0,1)","v":0},{"$f":"IF(ISBLANK('Copy your Raw data here'!G233),0,1)","v":0},{"$f":"IF(ISERROR(D234),'Copy your Raw data here'!E233,\"\")","v":0},"",null,null,{"$f":"HOUR('Copy your Raw data here'!B233)","v":0},{"$f":"HOUR('Copy your Raw data here'!C233)","v":0},{"$f":"MINUTE('Copy your Raw data here'!B233)","v":0},{"$f":"MINUTE('Copy your Raw data here'!C233)","v":0},{"$f":"('Copy your Raw data here'!C233-'Copy your Raw data here'!B233)*1440","v":0},60,0,null,null,{"$f":"HOUR('Copy your Raw data here'!G233)","v":0},{"$f":"HOUR('Copy your Raw data here'!H233)","v":0},{"$f":"MINUTE('Copy your Raw data here'!G233)","v":0},{"$f":"MINUTE('Copy your Raw data here'!H233)","v":0},{"$f":"('Copy your Raw data here'!H233-'Copy your Raw data here'!G233)*1440","v":0},1440,{"$f":"IF('Copy your Raw data here'!G233=\"\",\"\",IF(V234<U234,Z234,Y234))","v":""}]
[{"$f":"IF(ISBLANK('Copy your Raw data here'!A234),\"\",('Copy your Raw data here'!A234))","v":""},"",{"$f":"IF('Copy your Raw data here'!D234=\"YES\",1,0)","v":0},{"$f":"VLOOKUP('Copy your Raw data here'!E234,'Stroke Ready Hospital List'!A:B,1,FALSE)","v":{"$error":"#N/A"}},0,{"$f":"IF(OR(ISBLANK('Copy your Raw data here'!F234),('Copy your Raw data here'!F234=\"NO\")),0,1)","v":0},{"$f":"IF(ISBLANK('Copy your Raw data here'!G234),0,1)","v":0},{"$f":"IF(ISERROR(D235),'Copy your Raw data here'!E234,\"\")","v":0},"",null,null,{"$f":"HOUR('Copy your Raw data here'!B234)","v":0},{"$f":"HOUR('Copy your Raw data here'!C234)","v":0},{"$f":"MINUTE('Copy your Raw data here'!B234)","v":0},{"$f":"MINUTE('Copy your Raw data here'!C234)","v":0},{"$f":"('Copy your Raw data here'!C234-'Copy your Raw data here'!B234)*1440","v":0},60,0,null,null,{"$f":"HOUR('Copy your Raw data here'!G234)","v":0},{"$f":"HOUR('Copy your Raw data here'!H234)","v":0},{"$f":"MINUTE('Copy your Raw data here'!G234)","v":0},{"$f":"MINUTE('Copy your Raw data here'!H234)","v":0},{"$f":"('Copy your Raw data here'!H234-'Copy your Raw data here'!G234)*1440","v":0},1440,{"$f":"IF('Copy your Raw data here'!G234=\"\",\"\",IF(V235<U235,Z235,Y235))","v":""}]
[{"$f":"IF(ISBLANK('Copy your Raw data here'!A235),\"\",('Copy your Raw data here'!A235))","v":""},"",{"$f":"IF('Copy your Raw data here'!D235=\"YES\",1,0)","v":0},{"$f":"VLOOKUP('Copy your Raw data here'!E235,'Stroke Ready Hospital List'!A:B,1,FALSE)","v":{"$error":"#N/A"}},0,{"$f":"IF(OR(ISBLANK('Copy your Raw data here'!F235),('Copy your Raw data here'!F235=\"NO\")),0,1)","v":0},{"$f":"IF(ISBLANK('Copy your Raw data here'!G235),0,1)","v":0},{"$f":"IF(ISERROR(D236),'Copy your Raw data here'!E235,\"\")","v":0},"",null,null,{"$f":"HOUR('Copy your Raw data here'!B235)","v":0},{"$f":"HOUR('Copy your Raw data here'!C235)","v":0},{"$f":"MINUTE('Copy your Raw data here'!B235)","v":0},{"$f":"MINUTE('Copy your Raw data here'!C235)","v":0},{"$f":"('Copy your Raw data here'!C235-'Copy your Raw data here'!B235)*1440","v":0},60,0,null,null,{"$f":"HOUR('Copy your Raw data here'!G235)","v":0},{"$f":"HOUR('Copy your Raw data here'!H235)","v":0},{"$f":"MINUTE('Copy your Raw data here'!G235)","v":0},{"$f":"MINUTE('Copy your Raw data here'!H235)","v":0},{"$f":"('Copy your Raw data here'!H235-'Copy your Raw data here'!G235)*1440","v":0},1440,{"$f":"IF('Copy your Raw data here'!G235=\"\",\"\",IF(V236<U236,Z236,Y236))","v":""}]
[{"$f":"IF(ISBLANK('Copy your Raw data here'!A236),\"\",('Copy your Raw data here'!A236))","v":""},"",{"$f":"IF('Copy your Raw data here'!D236=\"YES\",1,0)","v":0},{"$f":"VLOOKUP('Copy your Raw data here'!E236,'Stroke Ready Hospital List'!A:B,1,FALSE)","v":{"$error":"#N/A"}},0,{"$f":"IF(OR(ISBLANK('Copy your Raw data here'!F236),('Copy your Raw data here'!F236=\"NO\")),0,1)","v":0},{"$f":"IF(ISBLANK('Copy your Raw data here'!G236),0,1)","v":0},{"$f":"IF(ISERROR(D237),'Copy your Raw data here'!E236,\"\")","v":0},"",null,null,{"$f":"HOUR('Copy your Raw data here'!B236)","v":0},{"$f":"HOUR('Copy your Raw data here'!C236)","v":0},{"$f":"MINUTE('Copy your Raw data here'!B236)","v":0},{"$f":"MINUTE('Copy your Raw data here'!C236)","v":0},{"$f":"('Copy your Raw data here'!C236-'Copy your Raw data here'!B236)*1440","v":0},60,0,null,null,{"$f":"HOUR('Copy your Raw data here'!G236)","v":0},{"$f":"HOUR('Copy your Raw data here'!H236)","v":0},{"$f":"MINUTE('Copy your Raw data here'!G236)","v":0},{"$f":"MINUTE('Copy your Raw data here'!H236)","v":0},{"$f":"('Copy your Raw data here'!H236-'Copy your Raw data here'!G236)*1440","v":0},1440,{"$f":"IF('Copy your Raw data here'!G236=\"\",\"\",IF(V237<U237,Z237,Y237))","v":""}]
[{"$f":"IF(ISBLANK('Copy your Raw data here'!A237),\"\",('Copy your Raw data here'!A237))","v":""},"",{"$f":"IF('Copy your Raw data here'!D237=\"YES\",1,0)","v":0},{"$f":"VLOOKUP('Copy your Raw data here'!E237,'Stroke Ready Hospital List'!A:B,1,FALSE)","v":{"$error":"#N/A"}},0,{"$f":"IF(OR(ISBLANK('Copy your Raw data here'!F237),('Copy your Raw data here'!F237=\"NO\")),0,1)","v":0},{"$f":"IF(ISBLANK('Copy your Raw data here'!G237),0,1)","v":0},{"$f":"IF(ISERROR(D238),'Copy your Raw data here'!E237,\"\")","v":0},"",null,null,{"$f":"HOUR('Copy your Raw data here'!B237)","v":0},{"$f":"HOUR('Copy your Raw data here'!C237)","v":0},{"$f":"MINUTE('Copy your Raw data here'!B237)","v":0},{"$f":"MINUTE('Copy your Raw data here'!C237)","v":0},{"$f":"('Copy your Raw data here'!C237-'Copy your Raw data here'!B237)*1440","v":0},60,0,null,null,{"$f":"HOUR('Copy your Raw data here'!G237)","v":0},{"$f":"HOUR('Copy your Raw data here'!H237)","v":0},{"$f":"MINUTE('Copy your Raw data here'!G237)","v":0},{"$f":"MINUTE('Copy your Raw data here'!H237)","v":0},{"$f":"('Copy your Raw data here'!H237-'Copy your Raw data here'!G237)*1440","v":0},1440,{"$f":"IF('Copy your Raw data here'!G237=\"\",\"\",IF(V238<U238,Z238,Y238))","v":""}]
[{"$f":"IF(ISBLANK('Copy your Raw data here'!A238),\"\",('Copy your Raw data here'!A238))","v":""},"",{"$f":"IF('Copy your Raw data here'!D238=\"YES\",1,0)","v":0},{"$f":"VLOOKUP('Copy your Raw data here'!E238,'Stroke Ready Hospital List'!A:B,1,FALSE)","v":{"$error":"#N/A"}},0,{"$f":"IF(OR(ISBLANK('Copy your Raw data here'!F238),('Copy your Raw data here'!F238=\"NO\")),0,1)","v":0},{"$f":"IF(ISBLANK('Copy your Raw data here'!G238),0,1)","v":0},{"$f":"IF(ISERROR(D239),'Copy your Raw data here'!E238,\"\")","v":0},"",null,null,{"$f":"HOUR('Copy your Raw data here'!B238)","v":0},{"$f":"HOUR('Copy your Raw data here'!C238)","v":0},{"$f":"MINUTE('Copy your Raw data here'!B238)","v":0},{"$f":"MINUTE('Copy your Raw data here'!C238)","v":0},{"$f":"('Copy your Raw data here'!C238-'Copy your Raw data here'!B238)*1440","v":0},60,0,null,null,{"$f":"HOUR('Copy your Raw data here'!G238)","v":0},{"$f":"HOUR('Copy your Raw data here'!H238)","v":0},{"$f":"MINUTE('Copy your Raw data here'!G238)","v":0},{"$f":"MINUTE('Copy your Raw data here'!H238)","v":0},{"$f":"('Copy your Raw data here'!H238-'Copy your Raw data here'!G238)*1440","v":0},1440,{"$f":"IF('Copy your Raw data here'!G238=\"\",\"\",IF(V239<U239,Z239,Y239))","v":""}]
[{"$f":"IF(ISBLANK('Copy your Raw data here'!A239),\"\",('Copy your Raw data here'!A239))","v":""},"",{"$f":"IF('Copy your Raw data here'!D239=\"YES\",1,0)","v":0},{"$f":"VLOOKUP('Copy your Raw data here'!E239,'Stroke Ready Hospital List'!A:B,1,FALSE)","v":{"$error":"#N/A"}},0,{"$f":"IF(OR(ISBLANK('Copy your Raw data here'!F239),('Copy your Raw data here'!F239=\"NO\")),0,1)","v":0},{"$f":"IF(ISBLANK('Copy your Raw data here'!G239),0,1)","v":0},{"$f":"IF(ISERROR(D240),'Copy your Raw data here'!E239,\"\")","v":0},"",null,null,{"$f":"HOUR('Copy your Raw data here'!B239)","v":0},{"$f":"HOUR('Copy your Raw data here'!C239)","v":0},{"$f":"MINUTE('Copy your Raw data here'!B239)","v":0},{"$f":"MINUTE('Copy your Raw data here'!C239)","v":0},{"$f":"('Copy your Raw data here'!C239-'Copy your Raw data here'!B239)*1440","v":0},60,0,null,null,{"$f":"HOUR('Copy your Raw data here'!G239)","v":0},{"$f":"HOUR('Copy your Raw data here'!H239)","v":0},{"$f":"MINUTE('Copy your Raw data here'!G239)","v":0},{"$f":"MINUTE('Copy your Raw data here'!H239)","v":0},{"$f":"('Copy your Raw data here'!H239-'Copy your Raw data here'!G239)*1440","v":0},1440,{"$f":"IF('Copy your Raw data here'!G239=\"\",\"\",IF(V240<U240,Z240,Y240))","v":""}]
[{"$f":"IF(ISBLANK('Copy your Raw data here'!A240),\"\",('Copy your Raw data here'!A240))","v":""},"",{"$f":"IF('Copy your Raw data here'!D240=\"YES\",1,0)","v":0},{"$f":"VLOOKUP('Copy your Raw data here'!E240,'Stroke Ready Hospital List'!A:B,1,FALSE)","v":{"$error":"#N/A"}},0,{"$f":"IF(OR(ISBLANK('Copy your Raw data here'!F240),('Copy your Raw data here'!F240=\"NO\")),0,1)","v":0},{"$f":"IF(ISBLANK('Copy your Raw data here'!G240),0,1)","v":0},{"$f":"IF(ISERROR(D241),'Copy your Raw data here'!E240,\"\")","v":0},"",null,null,{"$f":"HOUR('Copy your Raw data here'!B240)","v":0},{"$f":"HOUR('Copy your Raw data here'!C240)","v":0},{"$f":"MINUTE('Copy your Raw data here'!B240)","v":0},{"$f":"MINUTE('Copy your Raw data here'!C240)","v":0},{"$f":"('Copy your Raw data here'!C240-'Copy your Raw data here'!B240)*1440","v":0},60,0,null,null,{"$f":"HOUR('Copy your Raw data here'!G240)","v":0},{"$f":"HOUR('Copy your Raw data here'!H240)","v":0},{"$f":"MINUTE('Copy your Raw data here'!G240)","v":0},{"$f":"MINUTE('Copy your Raw data here'!H240)","v":0},{"$f":"('Copy your Raw data here'!H240-'Copy your Raw data here'!G240)*1440","v":0},1440,{"$f":"IF('Copy your Raw data here'!G240=\"\",\"\",IF(V241<U241,Z241,Y241))","v":""}]
[{"$f":"IF(ISBLANK('Copy your Raw data here'!A241),\"\",('Copy your Raw data here'!A241))","v":""},"",{"$f":"IF('Copy your Raw data here'!D241=\"YES\",1,0)","v":0},{"$f":"VLOOKUP('Copy your Raw data here'!E241,'Stroke Ready Hospital List'!A:B,1,FALSE)","v":{"$error":"#N/A"}},0,{"$f":"IF(OR(ISBLANK('Copy your Raw data here'!F241),('Copy your Raw data here'!F241=\"NO\")),0,1)","v":0},{"$f":"IF(ISBLANK('Copy your Raw data here'!G241),0,1)","v":0},{"$f":"IF(ISERROR(D242),'Copy your Raw data here'!E241,\"\")","v":0},"",null,null,{"$f":"HOUR('Copy your Raw data here'!B241)","v":0},{"$f":"HOUR('Copy your Raw data here'!C241)","v":0},{"$f":"MINUTE('Copy your Raw data here'!B241)","v":0},{"$f":"MINUTE('Copy your Raw data here'!C241)","v":0},{"$f":"('Copy your Raw data here'!C241-'Copy your Raw data here'!B241)*1440","v":0},60,0,null,null,{"$f":"HOUR('Copy your Raw data here'!G241)","v":0},{"$f":"HOUR('Copy your Raw data here'!H241)","v":0},{"$f":"MINUTE('Copy your Raw data here'!G241)","v":0},{"$f":"MINUTE('Copy your Raw data here'!H241)","v":0},{"$f":"('Copy your Raw data here'!H241-'Copy your Raw data here'!G241)*1440","v":0},1440,{"$f":"IF('Copy your Raw data here'!G241=\"\",\"\",IF(V242<U242,Z242,Y242))","v":""}]
[{"$f":"IF(ISBLANK('Copy your Raw data here'!A242),\"\",('Copy your Raw data here'!A242))","v":""},"",{"$f":"IF('Copy your Raw data here'!D242=\"YES\",1,0)","v":0},{"$f":"VLOOKUP('Copy your Raw data here'!E242,'Stroke Ready Hospital List'!A:B,1,FALSE)","v":{"$error":"#N/A"}},0,{"$f":"IF(OR(ISBLANK('Copy your Raw data here'!F242),('Copy your Raw data here'!F242=\"NO\")),0,1)","v":0},{"$f":"IF(ISBLANK('Copy your Raw data here'!G242),0,1)","v":0},{"$f":"IF(ISERROR(D243),'Copy your Raw data here'!E242,\"\")","v":0},"",null,null,{"$f":"HOUR('Copy your Raw data here'!B242)","v":0},{"$f":"HOUR('Copy your Raw data here'!C242)","v":0},{"$f":"MINUTE('Copy your Raw data here'!B242)","v":0},{"$f":"MINUTE('Copy your Raw data here'!C242)","v":0},{"$f":"('Copy your Raw data here'!C242-'Copy your Raw data here'!B242)*1440","v":0},60,0,null,null,{"$f":"HOUR('Copy your Raw data here'!G242)","v":0},{"$f":"HOUR('Copy your Raw data here'!H242)","v":0},{"$f":"MINUTE('Copy your Raw data here'!G242)","v":0},{"$f":"MINUTE('Copy your Raw data here'!H242)","v":0},{"$f":"('Copy your Raw data here'!H242-'Copy your Raw data here'!G242)*1440","v":0},1440,{"$f":"IF('Copy your Raw data here'!G242=\"\",\"\",IF(V243<U243,Z243,Y243))","v":""}]
[{"$f":"IF(ISBLANK('Copy your Raw data here'!A243),\"\",('Copy your Raw data here'!A243))","v":""},"",{"$f":"IF('Copy your Raw data here'!D243=\"YES\",1,0)","v":0},{"$f":"VLOOKUP('Copy your Raw data here'!E243,'Stroke Ready Hospital List'!A:B,1,FALSE)","v":{"$error":"#N/A"}},0,{"$f":"IF(OR(ISBLANK('Copy your Raw data here'!F243),('Copy your Raw data here'!F243=\"NO\")),0,1)","v":0},{"$f":"IF(ISBLANK('Copy your Raw data here'!G243),0,1)","v":0},{"$f":"IF(ISERROR(D244),'Copy your Raw data here'!E243,\"\")","v":0},"",null,null,{"$f":"HOUR('Copy your Raw data here'!B243)","v":0},{"$f":"HOUR('Copy your Raw data here'!C243)","v":0},{"$f":"MINUTE('Copy your Raw data here'!B243)","v":0},{"$f":"MINUTE('Copy your Raw data here'!C243)","v":0},{"$f":"('Copy your Raw data here'!C243-'Copy your Raw data here'!B243)*1440","v":0},60,0,null,null,{"$f":"HOUR('Copy your Raw data here'!G243)","v":0},{"$f":"HOUR('Copy your Raw data here'!H243)","v":0},{"$f":"MINUTE('Copy your Raw data here'!G243)","v":0},{"$f":"MINUTE('Copy your Raw data here'!H243)","v":0},{"$f":"('Copy your Raw data here'!H243-'Copy your Raw data here'!G243)*1440","v":0},1440,{"$f":"IF('Copy your Raw data here'!G243=\"\",\"\",IF(V244<U244,Z244,Y244))","v":""}]
[{"$f":"IF(ISBLANK('Copy your Raw data here'!A244),\"\",('Copy your Raw data here'!A244))","v":""},"",{"$f":"IF('Copy your Raw data here'!D244=\"YES\",1,0)","v":0},{"$f":"VLOOKUP('Copy your Raw data here'!E244,'Stroke Ready Hospital List'!A:B,1,FALSE)","v":{"$error":"#N/A"}},0,{"$f":"IF(OR(ISBLANK('Copy your Raw data here'!F244),('Copy your Raw data here'!F244=\"NO\")),0,1)","v":0},{"$f":"IF(ISBLANK('Copy your Raw data here'!G244),0,1)","v":0},{"$f":"IF(ISERROR(D245),'Copy your Raw data here'!E244,\"\")","v":0},"",null,null,{"$f":"HOUR('Copy your Raw data here'!B244)","v":0},{"$f":"HOUR('Copy your Raw data here'!C244)","v":0},{"$f":"MINUTE('Copy your Raw data here'!B244)","v":0},{"$f":"MINUTE('Copy your Raw data here'!C244)","v":0},{"$f":"('Copy your Raw data here'!C244-'Copy your Raw data here'!B244)*1440","v":0},60,0,null,null,{"$f":"HOUR('Copy your Raw data here'!G244)","v":0},{"$f":"HOUR('Copy your Raw data here'!H244)","v":0},{"$f":"MINUTE('Copy your Raw data here'!G244)","v":0},{"$f":"MINUTE('Copy your Raw data here'!H244)","v":0},{"$f":"('Copy your Raw data here'!H244-'Copy your Raw data here'!G244)*1440","v":0},1440,{"$f":"IF('Copy your Raw data here'!G244=\"\",\"\",IF(V245<U245,Z245,Y245))","v":""}]
[{"$f":"IF(ISBLANK('Copy your Raw data here'!A245),\"\",('Copy your Raw data here'!A245))","v":""},"",{"$f":"IF('Copy your Raw data here'!D245=\"YES\",1,0)","v":0},{"$f":"VLOOKUP('Copy your Raw data here'!E245,'Stroke Ready Hospital List'!A:B,1,FALSE)","v":{"$error":"#N/A"}},0,{"$f":"IF(OR(ISBLANK('Copy your Raw data here'!F245),('Copy your Raw data here'!F245=\"NO\")),0,1)","v":0},{"$f":"IF(ISBLANK('Copy your Raw data here'!G245),0,1)","v":0},{"$f":"IF(ISERROR(D246),'Copy your Raw data here'!E245,\"\")","v":0},"",null,null,{"$f":"HOUR('Copy your Raw data here'!B245)","v":0},{"$f":"HOUR('Copy your Raw data here'!C245)","v":0},{"$f":"MINUTE('Copy your Raw data here'!B245)","v":0},{"$f":"MINUTE('Copy your Raw data here'!C245)","v":0},{"$f":"('Copy your Raw data here'!C245-'Copy your Raw data here'!B245)*1440","v":0},60,0,null,null,{"$f":"HOUR('Copy your Raw data here'!G245)","v":0},{"$f":"HOUR('Copy your Raw data here'!H245)","v":0},{"$f":"MINUTE('Copy your Raw data here'!G245)","v":0},{"$f":"MINUTE('Copy your Raw data here'!H245)","v":0},{"$f":"('Copy your Raw data here'!H245-'Copy your Raw data here'!G245)*1440","v":0},1440,{"$f":"IF('Copy your Raw data here'!G245=\"\",\"\",IF(V246<U246,Z246,Y246))","v":""}]
[{"$f":"IF(ISBLANK('Copy your Raw data here'!A246),\"\",('Copy your Raw data here'!A246))","v":""},"",{"$f":"IF('Copy your Raw data here'!D246=\"YES\",1,0)","v":0},{"$f":"VLOOKUP('Copy your Raw data here'!E246,'Stroke Ready Hospital List'!A:B,1,FALSE)","v":{"$error":"#N/A"}},0,{"$f":"IF(OR(ISBLANK('Copy your Raw data here'!F246),('Copy your Raw data here'!F246=\"NO\")),0,1)","v":0},{"$f":"IF(ISBLANK('Copy your Raw data here'!G246),0,1)","v":0},{"$f":"IF(ISERROR(D247),'Copy your Raw data here'!E246,\"\")","v":0},"",null,null,{"$f":"HOUR('Copy your Raw data here'!B246)","v":0},{"$f":"HOUR('Copy your Raw data here'!C246)","v":0},{"$f":"MINUTE('Copy your Raw data here'!B246)","v":0},{"$f":"MINUTE('Copy your Raw data here'!C246)","v":0},{"$f":"('Copy your Raw data here'!C246-'Copy your Raw data here'!B246)*1440","v":0},60,0,null,null,{"$f":"HOUR('Copy your Raw data here'!G246)","v":0},{"$f":"HOUR('Copy your Raw data here'!H246)","v":0},{"$f":"MINUTE('Copy your Raw data here'!G246)","v":0},{"$f":"MINUTE('Copy your Raw data here'!H246)","v":0},{"$f":"('Copy your Raw data here'!H246-'Copy your Raw data here'!G246)*1440","v":0},1440,{"$f":"IF('Copy your Raw data here'!G246=\"\",\"\",IF(V247<U247,Z247,Y247))","v":""}]
[{"$f":"IF(ISBLANK('Copy your Raw data here'!A247),\"\",('Copy your Raw data here'!A247))","v":""},"",{"$f":"IF('Copy your Raw data here'!D247=\"YES\",1,0)","v":0},{"$f":"VLOOKUP('Copy your Raw data here'!E247,'Stroke Ready Hospital List'!A:B,1,FALSE)","v":{"$error":"#N/A"}},0,{"$f":"IF(OR(ISBLANK('Copy your Raw data here'!F247),('Copy your Raw data here'!F247=\"NO\")),0,1)","v":0},{"$f":"IF(ISBLANK('Copy your Raw data here'!G247),0,1)","v":0},{"$f":"IF(ISERROR(D248),'Copy your Raw data here'!E247,\"\")","v":0},"",null,null,{"$f":"HOUR('Copy your Raw data here'!B247)","v":0},{"$f":"HOUR('Copy your Raw data here'!C247)","v":0},{"$f":"MINUTE('Copy your Raw data here'!B247)","v":0},{"$f":"MINUTE('Copy your Raw data here'!C247)","v":0},{"$f":"('Copy your Raw data here'!C247-'Copy your Raw data here'!B247)*1440","v":0},60,0,null,null,{"$f":"HOUR('Copy your Raw data here'!G247)","v":0},{"$f":"HOUR('Copy your Raw data here'!H247)","v":0},{"$f":"MINUTE('Copy your Raw data here'!G247)","v":0},{"$f":"MINUTE('Copy your Raw data here'!H247)","v":0},{"$f":"('Copy your Raw data here'!H247-'Copy your Raw data here'!G247)*1440","v":0},1440,{"$f":"IF('Copy your Raw data here'!G247=\"\",\"\",IF(V248<U248,Z248,Y248))","v":""}]
[{"$f":"IF(ISBLANK('Copy your Raw data here'!A248),\"\",('Copy your Raw data here'!A248))","v":""},"",{"$f":"IF('Copy your Raw data here'!D248=\"YES\",1,0)","v":0},{"$f":"VLOOKUP('Copy your Raw data here'!E248,'Stroke Ready Hospital List'!A:B,1,FALSE)","v":{"$error":"#N/A"}},0,{"$f":"IF(OR(ISBLANK('Copy your Raw data here'!F248),('Copy your Raw data here'!F248=\"NO\")),0,1)","v":0},{"$f":"IF(ISBLANK('Copy your Raw data here'!G248),0,1)","v":0},{"$f":"IF(ISERROR(D249),'Copy your Raw data here'!E248,\"\")","v":0},"",null,null,{"$f":"HOUR('Copy your Raw data here'!B248)","v":0},{"$f":"HOUR('Copy your Raw data here'!C248)","v":0},{"$f":"MINUTE('Copy your Raw data here'!B248)","v":0},{"$f":"MINUTE('Copy your Raw data here'!C248)","v":0},{"$f":"('Copy your Raw data here'!C248-'Copy your Raw data here'!B248)*1440","v":0},60,0,null,null,{"$f":"HOUR('Copy your Raw data here'!G248)","v":0},{"$f":"HOUR('Copy your Raw data here'!H248)","v":0},{"$f":"MINUTE('Copy your Raw data here'!G248)","v":0},{"$f":"MINUTE('Copy your Raw data here'!H248)","v":0},{"$f":"('Copy your Raw data here'!H248-'Copy your Raw data here'!G248)*1440","v":0},1440,{"$f":"IF('Copy your Raw data here'!G248=\"\",\"\",IF(V249<U249,Z249,Y249))","v":""}]
[{"$f":"IF(ISBLANK('Copy your Raw data here'!A249),\"\",('Copy your Raw data here'!A249))","v":""},"",{"$f":"IF('Copy your Raw data here'!D249=\"YES\",1,0)","v":0},{"$f":"VLOOKUP('Copy your Raw data here'!E249,'Stroke Ready Hospital List'!A:B,1,FALSE)","v":{"$error":"#N/A"}},0,{"$f":"IF(OR(ISBLANK('Copy your Raw data here'!F249),('Copy your Raw data here'!F249=\"NO\")),0,1)","v":0},{"$f":"IF(ISBLANK('Copy your Raw data here'!G249),0,1)","v":0},{"$f":"IF(ISERROR(D250),'Copy your Raw data here'!E249,\"\")","v":0},"",null,null,{"$f":"HOUR('Copy your Raw data here'!B249)","v":0},{"$f":"HOUR('Copy your Raw data here'!C249)","v":0},{"$f":"MINUTE('Copy your Raw data here'!B249)","v":0},{"$f":"MINUTE('Copy your Raw data here'!C249)","v":0},{"$f":"('Copy your Raw data here'!C249-'Copy your Raw data here'!B249)*1440","v":0},60,0,null,null,{"$f":"HOUR('Copy your Raw data here'!G249)","v":0},{"$f":"HOUR('Copy your Raw data here'!H249)","v":0},{"$f":"MINUTE('Copy your Raw data here'!G249)","v":0},{"$f":"MINUTE('Copy your Raw data here'!H249)","v":0},{"$f":"('Copy your Raw data here'!H249-'Copy your Raw data here'!G249)*1440","v":0},1440,{"$f":"IF('Copy your Raw data here'!G249=\"\",\"\",IF(V250<U250,Z250,Y250))","v":""}]
[{"$f":"IF(ISBLANK('Copy your Raw data here'!A250),\"\",('Copy your Raw data here'!A250))","v":""},"",{"$f":"IF('Copy your Raw data here'!D250=\"YES\",1,0)","v":0},{"$f":"VLOOKUP('Copy your Raw data here'!E250,'Stroke Ready Hospital List'!A:B,1,FALSE)","v":{"$error":"#N/A"}},0,{"$f":"IF(OR(ISBLANK('Copy your Raw data here'!F250),('Copy your Raw data here'!F250=\"NO\")),0,1)","v":0},{"$f":"IF(ISBLANK('Copy your Raw data here'!G250),0,1)","v":0},{"$f":"IF(ISERROR(D251),'Copy your Raw data here'!E250,\"\")","v":0},"",null,null,{"$f":"HOUR('Copy your Raw data here'!B250)","v":0},{"$f":"HOUR('Copy your Raw data here'!C250)","v":0},{"$f":"MINUTE('Copy your Raw data here'!B250)","v":0},{"$f":"MINUTE('Copy your Raw data here'!C250)","v":0},{"$f":"('Copy your Raw data here'!C250-'Copy your Raw data here'!B250)*1440","v":0},60,0,null,null,{"$f":"HOUR('Copy your Raw data here'!G250)","v":0},{"$f":"HOUR('Copy your Raw data here'!H250)","v":0},{"$f":"MINUTE('Copy your Raw data here'!G250)","v":0},{"$f":"MINUTE('Copy your Raw data here'!H250)","v":0},{"$f":"('Copy your Raw data here'!H250-'Copy your Raw data here'!G250)*1440","v":0},1440,{"$f":"IF('Copy your Raw data here'!G250=\"\",\"\",IF(V251<U251,Z251,Y251))","v":""}]
[{"$f":"IF(ISBLANK('Copy your Raw data here'!A251),\"\",('Copy your Raw data here'!A251))","v":""},"",{"$f":"IF('Copy your Raw data here'!D251=\"YES\",1,0)","v":0},{"$f":"VLOOKUP('Copy your Raw data here'!E251,'Stroke Ready Hospital List'!A:B,1,FALSE)","v":{"$error":"#N/A"}},0,{"$f":"IF(OR(ISBLANK('Copy your Raw data here'!F251),('Copy your Raw data here'!F251=\"NO\")),0,1)","v":0},{"$f":"IF(ISBLANK('Copy your Raw data here'!G251),0,1)","v":0},{"$f":"IF(ISERROR(D252),'Copy your Raw data here'!E251,\"\")","v":0},"",null,null,{"$f":"HOUR('Copy your Raw data here'!B251)","v":0},{"$f":"HOUR('Copy your Raw data here'!C251)","v":0},{"$f":"MINUTE('Copy your Raw data here'!B251)","v":0},{"$f":"MINUTE('Copy your Raw data here'!C251)","v":0},{"$f":"('Copy your Raw data here'!C251-'Copy your Raw data here'!B251)*1440","v":0},60,0,null,null,{"$f":"HOUR('Copy your Raw data here'!G251)","v":0},{"$f":"HOUR('Copy your Raw data here'!H251)","v":0},{"$f":"MINUTE('Copy your Raw data here'!G251)","v":0},{"$f":"MINUTE('Copy your Raw data here'!H251)","v":0},{"$f":"('Copy your Raw data here'!H251-'Copy your Raw data here'!G251)*1440","v":0},1440,{"$f":"IF('Copy your Raw data here'!G251=\"\",\"\",IF(V252<U252,Z252,Y252))","v":""}]
[{"$f":"IF(ISBLANK('Copy your Raw data here'!A252),\"\",('Copy your Raw data here'!A252))","v":""},"",{"$f":"IF('Copy your Raw data here'!D252=\"YES\",1,0)","v":0},{"$f":"VLOOKUP('Copy your Raw data here'!E252,'Stroke Ready Hospital List'!A:B,1,FALSE)","v":{"$error":"#N/A"}},0,{"$f":"IF(OR(ISBLANK('Copy your Raw data here'!F252),('Copy your Raw data here'!F252=\"NO\")),0,1)","v":0},{"$f":"IF(ISBLANK('Copy your Raw data here'!G252),0,1)","v":0},{"$f":"IF(ISERROR(D253),'Copy your Raw data here'!E252,\"\")","v":0},"",null,null,{"$f":"HOUR('Copy your Raw data here'!B252)","v":0},{"$f":"HOUR('Copy your Raw data here'!C252)","v":0},{"$f":"MINUTE('Copy your Raw data here'!B252)","v":0},{"$f":"MINUTE('Copy your Raw data here'!C252)","v":0},{"$f":"('Copy your Raw data here'!C252-'Copy your Raw data here'!B252)*1440","v":0},60,0,null,null,{"$f":"HOUR('Copy your Raw data here'!G252)","v":0},{"$f":"HOUR('Copy your Raw data here'!H252)","v":0},{"$f":"MINUTE('Copy your Raw data here'!G252)","v":0},{"$f":"MINUTE('Copy your Raw data here'!H252)","v":0},{"$f":"('Copy your Raw data here'!H252-'Copy your Raw data here'!G252)*1440","v":0},1440,{"$f":"IF('Copy your Raw data here'!G252=\"\",\"\",IF(V253<U253,Z253,Y253))","v":""}]
[{"$f":"IF(ISBLANK('Copy your Raw data here'!A253),\"\",('Copy your Raw data here'!A253))","v":""},"",{"$f":"IF('Copy your Raw data here'!D253=\"YES\",1,0)","v":0},{"$f":"VLOOKUP('Copy your Raw data here'!E253,'Stroke Ready Hospital List'!A:B,1,FALSE)","v":{"$error":"#N/A"}},0,{"$f":"IF(OR(ISBLANK('Copy your Raw data here'!F253),('Copy your Raw data here'!F253=\"NO\")),0,1)","v":0},{"$f":"IF(ISBLANK('Copy your Raw data here'!G253),0,1)","v":0},{"$f":"IF(ISERROR(D254),'Copy your Raw data here'!E253,\"\")","v":0},"",null,null,{"$f":"HOUR('Copy your Raw data here'!B253)","v":0},{"$f":"HOUR('Copy your Raw data here'!C253)","v":0},{"$f":"MINUTE('Copy your Raw data here'!B253)","v":0},{"$f":"MINUTE('Copy your Raw data here'!C253)","v":0},{"$f":"('Copy your Raw data here'!C253-'Copy your Raw data here'!B253)*1440","v":0},60,0,null,null,{"$f":"HOUR('Copy your Raw data here'!G253)","v":0},{"$f":"HOUR('Copy your Raw data here'!H253)","v":0},{"$f":"MINUTE('Copy your Raw data here'!G253)","v":0},{"$f":"MINUTE('Copy your Raw data here'!H253)","v":0},{"$f":"('Copy your Raw data here'!H253-'Copy your Raw data here'!G253)*1440","v":0},1440,{"$f":"IF('Copy your Raw data here'!G253=\"\",\"\",IF(V254<U254,Z254,Y254))","v":""}]
[{"$f":"IF(ISBLANK('Copy your Raw data here'!A254),\"\",('Copy your Raw data here'!A254))","v":""},"",{"$f":"IF('Copy your Raw data here'!D254=\"YES\",1,0)","v":0},{"$f":"VLOOKUP('Copy your Raw data here'!E254,'Stroke Ready Hospital List'!A:B,1,FALSE)","v":{"$error":"#N/A"}},0,{"$f":"IF(OR(ISBLANK('Copy your Raw data here'!F254),('Copy your Raw data here'!F254=\"NO\")),0,1)","v":0},{"$f":"IF(ISBLANK('Copy your Raw data here'!G254),0,1)","v":0},{"$f":"IF(ISERROR(D255),'Copy your Raw data here'!E254,\"\")","v":0},"",null,null,{"$f":"HOUR('Copy your Raw data here'!B254)","v":0},{"$f":"HOUR('Copy your Raw data here'!C254)","v":0},{"$f":"MINUTE('Copy your Raw data here'!B254)","v":0},{"$f":"MINUTE('Copy your Raw data here'!C254)","v":0},{"$f":"('Copy your Raw data here'!C254-'Copy your Raw data here'!B254)*1440","v":0},60,0,null,null,{"$f":"HOUR('Copy your Raw data here'!G254)","v":0},{"$f":"HOUR('Copy your Raw data here'!H254)","v":0},{"$f":"MINUTE('Copy your Raw data here'!G254)","v":0},{"$f":"MINUTE('Copy your Raw data here'!H254)","v":0},{"$f":"('Copy your Raw data here'!H254-'Copy your Raw data here'!G254)*1440","v":0},1440,{"$f":"IF('Copy your Raw data here'!G254=\"\",\"\",IF(V255<U255,Z255,Y255))","v":""}]
[{"$f":"IF(ISBLANK('Copy your Raw data here'!A255),\"\",('Copy your Raw data here'!A255))","v":""},"",{"$f":"IF('Copy your Raw data here'!D255=\"YES\",1,0)","v":0},{"$f":"VLOOKUP('Copy your Raw data here'!E255,'Stroke Ready Hospital List'!A:B,1,FALSE)","v":{"$error":"#N/A"}},0,{"$f":"IF(OR(ISBLANK('Copy your Raw data here'!F255),('Copy your Raw data here'!F255=\"NO\")),0,1)","v":0},{"$f":"IF(ISBLANK('Copy your Raw data here'!G255),0,1)","v":0},{"$f":"IF(ISERROR(D256),'Copy your Raw data here'!E255,\"\")","v":0},"",null,null,{"$f":"HOUR('Copy your Raw data here'!B255)","v":0},{"$f":"HOUR('Copy your Raw data here'!C255)","v":0},{"$f":"MINUTE('Copy your Raw data here'!B255)","v":0},{"$f":"MINUTE('Copy your Raw data here'!C255)","v":0},{"$f":"('Copy your Raw data here'!C255-'Copy your Raw data here'!B255)*1440","v":0},60,0,null,null,{"$f":"HOUR('Copy your Raw data here'!G255)","v":0},{"$f":"HOUR('Copy your Raw data here'!H255)","v":0},{"$f":"MINUTE('Copy your Raw data here'!G255)","v":0},{"$f":"MINUTE('Copy your Raw data here'!H255)","v":0},{"$f":"('Copy your Raw data here'!H255-'Copy your Raw data here'!G255)*1440","v":0},1440,{"$f":"IF('Copy your Raw data here'!G255=\"\",\"\",IF(V256<U256,Z256,Y256))","v":""}]
[{"$f":"IF(ISBLANK('Copy your Raw data here'!A256),\"\",('Copy your Raw data here'!A256))","v":""},"",{"$f":"IF('Copy your Raw data here'!D256=\"YES\",1,0)","v":0},{"$f":"VLOOKUP('Copy your Raw data here'!E256,'Stroke Ready Hospital List'!A:B,1,FALSE)","v":{"$error":"#N/A"}},0,{"$f":"IF(OR(ISBLANK('Copy your Raw data here'!F256),('Copy your Raw data here'!F256=\"NO\")),0,1)","v":0},{"$f":"IF(ISBLANK('Copy your Raw data here'!G256),0,1)","v":0},{"$f":"IF(ISERROR(D257),'Copy your Raw data here'!E256,\"\")","v":0},"",null,null,{"$f":"HOUR('Copy your Raw data here'!B256)","v":0},{"$f":"HOUR('Copy your Raw data here'!C256)","v":0},{"$f":"MINUTE('Copy your Raw data here'!B256)","v":0},{"$f":"MINUTE('Copy your Raw data here'!C256)","v":0},{"$f":"('Copy your Raw data here'!C256-'Copy your Raw data here'!B256)*1440","v":0},60,0,null,null,{"$f":"HOUR('Copy your Raw data here'!G256)","v":0},{"$f":"HOUR('Copy your Raw data here'!H256)","v":0},{"$f":"MINUTE('Copy your Raw data here'!G256)","v":0},{"$f":"MINUTE('Copy your Raw data here'!H256)","v":0},{"$f":"('Copy your Raw data here'!H256-'Copy your Raw data here'!G256)*1440","v":0},1440,{"$f":"IF('Copy your Raw data here'!G256=\"\",\"\",IF(V257<U257,Z257,Y257))","v":""}]
[{"$f":"IF(ISBLANK('Copy your Raw data here'!A257),\"\",('Copy your Raw data here'!A257))","v":""},"",{"$f":"IF('Copy your Raw data here'!D257=\"YES\",1,0)","v":0},{"$f":"VLOOKUP('Copy your Raw data here'!E257,'Stroke Ready Hospital List'!A:B,1,FALSE)","v":{"$error":"#N/A"}},0,{"$f":"IF(OR(ISBLANK('Copy your Raw data here'!F257),('Copy your Raw data here'!F257=\"NO\")),0,1)","v":0},{"$f":"IF(ISBLANK('Copy your Raw data here'!G257),0,1)","v":0},{"$f":"IF(ISERROR(D258),'Copy your Raw data here'!E257,\"\")","v":0},"",null,null,{"$f":"HOUR('Copy your Raw data here'!B257)","v":0},{"$f":"HOUR('Copy your Raw data here'!C257)","v":0},{"$f":"MINUTE('Copy your Raw data here'!B257)","v":0},{"$f":"MINUTE('Copy your Raw data here'!C257)","v":0},{"$f":"('Copy your Raw data here'!C257-'Copy your Raw data here'!B257)*1440","v":0},60,0,null,null,{"$f":"HOUR('Copy your Raw data here'!G257)","v":0},{"$f":"HOUR('Copy your Raw data here'!H257)","v":0},{"$f":"MINUTE('Copy your Raw data here'!G257)","v":0},{"$f":"MINUTE('Copy your Raw data here'!H257)","v":0},{"$f":"('Copy your Raw data here'!H257-'Copy your Raw data here'!G257)*1440","v":0},1440,{"$f":"IF('Copy your Raw data here'!G257=\"\",\"\",IF(V258<U258,Z258,Y258))","v":""}]
[{"$f":"IF(ISBLANK('Copy your Raw data here'!A258),\"\",('Copy your Raw data here'!A258))","v":""},"",{"$f":"IF('Copy your Raw data here'!D258=\"YES\",1,0)","v":0},{"$f":"VLOOKUP('Copy your Raw data here'!E258,'Stroke Ready Hospital List'!A:B,1,FALSE)","v":{"$error":"#N/A"}},0,{"$f":"IF(OR(ISBLANK('Copy your Raw data here'!F258),('Copy your Raw data here'!F258=\"NO\")),0,1)","v":0},{"$f":"IF(ISBLANK('Copy your Raw data here'!G258),0,1)","v":0},{"$f":"IF(ISERROR(D259),'Copy your Raw data here'!E258,\"\")","v":0},"",null,null,{"$f":"HOUR('Copy your Raw data here'!B258)","v":0},{"$f":"HOUR('Copy your Raw data here'!C258)","v":0},{"$f":"MINUTE('Copy your Raw data here'!B258)","v":0},{"$f":"MINUTE('Copy your Raw data here'!C258)","v":0},{"$f":"('Copy your Raw data here'!C258-'Copy your Raw data here'!B258)*1440","v":0},60,0,null,null,{"$f":"HOUR('Copy your Raw data here'!G258)","v":0},{"$f":"HOUR('Copy your Raw data here'!H258)","v":0},{"$f":"MINUTE('Copy your Raw data here'!G258)","v":0},{"$f":"MINUTE('Copy your Raw data here'!H258)","v":0},{"$f":"('Copy your Raw data here'!H258-'Copy your Raw data here'!G258)*1440","v":0},1440,{"$f":"IF('Copy your Raw data here'!G258=\"\",\"\",IF(V259<U259,Z259,Y259))","v":""}]
[{"$f":"IF(ISBLANK('Copy your Raw data here'!A259),\"\",('Copy your Raw data here'!A259))","v":""},{"$f":"IF(R260=0,\"\",R260)","v":""},{"$f":"IF('Copy your Raw data here'!D259=\"YES\",1,0)","v":0},{"$f":"VLOOKUP('Copy your Raw data here'!E259,'Stroke Ready Hospital List'!A:B,1,FALSE)","v":{"$error":"#N/A"}},0,{"$f":"IF(OR(ISBLANK('Copy your Raw data here'!F259),('Copy your Raw data here'!F259=\"NO\")),0,1)","v":0},{"$f":"IF(ISBLANK('Copy your Raw data here'!G259),0,1)","v":0},{"$f":"IF(ISERROR(D260),'Copy your Raw data here'!E259,\"\")","v":0},{"$f":"IF(R260=0,\"\",AA260)","v":""},null,null,{"$f":"HOUR('Copy your Raw data here'!B259)","v":0},{"$f":"HOUR('Copy your Raw data here'!C259)","v":0},{"$f":"MINUTE('Copy your Raw data here'!B259)","v":0},{"$f":"MINUTE('Copy your Raw data here'!C259)","v":0},{"$f":"('Copy your Raw data here'!C259-'Copy your Raw data here'!B259)*1440","v":0},{"$f":"SUM(60-N260)+O260","v":60},{"$f":"IF(M260<L260,Q260,P260)","v":0},null,null,{"$f":"HOUR('Copy your Raw data here'!G259)","v":0},{"$f":"HOUR('Copy your Raw data here'!H259)","v":0},{"$f":"MINUTE('Copy your Raw data here'!G259)","v":0},{"$f":"MINUTE('Copy your Raw data here'!H259)","v":0},{"$f":"('Copy your Raw data here'!H259-'Copy your Raw data here'!G259)*1440","v":0},{"$f":"SUM((60-W260)+X260)+SUM((23-U260)*60)","v":1440},{"$f":"IF('Copy your Raw data here'!G259=\"\",\"\",IF(V260<U260,Z260,Y260))","v":""}]
[{"$f":"IF(ISBLANK('Copy your Raw data here'!A260),\"\",('Copy your Raw data here'!A260))","v":""},"",{"$f":"IF('Copy your Raw data here'!D260=\"YES\",1,0)","v":0},{"$f":"VLOOKUP('Copy your Raw data here'!E260,'Stroke Ready Hospital List'!A:B,1,FALSE)","v":{"$error":"#N/A"}},0,{"$f":"IF(OR(ISBLANK('Copy your Raw data here'!F260),('Copy your Raw data here'!F260=\"NO\")),0,1)","v":0},{"$f":"IF(ISBLANK('Copy your Raw data here'!G260),0,1)","v":0},{"$f":"IF(ISERROR(D261),'Copy your Raw data here'!E260,\"\")","v":0},"",null,null,{"$f":"HOUR('Copy your Raw data here'!B260)","v":0},{"$f":"HOUR('Copy your Raw data here'!C260)","v":0},{"$f":"MINUTE('Copy your Raw data here'!B260)","v":0},{"$f":"MINUTE('Copy your Raw data here'!C260)","v":0},{"$f":"('Copy your Raw data here'!C260-'Copy your Raw data here'!B260)*1440","v":0},60,0,null,null,{"$f":"HOUR('Copy your Raw data here'!G260)","v":0},{"$f":"HOUR('Copy your Raw data here'!H260)","v":0},{"$f":"MINUTE('Copy your Raw data here'!G260)","v":0},{"$f":"MINUTE('Copy your Raw data here'!H260)","v":0},{"$f":"('Copy your Raw data here'!H260-'Copy your Raw data here'!G260)*1440","v":0},1440,{"$f":"IF('Copy your Raw data here'!G260=\"\",\"\",IF(V261<U261,Z261,Y261))","v":""}]
[{"$f":"IF(ISBLANK('Copy your Raw data here'!A261),\"\",('Copy your Raw data here'!A261))","v":""},"",{"$f":"IF('Copy your Raw data here'!D261=\"YES\",1,0)","v":0},{"$f":"VLOOKUP('Copy your Raw data here'!E261,'Stroke Ready Hospital List'!A:B,1,FALSE)","v":{"$error":"#N/A"}},0,{"$f":"IF(OR(ISBLANK('Copy your Raw data here'!F261),('Copy your Raw data here'!F261=\"NO\")),0,1)","v":0},{"$f":"IF(ISBLANK('Copy your Raw data here'!G261),0,1)","v":0},{"$f":"IF(ISERROR(D262),'Copy your Raw data here'!E261,\"\")","v":0},"",null,null,{"$f":"HOUR('Copy your Raw data here'!B261)","v":0},{"$f":"HOUR('Copy your Raw data here'!C261)","v":0},{"$f":"MINUTE('Copy your Raw data here'!B261)","v":0},{"$f":"MINUTE('Copy your Raw data here'!C261)","v":0},{"$f":"('Copy your Raw data here'!C261-'Copy your Raw data here'!B261)*1440","v":0},60,0,null,null,{"$f":"HOUR('Copy your Raw data here'!G261)","v":0},{"$f":"HOUR('Copy your Raw data here'!H261)","v":0},{"$f":"MINUTE('Copy your Raw data here'!G261)","v":0},{"$f":"MINUTE('Copy your Raw data here'!H261)","v":0},{"$f":"('Copy your Raw data here'!H261-'Copy your Raw data here'!G261)*1440","v":0},1440,{"$f":"IF('Copy your Raw data here'!G261=\"\",\"\",IF(V262<U262,Z262,Y262))","v":""}]
[{"$f":"IF(ISBLANK('Copy your Raw data here'!A262),\"\",('Copy your Raw data here'!A262))","v":""},"",{"$f":"IF('Copy your Raw data here'!D262=\"YES\",1,0)","v":0},{"$f":"VLOOKUP('Copy your Raw data here'!E262,'Stroke Ready Hospital List'!A:B,1,FALSE)","v":{"$error":"#N/A"}},0,{"$f":"IF(OR(ISBLANK('Copy your Raw data here'!F262),('Copy your Raw data here'!F262=\"NO\")),0,1)","v":0},{"$f":"IF(ISBLANK('Copy your Raw data here'!G262),0,1)","v":0},{"$f":"IF(ISERROR(D263),'Copy your Raw data here'!E262,\"\")","v":0},"",null,null,{"$f":"HOUR('Copy your Raw data here'!B262)","v":0},{"$f":"HOUR('Copy your Raw data here'!C262)","v":0},{"$f":"MINUTE('Copy your Raw data here'!B262)","v":0},{"$f":"MINUTE('Copy your Raw data here'!C262)","v":0},{"$f":"('Copy your Raw data here'!C262-'Copy your Raw data here'!B262)*1440","v":0},60,0,null,null,{"$f":"HOUR('Copy your Raw data here'!G262)","v":0},{"$f":"HOUR('Copy your Raw data here'!H262)","v":0},{"$f":"MINUTE('Copy your Raw data here'!G262)","v":0},{"$f":"MINUTE('Copy your Raw data here'!H262)","v":0},{"$f":"('Copy your Raw data here'!H262-'Copy your Raw data here'!G262)*1440","v":0},1440,{"$f":"IF('Copy your Raw data here'!G262=\"\",\"\",IF(V263<U263,Z263,Y263))","v":""}]
[{"$f":"IF(ISBLANK('Copy your Raw data here'!A263),\"\",('Copy your Raw data here'!A263))","v":""},"",{"$f":"IF('Copy your Raw data here'!D263=\"YES\",1,0)","v":0},{"$f":"VLOOKUP('Copy your Raw data here'!E263,'Stroke Ready Hospital List'!A:B,1,FALSE)","v":{"$error":"#N/A"}},0,{"$f":"IF(OR(ISBLANK('Copy your Raw data here'!F263),('Copy your Raw data here'!F263=\"NO\")),0,1)","v":0},{"$f":"IF(ISBLANK('Copy your Raw data here'!G263),0,1)","v":0},{"$f":"IF(ISERROR(D264),'Copy your Raw data here'!E263,\"\")","v":0},"",null,null,{"$f":"HOUR('Copy your Raw data here'!B263)","v":0},{"$f":"HOUR('Copy your Raw data here'!C263)","v":0},{"$f":"MINUTE('Copy your Raw data here'!B263)","v":0},{"$f":"MINUTE('Copy your Raw data here'!C263)","v":0},{"$f":"('Copy your Raw data here'!C263-'Copy your Raw data here'!B263)*1440","v":0},60,0,null,null,{"$f":"HOUR('Copy your Raw data here'!G263)","v":0},{"$f":"HOUR('Copy your Raw data here'!H263)","v":0},{"$f":"MINUTE('Copy your Raw data here'!G263)","v":0},{"$f":"MINUTE('Copy your Raw data here'!H263)","v":0},{"$f":"('Copy your Raw data here'!H263-'Copy your Raw data here'!G263)*1440","v":0},1440,{"$f":"IF('Copy your Raw data here'!G263=\"\",\"\",IF(V264<U264,Z264,Y264))","v":""}]
[{"$f":"IF(ISBLANK('Copy your Raw data here'!A264),\"\",('Copy your Raw data here'!A264))","v":""},"",{"$f":"IF('Copy your Raw data here'!D264=\"YES\",1,0)","v":0},{"$f":"VLOOKUP('Copy your Raw data here'!E264,'Stroke Ready Hospital List'!A:B,1,FALSE)","v":{"$error":"#N/A"}},0,{"$f":"IF(OR(ISBLANK('Copy your Raw data here'!F264),('Copy your Raw data here'!F264=\"NO\")),0,1)","v":0},{"$f":"IF(ISBLANK('Copy your Raw data here'!G264),0,1)","v":0},{"$f":"IF(ISERROR(D265),'Copy your Raw data here'!E264,\"\")","v":0},"",null,null,{"$f":"HOUR('Copy your Raw data here'!B264)","v":0},{"$f":"HOUR('Copy your Raw data here'!C264)","v":0},{"$f":"MINUTE('Copy your Raw data here'!B264)","v":0},{"$f":"MINUTE('Copy your Raw data here'!C264)","v":0},{"$f":"('Copy your Raw data here'!C264-'Copy your Raw data here'!B264)*1440","v":0},60,0,null,null,{"$f":"HOUR('Copy your Raw data here'!G264)","v":0},{"$f":"HOUR('Copy your Raw data here'!H264)","v":0},{"$f":"MINUTE('Copy your Raw data here'!G264)","v":0},{"$f":"MINUTE('Copy your Raw data here'!H264)","v":0},{"$f":"('Copy your Raw data here'!H264-'Copy your Raw data here'!G264)*1440","v":0},1440,{"$f":"IF('Copy your Raw data here'!G264=\"\",\"\",IF(V265<U265,Z265,Y265))","v":""}]
[{"$f":"IF(ISBLANK('Copy your Raw data here'!A265),\"\",('Copy your Raw data here'!A265))","v":""},"",{"$f":"IF('Copy your Raw data here'!D265=\"YES\",1,0)","v":0},{"$f":"VLOOKUP('Copy your Raw data here'!E265,'Stroke Ready Hospital List'!A:B,1,FALSE)","v":{"$error":"#N/A"}},0,{"$f":"IF(OR(ISBLANK('Copy your Raw data here'!F265),('Copy your Raw data here'!F265=\"NO\")),0,1)","v":0},{"$f":"IF(ISBLANK('Copy your Raw data here'!G265),0,1)","v":0},{"$f":"IF(ISERROR(D266),'Copy your Raw data here'!E265,\"\")","v":0},"",null,null,{"$f":"HOUR('Copy your Raw data here'!B265)","v":0},{"$f":"HOUR('Copy your Raw data here'!C265)","v":0},{"$f":"MINUTE('Copy your Raw data here'!B265)","v":0},{"$f":"MINUTE('Copy your Raw data here'!C265)","v":0},{"$f":"('Copy your Raw data here'!C265-'Copy your Raw data here'!B265)*1440","v":0},60,0,null,null,{"$f":"HOUR('Copy your Raw data here'!G265)","v":0},{"$f":"HOUR('Copy your Raw data here'!H265)","v":0},{"$f":"MINUTE('Copy your Raw data here'!G265)","v":0},{"$f":"MINUTE('Copy your Raw data here'!H265)","v":0},{"$f":"('Copy your Raw data here'!H265-'Copy your Raw data here'!G265)*1440","v":0},1440,{"$f":"IF('Copy your Raw data here'!G265=\"\",\"\",IF(V266<U266,Z266,Y266))","v":""}]
[{"$f":"IF(ISBLANK('Copy your Raw data here'!A266),\"\",('Copy your Raw data here'!A266))","v":""},"",{"$f":"IF('Copy your Raw data here'!D266=\"YES\",1,0)","v":0},{"$f":"VLOOKUP('Copy your Raw data here'!E266,'Stroke Ready Hospital List'!A:B,1,FALSE)","v":{"$error":"#N/A"}},0,{"$f":"IF(OR(ISBLANK('Copy your Raw data here'!F266),('Copy your Raw data here'!F266=\"NO\")),0,1)","v":0},{"$f":"IF(ISBLANK('Copy your Raw data here'!G266),0,1)","v":0},{"$f":"IF(ISERROR(D267),'Copy your Raw data here'!E266,\"\")","v":0},"",null,null,{"$f":"HOUR('Copy your Raw data here'!B266)","v":0},{"$f":"HOUR('Copy your Raw data here'!C266)","v":0},{"$f":"MINUTE('Copy your Raw data here'!B266)","v":0},{"$f":"MINUTE('Copy your Raw data here'!C266)","v":0},{"$f":"('Copy your Raw data here'!C266-'Copy your Raw data here'!B266)*1440","v":0},60,0,null,null,{"$f":"HOUR('Copy your Raw data here'!G266)","v":0},{"$f":"HOUR('Copy your Raw data here'!H266)","v":0},{"$f":"MINUTE('Copy your Raw data here'!G266)","v":0},{"$f":"MINUTE('Copy your Raw data here'!H266)","v":0},{"$f":"('Copy your Raw data here'!H266-'Copy your Raw data here'!G266)*1440","v":0},1440,{"$f":"IF('Copy your Raw data here'!G266=\"\",\"\",IF(V267<U267,Z267,Y267))","v":""}]
[{"$f":"IF(ISBLANK('Copy your Raw data here'!A267),\"\",('Copy your Raw data here'!A267))","v":""},"",{"$f":"IF('Copy your Raw data here'!D267=\"YES\",1,0)","v":0},{"$f":"VLOOKUP('Copy your Raw data here'!E267,'Stroke Ready Hospital List'!A:B,1,FALSE)","v":{"$error":"#N/A"}},0,{"$f":"IF(OR(ISBLANK('Copy your Raw data here'!F267),('Copy your Raw data here'!F267=\"NO\")),0,1)","v":0},{"$f":"IF(ISBLANK('Copy your Raw data here'!G267),0,1)","v":0},{"$f":"IF(ISERROR(D268),'Copy your Raw data here'!E267,\"\")","v":0},"",null,null,{"$f":"HOUR('Copy your Raw data here'!B267)","v":0},{"$f":"HOUR('Copy your Raw data here'!C267)","v":0},{"$f":"MINUTE('Copy your Raw data here'!B267)","v":0},{"$f":"MINUTE('Copy your Raw data here'!C267)","v":0},{"$f":"('Copy your Raw data here'!C267-'Copy your Raw data here'!B267)*1440","v":0},60,0,null,null,{"$f":"HOUR('Copy your Raw data here'!G267)","v":0},{"$f":"HOUR('Copy your Raw data here'!H267)","v":0},{"$f":"MINUTE('Copy your Raw data here'!G267)","v":0},{"$f":"MINUTE('Copy your Raw data here'!H267)","v":0},{"$f":"('Copy your Raw data here'!H267-'Copy your Raw data here'!G267)*1440","v":0},1440,{"$f":"IF('Copy your Raw data here'!G267=\"\",\"\",IF(V268<U268,Z268,Y268))","v":""}]
[{"$f":"IF(ISBLANK('Copy your Raw data here'!A268),\"\",('Copy your Raw data here'!A268))","v":""},"",{"$f":"IF('Copy your Raw data here'!D268=\"YES\",1,0)","v":0},{"$f":"VLOOKUP('Copy your Raw data here'!E268,'Stroke Ready Hospital List'!A:B,1,FALSE)","v":{"$error":"#N/A"}},0,{"$f":"IF(OR(ISBLANK('Copy your Raw data here'!F268),('Copy your Raw data here'!F268=\"NO\")),0,1)","v":0},{"$f":"IF(ISBLANK('Copy your Raw data here'!G268),0,1)","v":0},{"$f":"IF(ISERROR(D269),'Copy your Raw data here'!E268,\"\")","v":0},"",null,null,{"$f":"HOUR('Copy your Raw data here'!B268)","v":0},{"$f":"HOUR('Copy your Raw data here'!C268)","v":0},{"$f":"MINUTE('Copy your Raw data here'!B268)","v":0},{"$f":"MINUTE('Copy your Raw data here'!C268)","v":0},{"$f":"('Copy your Raw data here'!C268-'Copy your Raw data here'!B268)*1440","v":0},60,0,null,null,{"$f":"HOUR('Copy your Raw data here'!G268)","v":0},{"$f":"HOUR('Copy your Raw data here'!H268)","v":0},{"$f":"MINUTE('Copy your Raw data here'!G268)","v":0},{"$f":"MINUTE('Copy your Raw data here'!H268)","v":0},{"$f":"('Copy your Raw data here'!H268-'Copy your Raw data here'!G268)*1440","v":0},1440,{"$f":"IF('Copy your Raw data here'!G268=\"\",\"\",IF(V269<U269,Z269,Y269))","v":""}]
[{"$f":"IF(ISBLANK('Copy your Raw data here'!A269),\"\",('Copy your Raw data here'!A269))","v":""},"",{"$f":"IF('Copy your Raw data here'!D269=\"YES\",1,0)","v":0},{"$f":"VLOOKUP('Copy your Raw data here'!E269,'Stroke Ready Hospital List'!A:B,1,FALSE)","v":{"$error":"#N/A"}},0,{"$f":"IF(OR(ISBLANK('Copy your Raw data here'!F269),('Copy your Raw data here'!F269=\"NO\")),0,1)","v":0},{"$f":"IF(ISBLANK('Copy your Raw data here'!G269),0,1)","v":0},{"$f":"IF(ISERROR(D270),'Copy your Raw data here'!E269,\"\")","v":0},"",null,null,{"$f":"HOUR('Copy your Raw data here'!B269)","v":0},{"$f":"HOUR('Copy your Raw data here'!C269)","v":0},{"$f":"MINUTE('Copy your Raw data here'!B269)","v":0},{"$f":"MINUTE('Copy your Raw data here'!C269)","v":0},{"$f":"('Copy your Raw data here'!C269-'Copy your Raw data here'!B269)*1440","v":0},60,0,null,null,{"$f":"HOUR('Copy your Raw data here'!G269)","v":0},{"$f":"HOUR('Copy your Raw data here'!H269)","v":0},{"$f":"MINUTE('Copy your Raw data here'!G269)","v":0},{"$f":"MINUTE('Copy your Raw data here'!H269)","v":0},{"$f":"('Copy your Raw data here'!H269-'Copy your Raw data here'!G269)*1440","v":0},1440,{"$f":"IF('Copy your Raw data here'!G269=\"\",\"\",IF(V270<U270,Z270,Y270))","v":""}]
[{"$f":"IF(ISBLANK('Copy your Raw data here'!A270),\"\",('Copy your Raw data here'!A270))","v":""},"",{"$f":"IF('Copy your Raw data here'!D270=\"YES\",1,0)","v":0},{"$f":"VLOOKUP('Copy your Raw data here'!E270,'Stroke Ready Hospital List'!A:B,1,FALSE)","v":{"$error":"#N/A"}},0,{"$f":"IF(OR(ISBLANK('Copy your Raw data here'!F270),('Copy your Raw data here'!F270=\"NO\")),0,1)","v":0},{"$f":"IF(ISBLANK('Copy your Raw data here'!G270),0,1)","v":0},{"$f":"IF(ISERROR(D271),'Copy your Raw data here'!E270,\"\")","v":0},"",null,null,{"$f":"HOUR('Copy your Raw data here'!B270)","v":0},{"$f":"HOUR('Copy your Raw data here'!C270)","v":0},{"$f":"MINUTE('Copy your Raw data here'!B270)","v":0},{"$f":"MINUTE('Copy your Raw data here'!C270)","v":0},{"$f":"('Copy your Raw data here'!C270-'Copy your Raw data here'!B270)*1440","v":0},60,0,null,null,{"$f":"HOUR('Copy your Raw data here'!G270)","v":0},{"$f":"HOUR('Copy your Raw data here'!H270)","v":0},{"$f":"MINUTE('Copy your Raw data here'!G270)","v":0},{"$f":"MINUTE('Copy your Raw data here'!H270)","v":0},{"$f":"('Copy your Raw data here'!H270-'Copy your Raw data here'!G270)*1440","v":0},1440,{"$f":"IF('Copy your Raw data here'!G270=\"\",\"\",IF(V271<U271,Z271,Y271))","v":""}]
[{"$f":"IF(ISBLANK('Copy your Raw data here'!A271),\"\",('Copy your Raw data here'!A271))","v":""},"",{"$f":"IF('Copy your Raw data here'!D271=\"YES\",1,0)","v":0},{"$f":"VLOOKUP('Copy your Raw data here'!E271,'Stroke Ready Hospital List'!A:B,1,FALSE)","v":{"$error":"#N/A"}},0,{"$f":"IF(OR(ISBLANK('Copy your Raw data here'!F271),('Copy your Raw data here'!F271=\"NO\")),0,1)","v":0},{"$f":"IF(ISBLANK('Copy your Raw data here'!G271),0,1)","v":0},{"$f":"IF(ISERROR(D272),'Copy your Raw data here'!E271,\"\")","v":0},"",null,null,{"$f":"HOUR('Copy your Raw data here'!B271)","v":0},{"$f":"HOUR('Copy your Raw data here'!C271)","v":0},{"$f":"MINUTE('Copy your Raw data here'!B271)","v":0},{"$f":"MINUTE('Copy your Raw data here'!C271)","v":0},{"$f":"('Copy your Raw data here'!C271-'Copy your Raw data here'!B271)*1440","v":0},60,0,null,null,{"$f":"HOUR('Copy your Raw data here'!G271)","v":0},{"$f":"HOUR('Copy your Raw data here'!H271)","v":0},{"$f":"MINUTE('Copy your Raw data here'!G271)","v":0},{"$f":"MINUTE('Copy your Raw data here'!H271)","v":0},{"$f":"('Copy your Raw data here'!H271-'Copy your Raw data here'!G271)*1440","v":0},1440,{"$f":"IF('Copy your Raw data here'!G271=\"\",\"\",IF(V272<U272,Z272,Y272))","v":""}]
[{"$f":"IF(ISBLANK('Copy your Raw data here'!A272),\"\",('Copy your Raw data here'!A272))","v":""},"",{"$f":"IF('Copy your Raw data here'!D272=\"YES\",1,0)","v":0},{"$f":"VLOOKUP('Copy your Raw data here'!E272,'Stroke Ready Hospital List'!A:B,1,FALSE)","v":{"$error":"#N/A"}},0,{"$f":"IF(OR(ISBLANK('Copy your Raw data here'!F272),('Copy your Raw data here'!F272=\"NO\")),0,1)","v":0},{"$f":"IF(ISBLANK('Copy your Raw data here'!G272),0,1)","v":0},{"$f":"IF(ISERROR(D273),'Copy your Raw data here'!E272,\"\")","v":0},"",null,null,{"$f":"HOUR('Copy your Raw data here'!B272)","v":0},{"$f":"HOUR('Copy your Raw data here'!C272)","v":0},{"$f":"MINUTE('Copy your Raw data here'!B272)","v":0},{"$f":"MINUTE('Copy your Raw data here'!C272)","v":0},{"$f":"('Copy your Raw data here'!C272-'Copy your Raw data here'!B272)*1440","v":0},60,0,null,null,{"$f":"HOUR('Copy your Raw data here'!G272)","v":0},{"$f":"HOUR('Copy your Raw data here'!H272)","v":0},{"$f":"MINUTE('Copy your Raw data here'!G272)","v":0},{"$f":"MINUTE('Copy your Raw data here'!H272)","v":0},{"$f":"('Copy your Raw data here'!H272-'Copy your Raw data here'!G272)*1440","v":0},1440,{"$f":"IF('Copy your Raw data here'!G272=\"\",\"\",IF(V273<U273,Z273,Y273))","v":""}]
[{"$f":"IF(ISBLANK('Copy your Raw data here'!A273),\"\",('Copy your Raw data here'!A273))","v":""},"",{"$f":"IF('Copy your Raw data here'!D273=\"YES\",1,0)","v":0},{"$f":"VLOOKUP('Copy your Raw data here'!E273,'Stroke Ready Hospital List'!A:B,1,FALSE)","v":{"$error":"#N/A"}},0,{"$f":"IF(OR(ISBLANK('Copy your Raw data here'!F273),('Copy your Raw data here'!F273=\"NO\")),0,1)","v":0},{"$f":"IF(ISBLANK('Copy your Raw data here'!G273),0,1)","v":0},{"$f":"IF(ISERROR(D274),'Copy your Raw data here'!E273,\"\")","v":0},"",null,null,{"$f":"HOUR('Copy your Raw data here'!B273)","v":0},{"$f":"HOUR('Copy your Raw data here'!C273)","v":0},{"$f":"MINUTE('Copy your Raw data here'!B273)","v":0},{"$f":"MINUTE('Copy your Raw data here'!C273)","v":0},{"$f":"('Copy your Raw data here'!C273-'Copy your Raw data here'!B273)*1440","v":0},60,0,null,null,{"$f":"HOUR('Copy your Raw data here'!G273)","v":0},{"$f":"HOUR('Copy your Raw data here'!H273)","v":0},{"$f":"MINUTE('Copy your Raw data here'!G273)","v":0},{"$f":"MINUTE('Copy your Raw data here'!H273)","v":0},{"$f":"('Copy your Raw data here'!H273-'Copy your Raw data here'!G273)*1440","v":0},1440,{"$f":"IF('Copy your Raw data here'!G273=\"\",\"\",IF(V274<U274,Z274,Y274))","v":""}]
[{"$f":"IF(ISBLANK('Copy your Raw data here'!A274),\"\",('Copy your Raw data here'!A274))","v":""},"",{"$f":"IF('Copy your Raw data here'!D274=\"YES\",1,0)","v":0},{"$f":"VLOOKUP('Copy your Raw data here'!E274,'Stroke Ready Hospital List'!A:B,1,FALSE)","v":{"$error":"#N/A"}},0,{"$f":"IF(OR(ISBLANK('Copy your Raw data here'!F274),('Copy your Raw data here'!F274=\"NO\")),0,1)","v":0},{"$f":"IF(ISBLANK('Copy your Raw data here'!G274),0,1)","v":0},{"$f":"IF(ISERROR(D275),'Copy your Raw data here'!E274,\"\")","v":0},"",null,null,{"$f":"HOUR('Copy your Raw data here'!B274)","v":0},{"$f":"HOUR('Copy your Raw data here'!C274)","v":0},{"$f":"MINUTE('Copy your Raw data here'!B274)","v":0},{"$f":"MINUTE('Copy your Raw data here'!C274)","v":0},{"$f":"('Copy your Raw data here'!C274-'Copy your Raw data here'!B274)*1440","v":0},60,0,null,null,{"$f":"HOUR('Copy your Raw data here'!G274)","v":0},{"$f":"HOUR('Copy your Raw data here'!H274)","v":0},{"$f":"MINUTE('Copy your Raw data here'!G274)","v":0},{"$f":"MINUTE('Copy your Raw data here'!H274)","v":0},{"$f":"('Copy your Raw data here'!H274-'Copy your Raw data here'!G274)*1440","v":0},1440,{"$f":"IF('Copy your Raw data here'!G274=\"\",\"\",IF(V275<U275,Z275,Y275))","v":""}]
[{"$f":"IF(ISBLANK('Copy your Raw data here'!A275),\"\",('Copy your Raw data here'!A275))","v":""},"",{"$f":"IF('Copy your Raw data here'!D275=\"YES\",1,0)","v":0},{"$f":"VLOOKUP('Copy your Raw data here'!E275,'Stroke Ready Hospital List'!A:B,1,FALSE)","v":{"$error":"#N/A"}},0,{"$f":"IF(OR(ISBLANK('Copy your Raw data here'!F275),('Copy your Raw data here'!F275=\"NO\")),0,1)","v":0},{"$f":"IF(ISBLANK('Copy your Raw data here'!G275),0,1)","v":0},{"$f":"IF(ISERROR(D276),'Copy your Raw data here'!E275,\"\")","v":0},"",null,null,{"$f":"HOUR('Copy your Raw data here'!B275)","v":0},{"$f":"HOUR('Copy your Raw data here'!C275)","v":0},{"$f":"MINUTE('Copy your Raw data here'!B275)","v":0},{"$f":"MINUTE('Copy your Raw data here'!C275)","v":0},{"$f":"('Copy your Raw data here'!C275-'Copy your Raw data here'!B275)*1440","v":0},60,0,null,null,{"$f":"HOUR('Copy your Raw data here'!G275)","v":0},{"$f":"HOUR('Copy your Raw data here'!H275)","v":0},{"$f":"MINUTE('Copy your Raw data here'!G275)","v":0},{"$f":"MINUTE('Copy your Raw data here'!H275)","v":0},{"$f":"('Copy your Raw data here'!H275-'Copy your Raw data here'!G275)*1440","v":0},1440,{"$f":"IF('Copy your Raw data here'!G275=\"\",\"\",IF(V276<U276,Z276,Y276))","v":""}]
[{"$f":"IF(ISBLANK('Copy your Raw data here'!A276),\"\",('Copy your Raw data here'!A276))","v":""},"",{"$f":"IF('Copy your Raw data here'!D276=\"YES\",1,0)","v":0},{"$f":"VLOOKUP('Copy your Raw data here'!E276,'Stroke Ready Hospital List'!A:B,1,FALSE)","v":{"$error":"#N/A"}},0,{"$f":"IF(OR(ISBLANK('Copy your Raw data here'!F276),('Copy your Raw data here'!F276=\"NO\")),0,1)","v":0},{"$f":"IF(ISBLANK('Copy your Raw data here'!G276),0,1)","v":0},{"$f":"IF(ISERROR(D277),'Copy your Raw data here'!E276,\"\")","v":0},"",null,null,{"$f":"HOUR('Copy your Raw data here'!B276)","v":0},{"$f":"HOUR('Copy your Raw data here'!C276)","v":0},{"$f":"MINUTE('Copy your Raw data here'!B276)","v":0},{"$f":"MINUTE('Copy your Raw data here'!C276)","v":0},{"$f":"('Copy your Raw data here'!C276-'Copy your Raw data here'!B276)*1440","v":0},60,0,null,null,{"$f":"HOUR('Copy your Raw data here'!G276)","v":0},{"$f":"HOUR('Copy your Raw data here'!H276)","v":0},{"$f":"MINUTE('Copy your Raw data here'!G276)","v":0},{"$f":"MINUTE('Copy your Raw data here'!H276)","v":0},{"$f":"('Copy your Raw data here'!H276-'Copy your Raw data here'!G276)*1440","v":0},1440,{"$f":"IF('Copy your Raw data here'!G276=\"\",\"\",IF(V277<U277,Z277,Y277))","v":""}]
[{"$f":"IF(ISBLANK('Copy your Raw data here'!A277),\"\",('Copy your Raw data here'!A277))","v":""},"",{"$f":"IF('Copy your Raw data here'!D277=\"YES\",1,0)","v":0},{"$f":"VLOOKUP('Copy your Raw data here'!E277,'Stroke Ready Hospital List'!A:B,1,FALSE)","v":{"$error":"#N/A"}},0,{"$f":"IF(OR(ISBLANK('Copy your Raw data here'!F277),('Copy your Raw data here'!F277=\"NO\")),0,1)","v":0},{"$f":"IF(ISBLANK('Copy your Raw data here'!G277),0,1)","v":0},{"$f":"IF(ISERROR(D278),'Copy your Raw data here'!E277,\"\")","v":0},"",null,null,{"$f":"HOUR('Copy your Raw data here'!B277)","v":0},{"$f":"HOUR('Copy your Raw data here'!C277)","v":0},{"$f":"MINUTE('Copy your Raw data here'!B277)","v":0},{"$f":"MINUTE('Copy your Raw data here'!C277)","v":0},{"$f":"('Copy your Raw data here'!C277-'Copy your Raw data here'!B277)*1440","v":0},60,0,null,null,{"$f":"HOUR('Copy your Raw data here'!G277)","v":0},{"$f":"HOUR('Copy your Raw data here'!H277)","v":0},{"$f":"MINUTE('Copy your Raw data here'!G277)","v":0},{"$f":"MINUTE('Copy your Raw data here'!H277)","v":0},{"$f":"('Copy your Raw data here'!H277-'Copy your Raw data here'!G277)*1440","v":0},1440,{"$f":"IF('Copy your Raw data here'!G277=\"\",\"\",IF(V278<U278,Z278,Y278))","v":""}]
[{"$f":"IF(ISBLANK('Copy your Raw data here'!A278),\"\",('Copy your Raw data here'!A278))","v":""},"",{"$f":"IF('Copy your Raw data here'!D278=\"YES\",1,0)","v":0},{"$f":"VLOOKUP('Copy your Raw data here'!E278,'Stroke Ready Hospital List'!A:B,1,FALSE)","v":{"$error":"#N/A"}},0,{"$f":"IF(OR(ISBLANK('Copy your Raw data here'!F278),('Copy your Raw data here'!F278=\"NO\")),0,1)","v":0},{"$f":"IF(ISBLANK('Copy your Raw data here'!G278),0,1)","v":0},{"$f":"IF(ISERROR(D279),'Copy your Raw data here'!E278,\"\")","v":0},"",null,null,{"$f":"HOUR('Copy your Raw data here'!B278)","v":0},{"$f":"HOUR('Copy your Raw data here'!C278)","v":0},{"$f":"MINUTE('Copy your Raw data here'!B278)","v":0},{"$f":"MINUTE('Copy your Raw data here'!C278)","v":0},{"$f":"('Copy your Raw data here'!C278-'Copy your Raw data here'!B278)*1440","v":0},60,0,null,null,{"$f":"HOUR('Copy your Raw data here'!G278)","v":0},{"$f":"HOUR('Copy your Raw data here'!H278)","v":0},{"$f":"MINUTE('Copy your Raw data here'!G278)","v":0},{"$f":"MINUTE('Copy your Raw data here'!H278)","v":0},{"$f":"('Copy your Raw data here'!H278-'Copy your Raw data here'!G278)*1440","v":0},1440,{"$f":"IF('Copy your Raw data here'!G278=\"\",\"\",IF(V279<U279,Z279,Y279))","v":""}]
[{"$f":"IF(ISBLANK('Copy your Raw data here'!A279),\"\",('Copy your Raw data here'!A279))","v":""},"",{"$f":"IF('Copy your Raw data here'!D279=\"YES\",1,0)","v":0},{"$f":"VLOOKUP('Copy your Raw data here'!E279,'Stroke Ready Hospital List'!A:B,1,FALSE)","v":{"$error":"#N/A"}},0,{"$f":"IF(OR(ISBLANK('Copy your Raw data here'!F279),('Copy your Raw data here'!F279=\"NO\")),0,1)","v":0},{"$f":"IF(ISBLANK('Copy your Raw data here'!G279),0,1)","v":0},{"$f":"IF(ISERROR(D280),'Copy your Raw data here'!E279,\"\")","v":0},"",null,null,{"$f":"HOUR('Copy your Raw data here'!B279)","v":0},{"$f":"HOUR('Copy your Raw data here'!C279)","v":0},{"$f":"MINUTE('Copy your Raw data here'!B279)","v":0},{"$f":"MINUTE('Copy your Raw data here'!C279)","v":0},{"$f":"('Copy your Raw data here'!C279-'Copy your Raw data here'!B279)*1440","v":0},60,0,null,null,{"$f":"HOUR('Copy your Raw data here'!G279)","v":0},{"$f":"HOUR('Copy your Raw data here'!H279)","v":0},{"$f":"MINUTE('Copy your Raw data here'!G279)","v":0},{"$f":"MINUTE('Copy your Raw data here'!H279)","v":0},{"$f":"('Copy your Raw data here'!H279-'Copy your Raw data here'!G279)*1440","v":0},1440,{"$f":"IF('Copy your Raw data here'!G279=\"\",\"\",IF(V280<U280,Z280,Y280))","v":""}]
[{"$f":"IF(ISBLANK('Copy your Raw data here'!A280),\"\",('Copy your Raw data here'!A280))","v":""},"",{"$f":"IF('Copy your Raw data here'!D280=\"YES\",1,0)","v":0},{"$f":"VLOOKUP('Copy your Raw data here'!E280,'Stroke Ready Hospital List'!A:B,1,FALSE)","v":{"$error":"#N/A"}},0,{"$f":"IF(OR(ISBLANK('Copy your Raw data here'!F280),('Copy your Raw data here'!F280=\"NO\")),0,1)","v":0},{"$f":"IF(ISBLANK('Copy your Raw data here'!G280),0,1)","v":0},{"$f":"IF(ISERROR(D281),'Copy your Raw data here'!E280,\"\")","v":0},"",null,null,{"$f":"HOUR('Copy your Raw data here'!B280)","v":0},{"$f":"HOUR('Copy your Raw data here'!C280)","v":0},{"$f":"MINUTE('Copy your Raw data here'!B280)","v":0},{"$f":"MINUTE('Copy your Raw data here'!C280)","v":0},{"$f":"('Copy your Raw data here'!C280-'Copy your Raw data here'!B280)*1440","v":0},60,0,null,null,{"$f":"HOUR('Copy your Raw data here'!G280)","v":0},{"$f":"HOUR('Copy your Raw data here'!H280)","v":0},{"$f":"MINUTE('Copy your Raw data here'!G280)","v":0},{"$f":"MINUTE('Copy your Raw data here'!H280)","v":0},{"$f":"('Copy your Raw data here'!H280-'Copy your Raw data here'!G280)*1440","v":0},1440,{"$f":"IF('Copy your Raw data here'!G280=\"\",\"\",IF(V281<U281,Z281,Y281))","v":""}]
[{"$f":"IF(ISBLANK('Copy your Raw data here'!A281),\"\",('Copy your Raw data here'!A281))","v":""},"",{"$f":"IF('Copy your Raw data here'!D281=\"YES\",1,0)","v":0},{"$f":"VLOOKUP('Copy your Raw data here'!E281,'Stroke Ready Hospital List'!A:B,1,FALSE)","v":{"$error":"#N/A"}},0,{"$f":"IF(OR(ISBLANK('Copy your Raw data here'!F281),('Copy your Raw data here'!F281=\"NO\")),0,1)","v":0},{"$f":"IF(ISBLANK('Copy your Raw data here'!G281),0,1)","v":0},{"$f":"IF(ISERROR(D282),'Copy your Raw data here'!E281,\"\")","v":0},"",null,null,{"$f":"HOUR('Copy your Raw data here'!B281)","v":0},{"$f":"HOUR('Copy your Raw data here'!C281)","v":0},{"$f":"MINUTE('Copy your Raw data here'!B281)","v":0},{"$f":"MINUTE('Copy your Raw data here'!C281)","v":0},{"$f":"('Copy your Raw data here'!C281-'Copy your Raw data here'!B281)*1440","v":0},60,0,null,null,{"$f":"HOUR('Copy your Raw data here'!G281)","v":0},{"$f":"HOUR('Copy your Raw data here'!H281)","v":0},{"$f":"MINUTE('Copy your Raw data here'!G281)","v":0},{"$f":"MINUTE('Copy your Raw data here'!H281)","v":0},{"$f":"('Copy your Raw data here'!H281-'Copy your Raw data here'!G281)*1440","v":0},1440,{"$f":"IF('Copy your Raw data here'!G281=\"\",\"\",IF(V282<U282,Z282,Y282))","v":""}]
[{"$f":"IF(ISBLANK('Copy your Raw data here'!A282),\"\",('Copy your Raw data here'!A282))","v":""},"",{"$f":"IF('Copy your Raw data here'!D282=\"YES\",1,0)","v":0},{"$f":"VLOOKUP('Copy your Raw data here'!E282,'Stroke Ready Hospital List'!A:B,1,FALSE)","v":{"$error":"#N/A"}},0,{"$f":"IF(OR(ISBLANK('Copy your Raw data here'!F282),('Copy your Raw data here'!F282=\"NO\")),0,1)","v":0},{"$f":"IF(ISBLANK('Copy your Raw data here'!G282),0,1)","v":0},{"$f":"IF(ISERROR(D283),'Copy your Raw data here'!E282,\"\")","v":0},"",null,null,{"$f":"HOUR('Copy your Raw data here'!B282)","v":0},{"$f":"HOUR('Copy your Raw data here'!C282)","v":0},{"$f":"MINUTE('Copy your Raw data here'!B282)","v":0},{"$f":"MINUTE('Copy your Raw data here'!C282)","v":0},{"$f":"('Copy your Raw data here'!C282-'Copy your Raw data here'!B282)*1440","v":0},60,0,null,null,{"$f":"HOUR('Copy your Raw data here'!G282)","v":0},{"$f":"HOUR('Copy your Raw data here'!H282)","v":0},{"$f":"MINUTE('Copy your Raw data here'!G282)","v":0},{"$f":"MINUTE('Copy your Raw data here'!H282)","v":0},{"$f":"('Copy your Raw data here'!H282-'Copy your Raw data here'!G282)*1440","v":0},1440,{"$f":"IF('Copy your Raw data here'!G282=\"\",\"\",IF(V283<U283,Z283,Y283))","v":""}]
[{"$f":"IF(ISBLANK('Copy your Raw data here'!A283),\"\",('Copy your Raw data here'!A283))","v":""},"",{"$f":"IF('Copy your Raw data here'!D283=\"YES\",1,0)","v":0},{"$f":"VLOOKUP('Copy your Raw data here'!E283,'Stroke Ready Hospital List'!A:B,1,FALSE)","v":{"$error":"#N/A"}},{"$f":"IF(ISERROR(D284),0,1)","v":0},{"$f":"IF(OR(ISBLANK('Copy your Raw data here'!F283),('Copy your Raw data here'!F283=\"NO\")),0,1)","v":0},{"$f":"IF(ISBLANK('Copy your Raw data here'!G283),0,1)","v":0},{"$f":"IF(ISERROR(D284),'Copy your Raw data here'!E283,\"\")","v":0},"",null,null,{"$f":"HOUR('Copy your Raw data here'!B283)","v":0},{"$f":"HOUR('Copy your Raw data here'!C283)","v":0},{"$f":"MINUTE('Copy your Raw data here'!B283)","v":0},{"$f":"MINUTE('Copy your Raw data here'!C283)","v":0},{"$f":"('Copy your Raw data here'!C283-'Copy your Raw data here'!B283)*1440","v":0},60,0,null,null,{"$f":"HOUR('Copy your Raw data here'!G283)","v":0},{"$f":"HOUR('Copy your Raw data here'!H283)","v":0},{"$f":"MINUTE('Copy your Raw data here'!G283)","v":0},{"$f":"MINUTE('Copy your Raw data here'!H283)","v":0},{"$f":"('Copy your Raw data here'!H283-'Copy your Raw data here'!G283)*1440","v":0},1440,{"$f":"IF('Copy your Raw data here'!G283=\"\",\"\",IF(V284<U284,Z284,Y284))","v":""}]
[{"$f":"IF(ISBLANK('Copy your Raw data here'!A284),\"\",('Copy your Raw data here'!A284))","v":""},"",{"$f":"IF('Copy your Raw data here'!D284=\"YES\",1,0)","v":0},{"$f":"VLOOKUP('Copy your Raw data here'!E284,'Stroke Ready Hospital List'!A:B,1,FALSE)","v":{"$error":"#N/A"}},0,{"$f":"IF(OR(ISBLANK('Copy your Raw data here'!F284),('Copy your Raw data here'!F284=\"NO\")),0,1)","v":0},{"$f":"IF(ISBLANK('Copy your Raw data here'!G284),0,1)","v":0},{"$f":"IF(ISERROR(D285),'Copy your Raw data here'!E284,\"\")","v":0},"",null,null,{"$f":"HOUR('Copy your Raw data here'!B284)","v":0},{"$f":"HOUR('Copy your Raw data here'!C284)","v":0},{"$f":"MINUTE('Copy your Raw data here'!B284)","v":0},{"$f":"MINUTE('Copy your Raw data here'!C284)","v":0},{"$f":"('Copy your Raw data here'!C284-'Copy your Raw data here'!B284)*1440","v":0},60,0,null,null,{"$f":"HOUR('Copy your Raw data here'!G284)","v":0},{"$f":"HOUR('Copy your Raw data here'!H284)","v":0},{"$f":"MINUTE('Copy your Raw data here'!G284)","v":0},{"$f":"MINUTE('Copy your Raw data here'!H284)","v":0},{"$f":"('Copy your Raw data here'!H284-'Copy your Raw data here'!G284)*1440","v":0},1440,{"$f":"IF('Copy your Raw data here'!G284=\"\",\"\",IF(V285<U285,Z285,Y285))","v":""}]
[{"$f":"IF(ISBLANK('Copy your Raw data here'!A285),\"\",('Copy your Raw data here'!A285))","v":""},"",{"$f":"IF('Copy your Raw data here'!D285=\"YES\",1,0)","v":0},{"$f":"VLOOKUP('Copy your Raw data here'!E285,'Stroke Ready Hospital List'!A:B,1,FALSE)","v":{"$error":"#N/A"}},0,{"$f":"IF(OR(ISBLANK('Copy your Raw data here'!F285),('Copy your Raw data here'!F285=\"NO\")),0,1)","v":0},{"$f":"IF(ISBLANK('Copy your Raw data here'!G285),0,1)","v":0},{"$f":"IF(ISERROR(D286),'Copy your Raw data here'!E285,\"\")","v":0},"",null,null,{"$f":"HOUR('Copy your Raw data here'!B285)","v":0},{"$f":"HOUR('Copy your Raw data here'!C285)","v":0},{"$f":"MINUTE('Copy your Raw data here'!B285)","v":0},{"$f":"MINUTE('Copy your Raw data here'!C285)","v":0},{"$f":"('Copy your Raw data here'!C285-'Copy your Raw data here'!B285)*1440","v":0},60,0,null,null,{"$f":"HOUR('Copy your Raw data here'!G285)","v":0},{"$f":"HOUR('Copy your Raw data here'!H285)","v":0},{"$f":"MINUTE('Copy your Raw data here'!G285)","v":0},{"$f":"MINUTE('Copy your Raw data here'!H285)","v":0},{"$f":"('Copy your Raw data here'!H285-'Copy your Raw data here'!G285)*1440","v":0},1440,{"$f":"IF('Copy your Raw data here'!G285=\"\",\"\",IF(V286<U286,Z286,Y286))","v":""}]
[{"$f":"IF(ISBLANK('Copy your Raw data here'!A286),\"\",('Copy your Raw data here'!A286))","v":""},"",{"$f":"IF('Copy your Raw data here'!D286=\"YES\",1,0)","v":0},{"$f":"VLOOKUP('Copy your Raw data here'!E286,'Stroke Ready Hospital List'!A:B,1,FALSE)","v":{"$error":"#N/A"}},0,{"$f":"IF(OR(ISBLANK('Copy your Raw data here'!F286),('Copy your Raw data here'!F286=\"NO\")),0,1)","v":0},{"$f":"IF(ISBLANK('Copy your Raw data here'!G286),0,1)","v":0},{"$f":"IF(ISERROR(D287),'Copy your Raw data here'!E286,\"\")","v":0},"",null,null,{"$f":"HOUR('Copy your Raw data here'!B286)","v":0},{"$f":"HOUR('Copy your Raw data here'!C286)","v":0},{"$f":"MINUTE('Copy your Raw data here'!B286)","v":0},{"$f":"MINUTE('Copy your Raw data here'!C286)","v":0},{"$f":"('Copy your Raw data here'!C286-'Copy your Raw data here'!B286)*1440","v":0},60,0,null,null,{"$f":"HOUR('Copy your Raw data here'!G286)","v":0},{"$f":"HOUR('Copy your Raw data here'!H286)","v":0},{"$f":"MINUTE('Copy your Raw data here'!G286)","v":0},{"$f":"MINUTE('Copy your Raw data here'!H286)","v":0},{"$f":"('Copy your Raw data here'!H286-'Copy your Raw data here'!G286)*1440","v":0},1440,{"$f":"IF('Copy your Raw data here'!G286=\"\",\"\",IF(V287<U287,Z287,Y287))","v":""}]
[{"$f":"IF(ISBLANK('Copy your Raw data here'!A287),\"\",('Copy your Raw data here'!A287))","v":""},"",{"$f":"IF('Copy your Raw data here'!D287=\"YES\",1,0)","v":0},{"$f":"VLOOKUP('Copy your Raw data here'!E287,'Stroke Ready Hospital List'!A:B,1,FALSE)","v":{"$error":"#N/A"}},0,{"$f":"IF(OR(ISBLANK('Copy your Raw data here'!F287),('Copy your Raw data here'!F287=\"NO\")),0,1)","v":0},{"$f":"IF(ISBLANK('Copy your Raw data here'!G287),0,1)","v":0},{"$f":"IF(ISERROR(D288),'Copy your Raw data here'!E287,\"\")","v":0},"",null,null,{"$f":"HOUR('Copy your Raw data here'!B287)","v":0},{"$f":"HOUR('Copy your Raw data here'!C287)","v":0},{"$f":"MINUTE('Copy your Raw data here'!B287)","v":0},{"$f":"MINUTE('Copy your Raw data here'!C287)","v":0},{"$f":"('Copy your Raw data here'!C287-'Copy your Raw data here'!B287)*1440","v":0},60,0,null,null,{"$f":"HOUR('Copy your Raw data here'!G287)","v":0},{"$f":"HOUR('Copy your Raw data here'!H287)","v":0},{"$f":"MINUTE('Copy your Raw data here'!G287)","v":0},{"$f":"MINUTE('Copy your Raw data here'!H287)","v":0},{"$f":"('Copy your Raw data here'!H287-'Copy your Raw data here'!G287)*1440","v":0},1440,{"$f":"IF('Copy your Raw data here'!G287=\"\",\"\",IF(V288<U288,Z288,Y288))","v":""}]
[{"$f":"IF(ISBLANK('Copy your Raw data here'!A288),\"\",('Copy your Raw data here'!A288))","v":""},"",{"$f":"IF('Copy your Raw data here'!D288=\"YES\",1,0)","v":0},{"$f":"VLOOKUP('Copy your Raw data here'!E288,'Stroke Ready Hospital List'!A:B,1,FALSE)","v":{"$error":"#N/A"}},0,{"$f":"IF(OR(ISBLANK('Copy your Raw data here'!F288),('Copy your Raw data here'!F288=\"NO\")),0,1)","v":0},{"$f":"IF(ISBLANK('Copy your Raw data here'!G288),0,1)","v":0},{"$f":"IF(ISERROR(D289),'Copy your Raw data here'!E288,\"\")","v":0},"",null,null,{"$f":"HOUR('Copy your Raw data here'!B288)","v":0},{"$f":"HOUR('Copy your Raw data here'!C288)","v":0},{"$f":"MINUTE('Copy your Raw data here'!B288)","v":0},{"$f":"MINUTE('Copy your Raw data here'!C288)","v":0},{"$f":"('Copy your Raw data here'!C288-'Copy your Raw data here'!B288)*1440","v":0},60,0,null,null,{"$f":"HOUR('Copy your Raw data here'!G288)","v":0},{"$f":"HOUR('Copy your Raw data here'!H288)","v":0},{"$f":"MINUTE('Copy your Raw data here'!G288)","v":0},{"$f":"MINUTE('Copy your Raw data here'!H288)","v":0},{"$f":"('Copy your Raw data here'!H288-'Copy your Raw data here'!G288)*1440","v":0},1440,{"$f":"IF('Copy your Raw data here'!G288=\"\",\"\",IF(V289<U289,Z289,Y289))","v":""}]
[{"$f":"IF(ISBLANK('Copy your Raw data here'!A289),\"\",('Copy your Raw data here'!A289))","v":""},"",{"$f":"IF('Copy your Raw data here'!D289=\"YES\",1,0)","v":0},{"$f":"VLOOKUP('Copy your Raw data here'!E289,'Stroke Ready Hospital List'!A:B,1,FALSE)","v":{"$error":"#N/A"}},0,{"$f":"IF(OR(ISBLANK('Copy your Raw data here'!F289),('Copy your Raw data here'!F289=\"NO\")),0,1)","v":0},{"$f":"IF(ISBLANK('Copy your Raw data here'!G289),0,1)","v":0},{"$f":"IF(ISERROR(D290),'Copy your Raw data here'!E289,\"\")","v":0},"",null,null,{"$f":"HOUR('Copy your Raw data here'!B289)","v":0},{"$f":"HOUR('Copy your Raw data here'!C289)","v":0},{"$f":"MINUTE('Copy your Raw data here'!B289)","v":0},{"$f":"MINUTE('Copy your Raw data here'!C289)","v":0},{"$f":"('Copy your Raw data here'!C289-'Copy your Raw data here'!B289)*1440","v":0},60,0,null,null,{"$f":"HOUR('Copy your Raw data here'!G289)","v":0},{"$f":"HOUR('Copy your Raw data here'!H289)","v":0},{"$f":"MINUTE('Copy your Raw data here'!G289)","v":0},{"$f":"MINUTE('Copy your Raw data here'!H289)","v":0},{"$f":"('Copy your Raw data here'!H289-'Copy your Raw data here'!G289)*1440","v":0},1440,{"$f":"IF('Copy your Raw data here'!G289=\"\",\"\",IF(V290<U290,Z290,Y290))","v":""}]
[{"$f":"IF(ISBLANK('Copy your Raw data here'!A290),\"\",('Copy your Raw data here'!A290))","v":""},"",{"$f":"IF('Copy your Raw data here'!D290=\"YES\",1,0)","v":0},{"$f":"VLOOKUP('Copy your Raw data here'!E290,'Stroke Ready Hospital List'!A:B,1,FALSE)","v":{"$error":"#N/A"}},0,{"$f":"IF(OR(ISBLANK('Copy your Raw data here'!F290),('Copy your Raw data here'!F290=\"NO\")),0,1)","v":0},{"$f":"IF(ISBLANK('Copy your Raw data here'!G290),0,1)","v":0},{"$f":"IF(ISERROR(D291),'Copy your Raw data here'!E290,\"\")","v":0},"",null,null,{"$f":"HOUR('Copy your Raw data here'!B290)","v":0},{"$f":"HOUR('Copy your Raw data here'!C290)","v":0},{"$f":"MINUTE('Copy your Raw data here'!B290)","v":0},{"$f":"MINUTE('Copy your Raw data here'!C290)","v":0},{"$f":"('Copy your Raw data here'!C290-'Copy your Raw data here'!B290)*1440","v":0},60,0,null,null,{"$f":"HOUR('Copy your Raw data here'!G290)","v":0},{"$f":"HOUR('Copy your Raw data here'!H290)","v":0},{"$f":"MINUTE('Copy your Raw data here'!G290)","v":0},{"$f":"MINUTE('Copy your Raw data here'!H290)","v":0},{"$f":"('Copy your Raw data here'!H290-'Copy your Raw data here'!G290)*1440","v":0},1440,{"$f":"IF('Copy your Raw data here'!G290=\"\",\"\",IF(V291<U291,Z291,Y291))","v":""}]
[{"$f":"IF(ISBLANK('Copy your Raw data here'!A291),\"\",('Copy your Raw data here'!A291))","v":""},"",{"$f":"IF('Copy your Raw data here'!D291=\"YES\",1,0)","v":0},{"$f":"VLOOKUP('Copy your Raw data here'!E291,'Stroke Ready Hospital List'!A:B,1,FALSE)","v":{"$error":"#N/A"}},0,{"$f":"IF(OR(ISBLANK('Copy your Raw data here'!F291),('Copy your Raw data here'!F291=\"NO\")),0,1)","v":0},{"$f":"IF(ISBLANK('Copy your Raw data here'!G291),0,1)","v":0},{"$f":"IF(ISERROR(D292),'Copy your Raw data here'!E291,\"\")","v":0},"",null,null,{"$f":"HOUR('Copy your Raw data here'!B291)","v":0},{"$f":"HOUR('Copy your Raw data here'!C291)","v":0},{"$f":"MINUTE('Copy your Raw data here'!B291)","v":0},{"$f":"MINUTE('Copy your Raw data here'!C291)","v":0},{"$f":"('Copy your Raw data here'!C291-'Copy your Raw data here'!B291)*1440","v":0},60,0,null,null,{"$f":"HOUR('Copy your Raw data here'!G291)","v":0},{"$f":"HOUR('Copy your Raw data here'!H291)","v":0},{"$f":"MINUTE('Copy your Raw data here'!G291)","v":0},{"$f":"MINUTE('Copy your Raw data here'!H291)","v":0},{"$f":"('Copy your Raw data here'!H291-'Copy your Raw data here'!G291)*1440","v":0},1440,{"$f":"IF('Copy your Raw data here'!G291=\"\",\"\",IF(V292<U292,Z292,Y292))","v":""}]
[{"$f":"IF(ISBLANK('Copy your Raw data here'!A292),\"\",('Copy your Raw data here'!A292))","v":""},"",{"$f":"IF('Copy your Raw data here'!D292=\"YES\",1,0)","v":0},{"$f":"VLOOKUP('Copy your Raw data here'!E292,'Stroke Ready Hospital List'!A:B,1,FALSE)","v":{"$error":"#N/A"}},0,{"$f":"IF(OR(ISBLANK('Copy your Raw data here'!F292),('Copy your Raw data here'!F292=\"NO\")),0,1)","v":0},{"$f":"IF(ISBLANK('Copy your Raw data here'!G292),0,1)","v":0},{"$f":"IF(ISERROR(D293),'Copy your Raw data here'!E292,\"\")","v":0},"",null,null,{"$f":"HOUR('Copy your Raw data here'!B292)","v":0},{"$f":"HOUR('Copy your Raw data here'!C292)","v":0},{"$f":"MINUTE('Copy your Raw data here'!B292)","v":0},{"$f":"MINUTE('Copy your Raw data here'!C292)","v":0},{"$f":"('Copy your Raw data here'!C292-'Copy your Raw data here'!B292)*1440","v":0},60,0,null,null,{"$f":"HOUR('Copy your Raw data here'!G292)","v":0},{"$f":"HOUR('Copy your Raw data here'!H292)","v":0},{"$f":"MINUTE('Copy your Raw data here'!G292)","v":0},{"$f":"MINUTE('Copy your Raw data here'!H292)","v":0},{"$f":"('Copy your Raw data here'!H292-'Copy your Raw data here'!G292)*1440","v":0},1440,{"$f":"IF('Copy your Raw data here'!G292=\"\",\"\",IF(V293<U293,Z293,Y293))","v":""}]
[{"$f":"IF(ISBLANK('Copy your Raw data here'!A293),\"\",('Copy your Raw data here'!A293))","v":""},"",{"$f":"IF('Copy your Raw data here'!D293=\"YES\",1,0)","v":0},{"$f":"VLOOKUP('Copy your Raw data here'!E293,'Stroke Ready Hospital List'!A:B,1,FALSE)","v":{"$error":"#N/A"}},0,{"$f":"IF(OR(ISBLANK('Copy your Raw data here'!F293),('Copy your Raw data here'!F293=\"NO\")),0,1)","v":0},{"$f":"IF(ISBLANK('Copy your Raw data here'!G293),0,1)","v":0},{"$f":"IF(ISERROR(D294),'Copy your Raw data here'!E293,\"\")","v":0},"",null,null,{"$f":"HOUR('Copy your Raw data here'!B293)","v":0},{"$f":"HOUR('Copy your Raw data here'!C293)","v":0},{"$f":"MINUTE('Copy your Raw data here'!B293)","v":0},{"$f":"MINUTE('Copy your Raw data here'!C293)","v":0},{"$f":"('Copy your Raw data here'!C293-'Copy your Raw data here'!B293)*1440","v":0},60,0,null,null,{"$f":"HOUR('Copy your Raw data here'!G293)","v":0},{"$f":"HOUR('Copy your Raw data here'!H293)","v":0},{"$f":"MINUTE('Copy your Raw data here'!G293)","v":0},{"$f":"MINUTE('Copy your Raw data here'!H293)","v":0},{"$f":"('Copy your Raw data here'!H293-'Copy your Raw data here'!G293)*1440","v":0},1440,{"$f":"IF('Copy your Raw data here'!G293=\"\",\"\",IF(V294<U294,Z294,Y294))","v":""}]
[{"$f":"IF(ISBLANK('Copy your Raw data here'!A294),\"\",('Copy your Raw data here'!A294))","v":""},"",{"$f":"IF('Copy your Raw data here'!D294=\"YES\",1,0)","v":0},{"$f":"VLOOKUP('Copy your Raw data here'!E294,'Stroke Ready Hospital List'!A:B,1,FALSE)","v":{"$error":"#N/A"}},0,{"$f":"IF(OR(ISBLANK('Copy your Raw data here'!F294),('Copy your Raw data here'!F294=\"NO\")),0,1)","v":0},{"$f":"IF(ISBLANK('Copy your Raw data here'!G294),0,1)","v":0},{"$f":"IF(ISERROR(D295),'Copy your Raw data here'!E294,\"\")","v":0},"",null,null,{"$f":"HOUR('Copy your Raw data here'!B294)","v":0},{"$f":"HOUR('Copy your Raw data here'!C294)","v":0},{"$f":"MINUTE('Copy your Raw data here'!B294)","v":0},{"$f":"MINUTE('Copy your Raw data here'!C294)","v":0},{"$f":"('Copy your Raw data here'!C294-'Copy your Raw data here'!B294)*1440","v":0},60,0,null,null,{"$f":"HOUR('Copy your Raw data here'!G294)","v":0},{"$f":"HOUR('Copy your Raw data here'!H294)","v":0},{"$f":"MINUTE('Copy your Raw data here'!G294)","v":0},{"$f":"MINUTE('Copy your Raw data here'!H294)","v":0},{"$f":"('Copy your Raw data here'!H294-'Copy your Raw data here'!G294)*1440","v":0},1440,{"$f":"IF('Copy your Raw data here'!G294=\"\",\"\",IF(V295<U295,Z295,Y295))","v":""}]
[{"$f":"IF(ISBLANK('Copy your Raw data here'!A295),\"\",('Copy your Raw data here'!A295))","v":""},"",{"$f":"IF('Copy your Raw data here'!D295=\"YES\",1,0)","v":0},{"$f":"VLOOKUP('Copy your Raw data here'!E295,'Stroke Ready Hospital List'!A:B,1,FALSE)","v":{"$error":"#N/A"}},0,{"$f":"IF(OR(ISBLANK('Copy your Raw data here'!F295),('Copy your Raw data here'!F295=\"NO\")),0,1)","v":0},{"$f":"IF(ISBLANK('Copy your Raw data here'!G295),0,1)","v":0},{"$f":"IF(ISERROR(D296),'Copy your Raw data here'!E295,\"\")","v":0},"",null,null,{"$f":"HOUR('Copy your Raw data here'!B295)","v":0},{"$f":"HOUR('Copy your Raw data here'!C295)","v":0},{"$f":"MINUTE('Copy your Raw data here'!B295)","v":0},{"$f":"MINUTE('Copy your Raw data here'!C295)","v":0},{"$f":"('Copy your Raw data here'!C295-'Copy your Raw data here'!B295)*1440","v":0},60,0,null,null,{"$f":"HOUR('Copy your Raw data here'!G295)","v":0},{"$f":"HOUR('Copy your Raw data here'!H295)","v":0},{"$f":"MINUTE('Copy your Raw data here'!G295)","v":0},{"$f":"MINUTE('Copy your Raw data here'!H295)","v":0},{"$f":"('Copy your Raw data here'!H295-'Copy your Raw data here'!G295)*1440","v":0},1440,{"$f":"IF('Copy your Raw data here'!G295=\"\",\"\",IF(V296<U296,Z296,Y296))","v":""}]
[{"$f":"IF(ISBLANK('Copy your Raw data here'!A296),\"\",('Copy your Raw data here'!A296))","v":""},"",{"$f":"IF('Copy your Raw data here'!D296=\"YES\",1,0)","v":0},{"$f":"VLOOKUP('Copy your Raw data here'!E296,'Stroke Ready Hospital List'!A:B,1,FALSE)","v":{"$error":"#N/A"}},0,{"$f":"IF(OR(ISBLANK('Copy your Raw data here'!F296),('Copy your Raw data here'!F296=\"NO\")),0,1)","v":0},{"$f":"IF(ISBLANK('Copy your Raw data here'!G296),0,1)","v":0},{"$f":"IF(ISERROR(D297),'Copy your Raw data here'!E296,\"\")","v":0},"",null,null,{"$f":"HOUR('Copy your Raw data here'!B296)","v":0},{"$f":"HOUR('Copy your Raw data here'!C296)","v":0},{"$f":"MINUTE('Copy your Raw data here'!B296)","v":0},{"$f":"MINUTE('Copy your Raw data here'!C296)","v":0},{"$f":"('Copy your Raw data here'!C296-'Copy your Raw data here'!B296)*1440","v":0},60,0,null,null,{"$f":"HOUR('Copy your Raw data here'!G296)","v":0},{"$f":"HOUR('Copy your Raw data here'!H296)","v":0},{"$f":"MINUTE('Copy your Raw data here'!G296)","v":0},{"$f":"MINUTE('Copy your Raw data here'!H296)","v":0},{"$f":"('Copy your Raw data here'!H296-'Copy your Raw data here'!G296)*1440","v":0},1440,{"$f":"IF('Copy your Raw data here'!G296=\"\",\"\",IF(V297<U297,Z297,Y297))","v":""}]
[{"$f":"IF(ISBLANK('Copy your Raw data here'!A297),\"\",('Copy your Raw data here'!A297))","v":""},"",{"$f":"IF('Copy your Raw data here'!D297=\"YES\",1,0)","v":0},{"$f":"VLOOKUP('Copy your Raw data here'!E297,'Stroke Ready Hospital List'!A:B,1,FALSE)","v":{"$error":"#N/A"}},0,{"$f":"IF(OR(ISBLANK('Copy your Raw data here'!F297),('Copy your Raw data here'!F297=\"NO\")),0,1)","v":0},{"$f":"IF(ISBLANK('Copy your Raw data here'!G297),0,1)","v":0},{"$f":"IF(ISERROR(D298),'Copy your Raw data here'!E297,\"\")","v":0},"",null,null,{"$f":"HOUR('Copy your Raw data here'!B297)","v":0},{"$f":"HOUR('Copy your Raw data here'!C297)","v":0},{"$f":"MINUTE('Copy your Raw data here'!B297)","v":0},{"$f":"MINUTE('Copy your Raw data here'!C297)","v":0},{"$f":"('Copy your Raw data here'!C297-'Copy your Raw data here'!B297)*1440","v":0},60,0,null,null,{"$f":"HOUR('Copy your Raw data here'!G297)","v":0},{"$f":"HOUR('Copy your Raw data here'!H297)","v":0},{"$f":"MINUTE('Copy your Raw data here'!G297)","v":0},{"$f":"MINUTE('Copy your Raw data here'!H297)","v":0},{"$f":"('Copy your Raw data here'!H297-'Copy your Raw data here'!G297)*1440","v":0},1440,{"$f":"IF('Copy your Raw data here'!G297=\"\",\"\",IF(V298<U298,Z298,Y298))","v":""}]
[{"$f":"IF(ISBLANK('Copy your Raw data here'!A298),\"\",('Copy your Raw data here'!A298))","v":""},"",{"$f":"IF('Copy your Raw data here'!D298=\"YES\",1,0)","v":0},{"$f":"VLOOKUP('Copy your Raw data here'!E298,'Stroke Ready Hospital List'!A:B,1,FALSE)","v":{"$error":"#N/A"}},0,{"$f":"IF(OR(ISBLANK('Copy your Raw data here'!F298),('Copy your Raw data here'!F298=\"NO\")),0,1)","v":0},{"$f":"IF(ISBLANK('Copy your Raw data here'!G298),0,1)","v":0},{"$f":"IF(ISERROR(D299),'Copy your Raw data here'!E298,\"\")","v":0},"",null,null,{"$f":"HOUR('Copy your Raw data here'!B298)","v":0},{"$f":"HOUR('Copy your Raw data here'!C298)","v":0},{"$f":"MINUTE('Copy your Raw data here'!B298)","v":0},{"$f":"MINUTE('Copy your Raw data here'!C298)","v":0},{"$f":"('Copy your Raw data here'!C298-'Copy your Raw data here'!B298)*1440","v":0},60,0,null,null,{"$f":"HOUR('Copy your Raw data here'!G298)","v":0},{"$f":"HOUR('Copy your Raw data here'!H298)","v":0},{"$f":"MINUTE('Copy your Raw data here'!G298)","v":0},{"$f":"MINUTE('Copy your Raw data here'!H298)","v":0},{"$f":"('Copy your Raw data here'!H298-'Copy your Raw data here'!G298)*1440","v":0},1440,{"$f":"IF('Copy your Raw data here'!G298=\"\",\"\",IF(V299<U299,Z299,Y299))","v":""}]
[{"$f":"IF(ISBLANK('Copy your Raw data here'!A299),\"\",('Copy your Raw data here'!A299))","v":""},"",{"$f":"IF('Copy your Raw data here'!D299=\"YES\",1,0)","v":0},{"$f":"VLOOKUP('Copy your Raw data here'!E299,'Stroke Ready Hospital List'!A:B,1,FALSE)","v":{"$error":"#N/A"}},0,{"$f":"IF(OR(ISBLANK('Copy your Raw data here'!F299),('Copy your Raw data here'!F299=\"NO\")),0,1)","v":0},{"$f":"IF(ISBLANK('Copy your Raw data here'!G299),0,1)","v":0},{"$f":"IF(ISERROR(D300),'Copy your Raw data here'!E299,\"\")","v":0},"",null,null,{"$f":"HOUR('Copy your Raw data here'!B299)","v":0},{"$f":"HOUR('Copy your Raw data here'!C299)","v":0},{"$f":"MINUTE('Copy your Raw data here'!B299)","v":0},{"$f":"MINUTE('Copy your Raw data here'!C299)","v":0},{"$f":"('Copy your Raw data here'!C299-'Copy your Raw data here'!B299)*1440","v":0},60,0,null,null,{"$f":"HOUR('Copy your Raw data here'!G299)","v":0},{"$f":"HOUR('Copy your Raw data here'!H299)","v":0},{"$f":"MINUTE('Copy your Raw data here'!G299)","v":0},{"$f":"MINUTE('Copy your Raw data here'!H299)","v":0},{"$f":"('Copy your Raw data here'!H299-'Copy your Raw data here'!G299)*1440","v":0},1440,{"$f":"IF('Copy your Raw data here'!G299=\"\",\"\",IF(V300<U300,Z300,Y300))","v":""}]
[{"$f":"IF(ISBLANK('Copy your Raw data here'!A300),\"\",('Copy your Raw data here'!A300))","v":""},"",{"$f":"IF('Copy your Raw data here'!D300=\"YES\",1,0)","v":0},{"$f":"VLOOKUP('Copy your Raw data here'!E300,'Stroke Ready Hospital List'!A:B,1,FALSE)","v":{"$error":"#N/A"}},0,{"$f":"IF(OR(ISBLANK('Copy your Raw data here'!F300),('Copy your Raw data here'!F300=\"NO\")),0,1)","v":0},{"$f":"IF(ISBLANK('Copy your Raw data here'!G300),0,1)","v":0},{"$f":"IF(ISERROR(D301),'Copy your Raw data here'!E300,\"\")","v":0},"",null,null,{"$f":"HOUR('Copy your Raw data here'!B300)","v":0},{"$f":"HOUR('Copy your Raw data here'!C300)","v":0},{"$f":"MINUTE('Copy your Raw data here'!B300)","v":0},{"$f":"MINUTE('Copy your Raw data here'!C300)","v":0},{"$f":"('Copy your Raw data here'!C300-'Copy your Raw data here'!B300)*1440","v":0},60,0,null,null,{"$f":"HOUR('Copy your Raw data here'!G300)","v":0},{"$f":"HOUR('Copy your Raw data here'!H300)","v":0},{"$f":"MINUTE('Copy your Raw data here'!G300)","v":0},{"$f":"MINUTE('Copy your Raw data here'!H300)","v":0},{"$f":"('Copy your Raw data here'!H300-'Copy your Raw data here'!G300)*1440","v":0},1440,{"$f":"IF('Copy your Raw data here'!G300=\"\",\"\",IF(V301<U301,Z301,Y301))","v":""}]
[{"$f":"IF(ISBLANK('Copy your Raw data here'!A301),\"\",('Copy your Raw data here'!A301))","v":""},"",{"$f":"IF('Copy your Raw data here'!D301=\"YES\",1,0)","v":0},{"$f":"VLOOKUP('Copy your Raw data here'!E301,'Stroke Ready Hospital List'!A:B,1,FALSE)","v":{"$error":"#N/A"}},0,{"$f":"IF(OR(ISBLANK('Copy your Raw data here'!F301),('Copy your Raw data here'!F301=\"NO\")),0,1)","v":0},{"$f":"IF(ISBLANK('Copy your Raw data here'!G301),0,1)","v":0},{"$f":"IF(ISERROR(D302),'Copy your Raw data here'!E301,\"\")","v":0},"",null,null,{"$f":"HOUR('Copy your Raw data here'!B301)","v":0},{"$f":"HOUR('Copy your Raw data here'!C301)","v":0},{"$f":"MINUTE('Copy your Raw data here'!B301)","v":0},{"$f":"MINUTE('Copy your Raw data here'!C301)","v":0},{"$f":"('Copy your Raw data here'!C301-'Copy your Raw data here'!B301)*1440","v":0},60,0,null,null,{"$f":"HOUR('Copy your Raw data here'!G301)","v":0},{"$f":"HOUR('Copy your Raw data here'!H301)","v":0},{"$f":"MINUTE('Copy your Raw data here'!G301)","v":0},{"$f":"MINUTE('Copy your Raw data here'!H301)","v":0},{"$f":"('Copy your Raw data here'!H301-'Copy your Raw data here'!G301)*1440","v":0},1440,{"$f":"IF('Copy your Raw data here'!G301=\"\",\"\",IF(V302<U302,Z302,Y302))","v":""}]
[{"$f":"IF(ISBLANK('Copy your Raw data here'!A302),\"\",('Copy your Raw data here'!A302))","v":""},"",{"$f":"IF('Copy your Raw data here'!D302=\"YES\",1,0)","v":0},{"$f":"VLOOKUP('Copy your Raw data here'!E302,'Stroke Ready Hospital List'!A:B,1,FALSE)","v":{"$error":"#N/A"}},0,{"$f":"IF(OR(ISBLANK('Copy your Raw data here'!F302),('Copy your Raw data here'!F302=\"NO\")),0,1)","v":0},{"$f":"IF(ISBLANK('Copy your Raw data here'!G302),0,1)","v":0},{"$f":"IF(ISERROR(D303),'Copy your Raw data here'!E302,\"\")","v":0},"",null,null,{"$f":"HOUR('Copy your Raw data here'!B302)","v":0},{"$f":"HOUR('Copy your Raw data here'!C302)","v":0},{"$f":"MINUTE('Copy your Raw data here'!B302)","v":0},{"$f":"MINUTE('Copy your Raw data here'!C302)","v":0},{"$f":"('Copy your Raw data here'!C302-'Copy your Raw data here'!B302)*1440","v":0},60,0,null,null,{"$f":"HOUR('Copy your Raw data here'!G302)","v":0},{"$f":"HOUR('Copy your Raw data here'!H302)","v":0},{"$f":"MINUTE('Copy your Raw data here'!G302)","v":0},{"$f":"MINUTE('Copy your Raw data here'!H302)","v":0},{"$f":"('Copy your Raw data here'!H302-'Copy your Raw data here'!G302)*1440","v":0},1440,{"$f":"IF('Copy your Raw data here'!G302=\"\",\"\",IF(V303<U303,Z303,Y303))","v":""}]
[{"$f":"IF(ISBLANK('Copy your Raw data here'!A303),\"\",('Copy your Raw data here'!A303))","v":""},"",{"$f":"IF('Copy your Raw data here'!D303=\"YES\",1,0)","v":0},{"$f":"VLOOKUP('Copy your Raw data here'!E303,'Stroke Ready Hospital List'!A:B,1,FALSE)","v":{"$error":"#N/A"}},0,{"$f":"IF(OR(ISBLANK('Copy your Raw data here'!F303),('Copy your Raw data here'!F303=\"NO\")),0,1)","v":0},{"$f":"IF(ISBLANK('Copy your Raw data here'!G303),0,1)","v":0},{"$f":"IF(ISERROR(D304),'Copy your Raw data here'!E303,\"\")","v":0},"",null,null,{"$f":"HOUR('Copy your Raw data here'!B303)","v":0},{"$f":"HOUR('Copy your Raw data here'!C303)","v":0},{"$f":"MINUTE('Copy your Raw data here'!B303)","v":0},{"$f":"MINUTE('Copy your Raw data here'!C303)","v":0},{"$f":"('Copy your Raw data here'!C303-'Copy your Raw data here'!B303)*1440","v":0},60,0,null,null,{"$f":"HOUR('Copy your Raw data here'!G303)","v":0},{"$f":"HOUR('Copy your Raw data here'!H303)","v":0},{"$f":"MINUTE('Copy your Raw data here'!G303)","v":0},{"$f":"MINUTE('Copy your Raw data here'!H303)","v":0},{"$f":"('Copy your Raw data here'!H303-'Copy your Raw data here'!G303)*1440","v":0},1440,{"$f":"IF('Copy your Raw data here'!G303=\"\",\"\",IF(V304<U304,Z304,Y304))","v":""}]
[{"$f":"IF(ISBLANK('Copy your Raw data here'!A304),\"\",('Copy your Raw data here'!A304))","v":""},"",{"$f":"IF('Copy your Raw data here'!D304=\"YES\",1,0)","v":0},{"$f":"VLOOKUP('Copy your Raw data here'!E304,'Stroke Ready Hospital List'!A:B,1,FALSE)","v":{"$error":"#N/A"}},0,{"$f":"IF(OR(ISBLANK('Copy your Raw data here'!F304),('Copy your Raw data here'!F304=\"NO\")),0,1)","v":0},{"$f":"IF(ISBLANK('Copy your Raw data here'!G304),0,1)","v":0},{"$f":"IF(ISERROR(D305),'Copy your Raw data here'!E304,\"\")","v":0},"",null,null,{"$f":"HOUR('Copy your Raw data here'!B304)","v":0},{"$f":"HOUR('Copy your Raw data here'!C304)","v":0},{"$f":"MINUTE('Copy your Raw data here'!B304)","v":0},{"$f":"MINUTE('Copy your Raw data here'!C304)","v":0},{"$f":"('Copy your Raw data here'!C304-'Copy your Raw data here'!B304)*1440","v":0},60,0,null,null,{"$f":"HOUR('Copy your Raw data here'!G304)","v":0},{"$f":"HOUR('Copy your Raw data here'!H304)","v":0},{"$f":"MINUTE('Copy your Raw data here'!G304)","v":0},{"$f":"MINUTE('Copy your Raw data here'!H304)","v":0},{"$f":"('Copy your Raw data here'!H304-'Copy your Raw data here'!G304)*1440","v":0},1440,{"$f":"IF('Copy your Raw data here'!G304=\"\",\"\",IF(V305<U305,Z305,Y305))","v":""}]
[{"$f":"IF(ISBLANK('Copy your Raw data here'!A305),\"\",('Copy your Raw data here'!A305))","v":""},"",{"$f":"IF('Copy your Raw data here'!D305=\"YES\",1,0)","v":0},{"$f":"VLOOKUP('Copy your Raw data here'!E305,'Stroke Ready Hospital List'!A:B,1,FALSE)","v":{"$error":"#N/A"}},0,{"$f":"IF(OR(ISBLANK('Copy your Raw data here'!F305),('Copy your Raw data here'!F305=\"NO\")),0,1)","v":0},{"$f":"IF(ISBLANK('Copy your Raw data here'!G305),0,1)","v":0},{"$f":"IF(ISERROR(D306),'Copy your Raw data here'!E305,\"\")","v":0},"",null,null,{"$f":"HOUR('Copy your Raw data here'!B305)","v":0},{"$f":"HOUR('Copy your Raw data here'!C305)","v":0},{"$f":"MINUTE('Copy your Raw data here'!B305)","v":0},{"$f":"MINUTE('Copy your Raw data here'!C305)","v":0},{"$f":"('Copy your Raw data here'!C305-'Copy your Raw data here'!B305)*1440","v":0},60,0,null,null,{"$f":"HOUR('Copy your Raw data here'!G305)","v":0},{"$f":"HOUR('Copy your Raw data here'!H305)","v":0},{"$f":"MINUTE('Copy your Raw data here'!G305)","v":0},{"$f":"MINUTE('Copy your Raw data here'!H305)","v":0},{"$f":"('Copy your Raw data here'!H305-'Copy your Raw data here'!G305)*1440","v":0},1440,{"$f":"IF('Copy your Raw data here'!G305=\"\",\"\",IF(V306<U306,Z306,Y306))","v":""}]
[{"$f":"IF(ISBLANK('Copy your Raw data here'!A306),\"\",('Copy your Raw data here'!A306))","v":""},"",{"$f":"IF('Copy your Raw data here'!D306=\"YES\",1,0)","v":0},{"$f":"VLOOKUP('Copy your Raw data here'!E306,'Stroke Ready Hospital List'!A:B,1,FALSE)","v":{"$error":"#N/A"}},0,{"$f":"IF(OR(ISBLANK('Copy your Raw data here'!F306),('Copy your Raw data here'!F306=\"NO\")),0,1)","v":0},{"$f":"IF(ISBLANK('Copy your Raw data here'!G306),0,1)","v":0},{"$f":"IF(ISERROR(D307),'Copy your Raw data here'!E306,\"\")","v":0},"",null,null,{"$f":"HOUR('Copy your Raw data here'!B306)","v":0},{"$f":"HOUR('Copy your Raw data here'!C306)","v":0},{"$f":"MINUTE('Copy your Raw data here'!B306)","v":0},{"$f":"MINUTE('Copy your Raw data here'!C306)","v":0},{"$f":"('Copy your Raw data here'!C306-'Copy your Raw data here'!B306)*1440","v":0},60,0,null,null,{"$f":"HOUR('Copy your Raw data here'!G306)","v":0},{"$f":"HOUR('Copy your Raw data here'!H306)","v":0},{"$f":"MINUTE('Copy your Raw data here'!G306)","v":0},{"$f":"MINUTE('Copy your Raw data here'!H306)","v":0},{"$f":"('Copy your Raw data here'!H306-'Copy your Raw data here'!G306)*1440","v":0},1440,{"$f":"IF('Copy your Raw data here'!G306=\"\",\"\",IF(V307<U307,Z307,Y307))","v":""}]
[{"$f":"IF(ISBLANK('Copy your Raw data here'!A307),\"\",('Copy your Raw data here'!A307))","v":""},"",{"$f":"IF('Copy your Raw data here'!D307=\"YES\",1,0)","v":0},{"$f":"VLOOKUP('Copy your Raw data here'!E307,'Stroke Ready Hospital List'!A:B,1,FALSE)","v":{"$error":"#N/A"}},0,{"$f":"IF(OR(ISBLANK('Copy your Raw data here'!F307),('Copy your Raw data here'!F307=\"NO\")),0,1)","v":0},{"$f":"IF(ISBLANK('Copy your Raw data here'!G307),0,1)","v":0},{"$f":"IF(ISERROR(D308),'Copy your Raw data here'!E307,\"\")","v":0},"",null,null,{"$f":"HOUR('Copy your Raw data here'!B307)","v":0},{"$f":"HOUR('Copy your Raw data here'!C307)","v":0},{"$f":"MINUTE('Copy your Raw data here'!B307)","v":0},{"$f":"MINUTE('Copy your Raw data here'!C307)","v":0},{"$f":"('Copy your Raw data here'!C307-'Copy your Raw data here'!B307)*1440","v":0},60,0,null,null,{"$f":"HOUR('Copy your Raw data here'!G307)","v":0},{"$f":"HOUR('Copy your Raw data here'!H307)","v":0},{"$f":"MINUTE('Copy your Raw data here'!G307)","v":0},{"$f":"MINUTE('Copy your Raw data here'!H307)","v":0},{"$f":"('Copy your Raw data here'!H307-'Copy your Raw data here'!G307)*1440","v":0},1440,{"$f":"IF('Copy your Raw data here'!G307=\"\",\"\",IF(V308<U308,Z308,Y308))","v":""}]
[{"$f":"IF(ISBLANK('Copy your Raw data here'!A308),\"\",('Copy your Raw data here'!A308))","v":""},"",{"$f":"IF('Copy your Raw data here'!D308=\"YES\",1,0)","v":0},{"$f":"VLOOKUP('Copy your Raw data here'!E308,'Stroke Ready Hospital List'!A:B,1,FALSE)","v":{"$error":"#N/A"}},0,{"$f":"IF(OR(ISBLANK('Copy your Raw data here'!F308),('Copy your Raw data here'!F308=\"NO\")),0,1)","v":0},{"$f":"IF(ISBLANK('Copy your Raw data here'!G308),0,1)","v":0},{"$f":"IF(ISERROR(D309),'Copy your Raw data here'!E308,\"\")","v":0},"",null,null,{"$f":"HOUR('Copy your Raw data here'!B308)","v":0},{"$f":"HOUR('Copy your Raw data here'!C308)","v":0},{"$f":"MINUTE('Copy your Raw data here'!B308)","v":0},{"$f":"MINUTE('Copy your Raw data here'!C308)","v":0},{"$f":"('Copy your Raw data here'!C308-'Copy your Raw data here'!B308)*1440","v":0},60,0,null,null,{"$f":"HOUR('Copy your Raw data here'!G308)","v":0},{"$f":"HOUR('Copy your Raw data here'!H308)","v":0},{"$f":"MINUTE('Copy your Raw data here'!G308)","v":0},{"$f":"MINUTE('Copy your Raw data here'!H308)","v":0},{"$f":"('Copy your Raw data here'!H308-'Copy your Raw data here'!G308)*1440","v":0},1440,{"$f":"IF('Copy your Raw data here'!G308=\"\",\"\",IF(V309<U309,Z309,Y309))","v":""}]
[{"$f":"IF(ISBLANK('Copy your Raw data here'!A309),\"\",('Copy your Raw data here'!A309))","v":""},"",{"$f":"IF('Copy your Raw data here'!D309=\"YES\",1,0)","v":0},{"$f":"VLOOKUP('Copy your Raw data here'!E309,'Stroke Ready Hospital List'!A:B,1,FALSE)","v":{"$error":"#N/A"}},0,{"$f":"IF(OR(ISBLANK('Copy your Raw data here'!F309),('Copy your Raw data here'!F309=\"NO\")),0,1)","v":0},{"$f":"IF(ISBLANK('Copy your Raw data here'!G309),0,1)","v":0},{"$f":"IF(ISERROR(D310),'Copy your Raw data here'!E309,\"\")","v":0},"",null,null,{"$f":"HOUR('Copy your Raw data here'!B309)","v":0},{"$f":"HOUR('Copy your Raw data here'!C309)","v":0},{"$f":"MINUTE('Copy your Raw data here'!B309)","v":0},{"$f":"MINUTE('Copy your Raw data here'!C309)","v":0},{"$f":"('Copy your Raw data here'!C309-'Copy your Raw data here'!B309)*1440","v":0},60,0,null,null,{"$f":"HOUR('Copy your Raw data here'!G309)","v":0},{"$f":"HOUR('Copy your Raw data here'!H309)","v":0},{"$f":"MINUTE('Copy your Raw data here'!G309)","v":0},{"$f":"MINUTE('Copy your Raw data here'!H309)","v":0},{"$f":"('Copy your Raw data here'!H309-'Copy your Raw data here'!G309)*1440","v":0},1440,{"$f":"IF('Copy your Raw data here'!G309=\"\",\"\",IF(V310<U310,Z310,Y310))","v":""}]
[{"$f":"IF(ISBLANK('Copy your Raw data here'!A310),\"\",('Copy your Raw data here'!A310))","v":""},"",{"$f":"IF('Copy your Raw data here'!D310=\"YES\",1,0)","v":0},{"$f":"VLOOKUP('Copy your Raw data here'!E310,'Stroke Ready Hospital List'!A:B,1,FALSE)","v":{"$error":"#N/A"}},0,{"$f":"IF(OR(ISBLANK('Copy your Raw data here'!F310),('Copy your Raw data here'!F310=\"NO\")),0,1)","v":0},{"$f":"IF(ISBLANK('Copy your Raw data here'!G310),0,1)","v":0},{"$f":"IF(ISERROR(D311),'Copy your Raw data here'!E310,\"\")","v":0},"",null,null,{"$f":"HOUR('Copy your Raw data here'!B310)","v":0},{"$f":"HOUR('Copy your Raw data here'!C310)","v":0},{"$f":"MINUTE('Copy your Raw data here'!B310)","v":0},{"$f":"MINUTE('Copy your Raw data here'!C310)","v":0},{"$f":"('Copy your Raw data here'!C310-'Copy your Raw data here'!B310)*1440","v":0},60,0,null,null,{"$f":"HOUR('Copy your Raw data here'!G310)","v":0},{"$f":"HOUR('Copy your Raw data here'!H310)","v":0},{"$f":"MINUTE('Copy your Raw data here'!G310)","v":0},{"$f":"MINUTE('Copy your Raw data here'!H310)","v":0},{"$f":"('Copy your Raw data here'!H310-'Copy your Raw data here'!G310)*1440","v":0},1440,{"$f":"IF('Copy your Raw data here'!G310=\"\",\"\",IF(V311<U311,Z311,Y311))","v":""}]
[{"$f":"IF(ISBLANK('Copy your Raw data here'!A311),\"\",('Copy your Raw data here'!A311))","v":""},"",{"$f":"IF('Copy your Raw data here'!D311=\"YES\",1,0)","v":0},{"$f":"VLOOKUP('Copy your Raw data here'!E311,'Stroke Ready Hospital List'!A:B,1,FALSE)","v":{"$error":"#N/A"}},0,{"$f":"IF(OR(ISBLANK('Copy your Raw data here'!F311),('Copy your Raw data here'!F311=\"NO\")),0,1)","v":0},{"$f":"IF(ISBLANK('Copy your Raw data here'!G311),0,1)","v":0},{"$f":"IF(ISERROR(D312),'Copy your Raw data here'!E311,\"\")","v":0},"",null,null,{"$f":"HOUR('Copy your Raw data here'!B311)","v":0},{"$f":"HOUR('Copy your Raw data here'!C311)","v":0},{"$f":"MINUTE('Copy your Raw data here'!B311)","v":0},{"$f":"MINUTE('Copy your Raw data here'!C311)","v":0},{"$f":"('Copy your Raw data here'!C311-'Copy your Raw data here'!B311)*1440","v":0},60,0,null,null,{"$f":"HOUR('Copy your Raw data here'!G311)","v":0},{"$f":"HOUR('Copy your Raw data here'!H311)","v":0},{"$f":"MINUTE('Copy your Raw data here'!G311)","v":0},{"$f":"MINUTE('Copy your Raw data here'!H311)","v":0},{"$f":"('Copy your Raw data here'!H311-'Copy your Raw data here'!G311)*1440","v":0},1440,{"$f":"IF('Copy your Raw data here'!G311=\"\",\"\",IF(V312<U312,Z312,Y312))","v":""}]
[{"$f":"IF(ISBLANK('Copy your Raw data here'!A312),\"\",('Copy your Raw data here'!A312))","v":""},"",{"$f":"IF('Copy your Raw data here'!D312=\"YES\",1,0)","v":0},{"$f":"VLOOKUP('Copy your Raw data here'!E312,'Stroke Ready Hospital List'!A:B,1,FALSE)","v":{"$error":"#N/A"}},0,{"$f":"IF(OR(ISBLANK('Copy your Raw data here'!F312),('Copy your Raw data here'!F312=\"NO\")),0,1)","v":0},{"$f":"IF(ISBLANK('Copy your Raw data here'!G312),0,1)","v":0},{"$f":"IF(ISERROR(D313),'Copy your Raw data here'!E312,\"\")","v":0},"",null,null,{"$f":"HOUR('Copy your Raw data here'!B312)","v":0},{"$f":"HOUR('Copy your Raw data here'!C312)","v":0},{"$f":"MINUTE('Copy your Raw data here'!B312)","v":0},{"$f":"MINUTE('Copy your Raw data here'!C312)","v":0},{"$f":"('Copy your Raw data here'!C312-'Copy your Raw data here'!B312)*1440","v":0},60,0,null,null,{"$f":"HOUR('Copy your Raw data here'!G312)","v":0},{"$f":"HOUR('Copy your Raw data here'!H312)","v":0},{"$f":"MINUTE('Copy your Raw data here'!G312)","v":0},{"$f":"MINUTE('Copy your Raw data here'!H312)","v":0},{"$f":"('Copy your Raw data here'!H312-'Copy your Raw data here'!G312)*1440","v":0},1440,{"$f":"IF('Copy your Raw data here'!G312=\"\",\"\",IF(V313<U313,Z313,Y313))","v":""}]
[{"$f":"IF(ISBLANK('Copy your Raw data here'!A313),\"\",('Copy your Raw data here'!A313))","v":""},"",{"$f":"IF('Copy your Raw data here'!D313=\"YES\",1,0)","v":0},{"$f":"VLOOKUP('Copy your Raw data here'!E313,'Stroke Ready Hospital List'!A:B,1,FALSE)","v":{"$error":"#N/A"}},0,{"$f":"IF(OR(ISBLANK('Copy your Raw data here'!F313),('Copy your Raw data here'!F313=\"NO\")),0,1)","v":0},{"$f":"IF(ISBLANK('Copy your Raw data here'!G313),0,1)","v":0},{"$f":"IF(ISERROR(D314),'Copy your Raw data here'!E313,\"\")","v":0},"",null,null,{"$f":"HOUR('Copy your Raw data here'!B313)","v":0},{"$f":"HOUR('Copy your Raw data here'!C313)","v":0},{"$f":"MINUTE('Copy your Raw data here'!B313)","v":0},{"$f":"MINUTE('Copy your Raw data here'!C313)","v":0},{"$f":"('Copy your Raw data here'!C313-'Copy your Raw data here'!B313)*1440","v":0},60,0,null,null,{"$f":"HOUR('Copy your Raw data here'!G313)","v":0},{"$f":"HOUR('Copy your Raw data here'!H313)","v":0},{"$f":"MINUTE('Copy your Raw data here'!G313)","v":0},{"$f":"MINUTE('Copy your Raw data here'!H313)","v":0},{"$f":"('Copy your Raw data here'!H313-'Copy your Raw data here'!G313)*1440","v":0},1440,{"$f":"IF('Copy your Raw data here'!G313=\"\",\"\",IF(V314<U314,Z314,Y314))","v":""}]
[{"$f":"IF(ISBLANK('Copy your Raw data here'!A314),\"\",('Copy your Raw data here'!A314))","v":""},"",{"$f":"IF('Copy your Raw data here'!D314=\"YES\",1,0)","v":0},{"$f":"VLOOKUP('Copy your Raw data here'!E314,'Stroke Ready Hospital List'!A:B,1,FALSE)","v":{"$error":"#N/A"}},0,{"$f":"IF(OR(ISBLANK('Copy your Raw data here'!F314),('Copy your Raw data here'!F314=\"NO\")),0,1)","v":0},{"$f":"IF(ISBLANK('Copy your Raw data here'!G314),0,1)","v":0},{"$f":"IF(ISERROR(D315),'Copy your Raw data here'!E314,\"\")","v":0},"",null,null,{"$f":"HOUR('Copy your Raw data here'!B314)","v":0},{"$f":"HOUR('Copy your Raw data here'!C314)","v":0},{"$f":"MINUTE('Copy your Raw data here'!B314)","v":0},{"$f":"MINUTE('Copy your Raw data here'!C314)","v":0},{"$f":"('Copy your Raw data here'!C314-'Copy your Raw data here'!B314)*1440","v":0},60,0,null,null,{"$f":"HOUR('Copy your Raw data here'!G314)","v":0},{"$f":"HOUR('Copy your Raw data here'!H314)","v":0},{"$f":"MINUTE('Copy your Raw data here'!G314)","v":0},{"$f":"MINUTE('Copy your Raw data here'!H314)","v":0},{"$f":"('Copy your Raw data here'!H314-'Copy your Raw data here'!G314)*1440","v":0},1440,{"$f":"IF('Copy your Raw data here'!G314=\"\",\"\",IF(V315<U315,Z315,Y315))","v":""}]
[{"$f":"IF(ISBLANK('Copy your Raw data here'!A315),\"\",('Copy your Raw data here'!A315))","v":""},"",{"$f":"IF('Copy your Raw data here'!D315=\"YES\",1,0)","v":0},{"$f":"VLOOKUP('Copy your Raw data here'!E315,'Stroke Ready Hospital List'!A:B,1,FALSE)","v":{"$error":"#N/A"}},0,{"$f":"IF(OR(ISBLANK('Copy your Raw data here'!F315),('Copy your Raw data here'!F315=\"NO\")),0,1)","v":0},{"$f":"IF(ISBLANK('Copy your Raw data here'!G315),0,1)","v":0},{"$f":"IF(ISERROR(D316),'Copy your Raw data here'!E315,\"\")","v":0},"",null,null,{"$f":"HOUR('Copy your Raw data here'!B315)","v":0},{"$f":"HOUR('Copy your Raw data here'!C315)","v":0},{"$f":"MINUTE('Copy your Raw data here'!B315)","v":0},{"$f":"MINUTE('Copy your Raw data here'!C315)","v":0},{"$f":"('Copy your Raw data here'!C315-'Copy your Raw data here'!B315)*1440","v":0},60,0,null,null,{"$f":"HOUR('Copy your Raw data here'!G315)","v":0},{"$f":"HOUR('Copy your Raw data here'!H315)","v":0},{"$f":"MINUTE('Copy your Raw data here'!G315)","v":0},{"$f":"MINUTE('Copy your Raw data here'!H315)","v":0},{"$f":"('Copy your Raw data here'!H315-'Copy your Raw data here'!G315)*1440","v":0},1440,{"$f":"IF('Copy your Raw data here'!G315=\"\",\"\",IF(V316<U316,Z316,Y316))","v":""}]
[{"$f":"IF(ISBLANK('Copy your Raw data here'!A316),\"\",('Copy your Raw data here'!A316))","v":""},"",{"$f":"IF('Copy your Raw data here'!D316=\"YES\",1,0)","v":0},{"$f":"VLOOKUP('Copy your Raw data here'!E316,'Stroke Ready Hospital List'!A:B,1,FALSE)","v":{"$error":"#N/A"}},0,{"$f":"IF(OR(ISBLANK('Copy your Raw data here'!F316),('Copy your Raw data here'!F316=\"NO\")),0,1)","v":0},{"$f":"IF(ISBLANK('Copy your Raw data here'!G316),0,1)","v":0},{"$f":"IF(ISERROR(D317),'Copy your Raw data here'!E316,\"\")","v":0},"",null,null,{"$f":"HOUR('Copy your Raw data here'!B316)","v":0},{"$f":"HOUR('Copy your Raw data here'!C316)","v":0},{"$f":"MINUTE('Copy your Raw data here'!B316)","v":0},{"$f":"MINUTE('Copy your Raw data here'!C316)","v":0},{"$f":"('Copy your Raw data here'!C316-'Copy your Raw data here'!B316)*1440","v":0},60,0,null,null,{"$f":"HOUR('Copy your Raw data here'!G316)","v":0},{"$f":"HOUR('Copy your Raw data here'!H316)","v":0},{"$f":"MINUTE('Copy your Raw data here'!G316)","v":0},{"$f":"MINUTE('Copy your Raw data here'!H316)","v":0},{"$f":"('Copy your Raw data here'!H316-'Copy your Raw data here'!G316)*1440","v":0},1440,{"$f":"IF('Copy your Raw data here'!G316=\"\",\"\",IF(V317<U317,Z317,Y317))","v":""}]
[{"$f":"IF(ISBLANK('Copy your Raw data here'!A317),\"\",('Copy your Raw data here'!A317))","v":""},"",{"$f":"IF('Copy your Raw data here'!D317=\"YES\",1,0)","v":0},{"$f":"VLOOKUP('Copy your Raw data here'!E317,'Stroke Ready Hospital List'!A:B,1,FALSE)","v":{"$error":"#N/A"}},0,{"$f":"IF(OR(ISBLANK('Copy your Raw data here'!F317),('Copy your Raw data here'!F317=\"NO\")),0,1)","v":0},{"$f":"IF(ISBLANK('Copy your Raw data here'!G317),0,1)","v":0},{"$f":"IF(ISERROR(D318),'Copy your Raw data here'!E317,\"\")","v":0},"",null,null,{"$f":"HOUR('Copy your Raw data here'!B317)","v":0},{"$f":"HOUR('Copy your Raw data here'!C317)","v":0},{"$f":"MINUTE('Copy your Raw data here'!B317)","v":0},{"$f":"MINUTE('Copy your Raw data here'!C317)","v":0},{"$f":"('Copy your Raw data here'!C317-'Copy your Raw data here'!B317)*1440","v":0},60,0,null,null,{"$f":"HOUR('Copy your Raw data here'!G317)","v":0},{"$f":"HOUR('Copy your Raw data here'!H317)","v":0},{"$f":"MINUTE('Copy your Raw data here'!G317)","v":0},{"$f":"MINUTE('Copy your Raw data here'!H317)","v":0},{"$f":"('Copy your Raw data here'!H317-'Copy your Raw data here'!G317)*1440","v":0},1440,{"$f":"IF('Copy your Raw data here'!G317=\"\",\"\",IF(V318<U318,Z318,Y318))","v":""}]
[{"$f":"IF(ISBLANK('Copy your Raw data here'!A318),\"\",('Copy your Raw data here'!A318))","v":""},"",{"$f":"IF('Copy your Raw data here'!D318=\"YES\",1,0)","v":0},{"$f":"VLOOKUP('Copy your Raw data here'!E318,'Stroke Ready Hospital List'!A:B,1,FALSE)","v":{"$error":"#N/A"}},0,{"$f":"IF(OR(ISBLANK('Copy your Raw data here'!F318),('Copy your Raw data here'!F318=\"NO\")),0,1)","v":0},{"$f":"IF(ISBLANK('Copy your Raw data here'!G318),0,1)","v":0},{"$f":"IF(ISERROR(D319),'Copy your Raw data here'!E318,\"\")","v":0},"",null,null,{"$f":"HOUR('Copy your Raw data here'!B318)","v":0},{"$f":"HOUR('Copy your Raw data here'!C318)","v":0},{"$f":"MINUTE('Copy your Raw data here'!B318)","v":0},{"$f":"MINUTE('Copy your Raw data here'!C318)","v":0},{"$f":"('Copy your Raw data here'!C318-'Copy your Raw data here'!B318)*1440","v":0},60,0,null,null,{"$f":"HOUR('Copy your Raw data here'!G318)","v":0},{"$f":"HOUR('Copy your Raw data here'!H318)","v":0},{"$f":"MINUTE('Copy your Raw data here'!G318)","v":0},{"$f":"MINUTE('Copy your Raw data here'!H318)","v":0},{"$f":"('Copy your Raw data here'!H318-'Copy your Raw data here'!G318)*1440","v":0},1440,{"$f":"IF('Copy your Raw data here'!G318=\"\",\"\",IF(V319<U319,Z319,Y319))","v":""}]
[{"$f":"IF(ISBLANK('Copy your Raw data here'!A319),\"\",('Copy your Raw data here'!A319))","v":""},"",{"$f":"IF('Copy your Raw data here'!D319=\"YES\",1,0)","v":0},{"$f":"VLOOKUP('Copy your Raw data here'!E319,'Stroke Ready Hospital List'!A:B,1,FALSE)","v":{"$error":"#N/A"}},0,{"$f":"IF(OR(ISBLANK('Copy your Raw data here'!F319),('Copy your Raw data here'!F319=\"NO\")),0,1)","v":0},{"$f":"IF(ISBLANK('Copy your Raw data here'!G319),0,1)","v":0},{"$f":"IF(ISERROR(D320),'Copy your Raw data here'!E319,\"\")","v":0},"",null,null,{"$f":"HOUR('Copy your Raw data here'!B319)","v":0},{"$f":"HOUR('Copy your Raw data here'!C319)","v":0},{"$f":"MINUTE('Copy your Raw data here'!B319)","v":0},{"$f":"MINUTE('Copy your Raw data here'!C319)","v":0},{"$f":"('Copy your Raw data here'!C319-'Copy your Raw data here'!B319)*1440","v":0},60,0,null,null,{"$f":"HOUR('Copy your Raw data here'!G319)","v":0},{"$f":"HOUR('Copy your Raw data here'!H319)","v":0},{"$f":"MINUTE('Copy your Raw data here'!G319)","v":0},{"$f":"MINUTE('Copy your Raw data here'!H319)","v":0},{"$f":"('Copy your Raw data here'!H319-'Copy your Raw data here'!G319)*1440","v":0},1440,{"$f":"IF('Copy your Raw data here'!G319=\"\",\"\",IF(V320<U320,Z320,Y320))","v":""}]
[{"$f":"IF(ISBLANK('Copy your Raw data here'!A320),\"\",('Copy your Raw data here'!A320))","v":""},"",{"$f":"IF('Copy your Raw data here'!D320=\"YES\",1,0)","v":0},{"$f":"VLOOKUP('Copy your Raw data here'!E320,'Stroke Ready Hospital List'!A:B,1,FALSE)","v":{"$error":"#N/A"}},0,{"$f":"IF(OR(ISBLANK('Copy your Raw data here'!F320),('Copy your Raw data here'!F320=\"NO\")),0,1)","v":0},{"$f":"IF(ISBLANK('Copy your Raw data here'!G320),0,1)","v":0},{"$f":"IF(ISERROR(D321),'Copy your Raw data here'!E320,\"\")","v":0},"",null,null,{"$f":"HOUR('Copy your Raw data here'!B320)","v":0},{"$f":"HOUR('Copy your Raw data here'!C320)","v":0},{"$f":"MINUTE('Copy your Raw data here'!B320)","v":0},{"$f":"MINUTE('Copy your Raw data here'!C320)","v":0},{"$f":"('Copy your Raw data here'!C320-'Copy your Raw data here'!B320)*1440","v":0},60,0,null,null,{"$f":"HOUR('Copy your Raw data here'!G320)","v":0},{"$f":"HOUR('Copy your Raw data here'!H320)","v":0},{"$f":"MINUTE('Copy your Raw data here'!G320)","v":0},{"$f":"MINUTE('Copy your Raw data here'!H320)","v":0},{"$f":"('Copy your Raw data here'!H320-'Copy your Raw data here'!G320)*1440","v":0},1440,{"$f":"IF('Copy your Raw data here'!G320=\"\",\"\",IF(V321<U321,Z321,Y321))","v":""}]
[{"$f":"IF(ISBLANK('Copy your Raw data here'!A321),\"\",('Copy your Raw data here'!A321))","v":""},"",{"$f":"IF('Copy your Raw data here'!D321=\"YES\",1,0)","v":0},{"$f":"VLOOKUP('Copy your Raw data here'!E321,'Stroke Ready Hospital List'!A:B,1,FALSE)","v":{"$error":"#N/A"}},0,{"$f":"IF(OR(ISBLANK('Copy your Raw data here'!F321),('Copy your Raw data here'!F321=\"NO\")),0,1)","v":0},{"$f":"IF(ISBLANK('Copy your Raw data here'!G321),0,1)","v":0},{"$f":"IF(ISERROR(D322),'Copy your Raw data here'!E321,\"\")","v":0},"",null,null,{"$f":"HOUR('Copy your Raw data here'!B321)","v":0},{"$f":"HOUR('Copy your Raw data here'!C321)","v":0},{"$f":"MINUTE('Copy your Raw data here'!B321)","v":0},{"$f":"MINUTE('Copy your Raw data here'!C321)","v":0},{"$f":"('Copy your Raw data here'!C321-'Copy your Raw data here'!B321)*1440","v":0},60,0,null,null,{"$f":"HOUR('Copy your Raw data here'!G321)","v":0},{"$f":"HOUR('Copy your Raw data here'!H321)","v":0},{"$f":"MINUTE('Copy your Raw data here'!G321)","v":0},{"$f":"MINUTE('Copy your Raw data here'!H321)","v":0},{"$f":"('Copy your Raw data here'!H321-'Copy your Raw data here'!G321)*1440","v":0},1440,{"$f":"IF('Copy your Raw data here'!G321=\"\",\"\",IF(V322<U322,Z322,Y322))","v":""}]
[{"$f":"IF(ISBLANK('Copy your Raw data here'!A322),\"\",('Copy your Raw data here'!A322))","v":""},"",{"$f":"IF('Copy your Raw data here'!D322=\"YES\",1,0)","v":0},{"$f":"VLOOKUP('Copy your Raw data here'!E322,'Stroke Ready Hospital List'!A:B,1,FALSE)","v":{"$error":"#N/A"}},0,{"$f":"IF(OR(ISBLANK('Copy your Raw data here'!F322),('Copy your Raw data here'!F322=\"NO\")),0,1)","v":0},{"$f":"IF(ISBLANK('Copy your Raw data here'!G322),0,1)","v":0},{"$f":"IF(ISERROR(D323),'Copy your Raw data here'!E322,\"\")","v":0},"",null,null,{"$f":"HOUR('Copy your Raw data here'!B322)","v":0},{"$f":"HOUR('Copy your Raw data here'!C322)","v":0},{"$f":"MINUTE('Copy your Raw data here'!B322)","v":0},{"$f":"MINUTE('Copy your Raw data here'!C322)","v":0},{"$f":"('Copy your Raw data here'!C322-'Copy your Raw data here'!B322)*1440","v":0},60,0,null,null,{"$f":"HOUR('Copy your Raw data here'!G322)","v":0},{"$f":"HOUR('Copy your Raw data here'!H322)","v":0},{"$f":"MINUTE('Copy your Raw data here'!G322)","v":0},{"$f":"MINUTE('Copy your Raw data here'!H322)","v":0},{"$f":"('Copy your Raw data here'!H322-'Copy your Raw data here'!G322)*1440","v":0},1440,{"$f":"IF('Copy your Raw data here'!G322=\"\",\"\",IF(V323<U323,Z323,Y323))","v":""}]
[{"$f":"IF(ISBLANK('Copy your Raw data here'!A323),\"\",('Copy your Raw data here'!A323))","v":""},{"$f":"IF(R324=0,\"\",R324)","v":""},{"$f":"IF('Copy your Raw data here'!D323=\"YES\",1,0)","v":0},{"$f":"VLOOKUP('Copy your Raw data here'!E323,'Stroke Ready Hospital List'!A:B,1,FALSE)","v":{"$error":"#N/A"}},0,{"$f":"IF(OR(ISBLANK('Copy your Raw data here'!F323),('Copy your Raw data here'!F323=\"NO\")),0,1)","v":0},{"$f":"IF(ISBLANK('Copy your Raw data here'!G323),0,1)","v":0},{"$f":"IF(ISERROR(D324),'Copy your Raw data here'!E323,\"\")","v":0},{"$f":"IF(R324=0,\"\",AA324)","v":""},null,null,{"$f":"HOUR('Copy your Raw data here'!B323)","v":0},{"$f":"HOUR('Copy your Raw data here'!C323)","v":0},{"$f":"MINUTE('Copy your Raw data here'!B323)","v":0},{"$f":"MINUTE('Copy your Raw data here'!C323)","v":0},{"$f":"('Copy your Raw data here'!C323-'Copy your Raw data here'!B323)*1440","v":0},{"$f":"SUM(60-N324)+O324","v":60},{"$f":"IF(M324<L324,Q324,P324)","v":0},null,null,{"$f":"HOUR('Copy your Raw data here'!G323)","v":0},{"$f":"HOUR('Copy your Raw data here'!H323)","v":0},{"$f":"MINUTE('Copy your Raw data here'!G323)","v":0},{"$f":"MINUTE('Copy your Raw data here'!H323)","v":0},{"$f":"('Copy your Raw data here'!H323-'Copy your Raw data here'!G323)*1440","v":0},{"$f":"SUM((60-W324)+X324)+SUM((23-U324)*60)","v":1440},{"$f":"IF('Copy your Raw data here'!G323=\"\",\"\",IF(V324<U324,Z324,Y324))","v":""}]
[{"$f":"IF(ISBLANK('Copy your Raw data here'!A324),\"\",('Copy your Raw data here'!A324))","v":""},"",{"$f":"IF('Copy your Raw data here'!D324=\"YES\",1,0)","v":0},{"$f":"VLOOKUP('Copy your Raw data here'!E324,'Stroke Ready Hospital List'!A:B,1,FALSE)","v":{"$error":"#N/A"}},0,{"$f":"IF(OR(ISBLANK('Copy your Raw data here'!F324),('Copy your Raw data here'!F324=\"NO\")),0,1)","v":0},{"$f":"IF(ISBLANK('Copy your Raw data here'!G324),0,1)","v":0},{"$f":"IF(ISERROR(D325),'Copy your Raw data here'!E324,\"\")","v":0},"",null,null,{"$f":"HOUR('Copy your Raw data here'!B324)","v":0},{"$f":"HOUR('Copy your Raw data here'!C324)","v":0},{"$f":"MINUTE('Copy your Raw data here'!B324)","v":0},{"$f":"MINUTE('Copy your Raw data here'!C324)","v":0},{"$f":"('Copy your Raw data here'!C324-'Copy your Raw data here'!B324)*1440","v":0},60,0,null,null,{"$f":"HOUR('Copy your Raw data here'!G324)","v":0},{"$f":"HOUR('Copy your Raw data here'!H324)","v":0},{"$f":"MINUTE('Copy your Raw data here'!G324)","v":0},{"$f":"MINUTE('Copy your Raw data here'!H324)","v":0},{"$f":"('Copy your Raw data here'!H324-'Copy your Raw data here'!G324)*1440","v":0},1440,{"$f":"IF('Copy your Raw data here'!G324=\"\",\"\",IF(V325<U325,Z325,Y325))","v":""}]
[{"$f":"IF(ISBLANK('Copy your Raw data here'!A325),\"\",('Copy your Raw data here'!A325))","v":""},"",{"$f":"IF('Copy your Raw data here'!D325=\"YES\",1,0)","v":0},{"$f":"VLOOKUP('Copy your Raw data here'!E325,'Stroke Ready Hospital List'!A:B,1,FALSE)","v":{"$error":"#N/A"}},0,{"$f":"IF(OR(ISBLANK('Copy your Raw data here'!F325),('Copy your Raw data here'!F325=\"NO\")),0,1)","v":0},{"$f":"IF(ISBLANK('Copy your Raw data here'!G325),0,1)","v":0},{"$f":"IF(ISERROR(D326),'Copy your Raw data here'!E325,\"\")","v":0},"",null,null,{"$f":"HOUR('Copy your Raw data here'!B325)","v":0},{"$f":"HOUR('Copy your Raw data here'!C325)","v":0},{"$f":"MINUTE('Copy your Raw data here'!B325)","v":0},{"$f":"MINUTE('Copy your Raw data here'!C325)","v":0},{"$f":"('Copy your Raw data here'!C325-'Copy your Raw data here'!B325)*1440","v":0},60,0,null,null,{"$f":"HOUR('Copy your Raw data here'!G325)","v":0},{"$f":"HOUR('Copy your Raw data here'!H325)","v":0},{"$f":"MINUTE('Copy your Raw data here'!G325)","v":0},{"$f":"MINUTE('Copy your Raw data here'!H325)","v":0},{"$f":"('Copy your Raw data here'!H325-'Copy your Raw data here'!G325)*1440","v":0},1440,{"$f":"IF('Copy your Raw data here'!G325=\"\",\"\",IF(V326<U326,Z326,Y326))","v":""}]
[{"$f":"IF(ISBLANK('Copy your Raw data here'!A326),\"\",('Copy your Raw data here'!A326))","v":""},"",{"$f":"IF('Copy your Raw data here'!D326=\"YES\",1,0)","v":0},{"$f":"VLOOKUP('Copy your Raw data here'!E326,'Stroke Ready Hospital List'!A:B,1,FALSE)","v":{"$error":"#N/A"}},0,{"$f":"IF(OR(ISBLANK('Copy your Raw data here'!F326),('Copy your Raw data here'!F326=\"NO\")),0,1)","v":0},{"$f":"IF(ISBLANK('Copy your Raw data here'!G326),0,1)","v":0},{"$f":"IF(ISERROR(D327),'Copy your Raw data here'!E326,\"\")","v":0},"",null,null,{"$f":"HOUR('Copy your Raw data here'!B326)","v":0},{"$f":"HOUR('Copy your Raw data here'!C326)","v":0},{"$f":"MINUTE('Copy your Raw data here'!B326)","v":0},{"$f":"MINUTE('Copy your Raw data here'!C326)","v":0},{"$f":"('Copy your Raw data here'!C326-'Copy your Raw data here'!B326)*1440","v":0},60,0,null,null,{"$f":"HOUR('Copy your Raw data here'!G326)","v":0},{"$f":"HOUR('Copy your Raw data here'!H326)","v":0},{"$f":"MINUTE('Copy your Raw data here'!G326)","v":0},{"$f":"MINUTE('Copy your Raw data here'!H326)","v":0},{"$f":"('Copy your Raw data here'!H326-'Copy your Raw data here'!G326)*1440","v":0},1440,{"$f":"IF('Copy your Raw data here'!G326=\"\",\"\",IF(V327<U327,Z327,Y327))","v":""}]
[{"$f":"IF(ISBLANK('Copy your Raw data here'!A327),\"\",('Copy your Raw data here'!A327))","v":""},"",{"$f":"IF('Copy your Raw data here'!D327=\"YES\",1,0)","v":0},{"$f":"VLOOKUP('Copy your Raw data here'!E327,'Stroke Ready Hospital List'!A:B,1,FALSE)","v":{"$error":"#N/A"}},0,{"$f":"IF(OR(ISBLANK('Copy your Raw data here'!F327),('Copy your Raw data here'!F327=\"NO\")),0,1)","v":0},{"$f":"IF(ISBLANK('Copy your Raw data here'!G327),0,1)","v":0},{"$f":"IF(ISERROR(D328),'Copy your Raw data here'!E327,\"\")","v":0},"",null,null,{"$f":"HOUR('Copy your Raw data here'!B327)","v":0},{"$f":"HOUR('Copy your Raw data here'!C327)","v":0},{"$f":"MINUTE('Copy your Raw data here'!B327)","v":0},{"$f":"MINUTE('Copy your Raw data here'!C327)","v":0},{"$f":"('Copy your Raw data here'!C327-'Copy your Raw data here'!B327)*1440","v":0},60,0,null,null,{"$f":"HOUR('Copy your Raw data here'!G327)","v":0},{"$f":"HOUR('Copy your Raw data here'!H327)","v":0},{"$f":"MINUTE('Copy your Raw data here'!G327)","v":0},{"$f":"MINUTE('Copy your Raw data here'!H327)","v":0},{"$f":"('Copy your Raw data here'!H327-'Copy your Raw data here'!G327)*1440","v":0},1440,{"$f":"IF('Copy your Raw data here'!G327=\"\",\"\",IF(V328<U328,Z328,Y328))","v":""}]
[{"$f":"IF(ISBLANK('Copy your Raw data here'!A328),\"\",('Copy your Raw data here'!A328))","v":""},"",{"$f":"IF('Copy your Raw data here'!D328=\"YES\",1,0)","v":0},{"$f":"VLOOKUP('Copy your Raw data here'!E328,'Stroke Ready Hospital List'!A:B,1,FALSE)","v":{"$error":"#N/A"}},0,{"$f":"IF(OR(ISBLANK('Copy your Raw data here'!F328),('Copy your Raw data here'!F328=\"NO\")),0,1)","v":0},{"$f":"IF(ISBLANK('Copy your Raw data here'!G328),0,1)","v":0},{"$f":"IF(ISERROR(D329),'Copy your Raw data here'!E328,\"\")","v":0},"",null,null,{"$f":"HOUR('Copy your Raw data here'!B328)","v":0},{"$f":"HOUR('Copy your Raw data here'!C328)","v":0},{"$f":"MINUTE('Copy your Raw data here'!B328)","v":0},{"$f":"MINUTE('Copy your Raw data here'!C328)","v":0},{"$f":"('Copy your Raw data here'!C328-'Copy your Raw data here'!B328)*1440","v":0},60,0,null,null,{"$f":"HOUR('Copy your Raw data here'!G328)","v":0},{"$f":"HOUR('Copy your Raw data here'!H328)","v":0},{"$f":"MINUTE('Copy your Raw data here'!G328)","v":0},{"$f":"MINUTE('Copy your Raw data here'!H328)","v":0},{"$f":"('Copy your Raw data here'!H328-'Copy your Raw data here'!G328)*1440","v":0},1440,{"$f":"IF('Copy your Raw data here'!G328=\"\",\"\",IF(V329<U329,Z329,Y329))","v":""}]
[{"$f":"IF(ISBLANK('Copy your Raw data here'!A329),\"\",('Copy your Raw data here'!A329))","v":""},"",{"$f":"IF('Copy your Raw data here'!D329=\"YES\",1,0)","v":0},{"$f":"VLOOKUP('Copy your Raw data here'!E329,'Stroke Ready Hospital List'!A:B,1,FALSE)","v":{"$error":"#N/A"}},0,{"$f":"IF(OR(ISBLANK('Copy your Raw data here'!F329),('Copy your Raw data here'!F329=\"NO\")),0,1)","v":0},{"$f":"IF(ISBLANK('Copy your Raw data here'!G329),0,1)","v":0},{"$f":"IF(ISERROR(D330),'Copy your Raw data here'!E329,\"\")","v":0},"",null,null,{"$f":"HOUR('Copy your Raw data here'!B329)","v":0},{"$f":"HOUR('Copy your Raw data here'!C329)","v":0},{"$f":"MINUTE('Copy your Raw data here'!B329)","v":0},{"$f":"MINUTE('Copy your Raw data here'!C329)","v":0},{"$f":"('Copy your Raw data here'!C329-'Copy your Raw data here'!B329)*1440","v":0},60,0,null,null,{"$f":"HOUR('Copy your Raw data here'!G329)","v":0},{"$f":"HOUR('Copy your Raw data here'!H329)","v":0},{"$f":"MINUTE('Copy your Raw data here'!G329)","v":0},{"$f":"MINUTE('Copy your Raw data here'!H329)","v":0},{"$f":"('Copy your Raw data here'!H329-'Copy your Raw data here'!G329)*1440","v":0},1440,{"$f":"IF('Copy your Raw data here'!G329=\"\",\"\",IF(V330<U330,Z330,Y330))","v":""}]
[{"$f":"IF(ISBLANK('Copy your Raw data here'!A330),\"\",('Copy your Raw data here'!A330))","v":""},"",{"$f":"IF('Copy your Raw data here'!D330=\"YES\",1,0)","v":0},{"$f":"VLOOKUP('Copy your Raw data here'!E330,'Stroke Ready Hospital List'!A:B,1,FALSE)","v":{"$error":"#N/A"}},0,{"$f":"IF(OR(ISBLANK('Copy your Raw data here'!F330),('Copy your Raw data here'!F330=\"NO\")),0,1)","v":0},{"$f":"IF(ISBLANK('Copy your Raw data here'!G330),0,1)","v":0},{"$f":"IF(ISERROR(D331),'Copy your Raw data here'!E330,\"\")","v":0},"",null,null,{"$f":"HOUR('Copy your Raw data here'!B330)","v":0},{"$f":"HOUR('Copy your Raw data here'!C330)","v":0},{"$f":"MINUTE('Copy your Raw data here'!B330)","v":0},{"$f":"MINUTE('Copy your Raw data here'!C330)","v":0},{"$f":"('Copy your Raw data here'!C330-'Copy your Raw data here'!B330)*1440","v":0},60,0,null,null,{"$f":"HOUR('Copy your Raw data here'!G330)","v":0},{"$f":"HOUR('Copy your Raw data here'!H330)","v":0},{"$f":"MINUTE('Copy your Raw data here'!G330)","v":0},{"$f":"MINUTE('Copy your Raw data here'!H330)","v":0},{"$f":"('Copy your Raw data here'!H330-'Copy your Raw data here'!G330)*1440","v":0},1440,{"$f":"IF('Copy your Raw data here'!G330=\"\",\"\",IF(V331<U331,Z331,Y331))","v":""}]
[{"$f":"IF(ISBLANK('Copy your Raw data here'!A331),\"\",('Copy your Raw data here'!A331))","v":""},"",{"$f":"IF('Copy your Raw data here'!D331=\"YES\",1,0)","v":0},{"$f":"VLOOKUP('Copy your Raw data here'!E331,'Stroke Ready Hospital List'!A:B,1,FALSE)","v":{"$error":"#N/A"}},0,{"$f":"IF(OR(ISBLANK('Copy your Raw data here'!F331),('Copy your Raw data here'!F331=\"NO\")),0,1)","v":0},{"$f":"IF(ISBLANK('Copy your Raw data here'!G331),0,1)","v":0},{"$f":"IF(ISERROR(D332),'Copy your Raw data here'!E331,\"\")","v":0},"",null,null,{"$f":"HOUR('Copy your Raw data here'!B331)","v":0},{"$f":"HOUR('Copy your Raw data here'!C331)","v":0},{"$f":"MINUTE('Copy your Raw data here'!B331)","v":0},{"$f":"MINUTE('Copy your Raw data here'!C331)","v":0},{"$f":"('Copy your Raw data here'!C331-'Copy your Raw data here'!B331)*1440","v":0},60,0,null,null,{"$f":"HOUR('Copy your Raw data here'!G331)","v":0},{"$f":"HOUR('Copy your Raw data here'!H331)","v":0},{"$f":"MINUTE('Copy your Raw data here'!G331)","v":0},{"$f":"MINUTE('Copy your Raw data here'!H331)","v":0},{"$f":"('Copy your Raw data here'!H331-'Copy your Raw data here'!G331)*1440","v":0},1440,{"$f":"IF('Copy your Raw data here'!G331=\"\",\"\",IF(V332<U332,Z332,Y332))","v":""}]
[{"$f":"IF(ISBLANK('Copy your Raw data here'!A332),\"\",('Copy your Raw data here'!A332))","v":""},"",{"$f":"IF('Copy your Raw data here'!D332=\"YES\",1,0)","v":0},{"$f":"VLOOKUP('Copy your Raw data here'!E332,'Stroke Ready Hospital List'!A:B,1,FALSE)","v":{"$error":"#N/A"}},0,{"$f":"IF(OR(ISBLANK('Copy your Raw data here'!F332),('Copy your Raw data here'!F332=\"NO\")),0,1)","v":0},{"$f":"IF(ISBLANK('Copy your Raw data here'!G332),0,1)","v":0},{"$f":"IF(ISERROR(D333),'Copy your Raw data here'!E332,\"\")","v":0},"",null,null,{"$f":"HOUR('Copy your Raw data here'!B332)","v":0},{"$f":"HOUR('Copy your Raw data here'!C332)","v":0},{"$f":"MINUTE('Copy your Raw data here'!B332)","v":0},{"$f":"MINUTE('Copy your Raw data here'!C332)","v":0},{"$f":"('Copy your Raw data here'!C332-'Copy your Raw data here'!B332)*1440","v":0},60,0,null,null,{"$f":"HOUR('Copy your Raw data here'!G332)","v":0},{"$f":"HOUR('Copy your Raw data here'!H332)","v":0},{"$f":"MINUTE('Copy your Raw data here'!G332)","v":0},{"$f":"MINUTE('Copy your Raw data here'!H332)","v":0},{"$f":"('Copy your Raw data here'!H332-'Copy your Raw data here'!G332)*1440","v":0},1440,{"$f":"IF('Copy your Raw data here'!G332=\"\",\"\",IF(V333<U333,Z333,Y333))","v":""}]
[{"$f":"IF(ISBLANK('Copy your Raw data here'!A333),\"\",('Copy your Raw data here'!A333))","v":""},"",{"$f":"IF('Copy your Raw data here'!D333=\"YES\",1,0)","v":0},{"$f":"VLOOKUP('Copy your Raw data here'!E333,'Stroke Ready Hospital List'!A:B,1,FALSE)","v":{"$error":"#N/A"}},0,{"$f":"IF(OR(ISBLANK('Copy your Raw data here'!F333),('Copy your Raw data here'!F333=\"NO\")),0,1)","v":0},{"$f":"IF(ISBLANK('Copy your Raw data here'!G333),0,1)","v":0},{"$f":"IF(ISERROR(D334),'Copy your Raw data here'!E333,\"\")","v":0},"",null,null,{"$f":"HOUR('Copy your Raw data here'!B333)","v":0},{"$f":"HOUR('Copy your Raw data here'!C333)","v":0},{"$f":"MINUTE('Copy your Raw data here'!B333)","v":0},{"$f":"MINUTE('Copy your Raw data here'!C333)","v":0},{"$f":"('Copy your Raw data here'!C333-'Copy your Raw data here'!B333)*1440","v":0},60,0,null,null,{"$f":"HOUR('Copy your Raw data here'!G333)","v":0},{"$f":"HOUR('Copy your Raw data here'!H333)","v":0},{"$f":"MINUTE('Copy your Raw data here'!G333)","v":0},{"$f":"MINUTE('Copy your Raw data here'!H333)","v":0},{"$f":"('Copy your Raw data here'!H333-'Copy your Raw data here'!G333)*1440","v":0},1440,{"$f":"IF('Copy your Raw data here'!G333=\"\",\"\",IF(V334<U334,Z334,Y334))","v":""}]
[{"$f":"IF(ISBLANK('Copy your Raw data here'!A334),\"\",('Copy your Raw data here'!A334))","v":""},"",{"$f":"IF('Copy your Raw data here'!D334=\"YES\",1,0)","v":0},{"$f":"VLOOKUP('Copy your Raw data here'!E334,'Stroke Ready Hospital List'!A:B,1,FALSE)","v":{"$error":"#N/A"}},0,{"$f":"IF(OR(ISBLANK('Copy your Raw data here'!F334),('Copy your Raw data here'!F334=\"NO\")),0,1)","v":0},{"$f":"IF(ISBLANK('Copy your Raw data here'!G334),0,1)","v":0},{"$f":"IF(ISERROR(D335),'Copy your Raw data here'!E334,\"\")","v":0},"",null,null,{"$f":"HOUR('Copy your Raw data here'!B334)","v":0},{"$f":"HOUR('Copy your Raw data here'!C334)","v":0},{"$f":"MINUTE('Copy your Raw data here'!B334)","v":0},{"$f":"MINUTE('Copy your Raw data here'!C334)","v":0},{"$f":"('Copy your Raw data here'!C334-'Copy your Raw data here'!B334)*1440","v":0},60,0,null,null,{"$f":"HOUR('Copy your Raw data here'!G334)","v":0},{"$f":"HOUR('Copy your Raw data here'!H334)","v":0},{"$f":"MINUTE('Copy your Raw data here'!G334)","v":0},{"$f":"MINUTE('Copy your Raw data here'!H334)","v":0},{"$f":"('Copy your Raw data here'!H334-'Copy your Raw data here'!G334)*1440","v":0},1440,{"$f":"IF('Copy your Raw data here'!G334=\"\",\"\",IF(V335<U335,Z335,Y335))","v":""}]
[{"$f":"IF(ISBLANK('Copy your Raw data here'!A335),\"\",('Copy your Raw data here'!A335))","v":""},"",{"$f":"IF('Copy your Raw data here'!D335=\"YES\",1,0)","v":0},{"$f":"VLOOKUP('Copy your Raw data here'!E335,'Stroke Ready Hospital List'!A:B,1,FALSE)","v":{"$error":"#N/A"}},0,{"$f":"IF(OR(ISBLANK('Copy your Raw data here'!F335),('Copy your Raw data here'!F335=\"NO\")),0,1)","v":0},{"$f":"IF(ISBLANK('Copy your Raw data here'!G335),0,1)","v":0},{"$f":"IF(ISERROR(D336),'Copy your Raw data here'!E335,\"\")","v":0},"",null,null,{"$f":"HOUR('Copy your Raw data here'!B335)","v":0},{"$f":"HOUR('Copy your Raw data here'!C335)","v":0},{"$f":"MINUTE('Copy your Raw data here'!B335)","v":0},{"$f":"MINUTE('Copy your Raw data here'!C335)","v":0},{"$f":"('Copy your Raw data here'!C335-'Copy your Raw data here'!B335)*1440","v":0},60,0,null,null,{"$f":"HOUR('Copy your Raw data here'!G335)","v":0},{"$f":"HOUR('Copy your Raw data here'!H335)","v":0},{"$f":"MINUTE('Copy your Raw data here'!G335)","v":0},{"$f":"MINUTE('Copy your Raw data here'!H335)","v":0},{"$f":"('Copy your Raw data here'!H335-'Copy your Raw data here'!G335)*1440","v":0},1440,{"$f":"IF('Copy your Raw data here'!G335=\"\",\"\",IF(V336<U336,Z336,Y336))","v":""}]
[{"$f":"IF(ISBLANK('Copy your Raw data here'!A336),\"\",('Copy your Raw data here'!A336))","v":""},"",{"$f":"IF('Copy your Raw data here'!D336=\"YES\",1,0)","v":0},{"$f":"VLOOKUP('Copy your Raw data here'!E336,'Stroke Ready Hospital List'!A:B,1,FALSE)","v":{"$error":"#N/A"}},0,{"$f":"IF(OR(ISBLANK('Copy your Raw data here'!F336),('Copy your Raw data here'!F336=\"NO\")),0,1)","v":0},{"$f":"IF(ISBLANK('Copy your Raw data here'!G336),0,1)","v":0},{"$f":"IF(ISERROR(D337),'Copy your Raw data here'!E336,\"\")","v":0},"",null,null,{"$f":"HOUR('Copy your Raw data here'!B336)","v":0},{"$f":"HOUR('Copy your Raw data here'!C336)","v":0},{"$f":"MINUTE('Copy your Raw data here'!B336)","v":0},{"$f":"MINUTE('Copy your Raw data here'!C336)","v":0},{"$f":"('Copy your Raw data here'!C336-'Copy your Raw data here'!B336)*1440","v":0},60,0,null,null,{"$f":"HOUR('Copy your Raw data here'!G336)","v":0},{"$f":"HOUR('Copy your Raw data here'!H336)","v":0},{"$f":"MINUTE('Copy your Raw data here'!G336)","v":0},{"$f":"MINUTE('Copy your Raw data here'!H336)","v":0},{"$f":"('Copy your Raw data here'!H336-'Copy your Raw data here'!G336)*1440","v":0},1440,{"$f":"IF('Copy your Raw data here'!G336=\"\",\"\",IF(V337<U337,Z337,Y337))","v":""}]
[{"$f":"IF(ISBLANK('Copy your Raw data here'!A337),\"\",('Copy your Raw data here'!A337))","v":""},"",{"$f":"IF('Copy your Raw data here'!D337=\"YES\",1,0)","v":0},{"$f":"VLOOKUP('Copy your Raw data here'!E337,'Stroke Ready Hospital List'!A:B,1,FALSE)","v":{"$error":"#N/A"}},0,{"$f":"IF(OR(ISBLANK('Copy your Raw data here'!F337),('Copy your Raw data here'!F337=\"NO\")),0,1)","v":0},{"$f":"IF(ISBLANK('Copy your Raw data here'!G337),0,1)","v":0},{"$f":"IF(ISERROR(D338),'Copy your Raw data here'!E337,\"\")","v":0},"",null,null,{"$f":"HOUR('Copy your Raw data here'!B337)","v":0},{"$f":"HOUR('Copy your Raw data here'!C337)","v":0},{"$f":"MINUTE('Copy your Raw data here'!B337)","v":0},{"$f":"MINUTE('Copy your Raw data here'!C337)","v":0},{"$f":"('Copy your Raw data here'!C337-'Copy your Raw data here'!B337)*1440","v":0},60,0,null,null,{"$f":"HOUR('Copy your Raw data here'!G337)","v":0},{"$f":"HOUR('Copy your Raw data here'!H337)","v":0},{"$f":"MINUTE('Copy your Raw data here'!G337)","v":0},{"$f":"MINUTE('Copy your Raw data here'!H337)","v":0},{"$f":"('Copy your Raw data here'!H337-'Copy your Raw data here'!G337)*1440","v":0},1440,{"$f":"IF('Copy your Raw data here'!G337=\"\",\"\",IF(V338<U338,Z338,Y338))","v":""}]
[{"$f":"IF(ISBLANK('Copy your Raw data here'!A338),\"\",('Copy your Raw data here'!A338))","v":""},"",{"$f":"IF('Copy your Raw data here'!D338=\"YES\",1,0)","v":0},{"$f":"VLOOKUP('Copy your Raw data here'!E338,'Stroke Ready Hospital List'!A:B,1,FALSE)","v":{"$error":"#N/A"}},0,{"$f":"IF(OR(ISBLANK('Copy your Raw data here'!F338),('Copy your Raw data here'!F338=\"NO\")),0,1)","v":0},{"$f":"IF(ISBLANK('Copy your Raw data here'!G338),0,1)","v":0},{"$f":"IF(ISERROR(D339),'Copy your Raw data here'!E338,\"\")","v":0},"",null,null,{"$f":"HOUR('Copy your Raw data here'!B338)","v":0},{"$f":"HOUR('Copy your Raw data here'!C338)","v":0},{"$f":"MINUTE('Copy your Raw data here'!B338)","v":0},{"$f":"MINUTE('Copy your Raw data here'!C338)","v":0},{"$f":"('Copy your Raw data here'!C338-'Copy your Raw data here'!B338)*1440","v":0},60,0,null,null,{"$f":"HOUR('Copy your Raw data here'!G338)","v":0},{"$f":"HOUR('Copy your Raw data here'!H338)","v":0},{"$f":"MINUTE('Copy your Raw data here'!G338)","v":0},{"$f":"MINUTE('Copy your Raw data here'!H338)","v":0},{"$f":"('Copy your Raw data here'!H338-'Copy your Raw data here'!G338)*1440","v":0},1440,{"$f":"IF('Copy your Raw data here'!G338=\"\",\"\",IF(V339<U339,Z339,Y339))","v":""}]
[{"$f":"IF(ISBLANK('Copy your Raw data here'!A339),\"\",('Copy your Raw data here'!A339))","v":""},"",{"$f":"IF('Copy your Raw data here'!D339=\"YES\",1,0)","v":0},{"$f":"VLOOKUP('Copy your Raw data here'!E339,'Stroke Ready Hospital List'!A:B,1,FALSE)","v":{"$error":"#N/A"}},0,{"$f":"IF(OR(ISBLANK('Copy your Raw data here'!F339),('Copy your Raw data here'!F339=\"NO\")),0,1)","v":0},{"$f":"IF(ISBLANK('Copy your Raw data here'!G339),0,1)","v":0},{"$f":"IF(ISERROR(D340),'Copy your Raw data here'!E339,\"\")","v":0},"",null,null,{"$f":"HOUR('Copy your Raw data here'!B339)","v":0},{"$f":"HOUR('Copy your Raw data here'!C339)","v":0},{"$f":"MINUTE('Copy your Raw data here'!B339)","v":0},{"$f":"MINUTE('Copy your Raw data here'!C339)","v":0},{"$f":"('Copy your Raw data here'!C339-'Copy your Raw data here'!B339)*1440","v":0},60,0,null,null,{"$f":"HOUR('Copy your Raw data here'!G339)","v":0},{"$f":"HOUR('Copy your Raw data here'!H339)","v":0},{"$f":"MINUTE('Copy your Raw data here'!G339)","v":0},{"$f":"MINUTE('Copy your Raw data here'!H339)","v":0},{"$f":"('Copy your Raw data here'!H339-'Copy your Raw data here'!G339)*1440","v":0},1440,{"$f":"IF('Copy your Raw data here'!G339=\"\",\"\",IF(V340<U340,Z340,Y340))","v":""}]
[{"$f":"IF(ISBLANK('Copy your Raw data here'!A340),\"\",('Copy your Raw data here'!A340))","v":""},"",{"$f":"IF('Copy your Raw data here'!D340=\"YES\",1,0)","v":0},{"$f":"VLOOKUP('Copy your Raw data here'!E340,'Stroke Ready Hospital List'!A:B,1,FALSE)","v":{"$error":"#N/A"}},0,{"$f":"IF(OR(ISBLANK('Copy your Raw data here'!F340),('Copy your Raw data here'!F340=\"NO\")),0,1)","v":0},{"$f":"IF(ISBLANK('Copy your Raw data here'!G340),0,1)","v":0},{"$f":"IF(ISERROR(D341),'Copy your Raw data here'!E340,\"\")","v":0},"",null,null,{"$f":"HOUR('Copy your Raw data here'!B340)","v":0},{"$f":"HOUR('Copy your Raw data here'!C340)","v":0},{"$f":"MINUTE('Copy your Raw data here'!B340)","v":0},{"$f":"MINUTE('Copy your Raw data here'!C340)","v":0},{"$f":"('Copy your Raw data here'!C340-'Copy your Raw data here'!B340)*1440","v":0},60,0,null,null,{"$f":"HOUR('Copy your Raw data here'!G340)","v":0},{"$f":"HOUR('Copy your Raw data here'!H340)","v":0},{"$f":"MINUTE('Copy your Raw data here'!G340)","v":0},{"$f":"MINUTE('Copy your Raw data here'!H340)","v":0},{"$f":"('Copy your Raw data here'!H340-'Copy your Raw data here'!G340)*1440","v":0},1440,{"$f":"IF('Copy your Raw data here'!G340=\"\",\"\",IF(V341<U341,Z341,Y341))","v":""}]
[{"$f":"IF(ISBLANK('Copy your Raw data here'!A341),\"\",('Copy your Raw data here'!A341))","v":""},"",{"$f":"IF('Copy your Raw data here'!D341=\"YES\",1,0)","v":0},{"$f":"VLOOKUP('Copy your Raw data here'!E341,'Stroke Ready Hospital List'!A:B,1,FALSE)","v":{"$error":"#N/A"}},0,{"$f":"IF(OR(ISBLANK('Copy your Raw data here'!F341),('Copy your Raw data here'!F341=\"NO\")),0,1)","v":0},{"$f":"IF(ISBLANK('Copy your Raw data here'!G341),0,1)","v":0},{"$f":"IF(ISERROR(D342),'Copy your Raw data here'!E341,\"\")","v":0},"",null,null,{"$f":"HOUR('Copy your Raw data here'!B341)","v":0},{"$f":"HOUR('Copy your Raw data here'!C341)","v":0},{"$f":"MINUTE('Copy your Raw data here'!B341)","v":0},{"$f":"MINUTE('Copy your Raw data here'!C341)","v":0},{"$f":"('Copy your Raw data here'!C341-'Copy your Raw data here'!B341)*1440","v":0},60,0,null,null,{"$f":"HOUR('Copy your Raw data here'!G341)","v":0},{"$f":"HOUR('Copy your Raw data here'!H341)","v":0},{"$f":"MINUTE('Copy your Raw data here'!G341)","v":0},{"$f":"MINUTE('Copy your Raw data here'!H341)","v":0},{"$f":"('Copy your Raw data here'!H341-'Copy your Raw data here'!G341)*1440","v":0},1440,{"$f":"IF('Copy your Raw data here'!G341=\"\",\"\",IF(V342<U342,Z342,Y342))","v":""}]
[{"$f":"IF(ISBLANK('Copy your Raw data here'!A342),\"\",('Copy your Raw data here'!A342))","v":""},"",{"$f":"IF('Copy your Raw data here'!D342=\"YES\",1,0)","v":0},{"$f":"VLOOKUP('Copy your Raw data here'!E342,'Stroke Ready Hospital List'!A:B,1,FALSE)","v":{"$error":"#N/A"}},0,{"$f":"IF(OR(ISBLANK('Copy your Raw data here'!F342),('Copy your Raw data here'!F342=\"NO\")),0,1)","v":0},{"$f":"IF(ISBLANK('Copy your Raw data here'!G342),0,1)","v":0},{"$f":"IF(ISERROR(D343),'Copy your Raw data here'!E342,\"\")","v":0},"",null,null,{"$f":"HOUR('Copy your Raw data here'!B342)","v":0},{"$f":"HOUR('Copy your Raw data here'!C342)","v":0},{"$f":"MINUTE('Copy your Raw data here'!B342)","v":0},{"$f":"MINUTE('Copy your Raw data here'!C342)","v":0},{"$f":"('Copy your Raw data here'!C342-'Copy your Raw data here'!B342)*1440","v":0},60,0,null,null,{"$f":"HOUR('Copy your Raw data here'!G342)","v":0},{"$f":"HOUR('Copy your Raw data here'!H342)","v":0},{"$f":"MINUTE('Copy your Raw data here'!G342)","v":0},{"$f":"MINUTE('Copy your Raw data here'!H342)","v":0},{"$f":"('Copy your Raw data here'!H342-'Copy your Raw data here'!G342)*1440","v":0},1440,{"$f":"IF('Copy your Raw data here'!G342=\"\",\"\",IF(V343<U343,Z343,Y343))","v":""}]
[{"$f":"IF(ISBLANK('Copy your Raw data here'!A343),\"\",('Copy your Raw data here'!A343))","v":""},"",{"$f":"IF('Copy your Raw data here'!D343=\"YES\",1,0)","v":0},{"$f":"VLOOKUP('Copy your Raw data here'!E343,'Stroke Ready Hospital List'!A:B,1,FALSE)","v":{"$error":"#N/A"}},0,{"$f":"IF(OR(ISBLANK('Copy your Raw data here'!F343),('Copy your Raw data here'!F343=\"NO\")),0,1)","v":0},{"$f":"IF(ISBLANK('Copy your Raw data here'!G343),0,1)","v":0},{"$f":"IF(ISERROR(D344),'Copy your Raw data here'!E343,\"\")","v":0},"",null,null,{"$f":"HOUR('Copy your Raw data here'!B343)","v":0},{"$f":"HOUR('Copy your Raw data here'!C343)","v":0},{"$f":"MINUTE('Copy your Raw data here'!B343)","v":0},{"$f":"MINUTE('Copy your Raw data here'!C343)","v":0},{"$f":"('Copy your Raw data here'!C343-'Copy your Raw data here'!B343)*1440","v":0},60,0,null,null,{"$f":"HOUR('Copy your Raw data here'!G343)","v":0},{"$f":"HOUR('Copy your Raw data here'!H343)","v":0},{"$f":"MINUTE('Copy your Raw data here'!G343)","v":0},{"$f":"MINUTE('Copy your Raw data here'!H343)","v":0},{"$f":"('Copy your Raw data here'!H343-'Copy your Raw data here'!G343)*1440","v":0},1440,{"$f":"IF('Copy your Raw data here'!G343=\"\",\"\",IF(V344<U344,Z344,Y344))","v":""}]
[{"$f":"IF(ISBLANK('Copy your Raw data here'!A344),\"\",('Copy your Raw data here'!A344))","v":""},"",{"$f":"IF('Copy your Raw data here'!D344=\"YES\",1,0)","v":0},{"$f":"VLOOKUP('Copy your Raw data here'!E344,'Stroke Ready Hospital List'!A:B,1,FALSE)","v":{"$error":"#N/A"}},0,{"$f":"IF(OR(ISBLANK('Copy your Raw data here'!F344),('Copy your Raw data here'!F344=\"NO\")),0,1)","v":0},{"$f":"IF(ISBLANK('Copy your Raw data here'!G344),0,1)","v":0},{"$f":"IF(ISERROR(D345),'Copy your Raw data here'!E344,\"\")","v":0},"",null,null,{"$f":"HOUR('Copy your Raw data here'!B344)","v":0},{"$f":"HOUR('Copy your Raw data here'!C344)","v":0},{"$f":"MINUTE('Copy your Raw data here'!B344)","v":0},{"$f":"MINUTE('Copy your Raw data here'!C344)","v":0},{"$f":"('Copy your Raw data here'!C344-'Copy your Raw data here'!B344)*1440","v":0},60,0,null,null,{"$f":"HOUR('Copy your Raw data here'!G344)","v":0},{"$f":"HOUR('Copy your Raw data here'!H344)","v":0},{"$f":"MINUTE('Copy your Raw data here'!G344)","v":0},{"$f":"MINUTE('Copy your Raw data here'!H344)","v":0},{"$f":"('Copy your Raw data here'!H344-'Copy your Raw data here'!G344)*1440","v":0},1440,{"$f":"IF('Copy your Raw data here'!G344=\"\",\"\",IF(V345<U345,Z345,Y345))","v":""}]
[{"$f":"IF(ISBLANK('Copy your Raw data here'!A345),\"\",('Copy your Raw data here'!A345))","v":""},"",{"$f":"IF('Copy your Raw data here'!D345=\"YES\",1,0)","v":0},{"$f":"VLOOKUP('Copy your Raw data here'!E345,'Stroke Ready Hospital List'!A:B,1,FALSE)","v":{"$error":"#N/A"}},0,{"$f":"IF(OR(ISBLANK('Copy your Raw data here'!F345),('Copy your Raw data here'!F345=\"NO\")),0,1)","v":0},{"$f":"IF(ISBLANK('Copy your Raw data here'!G345),0,1)","v":0},{"$f":"IF(ISERROR(D346),'Copy your Raw data here'!E345,\"\")","v":0},"",null,null,{"$f":"HOUR('Copy your Raw data here'!B345)","v":0},{"$f":"HOUR('Copy your Raw data here'!C345)","v":0},{"$f":"MINUTE('Copy your Raw data here'!B345)","v":0},{"$f":"MINUTE('Copy your Raw data here'!C345)","v":0},{"$f":"('Copy your Raw data here'!C345-'Copy your Raw data here'!B345)*1440","v":0},60,0,null,null,{"$f":"HOUR('Copy your Raw data here'!G345)","v":0},{"$f":"HOUR('Copy your Raw data here'!H345)","v":0},{"$f":"MINUTE('Copy your Raw data here'!G345)","v":0},{"$f":"MINUTE('Copy your Raw data here'!H345)","v":0},{"$f":"('Copy your Raw data here'!H345-'Copy your Raw data here'!G345)*1440","v":0},1440,{"$f":"IF('Copy your Raw data here'!G345=\"\",\"\",IF(V346<U346,Z346,Y346))","v":""}]
[{"$f":"IF(ISBLANK('Copy your Raw data here'!A346),\"\",('Copy your Raw data here'!A346))","v":""},"",{"$f":"IF('Copy your Raw data here'!D346=\"YES\",1,0)","v":0},{"$f":"VLOOKUP('Copy your Raw data here'!E346,'Stroke Ready Hospital List'!A:B,1,FALSE)","v":{"$error":"#N/A"}},0,{"$f":"IF(OR(ISBLANK('Copy your Raw data here'!F346),('Copy your Raw data here'!F346=\"NO\")),0,1)","v":0},{"$f":"IF(ISBLANK('Copy your Raw data here'!G346),0,1)","v":0},{"$f":"IF(ISERROR(D347),'Copy your Raw data here'!E346,\"\")","v":0},"",null,null,{"$f":"HOUR('Copy your Raw data here'!B346)","v":0},{"$f":"HOUR('Copy your Raw data here'!C346)","v":0},{"$f":"MINUTE('Copy your Raw data here'!B346)","v":0},{"$f":"MINUTE('Copy your Raw data here'!C346)","v":0},{"$f":"('Copy your Raw data here'!C346-'Copy your Raw data here'!B346)*1440","v":0},60,0,null,null,{"$f":"HOUR('Copy your Raw data here'!G346)","v":0},{"$f":"HOUR('Copy your Raw data here'!H346)","v":0},{"$f":"MINUTE('Copy your Raw data here'!G346)","v":0},{"$f":"MINUTE('Copy your Raw data here'!H346)","v":0},{"$f":"('Copy your Raw data here'!H346-'Copy your Raw data here'!G346)*1440","v":0},1440,{"$f":"IF('Copy your Raw data here'!G346=\"\",\"\",IF(V347<U347,Z347,Y347))","v":""}]
[{"$f":"IF(ISBLANK('Copy your Raw data here'!A347),\"\",('Copy your Raw data here'!A347))","v":""},"",{"$f":"IF('Copy your Raw data here'!D347=\"YES\",1,0)","v":0},{"$f":"VLOOKUP('Copy your Raw data here'!E347,'Stroke Ready Hospital List'!A:B,1,FALSE)","v":{"$error":"#N/A"}},{"$f":"IF(ISERROR(D348),0,1)","v":0},{"$f":"IF(OR(ISBLANK('Copy your Raw data here'!F347),('Copy your Raw data here'!F347=\"NO\")),0,1)","v":0},{"$f":"IF(ISBLANK('Copy your Raw data here'!G347),0,1)","v":0},{"$f":"IF(ISERROR(D348),'Copy your Raw data here'!E347,\"\")","v":0},"",null,null,{"$f":"HOUR('Copy your Raw data here'!B347)","v":0},{"$f":"HOUR('Copy your Raw data here'!C347)","v":0},{"$f":"MINUTE('Copy your Raw data here'!B347)","v":0},{"$f":"MINUTE('Copy your Raw data here'!C347)","v":0},{"$f":"('Copy your Raw data here'!C347-'Copy your Raw data here'!B347)*1440","v":0},60,0,null,null,{"$f":"HOUR('Copy your Raw data here'!G347)","v":0},{"$f":"HOUR('Copy your Raw data here'!H347)","v":0},{"$f":"MINUTE('Copy your Raw data here'!G347)","v":0},{"$f":"MINUTE('Copy your Raw data here'!H347)","v":0},{"$f":"('Copy your Raw data here'!H347-'Copy your Raw data here'!G347)*1440","v":0},1440,{"$f":"IF('Copy your Raw data here'!G347=\"\",\"\",IF(V348<U348,Z348,Y348))","v":""}]
[{"$f":"IF(ISBLANK('Copy your Raw data here'!A348),\"\",('Copy your Raw data here'!A348))","v":""},"",{"$f":"IF('Copy your Raw data here'!D348=\"YES\",1,0)","v":0},{"$f":"VLOOKUP('Copy your Raw data here'!E348,'Stroke Ready Hospital List'!A:B,1,FALSE)","v":{"$error":"#N/A"}},0,{"$f":"IF(OR(ISBLANK('Copy your Raw data here'!F348),('Copy your Raw data here'!F348=\"NO\")),0,1)","v":0},{"$f":"IF(ISBLANK('Copy your Raw data here'!G348),0,1)","v":0},{"$f":"IF(ISERROR(D349),'Copy your Raw data here'!E348,\"\")","v":0},"",null,null,{"$f":"HOUR('Copy your Raw data here'!B348)","v":0},{"$f":"HOUR('Copy your Raw data here'!C348)","v":0},{"$f":"MINUTE('Copy your Raw data here'!B348)","v":0},{"$f":"MINUTE('Copy your Raw data here'!C348)","v":0},{"$f":"('Copy your Raw data here'!C348-'Copy your Raw data here'!B348)*1440","v":0},60,0,null,null,{"$f":"HOUR('Copy your Raw data here'!G348)","v":0},{"$f":"HOUR('Copy your Raw data here'!H348)","v":0},{"$f":"MINUTE('Copy your Raw data here'!G348)","v":0},{"$f":"MINUTE('Copy your Raw data here'!H348)","v":0},{"$f":"('Copy your Raw data here'!H348-'Copy your Raw data here'!G348)*1440","v":0},1440,{"$f":"IF('Copy your Raw data here'!G348=\"\",\"\",IF(V349<U349,Z349,Y349))","v":""}]
[{"$f":"IF(ISBLANK('Copy your Raw data here'!A349),\"\",('Copy your Raw data here'!A349))","v":""},"",{"$f":"IF('Copy your Raw data here'!D349=\"YES\",1,0)","v":0},{"$f":"VLOOKUP('Copy your Raw data here'!E349,'Stroke Ready Hospital List'!A:B,1,FALSE)","v":{"$error":"#N/A"}},0,{"$f":"IF(OR(ISBLANK('Copy your Raw data here'!F349),('Copy your Raw data here'!F349=\"NO\")),0,1)","v":0},{"$f":"IF(ISBLANK('Copy your Raw data here'!G349),0,1)","v":0},{"$f":"IF(ISERROR(D350),'Copy your Raw data here'!E349,\"\")","v":0},"",null,null,{"$f":"HOUR('Copy your Raw data here'!B349)","v":0},{"$f":"HOUR('Copy your Raw data here'!C349)","v":0},{"$f":"MINUTE('Copy your Raw data here'!B349)","v":0},{"$f":"MINUTE('Copy your Raw data here'!C349)","v":0},{"$f":"('Copy your Raw data here'!C349-'Copy your Raw data here'!B349)*1440","v":0},60,0,null,null,{"$f":"HOUR('Copy your Raw data here'!G349)","v":0},{"$f":"HOUR('Copy your Raw data here'!H349)","v":0},{"$f":"MINUTE('Copy your Raw data here'!G349)","v":0},{"$f":"MINUTE('Copy your Raw data here'!H349)","v":0},{"$f":"('Copy your Raw data here'!H349-'Copy your Raw data here'!G349)*1440","v":0},1440,{"$f":"IF('Copy your Raw data here'!G349=\"\",\"\",IF(V350<U350,Z350,Y350))","v":""}]
[{"$f":"IF(ISBLANK('Copy your Raw data here'!A350),\"\",('Copy your Raw data here'!A350))","v":""},"",{"$f":"IF('Copy your Raw data here'!D350=\"YES\",1,0)","v":0},{"$f":"VLOOKUP('Copy your Raw data here'!E350,'Stroke Ready Hospital List'!A:B,1,FALSE)","v":{"$error":"#N/A"}},0,{"$f":"IF(OR(ISBLANK('Copy your Raw data here'!F350),('Copy your Raw data here'!F350=\"NO\")),0,1)","v":0},{"$f":"IF(ISBLANK('Copy your Raw data here'!G350),0,1)","v":0},{"$f":"IF(ISERROR(D351),'Copy your Raw data here'!E350,\"\")","v":0},"",null,null,{"$f":"HOUR('Copy your Raw data here'!B350)","v":0},{"$f":"HOUR('Copy your Raw data here'!C350)","v":0},{"$f":"MINUTE('Copy your Raw data here'!B350)","v":0},{"$f":"MINUTE('Copy your Raw data here'!C350)","v":0},{"$f":"('Copy your Raw data here'!C350-'Copy your Raw data here'!B350)*1440","v":0},60,0,null,null,{"$f":"HOUR('Copy your Raw data here'!G350)","v":0},{"$f":"HOUR('Copy your Raw data here'!H350)","v":0},{"$f":"MINUTE('Copy your Raw data here'!G350)","v":0},{"$f":"MINUTE('Copy your Raw data here'!H350)","v":0},{"$f":"('Copy your Raw data here'!H350-'Copy your Raw data here'!G350)*1440","v":0},1440,{"$f":"IF('Copy your Raw data here'!G350=\"\",\"\",IF(V351<U351,Z351,Y351))","v":""}]
[{"$f":"IF(ISBLANK('Copy your Raw data here'!A351),\"\",('Copy your Raw data here'!A351))","v":""},"",{"$f":"IF('Copy your Raw data here'!D351=\"YES\",1,0)","v":0},{"$f":"VLOOKUP('Copy your Raw data here'!E351,'Stroke Ready Hospital List'!A:B,1,FALSE)","v":{"$error":"#N/A"}},0,{"$f":"IF(OR(ISBLANK('Copy your Raw data here'!F351),('Copy your Raw data here'!F351=\"NO\")),0,1)","v":0},{"$f":"IF(ISBLANK('Copy your Raw data here'!G351),0,1)","v":0},{"$f":"IF(ISERROR(D352),'Copy your Raw data here'!E351,\"\")","v":0},"",null,null,{"$f":"HOUR('Copy your Raw data here'!B351)","v":0},{"$f":"HOUR('Copy your Raw data here'!C351)","v":0},{"$f":"MINUTE('Copy your Raw data here'!B351)","v":0},{"$f":"MINUTE('Copy your Raw data here'!C351)","v":0},{"$f":"('Copy your Raw data here'!C351-'Copy your Raw data here'!B351)*1440","v":0},60,0,null,null,{"$f":"HOUR('Copy your Raw data here'!G351)","v":0},{"$f":"HOUR('Copy your Raw data here'!H351)","v":0},{"$f":"MINUTE('Copy your Raw data here'!G351)","v":0},{"$f":"MINUTE('Copy your Raw data here'!H351)","v":0},{"$f":"('Copy your Raw data here'!H351-'Copy your Raw data here'!G351)*1440","v":0},1440,{"$f":"IF('Copy your Raw data here'!G351=\"\",\"\",IF(V352<U352,Z352,Y352))","v":""}]
[{"$f":"IF(ISBLANK('Copy your Raw data here'!A352),\"\",('Copy your Raw data here'!A352))","v":""},"",{"$f":"IF('Copy your Raw data here'!D352=\"YES\",1,0)","v":0},{"$f":"VLOOKUP('Copy your Raw data here'!E352,'Stroke Ready Hospital List'!A:B,1,FALSE)","v":{"$error":"#N/A"}},0,{"$f":"IF(OR(ISBLANK('Copy your Raw data here'!F352),('Copy your Raw data here'!F352=\"NO\")),0,1)","v":0},{"$f":"IF(ISBLANK('Copy your Raw data here'!G352),0,1)","v":0},{"$f":"IF(ISERROR(D353),'Copy your Raw data here'!E352,\"\")","v":0},"",null,null,{"$f":"HOUR('Copy your Raw data here'!B352)","v":0},{"$f":"HOUR('Copy your Raw data here'!C352)","v":0},{"$f":"MINUTE('Copy your Raw data here'!B352)","v":0},{"$f":"MINUTE('Copy your Raw data here'!C352)","v":0},{"$f":"('Copy your Raw data here'!C352-'Copy your Raw data here'!B352)*1440","v":0},60,0,null,null,{"$f":"HOUR('Copy your Raw data here'!G352)","v":0},{"$f":"HOUR('Copy your Raw data here'!H352)","v":0},{"$f":"MINUTE('Copy your Raw data here'!G352)","v":0},{"$f":"MINUTE('Copy your Raw data here'!H352)","v":0},{"$f":"('Copy your Raw data here'!H352-'Copy your Raw data here'!G352)*1440","v":0},1440,{"$f":"IF('Copy your Raw data here'!G352=\"\",\"\",IF(V353<U353,Z353,Y353))","v":""}]
[{"$f":"IF(ISBLANK('Copy your Raw data here'!A353),\"\",('Copy your Raw data here'!A353))","v":""},"",{"$f":"IF('Copy your Raw data here'!D353=\"YES\",1,0)","v":0},{"$f":"VLOOKUP('Copy your Raw data here'!E353,'Stroke Ready Hospital List'!A:B,1,FALSE)","v":{"$error":"#N/A"}},0,{"$f":"IF(OR(ISBLANK('Copy your Raw data here'!F353),('Copy your Raw data here'!F353=\"NO\")),0,1)","v":0},{"$f":"IF(ISBLANK('Copy your Raw data here'!G353),0,1)","v":0},{"$f":"IF(ISERROR(D354),'Copy your Raw data here'!E353,\"\")","v":0},"",null,null,{"$f":"HOUR('Copy your Raw data here'!B353)","v":0},{"$f":"HOUR('Copy your Raw data here'!C353)","v":0},{"$f":"MINUTE('Copy your Raw data here'!B353)","v":0},{"$f":"MINUTE('Copy your Raw data here'!C353)","v":0},{"$f":"('Copy your Raw data here'!C353-'Copy your Raw data here'!B353)*1440","v":0},60,0,null,null,{"$f":"HOUR('Copy your Raw data here'!G353)","v":0},{"$f":"HOUR('Copy your Raw data here'!H353)","v":0},{"$f":"MINUTE('Copy your Raw data here'!G353)","v":0},{"$f":"MINUTE('Copy your Raw data here'!H353)","v":0},{"$f":"('Copy your Raw data here'!H353-'Copy your Raw data here'!G353)*1440","v":0},1440,{"$f":"IF('Copy your Raw data here'!G353=\"\",\"\",IF(V354<U354,Z354,Y354))","v":""}]
[{"$f":"IF(ISBLANK('Copy your Raw data here'!A354),\"\",('Copy your Raw data here'!A354))","v":""},"",{"$f":"IF('Copy your Raw data here'!D354=\"YES\",1,0)","v":0},{"$f":"VLOOKUP('Copy your Raw data here'!E354,'Stroke Ready Hospital List'!A:B,1,FALSE)","v":{"$error":"#N/A"}},0,{"$f":"IF(OR(ISBLANK('Copy your Raw data here'!F354),('Copy your Raw data here'!F354=\"NO\")),0,1)","v":0},{"$f":"IF(ISBLANK('Copy your Raw data here'!G354),0,1)","v":0},{"$f":"IF(ISERROR(D355),'Copy your Raw data here'!E354,\"\")","v":0},"",null,null,{"$f":"HOUR('Copy your Raw data here'!B354)","v":0},{"$f":"HOUR('Copy your Raw data here'!C354)","v":0},{"$f":"MINUTE('Copy your Raw data here'!B354)","v":0},{"$f":"MINUTE('Copy your Raw data here'!C354)","v":0},{"$f":"('Copy your Raw data here'!C354-'Copy your Raw data here'!B354)*1440","v":0},60,0,null,null,{"$f":"HOUR('Copy your Raw data here'!G354)","v":0},{"$f":"HOUR('Copy your Raw data here'!H354)","v":0},{"$f":"MINUTE('Copy your Raw data here'!G354)","v":0},{"$f":"MINUTE('Copy your Raw data here'!H354)","v":0},{"$f":"('Copy your Raw data here'!H354-'Copy your Raw data here'!G354)*1440","v":0},1440,{"$f":"IF('Copy your Raw data here'!G354=\"\",\"\",IF(V355<U355,Z355,Y355))","v":""}]
[{"$f":"IF(ISBLANK('Copy your Raw data here'!A355),\"\",('Copy your Raw data here'!A355))","v":""},"",{"$f":"IF('Copy your Raw data here'!D355=\"YES\",1,0)","v":0},{"$f":"VLOOKUP('Copy your Raw data here'!E355,'Stroke Ready Hospital List'!A:B,1,FALSE)","v":{"$error":"#N/A"}},0,{"$f":"IF(OR(ISBLANK('Copy your Raw data here'!F355),('Copy your Raw data here'!F355=\"NO\")),0,1)","v":0},{"$f":"IF(ISBLANK('Copy your Raw data here'!G355),0,1)","v":0},{"$f":"IF(ISERROR(D356),'Copy your Raw data here'!E355,\"\")","v":0},"",null,null,{"$f":"HOUR('Copy your Raw data here'!B355)","v":0},{"$f":"HOUR('Copy your Raw data here'!C355)","v":0},{"$f":"MINUTE('Copy your Raw data here'!B355)","v":0},{"$f":"MINUTE('Copy your Raw data here'!C355)","v":0},{"$f":"('Copy your Raw data here'!C355-'Copy your Raw data here'!B355)*1440","v":0},60,0,null,null,{"$f":"HOUR('Copy your Raw data here'!G355)","v":0},{"$f":"HOUR('Copy your Raw data here'!H355)","v":0},{"$f":"MINUTE('Copy your Raw data here'!G355)","v":0},{"$f":"MINUTE('Copy your Raw data here'!H355)","v":0},{"$f":"('Copy your Raw data here'!H355-'Copy your Raw data here'!G355)*1440","v":0},1440,{"$f":"IF('Copy your Raw data here'!G355=\"\",\"\",IF(V356<U356,Z356,Y356))","v":""}]
[{"$f":"IF(ISBLANK('Copy your Raw data here'!A356),\"\",('Copy your Raw data here'!A356))","v":""},"",{"$f":"IF('Copy your Raw data here'!D356=\"YES\",1,0)","v":0},{"$f":"VLOOKUP('Copy your Raw data here'!E356,'Stroke Ready Hospital List'!A:B,1,FALSE)","v":{"$error":"#N/A"}},0,{"$f":"IF(OR(ISBLANK('Copy your Raw data here'!F356),('Copy your Raw data here'!F356=\"NO\")),0,1)","v":0},{"$f":"IF(ISBLANK('Copy your Raw data here'!G356),0,1)","v":0},{"$f":"IF(ISERROR(D357),'Copy your Raw data here'!E356,\"\")","v":0},"",null,null,{"$f":"HOUR('Copy your Raw data here'!B356)","v":0},{"$f":"HOUR('Copy your Raw data here'!C356)","v":0},{"$f":"MINUTE('Copy your Raw data here'!B356)","v":0},{"$f":"MINUTE('Copy your Raw data here'!C356)","v":0},{"$f":"('Copy your Raw data here'!C356-'Copy your Raw data here'!B356)*1440","v":0},60,0,null,null,{"$f":"HOUR('Copy your Raw data here'!G356)","v":0},{"$f":"HOUR('Copy your Raw data here'!H356)","v":0},{"$f":"MINUTE('Copy your Raw data here'!G356)","v":0},{"$f":"MINUTE('Copy your Raw data here'!H356)","v":0},{"$f":"('Copy your Raw data here'!H356-'Copy your Raw data here'!G356)*1440","v":0},1440,{"$f":"IF('Copy your Raw data here'!G356=\"\",\"\",IF(V357<U357,Z357,Y357))","v":""}]
[{"$f":"IF(ISBLANK('Copy your Raw data here'!A357),\"\",('Copy your Raw data here'!A357))","v":""},"",{"$f":"IF('Copy your Raw data here'!D357=\"YES\",1,0)","v":0},{"$f":"VLOOKUP('Copy your Raw data here'!E357,'Stroke Ready Hospital List'!A:B,1,FALSE)","v":{"$error":"#N/A"}},0,{"$f":"IF(OR(ISBLANK('Copy your Raw data here'!F357),('Copy your Raw data here'!F357=\"NO\")),0,1)","v":0},{"$f":"IF(ISBLANK('Copy your Raw data here'!G357),0,1)","v":0},{"$f":"IF(ISERROR(D358),'Copy your Raw data here'!E357,\"\")","v":0},"",null,null,{"$f":"HOUR('Copy your Raw data here'!B357)","v":0},{"$f":"HOUR('Copy your Raw data here'!C357)","v":0},{"$f":"MINUTE('Copy your Raw data here'!B357)","v":0},{"$f":"MINUTE('Copy your Raw data here'!C357)","v":0},{"$f":"('Copy your Raw data here'!C357-'Copy your Raw data here'!B357)*1440","v":0},60,0,null,null,{"$f":"HOUR('Copy your Raw data here'!G357)","v":0},{"$f":"HOUR('Copy your Raw data here'!H357)","v":0},{"$f":"MINUTE('Copy your Raw data here'!G357)","v":0},{"$f":"MINUTE('Copy your Raw data here'!H357)","v":0},{"$f":"('Copy your Raw data here'!H357-'Copy your Raw data here'!G357)*1440","v":0},1440,{"$f":"IF('Copy your Raw data here'!G357=\"\",\"\",IF(V358<U358,Z358,Y358))","v":""}]
[{"$f":"IF(ISBLANK('Copy your Raw data here'!A358),\"\",('Copy your Raw data here'!A358))","v":""},"",{"$f":"IF('Copy your Raw data here'!D358=\"YES\",1,0)","v":0},{"$f":"VLOOKUP('Copy your Raw data here'!E358,'Stroke Ready Hospital List'!A:B,1,FALSE)","v":{"$error":"#N/A"}},0,{"$f":"IF(OR(ISBLANK('Copy your Raw data here'!F358),('Copy your Raw data here'!F358=\"NO\")),0,1)","v":0},{"$f":"IF(ISBLANK('Copy your Raw data here'!G358),0,1)","v":0},{"$f":"IF(ISERROR(D359),'Copy your Raw data here'!E358,\"\")","v":0},"",null,null,{"$f":"HOUR('Copy your Raw data here'!B358)","v":0},{"$f":"HOUR('Copy your Raw data here'!C358)","v":0},{"$f":"MINUTE('Copy your Raw data here'!B358)","v":0},{"$f":"MINUTE('Copy your Raw data here'!C358)","v":0},{"$f":"('Copy your Raw data here'!C358-'Copy your Raw data here'!B358)*1440","v":0},60,0,null,null,{"$f":"HOUR('Copy your Raw data here'!G358)","v":0},{"$f":"HOUR('Copy your Raw data here'!H358)","v":0},{"$f":"MINUTE('Copy your Raw data here'!G358)","v":0},{"$f":"MINUTE('Copy your Raw data here'!H358)","v":0},{"$f":"('Copy your Raw data here'!H358-'Copy your Raw data here'!G358)*1440","v":0},1440,{"$f":"IF('Copy your Raw data here'!G358=\"\",\"\",IF(V359<U359,Z359,Y359))","v":""}]
[{"$f":"IF(ISBLANK('Copy your Raw data here'!A359),\"\",('Copy your Raw data here'!A359))","v":""},"",{"$f":"IF('Copy your Raw data here'!D359=\"YES\",1,0)","v":0},{"$f":"VLOOKUP('Copy your Raw data here'!E359,'Stroke Ready Hospital List'!A:B,1,FALSE)","v":{"$error":"#N/A"}},0,{"$f":"IF(OR(ISBLANK('Copy your Raw data here'!F359),('Copy your Raw data here'!F359=\"NO\")),0,1)","v":0},{"$f":"IF(ISBLANK('Copy your Raw data here'!G359),0,1)","v":0},{"$f":"IF(ISERROR(D360),'Copy your Raw data here'!E359,\"\")","v":0},"",null,null,{"$f":"HOUR('Copy your Raw data here'!B359)","v":0},{"$f":"HOUR('Copy your Raw data here'!C359)","v":0},{"$f":"MINUTE('Copy your Raw data here'!B359)","v":0},{"$f":"MINUTE('Copy your Raw data here'!C359)","v":0},{"$f":"('Copy your Raw data here'!C359-'Copy your Raw data here'!B359)*1440","v":0},60,0,null,null,{"$f":"HOUR('Copy your Raw data here'!G359)","v":0},{"$f":"HOUR('Copy your Raw data here'!H359)","v":0},{"$f":"MINUTE('Copy your Raw data here'!G359)","v":0},{"$f":"MINUTE('Copy your Raw data here'!H359)","v":0},{"$f":"('Copy your Raw data here'!H359-'Copy your Raw data here'!G359)*1440","v":0},1440,{"$f":"IF('Copy your Raw data here'!G359=\"\",\"\",IF(V360<U360,Z360,Y360))","v":""}]
[{"$f":"IF(ISBLANK('Copy your Raw data here'!A360),\"\",('Copy your Raw data here'!A360))","v":""},"",{"$f":"IF('Copy your Raw data here'!D360=\"YES\",1,0)","v":0},{"$f":"VLOOKUP('Copy your Raw data here'!E360,'Stroke Ready Hospital List'!A:B,1,FALSE)","v":{"$error":"#N/A"}},0,{"$f":"IF(OR(ISBLANK('Copy your Raw data here'!F360),('Copy your Raw data here'!F360=\"NO\")),0,1)","v":0},{"$f":"IF(ISBLANK('Copy your Raw data here'!G360),0,1)","v":0},{"$f":"IF(ISERROR(D361),'Copy your Raw data here'!E360,\"\")","v":0},"",null,null,{"$f":"HOUR('Copy your Raw data here'!B360)","v":0},{"$f":"HOUR('Copy your Raw data here'!C360)","v":0},{"$f":"MINUTE('Copy your Raw data here'!B360)","v":0},{"$f":"MINUTE('Copy your Raw data here'!C360)","v":0},{"$f":"('Copy your Raw data here'!C360-'Copy your Raw data here'!B360)*1440","v":0},60,0,null,null,{"$f":"HOUR('Copy your Raw data here'!G360)","v":0},{"$f":"HOUR('Copy your Raw data here'!H360)","v":0},{"$f":"MINUTE('Copy your Raw data here'!G360)","v":0},{"$f":"MINUTE('Copy your Raw data here'!H360)","v":0},{"$f":"('Copy your Raw data here'!H360-'Copy your Raw data here'!G360)*1440","v":0},1440,{"$f":"IF('Copy your Raw data here'!G360=\"\",\"\",IF(V361<U361,Z361,Y361))","v":""}]
[{"$f":"IF(ISBLANK('Copy your Raw data here'!A361),\"\",('Copy your Raw data here'!A361))","v":""},"",{"$f":"IF('Copy your Raw data here'!D361=\"YES\",1,0)","v":0},{"$f":"VLOOKUP('Copy your Raw data here'!E361,'Stroke Ready Hospital List'!A:B,1,FALSE)","v":{"$error":"#N/A"}},0,{"$f":"IF(OR(ISBLANK('Copy your Raw data here'!F361),('Copy your Raw data here'!F361=\"NO\")),0,1)","v":0},{"$f":"IF(ISBLANK('Copy your Raw data here'!G361),0,1)","v":0},{"$f":"IF(ISERROR(D362),'Copy your Raw data here'!E361,\"\")","v":0},"",null,null,{"$f":"HOUR('Copy your Raw data here'!B361)","v":0},{"$f":"HOUR('Copy your Raw data here'!C361)","v":0},{"$f":"MINUTE('Copy your Raw data here'!B361)","v":0},{"$f":"MINUTE('Copy your Raw data here'!C361)","v":0},{"$f":"('Copy your Raw data here'!C361-'Copy your Raw data here'!B361)*1440","v":0},60,0,null,null,{"$f":"HOUR('Copy your Raw data here'!G361)","v":0},{"$f":"HOUR('Copy your Raw data here'!H361)","v":0},{"$f":"MINUTE('Copy your Raw data here'!G361)","v":0},{"$f":"MINUTE('Copy your Raw data here'!H361)","v":0},{"$f":"('Copy your Raw data here'!H361-'Copy your Raw data here'!G361)*1440","v":0},1440,{"$f":"IF('Copy your Raw data here'!G361=\"\",\"\",IF(V362<U362,Z362,Y362))","v":""}]
[{"$f":"IF(ISBLANK('Copy your Raw data here'!A362),\"\",('Copy your Raw data here'!A362))","v":""},"",{"$f":"IF('Copy your Raw data here'!D362=\"YES\",1,0)","v":0},{"$f":"VLOOKUP('Copy your Raw data here'!E362,'Stroke Ready Hospital List'!A:B,1,FALSE)","v":{"$error":"#N/A"}},0,{"$f":"IF(OR(ISBLANK('Copy your Raw data here'!F362),('Copy your Raw data here'!F362=\"NO\")),0,1)","v":0},{"$f":"IF(ISBLANK('Copy your Raw data here'!G362),0,1)","v":0},{"$f":"IF(ISERROR(D363),'Copy your Raw data here'!E362,\"\")","v":0},"",null,null,{"$f":"HOUR('Copy your Raw data here'!B362)","v":0},{"$f":"HOUR('Copy your Raw data here'!C362)","v":0},{"$f":"MINUTE('Copy your Raw data here'!B362)","v":0},{"$f":"MINUTE('Copy your Raw data here'!C362)","v":0},{"$f":"('Copy your Raw data here'!C362-'Copy your Raw data here'!B362)*1440","v":0},60,0,null,null,{"$f":"HOUR('Copy your Raw data here'!G362)","v":0},{"$f":"HOUR('Copy your Raw data here'!H362)","v":0},{"$f":"MINUTE('Copy your Raw data here'!G362)","v":0},{"$f":"MINUTE('Copy your Raw data here'!H362)","v":0},{"$f":"('Copy your Raw data here'!H362-'Copy your Raw data here'!G362)*1440","v":0},1440,{"$f":"IF('Copy your Raw data here'!G362=\"\",\"\",IF(V363<U363,Z363,Y363))","v":""}]
[{"$f":"IF(ISBLANK('Copy your Raw data here'!A363),\"\",('Copy your Raw data here'!A363))","v":""},"",{"$f":"IF('Copy your Raw data here'!D363=\"YES\",1,0)","v":0},{"$f":"VLOOKUP('Copy your Raw data here'!E363,'Stroke Ready Hospital List'!A:B,1,FALSE)","v":{"$error":"#N/A"}},0,{"$f":"IF(OR(ISBLANK('Copy your Raw data here'!F363),('Copy your Raw data here'!F363=\"NO\")),0,1)","v":0},{"$f":"IF(ISBLANK('Copy your Raw data here'!G363),0,1)","v":0},{"$f":"IF(ISERROR(D364),'Copy your Raw data here'!E363,\"\")","v":0},"",null,null,{"$f":"HOUR('Copy your Raw data here'!B363)","v":0},{"$f":"HOUR('Copy your Raw data here'!C363)","v":0},{"$f":"MINUTE('Copy your Raw data here'!B363)","v":0},{"$f":"MINUTE('Copy your Raw data here'!C363)","v":0},{"$f":"('Copy your Raw data here'!C363-'Copy your Raw data here'!B363)*1440","v":0},60,0,null,null,{"$f":"HOUR('Copy your Raw data here'!G363)","v":0},{"$f":"HOUR('Copy your Raw data here'!H363)","v":0},{"$f":"MINUTE('Copy your Raw data here'!G363)","v":0},{"$f":"MINUTE('Copy your Raw data here'!H363)","v":0},{"$f":"('Copy your Raw data here'!H363-'Copy your Raw data here'!G363)*1440","v":0},1440,{"$f":"IF('Copy your Raw data here'!G363=\"\",\"\",IF(V364<U364,Z364,Y364))","v":""}]
[{"$f":"IF(ISBLANK('Copy your Raw data here'!A364),\"\",('Copy your Raw data here'!A364))","v":""},"",{"$f":"IF('Copy your Raw data here'!D364=\"YES\",1,0)","v":0},{"$f":"VLOOKUP('Copy your Raw data here'!E364,'Stroke Ready Hospital List'!A:B,1,FALSE)","v":{"$error":"#N/A"}},0,{"$f":"IF(OR(ISBLANK('Copy your Raw data here'!F364),('Copy your Raw data here'!F364=\"NO\")),0,1)","v":0},{"$f":"IF(ISBLANK('Copy your Raw data here'!G364),0,1)","v":0},{"$f":"IF(ISERROR(D365),'Copy your Raw data here'!E364,\"\")","v":0},"",null,null,{"$f":"HOUR('Copy your Raw data here'!B364)","v":0},{"$f":"HOUR('Copy your Raw data here'!C364)","v":0},{"$f":"MINUTE('Copy your Raw data here'!B364)","v":0},{"$f":"MINUTE('Copy your Raw data here'!C364)","v":0},{"$f":"('Copy your Raw data here'!C364-'Copy your Raw data here'!B364)*1440","v":0},60,0,null,null,{"$f":"HOUR('Copy your Raw data here'!G364)","v":0},{"$f":"HOUR('Copy your Raw data here'!H364)","v":0},{"$f":"MINUTE('Copy your Raw data here'!G364)","v":0},{"$f":"MINUTE('Copy your Raw data here'!H364)","v":0},{"$f":"('Copy your Raw data here'!H364-'Copy your Raw data here'!G364)*1440","v":0},1440,{"$f":"IF('Copy your Raw data here'!G364=\"\",\"\",IF(V365<U365,Z365,Y365))","v":""}]
[{"$f":"IF(ISBLANK('Copy your Raw data here'!A365),\"\",('Copy your Raw data here'!A365))","v":""},"",{"$f":"IF('Copy your Raw data here'!D365=\"YES\",1,0)","v":0},{"$f":"VLOOKUP('Copy your Raw data here'!E365,'Stroke Ready Hospital List'!A:B,1,FALSE)","v":{"$error":"#N/A"}},0,{"$f":"IF(OR(ISBLANK('Copy your Raw data here'!F365),('Copy your Raw data here'!F365=\"NO\")),0,1)","v":0},{"$f":"IF(ISBLANK('Copy your Raw data here'!G365),0,1)","v":0},{"$f":"IF(ISERROR(D366),'Copy your Raw data here'!E365,\"\")","v":0},"",null,null,{"$f":"HOUR('Copy your Raw data here'!B365)","v":0},{"$f":"HOUR('Copy your Raw data here'!C365)","v":0},{"$f":"MINUTE('Copy your Raw data here'!B365)","v":0},{"$f":"MINUTE('Copy your Raw data here'!C365)","v":0},{"$f":"('Copy your Raw data here'!C365-'Copy your Raw data here'!B365)*1440","v":0},60,0,null,null,{"$f":"HOUR('Copy your Raw data here'!G365)","v":0},{"$f":"HOUR('Copy your Raw data here'!H365)","v":0},{"$f":"MINUTE('Copy your Raw data here'!G365)","v":0},{"$f":"MINUTE('Copy your Raw data here'!H365)","v":0},{"$f":"('Copy your Raw data here'!H365-'Copy your Raw data here'!G365)*1440","v":0},1440,{"$f":"IF('Copy your Raw data here'!G365=\"\",\"\",IF(V366<U366,Z366,Y366))","v":""}]
[{"$f":"IF(ISBLANK('Copy your Raw data here'!A366),\"\",('Copy your Raw data here'!A366))","v":""},"",{"$f":"IF('Copy your Raw data here'!D366=\"YES\",1,0)","v":0},{"$f":"VLOOKUP('Copy your Raw data here'!E366,'Stroke Ready Hospital List'!A:B,1,FALSE)","v":{"$error":"#N/A"}},0,{"$f":"IF(OR(ISBLANK('Copy your Raw data here'!F366),('Copy your Raw data here'!F366=\"NO\")),0,1)","v":0},{"$f":"IF(ISBLANK('Copy your Raw data here'!G366),0,1)","v":0},{"$f":"IF(ISERROR(D367),'Copy your Raw data here'!E366,\"\")","v":0},"",null,null,{"$f":"HOUR('Copy your Raw data here'!B366)","v":0},{"$f":"HOUR('Copy your Raw data here'!C366)","v":0},{"$f":"MINUTE('Copy your Raw data here'!B366)","v":0},{"$f":"MINUTE('Copy your Raw data here'!C366)","v":0},{"$f":"('Copy your Raw data here'!C366-'Copy your Raw data here'!B366)*1440","v":0},60,0,null,null,{"$f":"HOUR('Copy your Raw data here'!G366)","v":0},{"$f":"HOUR('Copy your Raw data here'!H366)","v":0},{"$f":"MINUTE('Copy your Raw data here'!G366)","v":0},{"$f":"MINUTE('Copy your Raw data here'!H366)","v":0},{"$f":"('Copy your Raw data here'!H366-'Copy your Raw data here'!G366)*1440","v":0},1440,{"$f":"IF('Copy your Raw data here'!G366=\"\",\"\",IF(V367<U367,Z367,Y367))","v":""}]
[{"$f":"IF(ISBLANK('Copy your Raw data here'!A367),\"\",('Copy your Raw data here'!A367))","v":""},"",{"$f":"IF('Copy your Raw data here'!D367=\"YES\",1,0)","v":0},{"$f":"VLOOKUP('Copy your Raw data here'!E367,'Stroke Ready Hospital List'!A:B,1,FALSE)","v":{"$error":"#N/A"}},0,{"$f":"IF(OR(ISBLANK('Copy your Raw data here'!F367),('Copy your Raw data here'!F367=\"NO\")),0,1)","v":0},{"$f":"IF(ISBLANK('Copy your Raw data here'!G367),0,1)","v":0},{"$f":"IF(ISERROR(D368),'Copy your Raw data here'!E367,\"\")","v":0},"",null,null,{"$f":"HOUR('Copy your Raw data here'!B367)","v":0},{"$f":"HOUR('Copy your Raw data here'!C367)","v":0},{"$f":"MINUTE('Copy your Raw data here'!B367)","v":0},{"$f":"MINUTE('Copy your Raw data here'!C367)","v":0},{"$f":"('Copy your Raw data here'!C367-'Copy your Raw data here'!B367)*1440","v":0},60,0,null,null,{"$f":"HOUR('Copy your Raw data here'!G367)","v":0},{"$f":"HOUR('Copy your Raw data here'!H367)","v":0},{"$f":"MINUTE('Copy your Raw data here'!G367)","v":0},{"$f":"MINUTE('Copy your Raw data here'!H367)","v":0},{"$f":"('Copy your Raw data here'!H367-'Copy your Raw data here'!G367)*1440","v":0},1440,{"$f":"IF('Copy your Raw data here'!G367=\"\",\"\",IF(V368<U368,Z368,Y368))","v":""}]
[{"$f":"IF(ISBLANK('Copy your Raw data here'!A368),\"\",('Copy your Raw data here'!A368))","v":""},"",{"$f":"IF('Copy your Raw data here'!D368=\"YES\",1,0)","v":0},{"$f":"VLOOKUP('Copy your Raw data here'!E368,'Stroke Ready Hospital List'!A:B,1,FALSE)","v":{"$error":"#N/A"}},0,{"$f":"IF(OR(ISBLANK('Copy your Raw data here'!F368),('Copy your Raw data here'!F368=\"NO\")),0,1)","v":0},{"$f":"IF(ISBLANK('Copy your Raw data here'!G368),0,1)","v":0},{"$f":"IF(ISERROR(D369),'Copy your Raw data here'!E368,\"\")","v":0},"",null,null,{"$f":"HOUR('Copy your Raw data here'!B368)","v":0},{"$f":"HOUR('Copy your Raw data here'!C368)","v":0},{"$f":"MINUTE('Copy your Raw data here'!B368)","v":0},{"$f":"MINUTE('Copy your Raw data here'!C368)","v":0},{"$f":"('Copy your Raw data here'!C368-'Copy your Raw data here'!B368)*1440","v":0},60,0,null,null,{"$f":"HOUR('Copy your Raw data here'!G368)","v":0},{"$f":"HOUR('Copy your Raw data here'!H368)","v":0},{"$f":"MINUTE('Copy your Raw data here'!G368)","v":0},{"$f":"MINUTE('Copy your Raw data here'!H368)","v":0},{"$f":"('Copy your Raw data here'!H368-'Copy your Raw data here'!G368)*1440","v":0},1440,{"$f":"IF('Copy your Raw data here'!G368=\"\",\"\",IF(V369<U369,Z369,Y369))","v":""}]
[{"$f":"IF(ISBLANK('Copy your Raw data here'!A369),\"\",('Copy your Raw data here'!A369))","v":""},"",{"$f":"IF('Copy your Raw data here'!D369=\"YES\",1,0)","v":0},{"$f":"VLOOKUP('Copy your Raw data here'!E369,'Stroke Ready Hospital List'!A:B,1,FALSE)","v":{"$error":"#N/A"}},0,{"$f":"IF(OR(ISBLANK('Copy your Raw data here'!F369),('Copy your Raw data here'!F369=\"NO\")),0,1)","v":0},{"$f":"IF(ISBLANK('Copy your Raw data here'!G369),0,1)","v":0},{"$f":"IF(ISERROR(D370),'Copy your Raw data here'!E369,\"\")","v":0},"",null,null,{"$f":"HOUR('Copy your Raw data here'!B369)","v":0},{"$f":"HOUR('Copy your Raw data here'!C369)","v":0},{"$f":"MINUTE('Copy your Raw data here'!B369)","v":0},{"$f":"MINUTE('Copy your Raw data here'!C369)","v":0},{"$f":"('Copy your Raw data here'!C369-'Copy your Raw data here'!B369)*1440","v":0},60,0,null,null,{"$f":"HOUR('Copy your Raw data here'!G369)","v":0},{"$f":"HOUR('Copy your Raw data here'!H369)","v":0},{"$f":"MINUTE('Copy your Raw data here'!G369)","v":0},{"$f":"MINUTE('Copy your Raw data here'!H369)","v":0},{"$f":"('Copy your Raw data here'!H369-'Copy your Raw data here'!G369)*1440","v":0},1440,{"$f":"IF('Copy your Raw data here'!G369=\"\",\"\",IF(V370<U370,Z370,Y370))","v":""}]
[{"$f":"IF(ISBLANK('Copy your Raw data here'!A370),\"\",('Copy your Raw data here'!A370))","v":""},"",{"$f":"IF('Copy your Raw data here'!D370=\"YES\",1,0)","v":0},{"$f":"VLOOKUP('Copy your Raw data here'!E370,'Stroke Ready Hospital List'!A:B,1,FALSE)","v":{"$error":"#N/A"}},0,{"$f":"IF(OR(ISBLANK('Copy your Raw data here'!F370),('Copy your Raw data here'!F370=\"NO\")),0,1)","v":0},{"$f":"IF(ISBLANK('Copy your Raw data here'!G370),0,1)","v":0},{"$f":"IF(ISERROR(D371),'Copy your Raw data here'!E370,\"\")","v":0},"",null,null,{"$f":"HOUR('Copy your Raw data here'!B370)","v":0},{"$f":"HOUR('Copy your Raw data here'!C370)","v":0},{"$f":"MINUTE('Copy your Raw data here'!B370)","v":0},{"$f":"MINUTE('Copy your Raw data here'!C370)","v":0},{"$f":"('Copy your Raw data here'!C370-'Copy your Raw data here'!B370)*1440","v":0},60,0,null,null,{"$f":"HOUR('Copy your Raw data here'!G370)","v":0},{"$f":"HOUR('Copy your Raw data here'!H370)","v":0},{"$f":"MINUTE('Copy your Raw data here'!G370)","v":0},{"$f":"MINUTE('Copy your Raw data here'!H370)","v":0},{"$f":"('Copy your Raw data here'!H370-'Copy your Raw data here'!G370)*1440","v":0},1440,{"$f":"IF('Copy your Raw data here'!G370=\"\",\"\",IF(V371<U371,Z371,Y371))","v":""}]
[{"$f":"IF(ISBLANK('Copy your Raw data here'!A371),\"\",('Copy your Raw data here'!A371))","v":""},"",{"$f":"IF('Copy your Raw data here'!D371=\"YES\",1,0)","v":0},{"$f":"VLOOKUP('Copy your Raw data here'!E371,'Stroke Ready Hospital List'!A:B,1,FALSE)","v":{"$error":"#N/A"}},0,{"$f":"IF(OR(ISBLANK('Copy your Raw data here'!F371),('Copy your Raw data here'!F371=\"NO\")),0,1)","v":0},{"$f":"IF(ISBLANK('Copy your Raw data here'!G371),0,1)","v":0},{"$f":"IF(ISERROR(D372),'Copy your Raw data here'!E371,\"\")","v":0},"",null,null,{"$f":"HOUR('Copy your Raw data here'!B371)","v":0},{"$f":"HOUR('Copy your Raw data here'!C371)","v":0},{"$f":"MINUTE('Copy your Raw data here'!B371)","v":0},{"$f":"MINUTE('Copy your Raw data here'!C371)","v":0},{"$f":"('Copy your Raw data here'!C371-'Copy your Raw data here'!B371)*1440","v":0},60,0,null,null,{"$f":"HOUR('Copy your Raw data here'!G371)","v":0},{"$f":"HOUR('Copy your Raw data here'!H371)","v":0},{"$f":"MINUTE('Copy your Raw data here'!G371)","v":0},{"$f":"MINUTE('Copy your Raw data here'!H371)","v":0},{"$f":"('Copy your Raw data here'!H371-'Copy your Raw data here'!G371)*1440","v":0},1440,{"$f":"IF('Copy your Raw data here'!G371=\"\",\"\",IF(V372<U372,Z372,Y372))","v":""}]
[{"$f":"IF(ISBLANK('Copy your Raw data here'!A372),\"\",('Copy your Raw data here'!A372))","v":""},"",{"$f":"IF('Copy your Raw data here'!D372=\"YES\",1,0)","v":0},{"$f":"VLOOKUP('Copy your Raw data here'!E372,'Stroke Ready Hospital List'!A:B,1,FALSE)","v":{"$error":"#N/A"}},0,{"$f":"IF(OR(ISBLANK('Copy your Raw data here'!F372),('Copy your Raw data here'!F372=\"NO\")),0,1)","v":0},{"$f":"IF(ISBLANK('Copy your Raw data here'!G372),0,1)","v":0},{"$f":"IF(ISERROR(D373),'Copy your Raw data here'!E372,\"\")","v":0},"",null,null,{"$f":"HOUR('Copy your Raw data here'!B372)","v":0},{"$f":"HOUR('Copy your Raw data here'!C372)","v":0},{"$f":"MINUTE('Copy your Raw data here'!B372)","v":0},{"$f":"MINUTE('Copy your Raw data here'!C372)","v":0},{"$f":"('Copy your Raw data here'!C372-'Copy your Raw data here'!B372)*1440","v":0},60,0,null,null,{"$f":"HOUR('Copy your Raw data here'!G372)","v":0},{"$f":"HOUR('Copy your Raw data here'!H372)","v":0},{"$f":"MINUTE('Copy your Raw data here'!G372)","v":0},{"$f":"MINUTE('Copy your Raw data here'!H372)","v":0},{"$f":"('Copy your Raw data here'!H372-'Copy your Raw data here'!G372)*1440","v":0},1440,{"$f":"IF('Copy your Raw data here'!G372=\"\",\"\",IF(V373<U373,Z373,Y373))","v":""}]
[{"$f":"IF(ISBLANK('Copy your Raw data here'!A373),\"\",('Copy your Raw data here'!A373))","v":""},"",{"$f":"IF('Copy your Raw data here'!D373=\"YES\",1,0)","v":0},{"$f":"VLOOKUP('Copy your Raw data here'!E373,'Stroke Ready Hospital List'!A:B,1,FALSE)","v":{"$error":"#N/A"}},0,{"$f":"IF(OR(ISBLANK('Copy your Raw data here'!F373),('Copy your Raw data here'!F373=\"NO\")),0,1)","v":0},{"$f":"IF(ISBLANK('Copy your Raw data here'!G373),0,1)","v":0},{"$f":"IF(ISERROR(D374),'Copy your Raw data here'!E373,\"\")","v":0},"",null,null,{"$f":"HOUR('Copy your Raw data here'!B373)","v":0},{"$f":"HOUR('Copy your Raw data here'!C373)","v":0},{"$f":"MINUTE('Copy your Raw data here'!B373)","v":0},{"$f":"MINUTE('Copy your Raw data here'!C373)","v":0},{"$f":"('Copy your Raw data here'!C373-'Copy your Raw data here'!B373)*1440","v":0},60,0,null,null,{"$f":"HOUR('Copy your Raw data here'!G373)","v":0},{"$f":"HOUR('Copy your Raw data here'!H373)","v":0},{"$f":"MINUTE('Copy your Raw data here'!G373)","v":0},{"$f":"MINUTE('Copy your Raw data here'!H373)","v":0},{"$f":"('Copy your Raw data here'!H373-'Copy your Raw data here'!G373)*1440","v":0},1440,{"$f":"IF('Copy your Raw data here'!G373=\"\",\"\",IF(V374<U374,Z374,Y374))","v":""}]
[{"$f":"IF(ISBLANK('Copy your Raw data here'!A374),\"\",('Copy your Raw data here'!A374))","v":""},"",{"$f":"IF('Copy your Raw data here'!D374=\"YES\",1,0)","v":0},{"$f":"VLOOKUP('Copy your Raw data here'!E374,'Stroke Ready Hospital List'!A:B,1,FALSE)","v":{"$error":"#N/A"}},0,{"$f":"IF(OR(ISBLANK('Copy your Raw data here'!F374),('Copy your Raw data here'!F374=\"NO\")),0,1)","v":0},{"$f":"IF(ISBLANK('Copy your Raw data here'!G374),0,1)","v":0},{"$f":"IF(ISERROR(D375),'Copy your Raw data here'!E374,\"\")","v":0},"",null,null,{"$f":"HOUR('Copy your Raw data here'!B374)","v":0},{"$f":"HOUR('Copy your Raw data here'!C374)","v":0},{"$f":"MINUTE('Copy your Raw data here'!B374)","v":0},{"$f":"MINUTE('Copy your Raw data here'!C374)","v":0},{"$f":"('Copy your Raw data here'!C374-'Copy your Raw data here'!B374)*1440","v":0},60,0,null,null,{"$f":"HOUR('Copy your Raw data here'!G374)","v":0},{"$f":"HOUR('Copy your Raw data here'!H374)","v":0},{"$f":"MINUTE('Copy your Raw data here'!G374)","v":0},{"$f":"MINUTE('Copy your Raw data here'!H374)","v":0},{"$f":"('Copy your Raw data here'!H374-'Copy your Raw data here'!G374)*1440","v":0},1440,{"$f":"IF('Copy your Raw data here'!G374=\"\",\"\",IF(V375<U375,Z375,Y375))","v":""}]
[{"$f":"IF(ISBLANK('Copy your Raw data here'!A375),\"\",('Copy your Raw data here'!A375))","v":""},"",{"$f":"IF('Copy your Raw data here'!D375=\"YES\",1,0)","v":0},{"$f":"VLOOKUP('Copy your Raw data here'!E375,'Stroke Ready Hospital List'!A:B,1,FALSE)","v":{"$error":"#N/A"}},0,{"$f":"IF(OR(ISBLANK('Copy your Raw data here'!F375),('Copy your Raw data here'!F375=\"NO\")),0,1)","v":0},{"$f":"IF(ISBLANK('Copy your Raw data here'!G375),0,1)","v":0},{"$f":"IF(ISERROR(D376),'Copy your Raw data here'!E375,\"\")","v":0},"",null,null,{"$f":"HOUR('Copy your Raw data here'!B375)","v":0},{"$f":"HOUR('Copy your Raw data here'!C375)","v":0},{"$f":"MINUTE('Copy your Raw data here'!B375)","v":0},{"$f":"MINUTE('Copy your Raw data here'!C375)","v":0},{"$f":"('Copy your Raw data here'!C375-'Copy your Raw data here'!B375)*1440","v":0},60,0,null,null,{"$f":"HOUR('Copy your Raw data here'!G375)","v":0},{"$f":"HOUR('Copy your Raw data here'!H375)","v":0},{"$f":"MINUTE('Copy your Raw data here'!G375)","v":0},{"$f":"MINUTE('Copy your Raw data here'!H375)","v":0},{"$f":"('Copy your Raw data here'!H375-'Copy your Raw data here'!G375)*1440","v":0},1440,{"$f":"IF('Copy your Raw data here'!G375=\"\",\"\",IF(V376<U376,Z376,Y376))","v":""}]
[{"$f":"IF(ISBLANK('Copy your Raw data here'!A376),\"\",('Copy your Raw data here'!A376))","v":""},"",{"$f":"IF('Copy your Raw data here'!D376=\"YES\",1,0)","v":0},{"$f":"VLOOKUP('Copy your Raw data here'!E376,'Stroke Ready Hospital List'!A:B,1,FALSE)","v":{"$error":"#N/A"}},0,{"$f":"IF(OR(ISBLANK('Copy your Raw data here'!F376),('Copy your Raw data here'!F376=\"NO\")),0,1)","v":0},{"$f":"IF(ISBLANK('Copy your Raw data here'!G376),0,1)","v":0},{"$f":"IF(ISERROR(D377),'Copy your Raw data here'!E376,\"\")","v":0},"",null,null,{"$f":"HOUR('Copy your Raw data here'!B376)","v":0},{"$f":"HOUR('Copy your Raw data here'!C376)","v":0},{"$f":"MINUTE('Copy your Raw data here'!B376)","v":0},{"$f":"MINUTE('Copy your Raw data here'!C376)","v":0},{"$f":"('Copy your Raw data here'!C376-'Copy your Raw data here'!B376)*1440","v":0},60,0,null,null,{"$f":"HOUR('Copy your Raw data here'!G376)","v":0},{"$f":"HOUR('Copy your Raw data here'!H376)","v":0},{"$f":"MINUTE('Copy your Raw data here'!G376)","v":0},{"$f":"MINUTE('Copy your Raw data here'!H376)","v":0},{"$f":"('Copy your Raw data here'!H376-'Copy your Raw data here'!G376)*1440","v":0},1440,{"$f":"IF('Copy your Raw data here'!G376=\"\",\"\",IF(V377<U377,Z377,Y377))","v":""}]
[{"$f":"IF(ISBLANK('Copy your Raw data here'!A377),\"\",('Copy your Raw data here'!A377))","v":""},"",{"$f":"IF('Copy your Raw data here'!D377=\"YES\",1,0)","v":0},{"$f":"VLOOKUP('Copy your Raw data here'!E377,'Stroke Ready Hospital List'!A:B,1,FALSE)","v":{"$error":"#N/A"}},0,{"$f":"IF(OR(ISBLANK('Copy your Raw data here'!F377),('Copy your Raw data here'!F377=\"NO\")),0,1)","v":0},{"$f":"IF(ISBLANK('Copy your Raw data here'!G377),0,1)","v":0},{"$f":"IF(ISERROR(D378),'Copy your Raw data here'!E377,\"\")","v":0},"",null,null,{"$f":"HOUR('Copy your Raw data here'!B377)","v":0},{"$f":"HOUR('Copy your Raw data here'!C377)","v":0},{"$f":"MINUTE('Copy your Raw data here'!B377)","v":0},{"$f":"MINUTE('Copy your Raw data here'!C377)","v":0},{"$f":"('Copy your Raw data here'!C377-'Copy your Raw data here'!B377)*1440","v":0},60,0,null,null,{"$f":"HOUR('Copy your Raw data here'!G377)","v":0},{"$f":"HOUR('Copy your Raw data here'!H377)","v":0},{"$f":"MINUTE('Copy your Raw data here'!G377)","v":0},{"$f":"MINUTE('Copy your Raw data here'!H377)","v":0},{"$f":"('Copy your Raw data here'!H377-'Copy your Raw data here'!G377)*1440","v":0},1440,{"$f":"IF('Copy your Raw data here'!G377=\"\",\"\",IF(V378<U378,Z378,Y378))","v":""}]
[{"$f":"IF(ISBLANK('Copy your Raw data here'!A378),\"\",('Copy your Raw data here'!A378))","v":""},"",{"$f":"IF('Copy your Raw data here'!D378=\"YES\",1,0)","v":0},{"$f":"VLOOKUP('Copy your Raw data here'!E378,'Stroke Ready Hospital List'!A:B,1,FALSE)","v":{"$error":"#N/A"}},0,{"$f":"IF(OR(ISBLANK('Copy your Raw data here'!F378),('Copy your Raw data here'!F378=\"NO\")),0,1)","v":0},{"$f":"IF(ISBLANK('Copy your Raw data here'!G378),0,1)","v":0},{"$f":"IF(ISERROR(D379),'Copy your Raw data here'!E378,\"\")","v":0},"",null,null,{"$f":"HOUR('Copy your Raw data here'!B378)","v":0},{"$f":"HOUR('Copy your Raw data here'!C378)","v":0},{"$f":"MINUTE('Copy your Raw data here'!B378)","v":0},{"$f":"MINUTE('Copy your Raw data here'!C378)","v":0},{"$f":"('Copy your Raw data here'!C378-'Copy your Raw data here'!B378)*1440","v":0},60,0,null,null,{"$f":"HOUR('Copy your Raw data here'!G378)","v":0},{"$f":"HOUR('Copy your Raw data here'!H378)","v":0},{"$f":"MINUTE('Copy your Raw data here'!G378)","v":0},{"$f":"MINUTE('Copy your Raw data here'!H378)","v":0},{"$f":"('Copy your Raw data here'!H378-'Copy your Raw data here'!G378)*1440","v":0},1440,{"$f":"IF('Copy your Raw data here'!G378=\"\",\"\",IF(V379<U379,Z379,Y379))","v":""}]
[{"$f":"IF(ISBLANK('Copy your Raw data here'!A379),\"\",('Copy your Raw data here'!A379))","v":""},"",{"$f":"IF('Copy your Raw data here'!D379=\"YES\",1,0)","v":0},{"$f":"VLOOKUP('Copy your Raw data here'!E379,'Stroke Ready Hospital List'!A:B,1,FALSE)","v":{"$error":"#N/A"}},0,{"$f":"IF(OR(ISBLANK('Copy your Raw data here'!F379),('Copy your Raw data here'!F379=\"NO\")),0,1)","v":0},{"$f":"IF(ISBLANK('Copy your Raw data here'!G379),0,1)","v":0},{"$f":"IF(ISERROR(D380),'Copy your Raw data here'!E379,\"\")","v":0},"",null,null,{"$f":"HOUR('Copy your Raw data here'!B379)","v":0},{"$f":"HOUR('Copy your Raw data here'!C379)","v":0},{"$f":"MINUTE('Copy your Raw data here'!B379)","v":0},{"$f":"MINUTE('Copy your Raw data here'!C379)","v":0},{"$f":"('Copy your Raw data here'!C379-'Copy your Raw data here'!B379)*1440","v":0},60,0,null,null,{"$f":"HOUR('Copy your Raw data here'!G379)","v":0},{"$f":"HOUR('Copy your Raw data here'!H379)","v":0},{"$f":"MINUTE('Copy your Raw data here'!G379)","v":0},{"$f":"MINUTE('Copy your Raw data here'!H379)","v":0},{"$f":"('Copy your Raw data here'!H379-'Copy your Raw data here'!G379)*1440","v":0},1440,{"$f":"IF('Copy your Raw data here'!G379=\"\",\"\",IF(V380<U380,Z380,Y380))","v":""}]
[{"$f":"IF(ISBLANK('Copy your Raw data here'!A380),\"\",('Copy your Raw data here'!A380))","v":""},"",{"$f":"IF('Copy your Raw data here'!D380=\"YES\",1,0)","v":0},{"$f":"VLOOKUP('Copy your Raw data here'!E380,'Stroke Ready Hospital List'!A:B,1,FALSE)","v":{"$error":"#N/A"}},0,{"$f":"IF(OR(ISBLANK('Copy your Raw data here'!F380),('Copy your Raw data here'!F380=\"NO\")),0,1)","v":0},{"$f":"IF(ISBLANK('Copy your Raw data here'!G380),0,1)","v":0},{"$f":"IF(ISERROR(D381),'Copy your Raw data here'!E380,\"\")","v":0},"",null,null,{"$f":"HOUR('Copy your Raw data here'!B380)","v":0},{"$f":"HOUR('Copy your Raw data here'!C380)","v":0},{"$f":"MINUTE('Copy your Raw data here'!B380)","v":0},{"$f":"MINUTE('Copy your Raw data here'!C380)","v":0},{"$f":"('Copy your Raw data here'!C380-'Copy your Raw data here'!B380)*1440","v":0},60,0,null,null,{"$f":"HOUR('Copy your Raw data here'!G380)","v":0},{"$f":"HOUR('Copy your Raw data here'!H380)","v":0},{"$f":"MINUTE('Copy your Raw data here'!G380)","v":0},{"$f":"MINUTE('Copy your Raw data here'!H380)","v":0},{"$f":"('Copy your Raw data here'!H380-'Copy your Raw data here'!G380)*1440","v":0},1440,{"$f":"IF('Copy your Raw data here'!G380=\"\",\"\",IF(V381<U381,Z381,Y381))","v":""}]
[{"$f":"IF(ISBLANK('Copy your Raw data here'!A381),\"\",('Copy your Raw data here'!A381))","v":""},"",{"$f":"IF('Copy your Raw data here'!D381=\"YES\",1,0)","v":0},{"$f":"VLOOKUP('Copy your Raw data here'!E381,'Stroke Ready Hospital List'!A:B,1,FALSE)","v":{"$error":"#N/A"}},0,{"$f":"IF(OR(ISBLANK('Copy your Raw data here'!F381),('Copy your Raw data here'!F381=\"NO\")),0,1)","v":0},{"$f":"IF(ISBLANK('Copy your Raw data here'!G381),0,1)","v":0},{"$f":"IF(ISERROR(D382),'Copy your Raw data here'!E381,\"\")","v":0},"",null,null,{"$f":"HOUR('Copy your Raw data here'!B381)","v":0},{"$f":"HOUR('Copy your Raw data here'!C381)","v":0},{"$f":"MINUTE('Copy your Raw data here'!B381)","v":0},{"$f":"MINUTE('Copy your Raw data here'!C381)","v":0},{"$f":"('Copy your Raw data here'!C381-'Copy your Raw data here'!B381)*1440","v":0},60,0,null,null,{"$f":"HOUR('Copy your Raw data here'!G381)","v":0},{"$f":"HOUR('Copy your Raw data here'!H381)","v":0},{"$f":"MINUTE('Copy your Raw data here'!G381)","v":0},{"$f":"MINUTE('Copy your Raw data here'!H381)","v":0},{"$f":"('Copy your Raw data here'!H381-'Copy your Raw data here'!G381)*1440","v":0},1440,{"$f":"IF('Copy your Raw data here'!G381=\"\",\"\",IF(V382<U382,Z382,Y382))","v":""}]
[{"$f":"IF(ISBLANK('Copy your Raw data here'!A382),\"\",('Copy your Raw data here'!A382))","v":""},"",{"$f":"IF('Copy your Raw data here'!D382=\"YES\",1,0)","v":0},{"$f":"VLOOKUP('Copy your Raw data here'!E382,'Stroke Ready Hospital List'!A:B,1,FALSE)","v":{"$error":"#N/A"}},0,{"$f":"IF(OR(ISBLANK('Copy your Raw data here'!F382),('Copy your Raw data here'!F382=\"NO\")),0,1)","v":0},{"$f":"IF(ISBLANK('Copy your Raw data here'!G382),0,1)","v":0},{"$f":"IF(ISERROR(D383),'Copy your Raw data here'!E382,\"\")","v":0},"",null,null,{"$f":"HOUR('Copy your Raw data here'!B382)","v":0},{"$f":"HOUR('Copy your Raw data here'!C382)","v":0},{"$f":"MINUTE('Copy your Raw data here'!B382)","v":0},{"$f":"MINUTE('Copy your Raw data here'!C382)","v":0},{"$f":"('Copy your Raw data here'!C382-'Copy your Raw data here'!B382)*1440","v":0},60,0,null,null,{"$f":"HOUR('Copy your Raw data here'!G382)","v":0},{"$f":"HOUR('Copy your Raw data here'!H382)","v":0},{"$f":"MINUTE('Copy your Raw data here'!G382)","v":0},{"$f":"MINUTE('Copy your Raw data here'!H382)","v":0},{"$f":"('Copy your Raw data here'!H382-'Copy your Raw data here'!G382)*1440","v":0},1440,{"$f":"IF('Copy your Raw data here'!G382=\"\",\"\",IF(V383<U383,Z383,Y383))","v":""}]
[{"$f":"IF(ISBLANK('Copy your Raw data here'!A383),\"\",('Copy your Raw data here'!A383))","v":""},"",{"$f":"IF('Copy your Raw data here'!D383=\"YES\",1,0)","v":0},{"$f":"VLOOKUP('Copy your Raw data here'!E383,'Stroke Ready Hospital List'!A:B,1,FALSE)","v":{"$error":"#N/A"}},0,{"$f":"IF(OR(ISBLANK('Copy your Raw data here'!F383),('Copy your Raw data here'!F383=\"NO\")),0,1)","v":0},{"$f":"IF(ISBLANK('Copy your Raw data here'!G383),0,1)","v":0},{"$f":"IF(ISERROR(D384),'Copy your Raw data here'!E383,\"\")","v":0},"",null,null,{"$f":"HOUR('Copy your Raw data here'!B383)","v":0},{"$f":"HOUR('Copy your Raw data here'!C383)","v":0},{"$f":"MINUTE('Copy your Raw data here'!B383)","v":0},{"$f":"MINUTE('Copy your Raw data here'!C383)","v":0},{"$f":"('Copy your Raw data here'!C383-'Copy your Raw data here'!B383)*1440","v":0},60,0,null,null,{"$f":"HOUR('Copy your Raw data here'!G383)","v":0},{"$f":"HOUR('Copy your Raw data here'!H383)","v":0},{"$f":"MINUTE('Copy your Raw data here'!G383)","v":0},{"$f":"MINUTE('Copy your Raw data here'!H383)","v":0},{"$f":"('Copy your Raw data here'!H383-'Copy your Raw data here'!G383)*1440","v":0},1440,{"$f":"IF('Copy your Raw data here'!G383=\"\",\"\",IF(V384<U384,Z384,Y384))","v":""}]
[{"$f":"IF(ISBLANK('Copy your Raw data here'!A384),\"\",('Copy your Raw data here'!A384))","v":""},"",{"$f":"IF('Copy your Raw data here'!D384=\"YES\",1,0)","v":0},{"$f":"VLOOKUP('Copy your Raw data here'!E384,'Stroke Ready Hospital List'!A:B,1,FALSE)","v":{"$error":"#N/A"}},0,{"$f":"IF(OR(ISBLANK('Copy your Raw data here'!F384),('Copy your Raw data here'!F384=\"NO\")),0,1)","v":0},{"$f":"IF(ISBLANK('Copy your Raw data here'!G384),0,1)","v":0},{"$f":"IF(ISERROR(D385),'Copy your Raw data here'!E384,\"\")","v":0},"",null,null,{"$f":"HOUR('Copy your Raw data here'!B384)","v":0},{"$f":"HOUR('Copy your Raw data here'!C384)","v":0},{"$f":"MINUTE('Copy your Raw data here'!B384)","v":0},{"$f":"MINUTE('Copy your Raw data here'!C384)","v":0},{"$f":"('Copy your Raw data here'!C384-'Copy your Raw data here'!B384)*1440","v":0},60,0,null,null,{"$f":"HOUR('Copy your Raw data here'!G384)","v":0},{"$f":"HOUR('Copy your Raw data here'!H384)","v":0},{"$f":"MINUTE('Copy your Raw data here'!G384)","v":0},{"$f":"MINUTE('Copy your Raw data here'!H384)","v":0},{"$f":"('Copy your Raw data here'!H384-'Copy your Raw data here'!G384)*1440","v":0},1440,{"$f":"IF('Copy your Raw data here'!G384=\"\",\"\",IF(V385<U385,Z385,Y385))","v":""}]
[{"$f":"IF(ISBLANK('Copy your Raw data here'!A385),\"\",('Copy your Raw data here'!A385))","v":""},"",{"$f":"IF('Copy your Raw data here'!D385=\"YES\",1,0)","v":0},{"$f":"VLOOKUP('Copy your Raw data here'!E385,'Stroke Ready Hospital List'!A:B,1,FALSE)","v":{"$error":"#N/A"}},0,{"$f":"IF(OR(ISBLANK('Copy your Raw data here'!F385),('Copy your Raw data here'!F385=\"NO\")),0,1)","v":0},{"$f":"IF(ISBLANK('Copy your Raw data here'!G385),0,1)","v":0},{"$f":"IF(ISERROR(D386),'Copy your Raw data here'!E385,\"\")","v":0},"",null,null,{"$f":"HOUR('Copy your Raw data here'!B385)","v":0},{"$f":"HOUR('Copy your Raw data here'!C385)","v":0},{"$f":"MINUTE('Copy your Raw data here'!B385)","v":0},{"$f":"MINUTE('Copy your Raw data here'!C385)","v":0},{"$f":"('Copy your Raw data here'!C385-'Copy your Raw data here'!B385)*1440","v":0},60,0,null,null,{"$f":"HOUR('Copy your Raw data here'!G385)","v":0},{"$f":"HOUR('Copy your Raw data here'!H385)","v":0},{"$f":"MINUTE('Copy your Raw data here'!G385)","v":0},{"$f":"MINUTE('Copy your Raw data here'!H385)","v":0},{"$f":"('Copy your Raw data here'!H385-'Copy your Raw data here'!G385)*1440","v":0},1440,{"$f":"IF('Copy your Raw data here'!G385=\"\",\"\",IF(V386<U386,Z386,Y386))","v":""}]
[{"$f":"IF(ISBLANK('Copy your Raw data here'!A386),\"\",('Copy your Raw data here'!A386))","v":""},"",{"$f":"IF('Copy your Raw data here'!D386=\"YES\",1,0)","v":0},{"$f":"VLOOKUP('Copy your Raw data here'!E386,'Stroke Ready Hospital List'!A:B,1,FALSE)","v":{"$error":"#N/A"}},0,{"$f":"IF(OR(ISBLANK('Copy your Raw data here'!F386),('Copy your Raw data here'!F386=\"NO\")),0,1)","v":0},{"$f":"IF(ISBLANK('Copy your Raw data here'!G386),0,1)","v":0},{"$f":"IF(ISERROR(D387),'Copy your Raw data here'!E386,\"\")","v":0},"",null,null,{"$f":"HOUR('Copy your Raw data here'!B386)","v":0},{"$f":"HOUR('Copy your Raw data here'!C386)","v":0},{"$f":"MINUTE('Copy your Raw data here'!B386)","v":0},{"$f":"MINUTE('Copy your Raw data here'!C386)","v":0},{"$f":"('Copy your Raw data here'!C386-'Copy your Raw data here'!B386)*1440","v":0},60,0,null,null,{"$f":"HOUR('Copy your Raw data here'!G386)","v":0},{"$f":"HOUR('Copy your Raw data here'!H386)","v":0},{"$f":"MINUTE('Copy your Raw data here'!G386)","v":0},{"$f":"MINUTE('Copy your Raw data here'!H386)","v":0},{"$f":"('Copy your Raw data here'!H386-'Copy your Raw data here'!G386)*1440","v":0},1440,{"$f":"IF('Copy your Raw data here'!G386=\"\",\"\",IF(V387<U387,Z387,Y387))","v":""}]
[{"$f":"IF(ISBLANK('Copy your Raw data here'!A387),\"\",('Copy your Raw data here'!A387))","v":""},{"$f":"IF(R388=0,\"\",R388)","v":""},{"$f":"IF('Copy your Raw data here'!D387=\"YES\",1,0)","v":0},{"$f":"VLOOKUP('Copy your Raw data here'!E387,'Stroke Ready Hospital List'!A:B,1,FALSE)","v":{"$error":"#N/A"}},0,{"$f":"IF(OR(ISBLANK('Copy your Raw data here'!F387),('Copy your Raw data here'!F387=\"NO\")),0,1)","v":0},{"$f":"IF(ISBLANK('Copy your Raw data here'!G387),0,1)","v":0},{"$f":"IF(ISERROR(D388),'Copy your Raw data here'!E387,\"\")","v":0},{"$f":"IF(R388=0,\"\",AA388)","v":""},null,null,{"$f":"HOUR('Copy your Raw data here'!B387)","v":0},{"$f":"HOUR('Copy your Raw data here'!C387)","v":0},{"$f":"MINUTE('Copy your Raw data here'!B387)","v":0},{"$f":"MINUTE('Copy your Raw data here'!C387)","v":0},{"$f":"('Copy your Raw data here'!C387-'Copy your Raw data here'!B387)*1440","v":0},{"$f":"SUM(60-N388)+O388","v":60},{"$f":"IF(M388<L388,Q388,P388)","v":0},null,null,{"$f":"HOUR('Copy your Raw data here'!G387)","v":0},{"$f":"HOUR('Copy your Raw data here'!H387)","v":0},{"$f":"MINUTE('Copy your Raw data here'!G387)","v":0},{"$f":"MINUTE('Copy your Raw data here'!H387)","v":0},{"$f":"('Copy your Raw data here'!H387-'Copy your Raw data here'!G387)*1440","v":0},{"$f":"SUM((60-W388)+X388)+SUM((23-U388)*60)","v":1440},{"$f":"IF('Copy your Raw data here'!G387=\"\",\"\",IF(V388<U388,Z388,Y388))","v":""}]
[{"$f":"IF(ISBLANK('Copy your Raw data here'!A388),\"\",('Copy your Raw data here'!A388))","v":""},"",{"$f":"IF('Copy your Raw data here'!D388=\"YES\",1,0)","v":0},{"$f":"VLOOKUP('Copy your Raw data here'!E388,'Stroke Ready Hospital List'!A:B,1,FALSE)","v":{"$error":"#N/A"}},0,{"$f":"IF(OR(ISBLANK('Copy your Raw data here'!F388),('Copy your Raw data here'!F388=\"NO\")),0,1)","v":0},{"$f":"IF(ISBLANK('Copy your Raw data here'!G388),0,1)","v":0},{"$f":"IF(ISERROR(D389),'Copy your Raw data here'!E388,\"\")","v":0},"",null,null,{"$f":"HOUR('Copy your Raw data here'!B388)","v":0},{"$f":"HOUR('Copy your Raw data here'!C388)","v":0},{"$f":"MINUTE('Copy your Raw data here'!B388)","v":0},{"$f":"MINUTE('Copy your Raw data here'!C388)","v":0},{"$f":"('Copy your Raw data here'!C388-'Copy your Raw data here'!B388)*1440","v":0},60,0,null,null,{"$f":"HOUR('Copy your Raw data here'!G388)","v":0},{"$f":"HOUR('Copy your Raw data here'!H388)","v":0},{"$f":"MINUTE('Copy your Raw data here'!G388)","v":0},{"$f":"MINUTE('Copy your Raw data here'!H388)","v":0},{"$f":"('Copy your Raw data here'!H388-'Copy your Raw data here'!G388)*1440","v":0},1440,{"$f":"IF('Copy your Raw data here'!G388=\"\",\"\",IF(V389<U389,Z389,Y389))","v":""}]
[{"$f":"IF(ISBLANK('Copy your Raw data here'!A389),\"\",('Copy your Raw data here'!A389))","v":""},"",{"$f":"IF('Copy your Raw data here'!D389=\"YES\",1,0)","v":0},{"$f":"VLOOKUP('Copy your Raw data here'!E389,'Stroke Ready Hospital List'!A:B,1,FALSE)","v":{"$error":"#N/A"}},0,{"$f":"IF(OR(ISBLANK('Copy your Raw data here'!F389),('Copy your Raw data here'!F389=\"NO\")),0,1)","v":0},{"$f":"IF(ISBLANK('Copy your Raw data here'!G389),0,1)","v":0},{"$f":"IF(ISERROR(D390),'Copy your Raw data here'!E389,\"\")","v":0},"",null,null,{"$f":"HOUR('Copy your Raw data here'!B389)","v":0},{"$f":"HOUR('Copy your Raw data here'!C389)","v":0},{"$f":"MINUTE('Copy your Raw data here'!B389)","v":0},{"$f":"MINUTE('Copy your Raw data here'!C389)","v":0},{"$f":"('Copy your Raw data here'!C389-'Copy your Raw data here'!B389)*1440","v":0},60,0,null,null,{"$f":"HOUR('Copy your Raw data here'!G389)","v":0},{"$f":"HOUR('Copy your Raw data here'!H389)","v":0},{"$f":"MINUTE('Copy your Raw data here'!G389)","v":0},{"$f":"MINUTE('Copy your Raw data here'!H389)","v":0},{"$f":"('Copy your Raw data here'!H389-'Copy your Raw data here'!G389)*1440","v":0},1440,{"$f":"IF('Copy your Raw data here'!G389=\"\",\"\",IF(V390<U390,Z390,Y390))","v":""}]
[{"$f":"IF(ISBLANK('Copy your Raw data here'!A390),\"\",('Copy your Raw data here'!A390))","v":""},"",{"$f":"IF('Copy your Raw data here'!D390=\"YES\",1,0)","v":0},{"$f":"VLOOKUP('Copy your Raw data here'!E390,'Stroke Ready Hospital List'!A:B,1,FALSE)","v":{"$error":"#N/A"}},0,{"$f":"IF(OR(ISBLANK('Copy your Raw data here'!F390),('Copy your Raw data here'!F390=\"NO\")),0,1)","v":0},{"$f":"IF(ISBLANK('Copy your Raw data here'!G390),0,1)","v":0},{"$f":"IF(ISERROR(D391),'Copy your Raw data here'!E390,\"\")","v":0},"",null,null,{"$f":"HOUR('Copy your Raw data here'!B390)","v":0},{"$f":"HOUR('Copy your Raw data here'!C390)","v":0},{"$f":"MINUTE('Copy your Raw data here'!B390)","v":0},{"$f":"MINUTE('Copy your Raw data here'!C390)","v":0},{"$f":"('Copy your Raw data here'!C390-'Copy your Raw data here'!B390)*1440","v":0},60,0,null,null,{"$f":"HOUR('Copy your Raw data here'!G390)","v":0},{"$f":"HOUR('Copy your Raw data here'!H390)","v":0},{"$f":"MINUTE('Copy your Raw data here'!G390)","v":0},{"$f":"MINUTE('Copy your Raw data here'!H390)","v":0},{"$f":"('Copy your Raw data here'!H390-'Copy your Raw data here'!G390)*1440","v":0},1440,{"$f":"IF('Copy your Raw data here'!G390=\"\",\"\",IF(V391<U391,Z391,Y391))","v":""}]
[{"$f":"IF(ISBLANK('Copy your Raw data here'!A391),\"\",('Copy your Raw data here'!A391))","v":""},"",{"$f":"IF('Copy your Raw data here'!D391=\"YES\",1,0)","v":0},{"$f":"VLOOKUP('Copy your Raw data here'!E391,'Stroke Ready Hospital List'!A:B,1,FALSE)","v":{"$error":"#N/A"}},0,{"$f":"IF(OR(ISBLANK('Copy your Raw data here'!F391),('Copy your Raw data here'!F391=\"NO\")),0,1)","v":0},{"$f":"IF(ISBLANK('Copy your Raw data here'!G391),0,1)","v":0},{"$f":"IF(ISERROR(D392),'Copy your Raw data here'!E391,\"\")","v":0},"",null,null,{"$f":"HOUR('Copy your Raw data here'!B391)","v":0},{"$f":"HOUR('Copy your Raw data here'!C391)","v":0},{"$f":"MINUTE('Copy your Raw data here'!B391)","v":0},{"$f":"MINUTE('Copy your Raw data here'!C391)","v":0},{"$f":"('Copy your Raw data here'!C391-'Copy your Raw data here'!B391)*1440","v":0},60,0,null,null,{"$f":"HOUR('Copy your Raw data here'!G391)","v":0},{"$f":"HOUR('Copy your Raw data here'!H391)","v":0},{"$f":"MINUTE('Copy your Raw data here'!G391)","v":0},{"$f":"MINUTE('Copy your Raw data here'!H391)","v":0},{"$f":"('Copy your Raw data here'!H391-'Copy your Raw data here'!G391)*1440","v":0},1440,{"$f":"IF('Copy your Raw data here'!G391=\"\",\"\",IF(V392<U392,Z392,Y392))","v":""}]
[{"$f":"IF(ISBLANK('Copy your Raw data here'!A392),\"\",('Copy your Raw data here'!A392))","v":""},"",{"$f":"IF('Copy your Raw data here'!D392=\"YES\",1,0)","v":0},{"$f":"VLOOKUP('Copy your Raw data here'!E392,'Stroke Ready Hospital List'!A:B,1,FALSE)","v":{"$error":"#N/A"}},0,{"$f":"IF(OR(ISBLANK('Copy your Raw data here'!F392),('Copy your Raw data here'!F392=\"NO\")),0,1)","v":0},{"$f":"IF(ISBLANK('Copy your Raw data here'!G392),0,1)","v":0},{"$f":"IF(ISERROR(D393),'Copy your Raw data here'!E392,\"\")","v":0},"",null,null,{"$f":"HOUR('Copy your Raw data here'!B392)","v":0},{"$f":"HOUR('Copy your Raw data here'!C392)","v":0},{"$f":"MINUTE('Copy your Raw data here'!B392)","v":0},{"$f":"MINUTE('Copy your Raw data here'!C392)","v":0},{"$f":"('Copy your Raw data here'!C392-'Copy your Raw data here'!B392)*1440","v":0},60,0,null,null,{"$f":"HOUR('Copy your Raw data here'!G392)","v":0},{"$f":"HOUR('Copy your Raw data here'!H392)","v":0},{"$f":"MINUTE('Copy your Raw data here'!G392)","v":0},{"$f":"MINUTE('Copy your Raw data here'!H392)","v":0},{"$f":"('Copy your Raw data here'!H392-'Copy your Raw data here'!G392)*1440","v":0},1440,{"$f":"IF('Copy your Raw data here'!G392=\"\",\"\",IF(V393<U393,Z393,Y393))","v":""}]
[{"$f":"IF(ISBLANK('Copy your Raw data here'!A393),\"\",('Copy your Raw data here'!A393))","v":""},"",{"$f":"IF('Copy your Raw data here'!D393=\"YES\",1,0)","v":0},{"$f":"VLOOKUP('Copy your Raw data here'!E393,'Stroke Ready Hospital List'!A:B,1,FALSE)","v":{"$error":"#N/A"}},0,{"$f":"IF(OR(ISBLANK('Copy your Raw data here'!F393),('Copy your Raw data here'!F393=\"NO\")),0,1)","v":0},{"$f":"IF(ISBLANK('Copy your Raw data here'!G393),0,1)","v":0},{"$f":"IF(ISERROR(D394),'Copy your Raw data here'!E393,\"\")","v":0},"",null,null,{"$f":"HOUR('Copy your Raw data here'!B393)","v":0},{"$f":"HOUR('Copy your Raw data here'!C393)","v":0},{"$f":"MINUTE('Copy your Raw data here'!B393)","v":0},{"$f":"MINUTE('Copy your Raw data here'!C393)","v":0},{"$f":"('Copy your Raw data here'!C393-'Copy your Raw data here'!B393)*1440","v":0},60,0,null,null,{"$f":"HOUR('Copy your Raw data here'!G393)","v":0},{"$f":"HOUR('Copy your Raw data here'!H393)","v":0},{"$f":"MINUTE('Copy your Raw data here'!G393)","v":0},{"$f":"MINUTE('Copy your Raw data here'!H393)","v":0},{"$f":"('Copy your Raw data here'!H393-'Copy your Raw data here'!G393)*1440","v":0},1440,{"$f":"IF('Copy your Raw data here'!G393=\"\",\"\",IF(V394<U394,Z394,Y394))","v":""}]
[{"$f":"IF(ISBLANK('Copy your Raw data here'!A394),\"\",('Copy your Raw data here'!A394))","v":""},"",{"$f":"IF('Copy your Raw data here'!D394=\"YES\",1,0)","v":0},{"$f":"VLOOKUP('Copy your Raw data here'!E394,'Stroke Ready Hospital List'!A:B,1,FALSE)","v":{"$error":"#N/A"}},0,{"$f":"IF(OR(ISBLANK('Copy your Raw data here'!F394),('Copy your Raw data here'!F394=\"NO\")),0,1)","v":0},{"$f":"IF(ISBLANK('Copy your Raw data here'!G394),0,1)","v":0},{"$f":"IF(ISERROR(D395),'Copy your Raw data here'!E394,\"\")","v":0},"",null,null,{"$f":"HOUR('Copy your Raw data here'!B394)","v":0},{"$f":"HOUR('Copy your Raw data here'!C394)","v":0},{"$f":"MINUTE('Copy your Raw data here'!B394)","v":0},{"$f":"MINUTE('Copy your Raw data here'!C394)","v":0},{"$f":"('Copy your Raw data here'!C394-'Copy your Raw data here'!B394)*1440","v":0},60,0,null,null,{"$f":"HOUR('Copy your Raw data here'!G394)","v":0},{"$f":"HOUR('Copy your Raw data here'!H394)","v":0},{"$f":"MINUTE('Copy your Raw data here'!G394)","v":0},{"$f":"MINUTE('Copy your Raw data here'!H394)","v":0},{"$f":"('Copy your Raw data here'!H394-'Copy your Raw data here'!G394)*1440","v":0},1440,{"$f":"IF('Copy your Raw data here'!G394=\"\",\"\",IF(V395<U395,Z395,Y395))","v":""}]
[{"$f":"IF(ISBLANK('Copy your Raw data here'!A395),\"\",('Copy your Raw data here'!A395))","v":""},"",{"$f":"IF('Copy your Raw data here'!D395=\"YES\",1,0)","v":0},{"$f":"VLOOKUP('Copy your Raw data here'!E395,'Stroke Ready Hospital List'!A:B,1,FALSE)","v":{"$error":"#N/A"}},0,{"$f":"IF(OR(ISBLANK('Copy your Raw data here'!F395),('Copy your Raw data here'!F395=\"NO\")),0,1)","v":0},{"$f":"IF(ISBLANK('Copy your Raw data here'!G395),0,1)","v":0},{"$f":"IF(ISERROR(D396),'Copy your Raw data here'!E395,\"\")","v":0},"",null,null,{"$f":"HOUR('Copy your Raw data here'!B395)","v":0},{"$f":"HOUR('Copy your Raw data here'!C395)","v":0},{"$f":"MINUTE('Copy your Raw data here'!B395)","v":0},{"$f":"MINUTE('Copy your Raw data here'!C395)","v":0},{"$f":"('Copy your Raw data here'!C395-'Copy your Raw data here'!B395)*1440","v":0},60,0,null,null,{"$f":"HOUR('Copy your Raw data here'!G395)","v":0},{"$f":"HOUR('Copy your Raw data here'!H395)","v":0},{"$f":"MINUTE('Copy your Raw data here'!G395)","v":0},{"$f":"MINUTE('Copy your Raw data here'!H395)","v":0},{"$f":"('Copy your Raw data here'!H395-'Copy your Raw data here'!G395)*1440","v":0},1440,{"$f":"IF('Copy your Raw data here'!G395=\"\",\"\",IF(V396<U396,Z396,Y396))","v":""}]
[{"$f":"IF(ISBLANK('Copy your Raw data here'!A396),\"\",('Copy your Raw data here'!A396))","v":""},"",{"$f":"IF('Copy your Raw data here'!D396=\"YES\",1,0)","v":0},{"$f":"VLOOKUP('Copy your Raw data here'!E396,'Stroke Ready Hospital List'!A:B,1,FALSE)","v":{"$error":"#N/A"}},0,{"$f":"IF(OR(ISBLANK('Copy your Raw data here'!F396),('Copy your Raw data here'!F396=\"NO\")),0,1)","v":0},{"$f":"IF(ISBLANK('Copy your Raw data here'!G396),0,1)","v":0},{"$f":"IF(ISERROR(D397),'Copy your Raw data here'!E396,\"\")","v":0},"",null,null,{"$f":"HOUR('Copy your Raw data here'!B396)","v":0},{"$f":"HOUR('Copy your Raw data here'!C396)","v":0},{"$f":"MINUTE('Copy your Raw data here'!B396)","v":0},{"$f":"MINUTE('Copy your Raw data here'!C396)","v":0},{"$f":"('Copy your Raw data here'!C396-'Copy your Raw data here'!B396)*1440","v":0},60,0,null,null,{"$f":"HOUR('Copy your Raw data here'!G396)","v":0},{"$f":"HOUR('Copy your Raw data here'!H396)","v":0},{"$f":"MINUTE('Copy your Raw data here'!G396)","v":0},{"$f":"MINUTE('Copy your Raw data here'!H396)","v":0},{"$f":"('Copy your Raw data here'!H396-'Copy your Raw data here'!G396)*1440","v":0},1440,{"$f":"IF('Copy your Raw data here'!G396=\"\",\"\",IF(V397<U397,Z397,Y397))","v":""}]
[{"$f":"IF(ISBLANK('Copy your Raw data here'!A397),\"\",('Copy your Raw data here'!A397))","v":""},"",{"$f":"IF('Copy your Raw data here'!D397=\"YES\",1,0)","v":0},{"$f":"VLOOKUP('Copy your Raw data here'!E397,'Stroke Ready Hospital List'!A:B,1,FALSE)","v":{"$error":"#N/A"}},0,{"$f":"IF(OR(ISBLANK('Copy your Raw data here'!F397),('Copy your Raw data here'!F397=\"NO\")),0,1)","v":0},{"$f":"IF(ISBLANK('Copy your Raw data here'!G397),0,1)","v":0},{"$f":"IF(ISERROR(D398),'Copy your Raw data here'!E397,\"\")","v":0},"",null,null,{"$f":"HOUR('Copy your Raw data here'!B397)","v":0},{"$f":"HOUR('Copy your Raw data here'!C397)","v":0},{"$f":"MINUTE('Copy your Raw data here'!B397)","v":0},{"$f":"MINUTE('Copy your Raw data here'!C397)","v":0},{"$f":"('Copy your Raw data here'!C397-'Copy your Raw data here'!B397)*1440","v":0},60,0,null,null,{"$f":"HOUR('Copy your Raw data here'!G397)","v":0},{"$f":"HOUR('Copy your Raw data here'!H397)","v":0},{"$f":"MINUTE('Copy your Raw data here'!G397)","v":0},{"$f":"MINUTE('Copy your Raw data here'!H397)","v":0},{"$f":"('Copy your Raw data here'!H397-'Copy your Raw data here'!G397)*1440","v":0},1440,{"$f":"IF('Copy your Raw data here'!G397=\"\",\"\",IF(V398<U398,Z398,Y398))","v":""}]
[{"$f":"IF(ISBLANK('Copy your Raw data here'!A398),\"\",('Copy your Raw data here'!A398))","v":""},"",{"$f":"IF('Copy your Raw data here'!D398=\"YES\",1,0)","v":0},{"$f":"VLOOKUP('Copy your Raw data here'!E398,'Stroke Ready Hospital List'!A:B,1,FALSE)","v":{"$error":"#N/A"}},0,{"$f":"IF(OR(ISBLANK('Copy your Raw data here'!F398),('Copy your Raw data here'!F398=\"NO\")),0,1)","v":0},{"$f":"IF(ISBLANK('Copy your Raw data here'!G398),0,1)","v":0},{"$f":"IF(ISERROR(D399),'Copy your Raw data here'!E398,\"\")","v":0},"",null,null,{"$f":"HOUR('Copy your Raw data here'!B398)","v":0},{"$f":"HOUR('Copy your Raw data here'!C398)","v":0},{"$f":"MINUTE('Copy your Raw data here'!B398)","v":0},{"$f":"MINUTE('Copy your Raw data here'!C398)","v":0},{"$f":"('Copy your Raw data here'!C398-'Copy your Raw data here'!B398)*1440","v":0},60,0,null,null,{"$f":"HOUR('Copy your Raw data here'!G398)","v":0},{"$f":"HOUR('Copy your Raw data here'!H398)","v":0},{"$f":"MINUTE('Copy your Raw data here'!G398)","v":0},{"$f":"MINUTE('Copy your Raw data here'!H398)","v":0},{"$f":"('Copy your Raw data here'!H398-'Copy your Raw data here'!G398)*1440","v":0},1440,{"$f":"IF('Copy your Raw data here'!G398=\"\",\"\",IF(V399<U399,Z399,Y399))","v":""}]
[{"$f":"IF(ISBLANK('Copy your Raw data here'!A399),\"\",('Copy your Raw data here'!A399))","v":""},"",{"$f":"IF('Copy your Raw data here'!D399=\"YES\",1,0)","v":0},{"$f":"VLOOKUP('Copy your Raw data here'!E399,'Stroke Ready Hospital List'!A:B,1,FALSE)","v":{"$error":"#N/A"}},0,{"$f":"IF(OR(ISBLANK('Copy your Raw data here'!F399),('Copy your Raw data here'!F399=\"NO\")),0,1)","v":0},{"$f":"IF(ISBLANK('Copy your Raw data here'!G399),0,1)","v":0},{"$f":"IF(ISERROR(D400),'Copy your Raw data here'!E399,\"\")","v":0},"",null,null,{"$f":"HOUR('Copy your Raw data here'!B399)","v":0},{"$f":"HOUR('Copy your Raw data here'!C399)","v":0},{"$f":"MINUTE('Copy your Raw data here'!B399)","v":0},{"$f":"MINUTE('Copy your Raw data here'!C399)","v":0},{"$f":"('Copy your Raw data here'!C399-'Copy your Raw data here'!B399)*1440","v":0},60,0,null,null,{"$f":"HOUR('Copy your Raw data here'!G399)","v":0},{"$f":"HOUR('Copy your Raw data here'!H399)","v":0},{"$f":"MINUTE('Copy your Raw data here'!G399)","v":0},{"$f":"MINUTE('Copy your Raw data here'!H399)","v":0},{"$f":"('Copy your Raw data here'!H399-'Copy your Raw data here'!G399)*1440","v":0},1440,{"$f":"IF('Copy your Raw data here'!G399=\"\",\"\",IF(V400<U400,Z400,Y400))","v":""}]
[{"$f":"IF(ISBLANK('Copy your Raw data here'!A400),\"\",('Copy your Raw data here'!A400))","v":""},"",{"$f":"IF('Copy your Raw data here'!D400=\"YES\",1,0)","v":0},{"$f":"VLOOKUP('Copy your Raw data here'!E400,'Stroke Ready Hospital List'!A:B,1,FALSE)","v":{"$error":"#N/A"}},0,{"$f":"IF(OR(ISBLANK('Copy your Raw data here'!F400),('Copy your Raw data here'!F400=\"NO\")),0,1)","v":0},{"$f":"IF(ISBLANK('Copy your Raw data here'!G400),0,1)","v":0},{"$f":"IF(ISERROR(D401),'Copy your Raw data here'!E400,\"\")","v":0},"",null,null,{"$f":"HOUR('Copy your Raw data here'!B400)","v":0},{"$f":"HOUR('Copy your Raw data here'!C400)","v":0},{"$f":"MINUTE('Copy your Raw data here'!B400)","v":0},{"$f":"MINUTE('Copy your Raw data here'!C400)","v":0},{"$f":"('Copy your Raw data here'!C400-'Copy your Raw data here'!B400)*1440","v":0},60,0,null,null,{"$f":"HOUR('Copy your Raw data here'!G400)","v":0},{"$f":"HOUR('Copy your Raw data here'!H400)","v":0},{"$f":"MINUTE('Copy your Raw data here'!G400)","v":0},{"$f":"MINUTE('Copy your Raw data here'!H400)","v":0},{"$f":"('Copy your Raw data here'!H400-'Copy your Raw data here'!G400)*1440","v":0},1440,{"$f":"IF('Copy your Raw data here'!G400=\"\",\"\",IF(V401<U401,Z401,Y401))","v":""}]
[{"$f":"IF(ISBLANK('Copy your Raw data here'!A401),\"\",('Copy your Raw data here'!A401))","v":""},"",{"$f":"IF('Copy your Raw data here'!D401=\"YES\",1,0)","v":0},{"$f":"VLOOKUP('Copy your Raw data here'!E401,'Stroke Ready Hospital List'!A:B,1,FALSE)","v":{"$error":"#N/A"}},0,{"$f":"IF(OR(ISBLANK('Copy your Raw data here'!F401),('Copy your Raw data here'!F401=\"NO\")),0,1)","v":0},{"$f":"IF(ISBLANK('Copy your Raw data here'!G401),0,1)","v":0},{"$f":"IF(ISERROR(D402),'Copy your Raw data here'!E401,\"\")","v":0},"",null,null,{"$f":"HOUR('Copy your Raw data here'!B401)","v":0},{"$f":"HOUR('Copy your Raw data here'!C401)","v":0},{"$f":"MINUTE('Copy your Raw data here'!B401)","v":0},{"$f":"MINUTE('Copy your Raw data here'!C401)","v":0},{"$f":"('Copy your Raw data here'!C401-'Copy your Raw data here'!B401)*1440","v":0},60,0,null,null,{"$f":"HOUR('Copy your Raw data here'!G401)","v":0},{"$f":"HOUR('Copy your Raw data here'!H401)","v":0},{"$f":"MINUTE('Copy your Raw data here'!G401)","v":0},{"$f":"MINUTE('Copy your Raw data here'!H401)","v":0},{"$f":"('Copy your Raw data here'!H401-'Copy your Raw data here'!G401)*1440","v":0},1440,{"$f":"IF('Copy your Raw data here'!G401=\"\",\"\",IF(V402<U402,Z402,Y402))","v":""}]
[{"$f":"IF(ISBLANK('Copy your Raw data here'!A402),\"\",('Copy your Raw data here'!A402))","v":""},"",{"$f":"IF('Copy your Raw data here'!D402=\"YES\",1,0)","v":0},{"$f":"VLOOKUP('Copy your Raw data here'!E402,'Stroke Ready Hospital List'!A:B,1,FALSE)","v":{"$error":"#N/A"}},0,{"$f":"IF(OR(ISBLANK('Copy your Raw data here'!F402),('Copy your Raw data here'!F402=\"NO\")),0,1)","v":0},{"$f":"IF(ISBLANK('Copy your Raw data here'!G402),0,1)","v":0},{"$f":"IF(ISERROR(D403),'Copy your Raw data here'!E402,\"\")","v":0},"",null,null,{"$f":"HOUR('Copy your Raw data here'!B402)","v":0},{"$f":"HOUR('Copy your Raw data here'!C402)","v":0},{"$f":"MINUTE('Copy your Raw data here'!B402)","v":0},{"$f":"MINUTE('Copy your Raw data here'!C402)","v":0},{"$f":"('Copy your Raw data here'!C402-'Copy your Raw data here'!B402)*1440","v":0},60,0,null,null,{"$f":"HOUR('Copy your Raw data here'!G402)","v":0},{"$f":"HOUR('Copy your Raw data here'!H402)","v":0},{"$f":"MINUTE('Copy your Raw data here'!G402)","v":0},{"$f":"MINUTE('Copy your Raw data here'!H402)","v":0},{"$f":"('Copy your Raw data here'!H402-'Copy your Raw data here'!G402)*1440","v":0},1440,{"$f":"IF('Copy your Raw data here'!G402=\"\",\"\",IF(V403<U403,Z403,Y403))","v":""}]
[{"$f":"IF(ISBLANK('Copy your Raw data here'!A403),\"\",('Copy your Raw data here'!A403))","v":""},"",{"$f":"IF('Copy your Raw data here'!D403=\"YES\",1,0)","v":0},{"$f":"VLOOKUP('Copy your Raw data here'!E403,'Stroke Ready Hospital List'!A:B,1,FALSE)","v":{"$error":"#N/A"}},0,{"$f":"IF(OR(ISBLANK('Copy your Raw data here'!F403),('Copy your Raw data here'!F403=\"NO\")),0,1)","v":0},{"$f":"IF(ISBLANK('Copy your Raw data here'!G403),0,1)","v":0},{"$f":"IF(ISERROR(D404),'Copy your Raw data here'!E403,\"\")","v":0},"",null,null,{"$f":"HOUR('Copy your Raw data here'!B403)","v":0},{"$f":"HOUR('Copy your Raw data here'!C403)","v":0},{"$f":"MINUTE('Copy your Raw data here'!B403)","v":0},{"$f":"MINUTE('Copy your Raw data here'!C403)","v":0},{"$f":"('Copy your Raw data here'!C403-'Copy your Raw data here'!B403)*1440","v":0},60,0,null,null,{"$f":"HOUR('Copy your Raw data here'!G403)","v":0},{"$f":"HOUR('Copy your Raw data here'!H403)","v":0},{"$f":"MINUTE('Copy your Raw data here'!G403)","v":0},{"$f":"MINUTE('Copy your Raw data here'!H403)","v":0},{"$f":"('Copy your Raw data here'!H403-'Copy your Raw data here'!G403)*1440","v":0},1440,{"$f":"IF('Copy your Raw data here'!G403=\"\",\"\",IF(V404<U404,Z404,Y404))","v":""}]
[{"$f":"IF(ISBLANK('Copy your Raw data here'!A404),\"\",('Copy your Raw data here'!A404))","v":""},"",{"$f":"IF('Copy your Raw data here'!D404=\"YES\",1,0)","v":0},{"$f":"VLOOKUP('Copy your Raw data here'!E404,'Stroke Ready Hospital List'!A:B,1,FALSE)","v":{"$error":"#N/A"}},0,{"$f":"IF(OR(ISBLANK('Copy your Raw data here'!F404),('Copy your Raw data here'!F404=\"NO\")),0,1)","v":0},{"$f":"IF(ISBLANK('Copy your Raw data here'!G404),0,1)","v":0},{"$f":"IF(ISERROR(D405),'Copy your Raw data here'!E404,\"\")","v":0},"",null,null,{"$f":"HOUR('Copy your Raw data here'!B404)","v":0},{"$f":"HOUR('Copy your Raw data here'!C404)","v":0},{"$f":"MINUTE('Copy your Raw data here'!B404)","v":0},{"$f":"MINUTE('Copy your Raw data here'!C404)","v":0},{"$f":"('Copy your Raw data here'!C404-'Copy your Raw data here'!B404)*1440","v":0},60,0,null,null,{"$f":"HOUR('Copy your Raw data here'!G404)","v":0},{"$f":"HOUR('Copy your Raw data here'!H404)","v":0},{"$f":"MINUTE('Copy your Raw data here'!G404)","v":0},{"$f":"MINUTE('Copy your Raw data here'!H404)","v":0},{"$f":"('Copy your Raw data here'!H404-'Copy your Raw data here'!G404)*1440","v":0},1440,{"$f":"IF('Copy your Raw data here'!G404=\"\",\"\",IF(V405<U405,Z405,Y405))","v":""}]
[{"$f":"IF(ISBLANK('Copy your Raw data here'!A405),\"\",('Copy your Raw data here'!A405))","v":""},"",{"$f":"IF('Copy your Raw data here'!D405=\"YES\",1,0)","v":0},{"$f":"VLOOKUP('Copy your Raw data here'!E405,'Stroke Ready Hospital List'!A:B,1,FALSE)","v":{"$error":"#N/A"}},0,{"$f":"IF(OR(ISBLANK('Copy your Raw data here'!F405),('Copy your Raw data here'!F405=\"NO\")),0,1)","v":0},{"$f":"IF(ISBLANK('Copy your Raw data here'!G405),0,1)","v":0},{"$f":"IF(ISERROR(D406),'Copy your Raw data here'!E405,\"\")","v":0},"",null,null,{"$f":"HOUR('Copy your Raw data here'!B405)","v":0},{"$f":"HOUR('Copy your Raw data here'!C405)","v":0},{"$f":"MINUTE('Copy your Raw data here'!B405)","v":0},{"$f":"MINUTE('Copy your Raw data here'!C405)","v":0},{"$f":"('Copy your Raw data here'!C405-'Copy your Raw data here'!B405)*1440","v":0},60,0,null,null,{"$f":"HOUR('Copy your Raw data here'!G405)","v":0},{"$f":"HOUR('Copy your Raw data here'!H405)","v":0},{"$f":"MINUTE('Copy your Raw data here'!G405)","v":0},{"$f":"MINUTE('Copy your Raw data here'!H405)","v":0},{"$f":"('Copy your Raw data here'!H405-'Copy your Raw data here'!G405)*1440","v":0},1440,{"$f":"IF('Copy your Raw data here'!G405=\"\",\"\",IF(V406<U406,Z406,Y406))","v":""}]
[{"$f":"IF(ISBLANK('Copy your Raw data here'!A406),\"\",('Copy your Raw data here'!A406))","v":""},"",{"$f":"IF('Copy your Raw data here'!D406=\"YES\",1,0)","v":0},{"$f":"VLOOKUP('Copy your Raw data here'!E406,'Stroke Ready Hospital List'!A:B,1,FALSE)","v":{"$error":"#N/A"}},0,{"$f":"IF(OR(ISBLANK('Copy your Raw data here'!F406),('Copy your Raw data here'!F406=\"NO\")),0,1)","v":0},{"$f":"IF(ISBLANK('Copy your Raw data here'!G406),0,1)","v":0},{"$f":"IF(ISERROR(D407),'Copy your Raw data here'!E406,\"\")","v":0},"",null,null,{"$f":"HOUR('Copy your Raw data here'!B406)","v":0},{"$f":"HOUR('Copy your Raw data here'!C406)","v":0},{"$f":"MINUTE('Copy your Raw data here'!B406)","v":0},{"$f":"MINUTE('Copy your Raw data here'!C406)","v":0},{"$f":"('Copy your Raw data here'!C406-'Copy your Raw data here'!B406)*1440","v":0},60,0,null,null,{"$f":"HOUR('Copy your Raw data here'!G406)","v":0},{"$f":"HOUR('Copy your Raw data here'!H406)","v":0},{"$f":"MINUTE('Copy your Raw data here'!G406)","v":0},{"$f":"MINUTE('Copy your Raw data here'!H406)","v":0},{"$f":"('Copy your Raw data here'!H406-'Copy your Raw data here'!G406)*1440","v":0},1440,{"$f":"IF('Copy your Raw data here'!G406=\"\",\"\",IF(V407<U407,Z407,Y407))","v":""}]
[{"$f":"IF(ISBLANK('Copy your Raw data here'!A407),\"\",('Copy your Raw data here'!A407))","v":""},"",{"$f":"IF('Copy your Raw data here'!D407=\"YES\",1,0)","v":0},{"$f":"VLOOKUP('Copy your Raw data here'!E407,'Stroke Ready Hospital List'!A:B,1,FALSE)","v":{"$error":"#N/A"}},0,{"$f":"IF(OR(ISBLANK('Copy your Raw data here'!F407),('Copy your Raw data here'!F407=\"NO\")),0,1)","v":0},{"$f":"IF(ISBLANK('Copy your Raw data here'!G407),0,1)","v":0},{"$f":"IF(ISERROR(D408),'Copy your Raw data here'!E407,\"\")","v":0},"",null,null,{"$f":"HOUR('Copy your Raw data here'!B407)","v":0},{"$f":"HOUR('Copy your Raw data here'!C407)","v":0},{"$f":"MINUTE('Copy your Raw data here'!B407)","v":0},{"$f":"MINUTE('Copy your Raw data here'!C407)","v":0},{"$f":"('Copy your Raw data here'!C407-'Copy your Raw data here'!B407)*1440","v":0},60,0,null,null,{"$f":"HOUR('Copy your Raw data here'!G407)","v":0},{"$f":"HOUR('Copy your Raw data here'!H407)","v":0},{"$f":"MINUTE('Copy your Raw data here'!G407)","v":0},{"$f":"MINUTE('Copy your Raw data here'!H407)","v":0},{"$f":"('Copy your Raw data here'!H407-'Copy your Raw data here'!G407)*1440","v":0},1440,{"$f":"IF('Copy your Raw data here'!G407=\"\",\"\",IF(V408<U408,Z408,Y408))","v":""}]
[{"$f":"IF(ISBLANK('Copy your Raw data here'!A408),\"\",('Copy your Raw data here'!A408))","v":""},"",{"$f":"IF('Copy your Raw data here'!D408=\"YES\",1,0)","v":0},{"$f":"VLOOKUP('Copy your Raw data here'!E408,'Stroke Ready Hospital List'!A:B,1,FALSE)","v":{"$error":"#N/A"}},0,{"$f":"IF(OR(ISBLANK('Copy your Raw data here'!F408),('Copy your Raw data here'!F408=\"NO\")),0,1)","v":0},{"$f":"IF(ISBLANK('Copy your Raw data here'!G408),0,1)","v":0},{"$f":"IF(ISERROR(D409),'Copy your Raw data here'!E408,\"\")","v":0},"",null,null,{"$f":"HOUR('Copy your Raw data here'!B408)","v":0},{"$f":"HOUR('Copy your Raw data here'!C408)","v":0},{"$f":"MINUTE('Copy your Raw data here'!B408)","v":0},{"$f":"MINUTE('Copy your Raw data here'!C408)","v":0},{"$f":"('Copy your Raw data here'!C408-'Copy your Raw data here'!B408)*1440","v":0},60,0,null,null,{"$f":"HOUR('Copy your Raw data here'!G408)","v":0},{"$f":"HOUR('Copy your Raw data here'!H408)","v":0},{"$f":"MINUTE('Copy your Raw data here'!G408)","v":0},{"$f":"MINUTE('Copy your Raw data here'!H408)","v":0},{"$f":"('Copy your Raw data here'!H408-'Copy your Raw data here'!G408)*1440","v":0},1440,{"$f":"IF('Copy your Raw data here'!G408=\"\",\"\",IF(V409<U409,Z409,Y409))","v":""}]
[{"$f":"IF(ISBLANK('Copy your Raw data here'!A409),\"\",('Copy your Raw data here'!A409))","v":""},"",{"$f":"IF('Copy your Raw data here'!D409=\"YES\",1,0)","v":0},{"$f":"VLOOKUP('Copy your Raw data here'!E409,'Stroke Ready Hospital List'!A:B,1,FALSE)","v":{"$error":"#N/A"}},0,{"$f":"IF(OR(ISBLANK('Copy your Raw data here'!F409),('Copy your Raw data here'!F409=\"NO\")),0,1)","v":0},{"$f":"IF(ISBLANK('Copy your Raw data here'!G409),0,1)","v":0},{"$f":"IF(ISERROR(D410),'Copy your Raw data here'!E409,\"\")","v":0},"",null,null,{"$f":"HOUR('Copy your Raw data here'!B409)","v":0},{"$f":"HOUR('Copy your Raw data here'!C409)","v":0},{"$f":"MINUTE('Copy your Raw data here'!B409)","v":0},{"$f":"MINUTE('Copy your Raw data here'!C409)","v":0},{"$f":"('Copy your Raw data here'!C409-'Copy your Raw data here'!B409)*1440","v":0},60,0,null,null,{"$f":"HOUR('Copy your Raw data here'!G409)","v":0},{"$f":"HOUR('Copy your Raw data here'!H409)","v":0},{"$f":"MINUTE('Copy your Raw data here'!G409)","v":0},{"$f":"MINUTE('Copy your Raw data here'!H409)","v":0},{"$f":"('Copy your Raw data here'!H409-'Copy your Raw data here'!G409)*1440","v":0},1440,{"$f":"IF('Copy your Raw data here'!G409=\"\",\"\",IF(V410<U410,Z410,Y410))","v":""}]
[{"$f":"IF(ISBLANK('Copy your Raw data here'!A410),\"\",('Copy your Raw data here'!A410))","v":""},"",{"$f":"IF('Copy your Raw data here'!D410=\"YES\",1,0)","v":0},{"$f":"VLOOKUP('Copy your Raw data here'!E410,'Stroke Ready Hospital List'!A:B,1,FALSE)","v":{"$error":"#N/A"}},0,{"$f":"IF(OR(ISBLANK('Copy your Raw data here'!F410),('Copy your Raw data here'!F410=\"NO\")),0,1)","v":0},{"$f":"IF(ISBLANK('Copy your Raw data here'!G410),0,1)","v":0},{"$f":"IF(ISERROR(D411),'Copy your Raw data here'!E410,\"\")","v":0},"",null,null,{"$f":"HOUR('Copy your Raw data here'!B410)","v":0},{"$f":"HOUR('Copy your Raw data here'!C410)","v":0},{"$f":"MINUTE('Copy your Raw data here'!B410)","v":0},{"$f":"MINUTE('Copy your Raw data here'!C410)","v":0},{"$f":"('Copy your Raw data here'!C410-'Copy your Raw data here'!B410)*1440","v":0},60,0,null,null,{"$f":"HOUR('Copy your Raw data here'!G410)","v":0},{"$f":"HOUR('Copy your Raw data here'!H410)","v":0},{"$f":"MINUTE('Copy your Raw data here'!G410)","v":0},{"$f":"MINUTE('Copy your Raw data here'!H410)","v":0},{"$f":"('Copy your Raw data here'!H410-'Copy your Raw data here'!G410)*1440","v":0},1440,{"$f":"IF('Copy your Raw data here'!G410=\"\",\"\",IF(V411<U411,Z411,Y411))","v":""}]
[{"$f":"IF(ISBLANK('Copy your Raw data here'!A411),\"\",('Copy your Raw data here'!A411))","v":""},"",{"$f":"IF('Copy your Raw data here'!D411=\"YES\",1,0)","v":0},{"$f":"VLOOKUP('Copy your Raw data here'!E411,'Stroke Ready Hospital List'!A:B,1,FALSE)","v":{"$error":"#N/A"}},{"$f":"IF(ISERROR(D412),0,1)","v":0},{"$f":"IF(OR(ISBLANK('Copy your Raw data here'!F411),('Copy your Raw data here'!F411=\"NO\")),0,1)","v":0},{"$f":"IF(ISBLANK('Copy your Raw data here'!G411),0,1)","v":0},{"$f":"IF(ISERROR(D412),'Copy your Raw data here'!E411,\"\")","v":0},"",null,null,{"$f":"HOUR('Copy your Raw data here'!B411)","v":0},{"$f":"HOUR('Copy your Raw data here'!C411)","v":0},{"$f":"MINUTE('Copy your Raw data here'!B411)","v":0},{"$f":"MINUTE('Copy your Raw data here'!C411)","v":0},{"$f":"('Copy your Raw data here'!C411-'Copy your Raw data here'!B411)*1440","v":0},60,0,null,null,{"$f":"HOUR('Copy your Raw data here'!G411)","v":0},{"$f":"HOUR('Copy your Raw data here'!H411)","v":0},{"$f":"MINUTE('Copy your Raw data here'!G411)","v":0},{"$f":"MINUTE('Copy your Raw data here'!H411)","v":0},{"$f":"('Copy your Raw data here'!H411-'Copy your Raw data here'!G411)*1440","v":0},1440,{"$f":"IF('Copy your Raw data here'!G411=\"\",\"\",IF(V412<U412,Z412,Y412))","v":""}]
[{"$f":"IF(ISBLANK('Copy your Raw data here'!A412),\"\",('Copy your Raw data here'!A412))","v":""},"",{"$f":"IF('Copy your Raw data here'!D412=\"YES\",1,0)","v":0},{"$f":"VLOOKUP('Copy your Raw data here'!E412,'Stroke Ready Hospital List'!A:B,1,FALSE)","v":{"$error":"#N/A"}},0,{"$f":"IF(OR(ISBLANK('Copy your Raw data here'!F412),('Copy your Raw data here'!F412=\"NO\")),0,1)","v":0},{"$f":"IF(ISBLANK('Copy your Raw data here'!G412),0,1)","v":0},{"$f":"IF(ISERROR(D413),'Copy your Raw data here'!E412,\"\")","v":0},"",null,null,{"$f":"HOUR('Copy your Raw data here'!B412)","v":0},{"$f":"HOUR('Copy your Raw data here'!C412)","v":0},{"$f":"MINUTE('Copy your Raw data here'!B412)","v":0},{"$f":"MINUTE('Copy your Raw data here'!C412)","v":0},{"$f":"('Copy your Raw data here'!C412-'Copy your Raw data here'!B412)*1440","v":0},60,0,null,null,{"$f":"HOUR('Copy your Raw data here'!G412)","v":0},{"$f":"HOUR('Copy your Raw data here'!H412)","v":0},{"$f":"MINUTE('Copy your Raw data here'!G412)","v":0},{"$f":"MINUTE('Copy your Raw data here'!H412)","v":0},{"$f":"('Copy your Raw data here'!H412-'Copy your Raw data here'!G412)*1440","v":0},1440,{"$f":"IF('Copy your Raw data here'!G412=\"\",\"\",IF(V413<U413,Z413,Y413))","v":""}]
[{"$f":"IF(ISBLANK('Copy your Raw data here'!A413),\"\",('Copy your Raw data here'!A413))","v":""},"",{"$f":"IF('Copy your Raw data here'!D413=\"YES\",1,0)","v":0},{"$f":"VLOOKUP('Copy your Raw data here'!E413,'Stroke Ready Hospital List'!A:B,1,FALSE)","v":{"$error":"#N/A"}},0,{"$f":"IF(OR(ISBLANK('Copy your Raw data here'!F413),('Copy your Raw data here'!F413=\"NO\")),0,1)","v":0},{"$f":"IF(ISBLANK('Copy your Raw data here'!G413),0,1)","v":0},{"$f":"IF(ISERROR(D414),'Copy your Raw data here'!E413,\"\")","v":0},"",null,null,{"$f":"HOUR('Copy your Raw data here'!B413)","v":0},{"$f":"HOUR('Copy your Raw data here'!C413)","v":0},{"$f":"MINUTE('Copy your Raw data here'!B413)","v":0},{"$f":"MINUTE('Copy your Raw data here'!C413)","v":0},{"$f":"('Copy your Raw data here'!C413-'Copy your Raw data here'!B413)*1440","v":0},60,0,null,null,{"$f":"HOUR('Copy your Raw data here'!G413)","v":0},{"$f":"HOUR('Copy your Raw data here'!H413)","v":0},{"$f":"MINUTE('Copy your Raw data here'!G413)","v":0},{"$f":"MINUTE('Copy your Raw data here'!H413)","v":0},{"$f":"('Copy your Raw data here'!H413-'Copy your Raw data here'!G413)*1440","v":0},1440,{"$f":"IF('Copy your Raw data here'!G413=\"\",\"\",IF(V414<U414,Z414,Y414))","v":""}]
[{"$f":"IF(ISBLANK('Copy your Raw data here'!A414),\"\",('Copy your Raw data here'!A414))","v":""},"",{"$f":"IF('Copy your Raw data here'!D414=\"YES\",1,0)","v":0},{"$f":"VLOOKUP('Copy your Raw data here'!E414,'Stroke Ready Hospital List'!A:B,1,FALSE)","v":{"$error":"#N/A"}},0,{"$f":"IF(OR(ISBLANK('Copy your Raw data here'!F414),('Copy your Raw data here'!F414=\"NO\")),0,1)","v":0},{"$f":"IF(ISBLANK('Copy your Raw data here'!G414),0,1)","v":0},{"$f":"IF(ISERROR(D415),'Copy your Raw data here'!E414,\"\")","v":0},"",null,null,{"$f":"HOUR('Copy your Raw data here'!B414)","v":0},{"$f":"HOUR('Copy your Raw data here'!C414)","v":0},{"$f":"MINUTE('Copy your Raw data here'!B414)","v":0},{"$f":"MINUTE('Copy your Raw data here'!C414)","v":0},{"$f":"('Copy your Raw data here'!C414-'Copy your Raw data here'!B414)*1440","v":0},60,0,null,null,{"$f":"HOUR('Copy your Raw data here'!G414)","v":0},{"$f":"HOUR('Copy your Raw data here'!H414)","v":0},{"$f":"MINUTE('Copy your Raw data here'!G414)","v":0},{"$f":"MINUTE('Copy your Raw data here'!H414)","v":0},{"$f":"('Copy your Raw data here'!H414-'Copy your Raw data here'!G414)*1440","v":0},1440,{"$f":"IF('Copy your Raw data here'!G414=\"\",\"\",IF(V415<U415,Z415,Y415))","v":""}]
[{"$f":"IF(ISBLANK('Copy your Raw data here'!A415),\"\",('Copy your Raw data here'!A415))","v":""},"",{"$f":"IF('Copy your Raw data here'!D415=\"YES\",1,0)","v":0},{"$f":"VLOOKUP('Copy your Raw data here'!E415,'Stroke Ready Hospital List'!A:B,1,FALSE)","v":{"$error":"#N/A"}},0,{"$f":"IF(OR(ISBLANK('Copy your Raw data here'!F415),('Copy your Raw data here'!F415=\"NO\")),0,1)","v":0},{"$f":"IF(ISBLANK('Copy your Raw data here'!G415),0,1)","v":0},{"$f":"IF(ISERROR(D416),'Copy your Raw data here'!E415,\"\")","v":0},"",null,null,{"$f":"HOUR('Copy your Raw data here'!B415)","v":0},{"$f":"HOUR('Copy your Raw data here'!C415)","v":0},{"$f":"MINUTE('Copy your Raw data here'!B415)","v":0},{"$f":"MINUTE('Copy your Raw data here'!C415)","v":0},{"$f":"('Copy your Raw data here'!C415-'Copy your Raw data here'!B415)*1440","v":0},60,0,null,null,{"$f":"HOUR('Copy your Raw data here'!G415)","v":0},{"$f":"HOUR('Copy your Raw data here'!H415)","v":0},{"$f":"MINUTE('Copy your Raw data here'!G415)","v":0},{"$f":"MINUTE('Copy your Raw data here'!H415)","v":0},{"$f":"('Copy your Raw data here'!H415-'Copy your Raw data here'!G415)*1440","v":0},1440,{"$f":"IF('Copy your Raw data here'!G415=\"\",\"\",IF(V416<U416,Z416,Y416))","v":""}]
[{"$f":"IF(ISBLANK('Copy your Raw data here'!A416),\"\",('Copy your Raw data here'!A416))","v":""},"",{"$f":"IF('Copy your Raw data here'!D416=\"YES\",1,0)","v":0},{"$f":"VLOOKUP('Copy your Raw data here'!E416,'Stroke Ready Hospital List'!A:B,1,FALSE)","v":{"$error":"#N/A"}},0,{"$f":"IF(OR(ISBLANK('Copy your Raw data here'!F416),('Copy your Raw data here'!F416=\"NO\")),0,1)","v":0},{"$f":"IF(ISBLANK('Copy your Raw data here'!G416),0,1)","v":0},{"$f":"IF(ISERROR(D417),'Copy your Raw data here'!E416,\"\")","v":0},"",null,null,{"$f":"HOUR('Copy your Raw data here'!B416)","v":0},{"$f":"HOUR('Copy your Raw data here'!C416)","v":0},{"$f":"MINUTE('Copy your Raw data here'!B416)","v":0},{"$f":"MINUTE('Copy your Raw data here'!C416)","v":0},{"$f":"('Copy your Raw data here'!C416-'Copy your Raw data here'!B416)*1440","v":0},60,0,null,null,{"$f":"HOUR('Copy your Raw data here'!G416)","v":0},{"$f":"HOUR('Copy your Raw data here'!H416)","v":0},{"$f":"MINUTE('Copy your Raw data here'!G416)","v":0},{"$f":"MINUTE('Copy your Raw data here'!H416)","v":0},{"$f":"('Copy your Raw data here'!H416-'Copy your Raw data here'!G416)*1440","v":0},1440,{"$f":"IF('Copy your Raw data here'!G416=\"\",\"\",IF(V417<U417,Z417,Y417))","v":""}]
[{"$f":"IF(ISBLANK('Copy your Raw data here'!A417),\"\",('Copy your Raw data here'!A417))","v":""},"",{"$f":"IF('Copy your Raw data here'!D417=\"YES\",1,0)","v":0},{"$f":"VLOOKUP('Copy your Raw data here'!E417,'Stroke Ready Hospital List'!A:B,1,FALSE)","v":{"$error":"#N/A"}},0,{"$f":"IF(OR(ISBLANK('Copy your Raw data here'!F417),('Copy your Raw data here'!F417=\"NO\")),0,1)","v":0},{"$f":"IF(ISBLANK('Copy your Raw data here'!G417),0,1)","v":0},{"$f":"IF(ISERROR(D418),'Copy your Raw data here'!E417,\"\")","v":0},"",null,null,{"$f":"HOUR('Copy your Raw data here'!B417)","v":0},{"$f":"HOUR('Copy your Raw data here'!C417)","v":0},{"$f":"MINUTE('Copy your Raw data here'!B417)","v":0},{"$f":"MINUTE('Copy your Raw data here'!C417)","v":0},{"$f":"('Copy your Raw data here'!C417-'Copy your Raw data here'!B417)*1440","v":0},60,0,null,null,{"$f":"HOUR('Copy your Raw data here'!G417)","v":0},{"$f":"HOUR('Copy your Raw data here'!H417)","v":0},{"$f":"MINUTE('Copy your Raw data here'!G417)","v":0},{"$f":"MINUTE('Copy your Raw data here'!H417)","v":0},{"$f":"('Copy your Raw data here'!H417-'Copy your Raw data here'!G417)*1440","v":0},1440,{"$f":"IF('Copy your Raw data here'!G417=\"\",\"\",IF(V418<U418,Z418,Y418))","v":""}]
[{"$f":"IF(ISBLANK('Copy your Raw data here'!A418),\"\",('Copy your Raw data here'!A418))","v":""},"",{"$f":"IF('Copy your Raw data here'!D418=\"YES\",1,0)","v":0},{"$f":"VLOOKUP('Copy your Raw data here'!E418,'Stroke Ready Hospital List'!A:B,1,FALSE)","v":{"$error":"#N/A"}},0,{"$f":"IF(OR(ISBLANK('Copy your Raw data here'!F418),('Copy your Raw data here'!F418=\"NO\")),0,1)","v":0},{"$f":"IF(ISBLANK('Copy your Raw data here'!G418),0,1)","v":0},{"$f":"IF(ISERROR(D419),'Copy your Raw data here'!E418,\"\")","v":0},"",null,null,{"$f":"HOUR('Copy your Raw data here'!B418)","v":0},{"$f":"HOUR('Copy your Raw data here'!C418)","v":0},{"$f":"MINUTE('Copy your Raw data here'!B418)","v":0},{"$f":"MINUTE('Copy your Raw data here'!C418)","v":0},{"$f":"('Copy your Raw data here'!C418-'Copy your Raw data here'!B418)*1440","v":0},60,0,null,null,{"$f":"HOUR('Copy your Raw data here'!G418)","v":0},{"$f":"HOUR('Copy your Raw data here'!H418)","v":0},{"$f":"MINUTE('Copy your Raw data here'!G418)","v":0},{"$f":"MINUTE('Copy your Raw data here'!H418)","v":0},{"$f":"('Copy your Raw data here'!H418-'Copy your Raw data here'!G418)*1440","v":0},1440,{"$f":"IF('Copy your Raw data here'!G418=\"\",\"\",IF(V419<U419,Z419,Y419))","v":""}]
[{"$f":"IF(ISBLANK('Copy your Raw data here'!A419),\"\",('Copy your Raw data here'!A419))","v":""},"",{"$f":"IF('Copy your Raw data here'!D419=\"YES\",1,0)","v":0},{"$f":"VLOOKUP('Copy your Raw data here'!E419,'Stroke Ready Hospital List'!A:B,1,FALSE)","v":{"$error":"#N/A"}},0,{"$f":"IF(OR(ISBLANK('Copy your Raw data here'!F419),('Copy your Raw data here'!F419=\"NO\")),0,1)","v":0},{"$f":"IF(ISBLANK('Copy your Raw data here'!G419),0,1)","v":0},{"$f":"IF(ISERROR(D420),'Copy your Raw data here'!E419,\"\")","v":0},"",null,null,{"$f":"HOUR('Copy your Raw data here'!B419)","v":0},{"$f":"HOUR('Copy your Raw data here'!C419)","v":0},{"$f":"MINUTE('Copy your Raw data here'!B419)","v":0},{"$f":"MINUTE('Copy your Raw data here'!C419)","v":0},{"$f":"('Copy your Raw data here'!C419-'Copy your Raw data here'!B419)*1440","v":0},60,0,null,null,{"$f":"HOUR('Copy your Raw data here'!G419)","v":0},{"$f":"HOUR('Copy your Raw data here'!H419)","v":0},{"$f":"MINUTE('Copy your Raw data here'!G419)","v":0},{"$f":"MINUTE('Copy your Raw data here'!H419)","v":0},{"$f":"('Copy your Raw data here'!H419-'Copy your Raw data here'!G419)*1440","v":0},1440,{"$f":"IF('Copy your Raw data here'!G419=\"\",\"\",IF(V420<U420,Z420,Y420))","v":""}]
[{"$f":"IF(ISBLANK('Copy your Raw data here'!A420),\"\",('Copy your Raw data here'!A420))","v":""},"",{"$f":"IF('Copy your Raw data here'!D420=\"YES\",1,0)","v":0},{"$f":"VLOOKUP('Copy your Raw data here'!E420,'Stroke Ready Hospital List'!A:B,1,FALSE)","v":{"$error":"#N/A"}},0,{"$f":"IF(OR(ISBLANK('Copy your Raw data here'!F420),('Copy your Raw data here'!F420=\"NO\")),0,1)","v":0},{"$f":"IF(ISBLANK('Copy your Raw data here'!G420),0,1)","v":0},{"$f":"IF(ISERROR(D421),'Copy your Raw data here'!E420,\"\")","v":0},"",null,null,{"$f":"HOUR('Copy your Raw data here'!B420)","v":0},{"$f":"HOUR('Copy your Raw data here'!C420)","v":0},{"$f":"MINUTE('Copy your Raw data here'!B420)","v":0},{"$f":"MINUTE('Copy your Raw data here'!C420)","v":0},{"$f":"('Copy your Raw data here'!C420-'Copy your Raw data here'!B420)*1440","v":0},60,0,null,null,{"$f":"HOUR('Copy your Raw data here'!G420)","v":0},{"$f":"HOUR('Copy your Raw data here'!H420)","v":0},{"$f":"MINUTE('Copy your Raw data here'!G420)","v":0},{"$f":"MINUTE('Copy your Raw data here'!H420)","v":0},{"$f":"('Copy your Raw data here'!H420-'Copy your Raw data here'!G420)*1440","v":0},1440,{"$f":"IF('Copy your Raw data here'!G420=\"\",\"\",IF(V421<U421,Z421,Y421))","v":""}]
[{"$f":"IF(ISBLANK('Copy your Raw data here'!A421),\"\",('Copy your Raw data here'!A421))","v":""},"",{"$f":"IF('Copy your Raw data here'!D421=\"YES\",1,0)","v":0},{"$f":"VLOOKUP('Copy your Raw data here'!E421,'Stroke Ready Hospital List'!A:B,1,FALSE)","v":{"$error":"#N/A"}},0,{"$f":"IF(OR(ISBLANK('Copy your Raw data here'!F421),('Copy your Raw data here'!F421=\"NO\")),0,1)","v":0},{"$f":"IF(ISBLANK('Copy your Raw data here'!G421),0,1)","v":0},{"$f":"IF(ISERROR(D422),'Copy your Raw data here'!E421,\"\")","v":0},"",null,null,{"$f":"HOUR('Copy your Raw data here'!B421)","v":0},{"$f":"HOUR('Copy your Raw data here'!C421)","v":0},{"$f":"MINUTE('Copy your Raw data here'!B421)","v":0},{"$f":"MINUTE('Copy your Raw data here'!C421)","v":0},{"$f":"('Copy your Raw data here'!C421-'Copy your Raw data here'!B421)*1440","v":0},60,0,null,null,{"$f":"HOUR('Copy your Raw data here'!G421)","v":0},{"$f":"HOUR('Copy your Raw data here'!H421)","v":0},{"$f":"MINUTE('Copy your Raw data here'!G421)","v":0},{"$f":"MINUTE('Copy your Raw data here'!H421)","v":0},{"$f":"('Copy your Raw data here'!H421-'Copy your Raw data here'!G421)*1440","v":0},1440,{"$f":"IF('Copy your Raw data here'!G421=\"\",\"\",IF(V422<U422,Z422,Y422))","v":""}]
[{"$f":"IF(ISBLANK('Copy your Raw data here'!A422),\"\",('Copy your Raw data here'!A422))","v":""},"",{"$f":"IF('Copy your Raw data here'!D422=\"YES\",1,0)","v":0},{"$f":"VLOOKUP('Copy your Raw data here'!E422,'Stroke Ready Hospital List'!A:B,1,FALSE)","v":{"$error":"#N/A"}},0,{"$f":"IF(OR(ISBLANK('Copy your Raw data here'!F422),('Copy your Raw data here'!F422=\"NO\")),0,1)","v":0},{"$f":"IF(ISBLANK('Copy your Raw data here'!G422),0,1)","v":0},{"$f":"IF(ISERROR(D423),'Copy your Raw data here'!E422,\"\")","v":0},"",null,null,{"$f":"HOUR('Copy your Raw data here'!B422)","v":0},{"$f":"HOUR('Copy your Raw data here'!C422)","v":0},{"$f":"MINUTE('Copy your Raw data here'!B422)","v":0},{"$f":"MINUTE('Copy your Raw data here'!C422)","v":0},{"$f":"('Copy your Raw data here'!C422-'Copy your Raw data here'!B422)*1440","v":0},60,0,null,null,{"$f":"HOUR('Copy your Raw data here'!G422)","v":0},{"$f":"HOUR('Copy your Raw data here'!H422)","v":0},{"$f":"MINUTE('Copy your Raw data here'!G422)","v":0},{"$f":"MINUTE('Copy your Raw data here'!H422)","v":0},{"$f":"('Copy your Raw data here'!H422-'Copy your Raw data here'!G422)*1440","v":0},1440,{"$f":"IF('Copy your Raw data here'!G422=\"\",\"\",IF(V423<U423,Z423,Y423))","v":""}]
[{"$f":"IF(ISBLANK('Copy your Raw data here'!A423),\"\",('Copy your Raw data here'!A423))","v":""},"",{"$f":"IF('Copy your Raw data here'!D423=\"YES\",1,0)","v":0},{"$f":"VLOOKUP('Copy your Raw data here'!E423,'Stroke Ready Hospital List'!A:B,1,FALSE)","v":{"$error":"#N/A"}},0,{"$f":"IF(OR(ISBLANK('Copy your Raw data here'!F423),('Copy your Raw data here'!F423=\"NO\")),0,1)","v":0},{"$f":"IF(ISBLANK('Copy your Raw data here'!G423),0,1)","v":0},{"$f":"IF(ISERROR(D424),'Copy your Raw data here'!E423,\"\")","v":0},"",null,null,{"$f":"HOUR('Copy your Raw data here'!B423)","v":0},{"$f":"HOUR('Copy your Raw data here'!C423)","v":0},{"$f":"MINUTE('Copy your Raw data here'!B423)","v":0},{"$f":"MINUTE('Copy your Raw data here'!C423)","v":0},{"$f":"('Copy your Raw data here'!C423-'Copy your Raw data here'!B423)*1440","v":0},60,0,null,null,{"$f":"HOUR('Copy your Raw data here'!G423)","v":0},{"$f":"HOUR('Copy your Raw data here'!H423)","v":0},{"$f":"MINUTE('Copy your Raw data here'!G423)","v":0},{"$f":"MINUTE('Copy your Raw data here'!H423)","v":0},{"$f":"('Copy your Raw data here'!H423-'Copy your Raw data here'!G423)*1440","v":0},1440,{"$f":"IF('Copy your Raw data here'!G423=\"\",\"\",IF(V424<U424,Z424,Y424))","v":""}]
[{"$f":"IF(ISBLANK('Copy your Raw data here'!A424),\"\",('Copy your Raw data here'!A424))","v":""},"",{"$f":"IF('Copy your Raw data here'!D424=\"YES\",1,0)","v":0},{"$f":"VLOOKUP('Copy your Raw data here'!E424,'Stroke Ready Hospital List'!A:B,1,FALSE)","v":{"$error":"#N/A"}},0,{"$f":"IF(OR(ISBLANK('Copy your Raw data here'!F424),('Copy your Raw data here'!F424=\"NO\")),0,1)","v":0},{"$f":"IF(ISBLANK('Copy your Raw data here'!G424),0,1)","v":0},{"$f":"IF(ISERROR(D425),'Copy your Raw data here'!E424,\"\")","v":0},"",null,null,{"$f":"HOUR('Copy your Raw data here'!B424)","v":0},{"$f":"HOUR('Copy your Raw data here'!C424)","v":0},{"$f":"MINUTE('Copy your Raw data here'!B424)","v":0},{"$f":"MINUTE('Copy your Raw data here'!C424)","v":0},{"$f":"('Copy your Raw data here'!C424-'Copy your Raw data here'!B424)*1440","v":0},60,0,null,null,{"$f":"HOUR('Copy your Raw data here'!G424)","v":0},{"$f":"HOUR('Copy your Raw data here'!H424)","v":0},{"$f":"MINUTE('Copy your Raw data here'!G424)","v":0},{"$f":"MINUTE('Copy your Raw data here'!H424)","v":0},{"$f":"('Copy your Raw data here'!H424-'Copy your Raw data here'!G424)*1440","v":0},1440,{"$f":"IF('Copy your Raw data here'!G424=\"\",\"\",IF(V425<U425,Z425,Y425))","v":""}]
[{"$f":"IF(ISBLANK('Copy your Raw data here'!A425),\"\",('Copy your Raw data here'!A425))","v":""},"",{"$f":"IF('Copy your Raw data here'!D425=\"YES\",1,0)","v":0},{"$f":"VLOOKUP('Copy your Raw data here'!E425,'Stroke Ready Hospital List'!A:B,1,FALSE)","v":{"$error":"#N/A"}},0,{"$f":"IF(OR(ISBLANK('Copy your Raw data here'!F425),('Copy your Raw data here'!F425=\"NO\")),0,1)","v":0},{"$f":"IF(ISBLANK('Copy your Raw data here'!G425),0,1)","v":0},{"$f":"IF(ISERROR(D426),'Copy your Raw data here'!E425,\"\")","v":0},"",null,null,{"$f":"HOUR('Copy your Raw data here'!B425)","v":0},{"$f":"HOUR('Copy your Raw data here'!C425)","v":0},{"$f":"MINUTE('Copy your Raw data here'!B425)","v":0},{"$f":"MINUTE('Copy your Raw data here'!C425)","v":0},{"$f":"('Copy your Raw data here'!C425-'Copy your Raw data here'!B425)*1440","v":0},60,0,null,null,{"$f":"HOUR('Copy your Raw data here'!G425)","v":0},{"$f":"HOUR('Copy your Raw data here'!H425)","v":0},{"$f":"MINUTE('Copy your Raw data here'!G425)","v":0},{"$f":"MINUTE('Copy your Raw data here'!H425)","v":0},{"$f":"('Copy your Raw data here'!H425-'Copy your Raw data here'!G425)*1440","v":0},1440,{"$f":"IF('Copy your Raw data here'!G425=\"\",\"\",IF(V426<U426,Z426,Y426))","v":""}]
[{"$f":"IF(ISBLANK('Copy your Raw data here'!A426),\"\",('Copy your Raw data here'!A426))","v":""},"",{"$f":"IF('Copy your Raw data here'!D426=\"YES\",1,0)","v":0},{"$f":"VLOOKUP('Copy your Raw data here'!E426,'Stroke Ready Hospital List'!A:B,1,FALSE)","v":{"$error":"#N/A"}},0,{"$f":"IF(OR(ISBLANK('Copy your Raw data here'!F426),('Copy your Raw data here'!F426=\"NO\")),0,1)","v":0},{"$f":"IF(ISBLANK('Copy your Raw data here'!G426),0,1)","v":0},{"$f":"IF(ISERROR(D427),'Copy your Raw data here'!E426,\"\")","v":0},"",null,null,{"$f":"HOUR('Copy your Raw data here'!B426)","v":0},{"$f":"HOUR('Copy your Raw data here'!C426)","v":0},{"$f":"MINUTE('Copy your Raw data here'!B426)","v":0},{"$f":"MINUTE('Copy your Raw data here'!C426)","v":0},{"$f":"('Copy your Raw data here'!C426-'Copy your Raw data here'!B426)*1440","v":0},60,0,null,null,{"$f":"HOUR('Copy your Raw data here'!G426)","v":0},{"$f":"HOUR('Copy your Raw data here'!H426)","v":0},{"$f":"MINUTE('Copy your Raw data here'!G426)","v":0},{"$f":"MINUTE('Copy your Raw data here'!H426)","v":0},{"$f":"('Copy your Raw data here'!H426-'Copy your Raw data here'!G426)*1440","v":0},1440,{"$f":"IF('Copy your Raw data here'!G426=\"\",\"\",IF(V427<U427,Z427,Y427))","v":""}]
[{"$f":"IF(ISBLANK('Copy your Raw data here'!A427),\"\",('Copy your Raw data here'!A427))","v":""},"",{"$f":"IF('Copy your Raw data here'!D427=\"YES\",1,0)","v":0},{"$f":"VLOOKUP('Copy your Raw data here'!E427,'Stroke Ready Hospital List'!A:B,1,FALSE)","v":{"$error":"#N/A"}},0,{"$f":"IF(OR(ISBLANK('Copy your Raw data here'!F427),('Copy your Raw data here'!F427=\"NO\")),0,1)","v":0},{"$f":"IF(ISBLANK('Copy your Raw data here'!G427),0,1)","v":0},{"$f":"IF(ISERROR(D428),'Copy your Raw data here'!E427,\"\")","v":0},"",null,null,{"$f":"HOUR('Copy your Raw data here'!B427)","v":0},{"$f":"HOUR('Copy your Raw data here'!C427)","v":0},{"$f":"MINUTE('Copy your Raw data here'!B427)","v":0},{"$f":"MINUTE('Copy your Raw data here'!C427)","v":0},{"$f":"('Copy your Raw data here'!C427-'Copy your Raw data here'!B427)*1440","v":0},60,0,null,null,{"$f":"HOUR('Copy your Raw data here'!G427)","v":0},{"$f":"HOUR('Copy your Raw data here'!H427)","v":0},{"$f":"MINUTE('Copy your Raw data here'!G427)","v":0},{"$f":"MINUTE('Copy your Raw data here'!H427)","v":0},{"$f":"('Copy your Raw data here'!H427-'Copy your Raw data here'!G427)*1440","v":0},1440,{"$f":"IF('Copy your Raw data here'!G427=\"\",\"\",IF(V428<U428,Z428,Y428))","v":""}]
[{"$f":"IF(ISBLANK('Copy your Raw data here'!A428),\"\",('Copy your Raw data here'!A428))","v":""},"",{"$f":"IF('Copy your Raw data here'!D428=\"YES\",1,0)","v":0},{"$f":"VLOOKUP('Copy your Raw data here'!E428,'Stroke Ready Hospital List'!A:B,1,FALSE)","v":{"$error":"#N/A"}},0,{"$f":"IF(OR(ISBLANK('Copy your Raw data here'!F428),('Copy your Raw data here'!F428=\"NO\")),0,1)","v":0},{"$f":"IF(ISBLANK('Copy your Raw data here'!G428),0,1)","v":0},{"$f":"IF(ISERROR(D429),'Copy your Raw data here'!E428,\"\")","v":0},"",null,null,{"$f":"HOUR('Copy your Raw data here'!B428)","v":0},{"$f":"HOUR('Copy your Raw data here'!C428)","v":0},{"$f":"MINUTE('Copy your Raw data here'!B428)","v":0},{"$f":"MINUTE('Copy your Raw data here'!C428)","v":0},{"$f":"('Copy your Raw data here'!C428-'Copy your Raw data here'!B428)*1440","v":0},60,0,null,null,{"$f":"HOUR('Copy your Raw data here'!G428)","v":0},{"$f":"HOUR('Copy your Raw data here'!H428)","v":0},{"$f":"MINUTE('Copy your Raw data here'!G428)","v":0},{"$f":"MINUTE('Copy your Raw data here'!H428)","v":0},{"$f":"('Copy your Raw data here'!H428-'Copy your Raw data here'!G428)*1440","v":0},1440,{"$f":"IF('Copy your Raw data here'!G428=\"\",\"\",IF(V429<U429,Z429,Y429))","v":""}]
[{"$f":"IF(ISBLANK('Copy your Raw data here'!A429),\"\",('Copy your Raw data here'!A429))","v":""},"",{"$f":"IF('Copy your Raw data here'!D429=\"YES\",1,0)","v":0},{"$f":"VLOOKUP('Copy your Raw data here'!E429,'Stroke Ready Hospital List'!A:B,1,FALSE)","v":{"$error":"#N/A"}},0,{"$f":"IF(OR(ISBLANK('Copy your Raw data here'!F429),('Copy your Raw data here'!F429=\"NO\")),0,1)","v":0},{"$f":"IF(ISBLANK('Copy your Raw data here'!G429),0,1)","v":0},{"$f":"IF(ISERROR(D430),'Copy your Raw data here'!E429,\"\")","v":0},"",null,null,{"$f":"HOUR('Copy your Raw data here'!B429)","v":0},{"$f":"HOUR('Copy your Raw data here'!C429)","v":0},{"$f":"MINUTE('Copy your Raw data here'!B429)","v":0},{"$f":"MINUTE('Copy your Raw data here'!C429)","v":0},{"$f":"('Copy your Raw data here'!C429-'Copy your Raw data here'!B429)*1440","v":0},60,0,null,null,{"$f":"HOUR('Copy your Raw data here'!G429)","v":0},{"$f":"HOUR('Copy your Raw data here'!H429)","v":0},{"$f":"MINUTE('Copy your Raw data here'!G429)","v":0},{"$f":"MINUTE('Copy your Raw data here'!H429)","v":0},{"$f":"('Copy your Raw data here'!H429-'Copy your Raw data here'!G429)*1440","v":0},1440,{"$f":"IF('Copy your Raw data here'!G429=\"\",\"\",IF(V430<U430,Z430,Y430))","v":""}]
[{"$f":"IF(ISBLANK('Copy your Raw data here'!A430),\"\",('Copy your Raw data here'!A430))","v":""},"",{"$f":"IF('Copy your Raw data here'!D430=\"YES\",1,0)","v":0},{"$f":"VLOOKUP('Copy your Raw data here'!E430,'Stroke Ready Hospital List'!A:B,1,FALSE)","v":{"$error":"#N/A"}},0,{"$f":"IF(OR(ISBLANK('Copy your Raw data here'!F430),('Copy your Raw data here'!F430=\"NO\")),0,1)","v":0},{"$f":"IF(ISBLANK('Copy your Raw data here'!G430),0,1)","v":0},{"$f":"IF(ISERROR(D431),'Copy your Raw data here'!E430,\"\")","v":0},"",null,null,{"$f":"HOUR('Copy your Raw data here'!B430)","v":0},{"$f":"HOUR('Copy your Raw data here'!C430)","v":0},{"$f":"MINUTE('Copy your Raw data here'!B430)","v":0},{"$f":"MINUTE('Copy your Raw data here'!C430)","v":0},{"$f":"('Copy your Raw data here'!C430-'Copy your Raw data here'!B430)*1440","v":0},60,0,null,null,{"$f":"HOUR('Copy your Raw data here'!G430)","v":0},{"$f":"HOUR('Copy your Raw data here'!H430)","v":0},{"$f":"MINUTE('Copy your Raw data here'!G430)","v":0},{"$f":"MINUTE('Copy your Raw data here'!H430)","v":0},{"$f":"('Copy your Raw data here'!H430-'Copy your Raw data here'!G430)*1440","v":0},1440,{"$f":"IF('Copy your Raw data here'!G430=\"\",\"\",IF(V431<U431,Z431,Y431))","v":""}]
[{"$f":"IF(ISBLANK('Copy your Raw data here'!A431),\"\",('Copy your Raw data here'!A431))","v":""},"",{"$f":"IF('Copy your Raw data here'!D431=\"YES\",1,0)","v":0},{"$f":"VLOOKUP('Copy your Raw data here'!E431,'Stroke Ready Hospital List'!A:B,1,FALSE)","v":{"$error":"#N/A"}},0,{"$f":"IF(OR(ISBLANK('Copy your Raw data here'!F431),('Copy your Raw data here'!F431=\"NO\")),0,1)","v":0},{"$f":"IF(ISBLANK('Copy your Raw data here'!G431),0,1)","v":0},{"$f":"IF(ISERROR(D432),'Copy your Raw data here'!E431,\"\")","v":0},"",null,null,{"$f":"HOUR('Copy your Raw data here'!B431)","v":0},{"$f":"HOUR('Copy your Raw data here'!C431)","v":0},{"$f":"MINUTE('Copy your Raw data here'!B431)","v":0},{"$f":"MINUTE('Copy your Raw data here'!C431)","v":0},{"$f":"('Copy your Raw data here'!C431-'Copy your Raw data here'!B431)*1440","v":0},60,0,null,null,{"$f":"HOUR('Copy your Raw data here'!G431)","v":0},{"$f":"HOUR('Copy your Raw data here'!H431)","v":0},{"$f":"MINUTE('Copy your Raw data here'!G431)","v":0},{"$f":"MINUTE('Copy your Raw data here'!H431)","v":0},{"$f":"('Copy your Raw data here'!H431-'Copy your Raw data here'!G431)*1440","v":0},1440,{"$f":"IF('Copy your Raw data here'!G431=\"\",\"\",IF(V432<U432,Z432,Y432))","v":""}]
[{"$f":"IF(ISBLANK('Copy your Raw data here'!A432),\"\",('Copy your Raw data here'!A432))","v":""},"",{"$f":"IF('Copy your Raw data here'!D432=\"YES\",1,0)","v":0},{"$f":"VLOOKUP('Copy your Raw data here'!E432,'Stroke Ready Hospital List'!A:B,1,FALSE)","v":{"$error":"#N/A"}},0,{"$f":"IF(OR(ISBLANK('Copy your Raw data here'!F432),('Copy your Raw data here'!F432=\"NO\")),0,1)","v":0},{"$f":"IF(ISBLANK('Copy your Raw data here'!G432),0,1)","v":0},{"$f":"IF(ISERROR(D433),'Copy your Raw data here'!E432,\"\")","v":0},"",null,null,{"$f":"HOUR('Copy your Raw data here'!B432)","v":0},{"$f":"HOUR('Copy your Raw data here'!C432)","v":0},{"$f":"MINUTE('Copy your Raw data here'!B432)","v":0},{"$f":"MINUTE('Copy your Raw data here'!C432)","v":0},{"$f":"('Copy your Raw data here'!C432-'Copy your Raw data here'!B432)*1440","v":0},60,0,null,null,{"$f":"HOUR('Copy your Raw data here'!G432)","v":0},{"$f":"HOUR('Copy your Raw data here'!H432)","v":0},{"$f":"MINUTE('Copy your Raw data here'!G432)","v":0},{"$f":"MINUTE('Copy your Raw data here'!H432)","v":0},{"$f":"('Copy your Raw data here'!H432-'Copy your Raw data here'!G432)*1440","v":0},1440,{"$f":"IF('Copy your Raw data here'!G432=\"\",\"\",IF(V433<U433,Z433,Y433))","v":""}]
[{"$f":"IF(ISBLANK('Copy your Raw data here'!A433),\"\",('Copy your Raw data here'!A433))","v":""},"",{"$f":"IF('Copy your Raw data here'!D433=\"YES\",1,0)","v":0},{"$f":"VLOOKUP('Copy your Raw data here'!E433,'Stroke Ready Hospital List'!A:B,1,FALSE)","v":{"$error":"#N/A"}},0,{"$f":"IF(OR(ISBLANK('Copy your Raw data here'!F433),('Copy your Raw data here'!F433=\"NO\")),0,1)","v":0},{"$f":"IF(ISBLANK('Copy your Raw data here'!G433),0,1)","v":0},{"$f":"IF(ISERROR(D434),'Copy your Raw data here'!E433,\"\")","v":0},"",null,null,{"$f":"HOUR('Copy your Raw data here'!B433)","v":0},{"$f":"HOUR('Copy your Raw data here'!C433)","v":0},{"$f":"MINUTE('Copy your Raw data here'!B433)","v":0},{"$f":"MINUTE('Copy your Raw data here'!C433)","v":0},{"$f":"('Copy your Raw data here'!C433-'Copy your Raw data here'!B433)*1440","v":0},60,0,null,null,{"$f":"HOUR('Copy your Raw data here'!G433)","v":0},{"$f":"HOUR('Copy your Raw data here'!H433)","v":0},{"$f":"MINUTE('Copy your Raw data here'!G433)","v":0},{"$f":"MINUTE('Copy your Raw data here'!H433)","v":0},{"$f":"('Copy your Raw data here'!H433-'Copy your Raw data here'!G433)*1440","v":0},1440,{"$f":"IF('Copy your Raw data here'!G433=\"\",\"\",IF(V434<U434,Z434,Y434))","v":""}]
[{"$f":"IF(ISBLANK('Copy your Raw data here'!A434),\"\",('Copy your Raw data here'!A434))","v":""},"",{"$f":"IF('Copy your Raw data here'!D434=\"YES\",1,0)","v":0},{"$f":"VLOOKUP('Copy your Raw data here'!E434,'Stroke Ready Hospital List'!A:B,1,FALSE)","v":{"$error":"#N/A"}},0,{"$f":"IF(OR(ISBLANK('Copy your Raw data here'!F434),('Copy your Raw data here'!F434=\"NO\")),0,1)","v":0},{"$f":"IF(ISBLANK('Copy your Raw data here'!G434),0,1)","v":0},{"$f":"IF(ISERROR(D435),'Copy your Raw data here'!E434,\"\")","v":0},"",null,null,{"$f":"HOUR('Copy your Raw data here'!B434)","v":0},{"$f":"HOUR('Copy your Raw data here'!C434)","v":0},{"$f":"MINUTE('Copy your Raw data here'!B434)","v":0},{"$f":"MINUTE('Copy your Raw data here'!C434)","v":0},{"$f":"('Copy your Raw data here'!C434-'Copy your Raw data here'!B434)*1440","v":0},60,0,null,null,{"$f":"HOUR('Copy your Raw data here'!G434)","v":0},{"$f":"HOUR('Copy your Raw data here'!H434)","v":0},{"$f":"MINUTE('Copy your Raw data here'!G434)","v":0},{"$f":"MINUTE('Copy your Raw data here'!H434)","v":0},{"$f":"('Copy your Raw data here'!H434-'Copy your Raw data here'!G434)*1440","v":0},1440,{"$f":"IF('Copy your Raw data here'!G434=\"\",\"\",IF(V435<U435,Z435,Y435))","v":""}]
[{"$f":"IF(ISBLANK('Copy your Raw data here'!A435),\"\",('Copy your Raw data here'!A435))","v":""},"",{"$f":"IF('Copy your Raw data here'!D435=\"YES\",1,0)","v":0},{"$f":"VLOOKUP('Copy your Raw data here'!E435,'Stroke Ready Hospital List'!A:B,1,FALSE)","v":{"$error":"#N/A"}},0,{"$f":"IF(OR(ISBLANK('Copy your Raw data here'!F435),('Copy your Raw data here'!F435=\"NO\")),0,1)","v":0},{"$f":"IF(ISBLANK('Copy your Raw data here'!G435),0,1)","v":0},{"$f":"IF(ISERROR(D436),'Copy your Raw data here'!E435,\"\")","v":0},"",null,null,{"$f":"HOUR('Copy your Raw data here'!B435)","v":0},{"$f":"HOUR('Copy your Raw data here'!C435)","v":0},{"$f":"MINUTE('Copy your Raw data here'!B435)","v":0},{"$f":"MINUTE('Copy your Raw data here'!C435)","v":0},{"$f":"('Copy your Raw data here'!C435-'Copy your Raw data here'!B435)*1440","v":0},60,0,null,null,{"$f":"HOUR('Copy your Raw data here'!G435)","v":0},{"$f":"HOUR('Copy your Raw data here'!H435)","v":0},{"$f":"MINUTE('Copy your Raw data here'!G435)","v":0},{"$f":"MINUTE('Copy your Raw data here'!H435)","v":0},{"$f":"('Copy your Raw data here'!H435-'Copy your Raw data here'!G435)*1440","v":0},1440,{"$f":"IF('Copy your Raw data here'!G435=\"\",\"\",IF(V436<U436,Z436,Y436))","v":""}]
[{"$f":"IF(ISBLANK('Copy your Raw data here'!A436),\"\",('Copy your Raw data here'!A436))","v":""},"",{"$f":"IF('Copy your Raw data here'!D436=\"YES\",1,0)","v":0},{"$f":"VLOOKUP('Copy your Raw data here'!E436,'Stroke Ready Hospital List'!A:B,1,FALSE)","v":{"$error":"#N/A"}},0,{"$f":"IF(OR(ISBLANK('Copy your Raw data here'!F436),('Copy your Raw data here'!F436=\"NO\")),0,1)","v":0},{"$f":"IF(ISBLANK('Copy your Raw data here'!G436),0,1)","v":0},{"$f":"IF(ISERROR(D437),'Copy your Raw data here'!E436,\"\")","v":0},"",null,null,{"$f":"HOUR('Copy your Raw data here'!B436)","v":0},{"$f":"HOUR('Copy your Raw data here'!C436)","v":0},{"$f":"MINUTE('Copy your Raw data here'!B436)","v":0},{"$f":"MINUTE('Copy your Raw data here'!C436)","v":0},{"$f":"('Copy your Raw data here'!C436-'Copy your Raw data here'!B436)*1440","v":0},60,0,null,null,{"$f":"HOUR('Copy your Raw data here'!G436)","v":0},{"$f":"HOUR('Copy your Raw data here'!H436)","v":0},{"$f":"MINUTE('Copy your Raw data here'!G436)","v":0},{"$f":"MINUTE('Copy your Raw data here'!H436)","v":0},{"$f":"('Copy your Raw data here'!H436-'Copy your Raw data here'!G436)*1440","v":0},1440,{"$f":"IF('Copy your Raw data here'!G436=\"\",\"\",IF(V437<U437,Z437,Y437))","v":""}]
[{"$f":"IF(ISBLANK('Copy your Raw data here'!A437),\"\",('Copy your Raw data here'!A437))","v":""},"",{"$f":"IF('Copy your Raw data here'!D437=\"YES\",1,0)","v":0},{"$f":"VLOOKUP('Copy your Raw data here'!E437,'Stroke Ready Hospital List'!A:B,1,FALSE)","v":{"$error":"#N/A"}},0,{"$f":"IF(OR(ISBLANK('Copy your Raw data here'!F437),('Copy your Raw data here'!F437=\"NO\")),0,1)","v":0},{"$f":"IF(ISBLANK('Copy your Raw data here'!G437),0,1)","v":0},{"$f":"IF(ISERROR(D438),'Copy your Raw data here'!E437,\"\")","v":0},"",null,null,{"$f":"HOUR('Copy your Raw data here'!B437)","v":0},{"$f":"HOUR('Copy your Raw data here'!C437)","v":0},{"$f":"MINUTE('Copy your Raw data here'!B437)","v":0},{"$f":"MINUTE('Copy your Raw data here'!C437)","v":0},{"$f":"('Copy your Raw data here'!C437-'Copy your Raw data here'!B437)*1440","v":0},60,0,null,null,{"$f":"HOUR('Copy your Raw data here'!G437)","v":0},{"$f":"HOUR('Copy your Raw data here'!H437)","v":0},{"$f":"MINUTE('Copy your Raw data here'!G437)","v":0},{"$f":"MINUTE('Copy your Raw data here'!H437)","v":0},{"$f":"('Copy your Raw data here'!H437-'Copy your Raw data here'!G437)*1440","v":0},1440,{"$f":"IF('Copy your Raw data here'!G437=\"\",\"\",IF(V438<U438,Z438,Y438))","v":""}]
[{"$f":"IF(ISBLANK('Copy your Raw data here'!A438),\"\",('Copy your Raw data here'!A438))","v":""},"",{"$f":"IF('Copy your Raw data here'!D438=\"YES\",1,0)","v":0},{"$f":"VLOOKUP('Copy your Raw data here'!E438,'Stroke Ready Hospital List'!A:B,1,FALSE)","v":{"$error":"#N/A"}},0,{"$f":"IF(OR(ISBLANK('Copy your Raw data here'!F438),('Copy your Raw data here'!F438=\"NO\")),0,1)","v":0},{"$f":"IF(ISBLANK('Copy your Raw data here'!G438),0,1)","v":0},{"$f":"IF(ISERROR(D439),'Copy your Raw data here'!E438,\"\")","v":0},"",null,null,{"$f":"HOUR('Copy your Raw data here'!B438)","v":0},{"$f":"HOUR('Copy your Raw data here'!C438)","v":0},{"$f":"MINUTE('Copy your Raw data here'!B438)","v":0},{"$f":"MINUTE('Copy your Raw data here'!C438)","v":0},{"$f":"('Copy your Raw data here'!C438-'Copy your Raw data here'!B438)*1440","v":0},60,0,null,null,{"$f":"HOUR('Copy your Raw data here'!G438)","v":0},{"$f":"HOUR('Copy your Raw data here'!H438)","v":0},{"$f":"MINUTE('Copy your Raw data here'!G438)","v":0},{"$f":"MINUTE('Copy your Raw data here'!H438)","v":0},{"$f":"('Copy your Raw data here'!H438-'Copy your Raw data here'!G438)*1440","v":0},1440,{"$f":"IF('Copy your Raw data here'!G438=\"\",\"\",IF(V439<U439,Z439,Y439))","v":""}]
[{"$f":"IF(ISBLANK('Copy your Raw data here'!A439),\"\",('Copy your Raw data here'!A439))","v":""},"",{"$f":"IF('Copy your Raw data here'!D439=\"YES\",1,0)","v":0},{"$f":"VLOOKUP('Copy your Raw data here'!E439,'Stroke Ready Hospital List'!A:B,1,FALSE)","v":{"$error":"#N/A"}},0,{"$f":"IF(OR(ISBLANK('Copy your Raw data here'!F439),('Copy your Raw data here'!F439=\"NO\")),0,1)","v":0},{"$f":"IF(ISBLANK('Copy your Raw data here'!G439),0,1)","v":0},{"$f":"IF(ISERROR(D440),'Copy your Raw data here'!E439,\"\")","v":0},"",null,null,{"$f":"HOUR('Copy your Raw data here'!B439)","v":0},{"$f":"HOUR('Copy your Raw data here'!C439)","v":0},{"$f":"MINUTE('Copy your Raw data here'!B439)","v":0},{"$f":"MINUTE('Copy your Raw data here'!C439)","v":0},{"$f":"('Copy your Raw data here'!C439-'Copy your Raw data here'!B439)*1440","v":0},60,0,null,null,{"$f":"HOUR('Copy your Raw data here'!G439)","v":0},{"$f":"HOUR('Copy your Raw data here'!H439)","v":0},{"$f":"MINUTE('Copy your Raw data here'!G439)","v":0},{"$f":"MINUTE('Copy your Raw data here'!H439)","v":0},{"$f":"('Copy your Raw data here'!H439-'Copy your Raw data here'!G439)*1440","v":0},1440,{"$f":"IF('Copy your Raw data here'!G439=\"\",\"\",IF(V440<U440,Z440,Y440))","v":""}]
[{"$f":"IF(ISBLANK('Copy your Raw data here'!A440),\"\",('Copy your Raw data here'!A440))","v":""},"",{"$f":"IF('Copy your Raw data here'!D440=\"YES\",1,0)","v":0},{"$f":"VLOOKUP('Copy your Raw data here'!E440,'Stroke Ready Hospital List'!A:B,1,FALSE)","v":{"$error":"#N/A"}},0,{"$f":"IF(OR(ISBLANK('Copy your Raw data here'!F440),('Copy your Raw data here'!F440=\"NO\")),0,1)","v":0},{"$f":"IF(ISBLANK('Copy your Raw data here'!G440),0,1)","v":0},{"$f":"IF(ISERROR(D441),'Copy your Raw data here'!E440,\"\")","v":0},"",null,null,{"$f":"HOUR('Copy your Raw data here'!B440)","v":0},{"$f":"HOUR('Copy your Raw data here'!C440)","v":0},{"$f":"MINUTE('Copy your Raw data here'!B440)","v":0},{"$f":"MINUTE('Copy your Raw data here'!C440)","v":0},{"$f":"('Copy your Raw data here'!C440-'Copy your Raw data here'!B440)*1440","v":0},60,0,null,null,{"$f":"HOUR('Copy your Raw data here'!G440)","v":0},{"$f":"HOUR('Copy your Raw data here'!H440)","v":0},{"$f":"MINUTE('Copy your Raw data here'!G440)","v":0},{"$f":"MINUTE('Copy your Raw data here'!H440)","v":0},{"$f":"('Copy your Raw data here'!H440-'Copy your Raw data here'!G440)*1440","v":0},1440,{"$f":"IF('Copy your Raw data here'!G440=\"\",\"\",IF(V441<U441,Z441,Y441))","v":""}]
[{"$f":"IF(ISBLANK('Copy your Raw data here'!A441),\"\",('Copy your Raw data here'!A441))","v":""},"",{"$f":"IF('Copy your Raw data here'!D441=\"YES\",1,0)","v":0},{"$f":"VLOOKUP('Copy your Raw data here'!E441,'Stroke Ready Hospital List'!A:B,1,FALSE)","v":{"$error":"#N/A"}},0,{"$f":"IF(OR(ISBLANK('Copy your Raw data here'!F441),('Copy your Raw data here'!F441=\"NO\")),0,1)","v":0},{"$f":"IF(ISBLANK('Copy your Raw data here'!G441),0,1)","v":0},{"$f":"IF(ISERROR(D442),'Copy your Raw data here'!E441,\"\")","v":0},"",null,null,{"$f":"HOUR('Copy your Raw data here'!B441)","v":0},{"$f":"HOUR('Copy your Raw data here'!C441)","v":0},{"$f":"MINUTE('Copy your Raw data here'!B441)","v":0},{"$f":"MINUTE('Copy your Raw data here'!C441)","v":0},{"$f":"('Copy your Raw data here'!C441-'Copy your Raw data here'!B441)*1440","v":0},60,0,null,null,{"$f":"HOUR('Copy your Raw data here'!G441)","v":0},{"$f":"HOUR('Copy your Raw data here'!H441)","v":0},{"$f":"MINUTE('Copy your Raw data here'!G441)","v":0},{"$f":"MINUTE('Copy your Raw data here'!H441)","v":0},{"$f":"('Copy your Raw data here'!H441-'Copy your Raw data here'!G441)*1440","v":0},1440,{"$f":"IF('Copy your Raw data here'!G441=\"\",\"\",IF(V442<U442,Z442,Y442))","v":""}]
[{"$f":"IF(ISBLANK('Copy your Raw data here'!A442),\"\",('Copy your Raw data here'!A442))","v":""},"",{"$f":"IF('Copy your Raw data here'!D442=\"YES\",1,0)","v":0},{"$f":"VLOOKUP('Copy your Raw data here'!E442,'Stroke Ready Hospital List'!A:B,1,FALSE)","v":{"$error":"#N/A"}},0,{"$f":"IF(OR(ISBLANK('Copy your Raw data here'!F442),('Copy your Raw data here'!F442=\"NO\")),0,1)","v":0},{"$f":"IF(ISBLANK('Copy your Raw data here'!G442),0,1)","v":0},{"$f":"IF(ISERROR(D443),'Copy your Raw data here'!E442,\"\")","v":0},"",null,null,{"$f":"HOUR('Copy your Raw data here'!B442)","v":0},{"$f":"HOUR('Copy your Raw data here'!C442)","v":0},{"$f":"MINUTE('Copy your Raw data here'!B442)","v":0},{"$f":"MINUTE('Copy your Raw data here'!C442)","v":0},{"$f":"('Copy your Raw data here'!C442-'Copy your Raw data here'!B442)*1440","v":0},60,0,null,null,{"$f":"HOUR('Copy your Raw data here'!G442)","v":0},{"$f":"HOUR('Copy your Raw data here'!H442)","v":0},{"$f":"MINUTE('Copy your Raw data here'!G442)","v":0},{"$f":"MINUTE('Copy your Raw data here'!H442)","v":0},{"$f":"('Copy your Raw data here'!H442-'Copy your Raw data here'!G442)*1440","v":0},1440,{"$f":"IF('Copy your Raw data here'!G442=\"\",\"\",IF(V443<U443,Z443,Y443))","v":""}]
[{"$f":"IF(ISBLANK('Copy your Raw data here'!A443),\"\",('Copy your Raw data here'!A443))","v":""},"",{"$f":"IF('Copy your Raw data here'!D443=\"YES\",1,0)","v":0},{"$f":"VLOOKUP('Copy your Raw data here'!E443,'Stroke Ready Hospital List'!A:B,1,FALSE)","v":{"$error":"#N/A"}},0,{"$f":"IF(OR(ISBLANK('Copy your Raw data here'!F443),('Copy your Raw data here'!F443=\"NO\")),0,1)","v":0},{"$f":"IF(ISBLANK('Copy your Raw data here'!G443),0,1)","v":0},{"$f":"IF(ISERROR(D444),'Copy your Raw data here'!E443,\"\")","v":0},"",null,null,{"$f":"HOUR('Copy your Raw data here'!B443)","v":0},{"$f":"HOUR('Copy your Raw data here'!C443)","v":0},{"$f":"MINUTE('Copy your Raw data here'!B443)","v":0},{"$f":"MINUTE('Copy your Raw data here'!C443)","v":0},{"$f":"('Copy your Raw data here'!C443-'Copy your Raw data here'!B443)*1440","v":0},60,0,null,null,{"$f":"HOUR('Copy your Raw data here'!G443)","v":0},{"$f":"HOUR('Copy your Raw data here'!H443)","v":0},{"$f":"MINUTE('Copy your Raw data here'!G443)","v":0},{"$f":"MINUTE('Copy your Raw data here'!H443)","v":0},{"$f":"('Copy your Raw data here'!H443-'Copy your Raw data here'!G443)*1440","v":0},1440,{"$f":"IF('Copy your Raw data here'!G443=\"\",\"\",IF(V444<U444,Z444,Y444))","v":""}]
[{"$f":"IF(ISBLANK('Copy your Raw data here'!A444),\"\",('Copy your Raw data here'!A444))","v":""},"",{"$f":"IF('Copy your Raw data here'!D444=\"YES\",1,0)","v":0},{"$f":"VLOOKUP('Copy your Raw data here'!E444,'Stroke Ready Hospital List'!A:B,1,FALSE)","v":{"$error":"#N/A"}},0,{"$f":"IF(OR(ISBLANK('Copy your Raw data here'!F444),('Copy your Raw data here'!F444=\"NO\")),0,1)","v":0},{"$f":"IF(ISBLANK('Copy your Raw data here'!G444),0,1)","v":0},{"$f":"IF(ISERROR(D445),'Copy your Raw data here'!E444,\"\")","v":0},"",null,null,{"$f":"HOUR('Copy your Raw data here'!B444)","v":0},{"$f":"HOUR('Copy your Raw data here'!C444)","v":0},{"$f":"MINUTE('Copy your Raw data here'!B444)","v":0},{"$f":"MINUTE('Copy your Raw data here'!C444)","v":0},{"$f":"('Copy your Raw data here'!C444-'Copy your Raw data here'!B444)*1440","v":0},60,0,null,null,{"$f":"HOUR('Copy your Raw data here'!G444)","v":0},{"$f":"HOUR('Copy your Raw data here'!H444)","v":0},{"$f":"MINUTE('Copy your Raw data here'!G444)","v":0},{"$f":"MINUTE('Copy your Raw data here'!H444)","v":0},{"$f":"('Copy your Raw data here'!H444-'Copy your Raw data here'!G444)*1440","v":0},1440,{"$f":"IF('Copy your Raw data here'!G444=\"\",\"\",IF(V445<U445,Z445,Y445))","v":""}]
[{"$f":"IF(ISBLANK('Copy your Raw data here'!A445),\"\",('Copy your Raw data here'!A445))","v":""},"",{"$f":"IF('Copy your Raw data here'!D445=\"YES\",1,0)","v":0},{"$f":"VLOOKUP('Copy your Raw data here'!E445,'Stroke Ready Hospital List'!A:B,1,FALSE)","v":{"$error":"#N/A"}},0,{"$f":"IF(OR(ISBLANK('Copy your Raw data here'!F445),('Copy your Raw data here'!F445=\"NO\")),0,1)","v":0},{"$f":"IF(ISBLANK('Copy your Raw data here'!G445),0,1)","v":0},{"$f":"IF(ISERROR(D446),'Copy your Raw data here'!E445,\"\")","v":0},"",null,null,{"$f":"HOUR('Copy your Raw data here'!B445)","v":0},{"$f":"HOUR('Copy your Raw data here'!C445)","v":0},{"$f":"MINUTE('Copy your Raw data here'!B445)","v":0},{"$f":"MINUTE('Copy your Raw data here'!C445)","v":0},{"$f":"('Copy your Raw data here'!C445-'Copy your Raw data here'!B445)*1440","v":0},60,0,null,null,{"$f":"HOUR('Copy your Raw data here'!G445)","v":0},{"$f":"HOUR('Copy your Raw data here'!H445)","v":0},{"$f":"MINUTE('Copy your Raw data here'!G445)","v":0},{"$f":"MINUTE('Copy your Raw data here'!H445)","v":0},{"$f":"('Copy your Raw data here'!H445-'Copy your Raw data here'!G445)*1440","v":0},1440,{"$f":"IF('Copy your Raw data here'!G445=\"\",\"\",IF(V446<U446,Z446,Y446))","v":""}]
[{"$f":"IF(ISBLANK('Copy your Raw data here'!A446),\"\",('Copy your Raw data here'!A446))","v":""},"",{"$f":"IF('Copy your Raw data here'!D446=\"YES\",1,0)","v":0},{"$f":"VLOOKUP('Copy your Raw data here'!E446,'Stroke Ready Hospital List'!A:B,1,FALSE)","v":{"$error":"#N/A"}},0,{"$f":"IF(OR(ISBLANK('Copy your Raw data here'!F446),('Copy your Raw data here'!F446=\"NO\")),0,1)","v":0},{"$f":"IF(ISBLANK('Copy your Raw data here'!G446),0,1)","v":0},{"$f":"IF(ISERROR(D447),'Copy your Raw data here'!E446,\"\")","v":0},"",null,null,{"$f":"HOUR('Copy your Raw data here'!B446)","v":0},{"$f":"HOUR('Copy your Raw data here'!C446)","v":0},{"$f":"MINUTE('Copy your Raw data here'!B446)","v":0},{"$f":"MINUTE('Copy your Raw data here'!C446)","v":0},{"$f":"('Copy your Raw data here'!C446-'Copy your Raw data here'!B446)*1440","v":0},60,0,null,null,{"$f":"HOUR('Copy your Raw data here'!G446)","v":0},{"$f":"HOUR('Copy your Raw data here'!H446)","v":0},{"$f":"MINUTE('Copy your Raw data here'!G446)","v":0},{"$f":"MINUTE('Copy your Raw data here'!H446)","v":0},{"$f":"('Copy your Raw data here'!H446-'Copy your Raw data here'!G446)*1440","v":0},1440,{"$f":"IF('Copy your Raw data here'!G446=\"\",\"\",IF(V447<U447,Z447,Y447))","v":""}]
[{"$f":"IF(ISBLANK('Copy your Raw data here'!A447),\"\",('Copy your Raw data here'!A447))","v":""},"",{"$f":"IF('Copy your Raw data here'!D447=\"YES\",1,0)","v":0},{"$f":"VLOOKUP('Copy your Raw data here'!E447,'Stroke Ready Hospital List'!A:B,1,FALSE)","v":{"$error":"#N/A"}},0,{"$f":"IF(OR(ISBLANK('Copy your Raw data here'!F447),('Copy your Raw data here'!F447=\"NO\")),0,1)","v":0},{"$f":"IF(ISBLANK('Copy your Raw data here'!G447),0,1)","v":0},{"$f":"IF(ISERROR(D448),'Copy your Raw data here'!E447,\"\")","v":0},"",null,null,{"$f":"HOUR('Copy your Raw data here'!B447)","v":0},{"$f":"HOUR('Copy your Raw data here'!C447)","v":0},{"$f":"MINUTE('Copy your Raw data here'!B447)","v":0},{"$f":"MINUTE('Copy your Raw data here'!C447)","v":0},{"$f":"('Copy your Raw data here'!C447-'Copy your Raw data here'!B447)*1440","v":0},60,0,null,null,{"$f":"HOUR('Copy your Raw data here'!G447)","v":0},{"$f":"HOUR('Copy your Raw data here'!H447)","v":0},{"$f":"MINUTE('Copy your Raw data here'!G447)","v":0},{"$f":"MINUTE('Copy your Raw data here'!H447)","v":0},{"$f":"('Copy your Raw data here'!H447-'Copy your Raw data here'!G447)*1440","v":0},1440,{"$f":"IF('Copy your Raw data here'!G447=\"\",\"\",IF(V448<U448,Z448,Y448))","v":""}]
[{"$f":"IF(ISBLANK('Copy your Raw data here'!A448),\"\",('Copy your Raw data here'!A448))","v":""},"",{"$f":"IF('Copy your Raw data here'!D448=\"YES\",1,0)","v":0},{"$f":"VLOOKUP('Copy your Raw data here'!E448,'Stroke Ready Hospital List'!A:B,1,FALSE)","v":{"$error":"#N/A"}},0,{"$f":"IF(OR(ISBLANK('Copy your Raw data here'!F448),('Copy your Raw data here'!F448=\"NO\")),0,1)","v":0},{"$f":"IF(ISBLANK('Copy your Raw data here'!G448),0,1)","v":0},{"$f":"IF(ISERROR(D449),'Copy your Raw data here'!E448,\"\")","v":0},"",null,null,{"$f":"HOUR('Copy your Raw data here'!B448)","v":0},{"$f":"HOUR('Copy your Raw data here'!C448)","v":0},{"$f":"MINUTE('Copy your Raw data here'!B448)","v":0},{"$f":"MINUTE('Copy your Raw data here'!C448)","v":0},{"$f":"('Copy your Raw data here'!C448-'Copy your Raw data here'!B448)*1440","v":0},60,0,null,null,{"$f":"HOUR('Copy your Raw data here'!G448)","v":0},{"$f":"HOUR('Copy your Raw data here'!H448)","v":0},{"$f":"MINUTE('Copy your Raw data here'!G448)","v":0},{"$f":"MINUTE('Copy your Raw data here'!H448)","v":0},{"$f":"('Copy your Raw data here'!H448-'Copy your Raw data here'!G448)*1440","v":0},1440,{"$f":"IF('Copy your Raw data here'!G448=\"\",\"\",IF(V449<U449,Z449,Y449))","v":""}]
[{"$f":"IF(ISBLANK('Copy your Raw data here'!A449),\"\",('Copy your Raw data here'!A449))","v":""},"",{"$f":"IF('Copy your Raw data here'!D449=\"YES\",1,0)","v":0},{"$f":"VLOOKUP('Copy your Raw data here'!E449,'Stroke Ready Hospital List'!A:B,1,FALSE)","v":{"$error":"#N/A"}},0,{"$f":"IF(OR(ISBLANK('Copy your Raw data here'!F449),('Copy your Raw data here'!F449=\"NO\")),0,1)","v":0},{"$f":"IF(ISBLANK('Copy your Raw data here'!G449),0,1)","v":0},{"$f":"IF(ISERROR(D450),'Copy your Raw data here'!E449,\"\")","v":0},"",null,null,{"$f":"HOUR('Copy your Raw data here'!B449)","v":0},{"$f":"HOUR('Copy your Raw data here'!C449)","v":0},{"$f":"MINUTE('Copy your Raw data here'!B449)","v":0},{"$f":"MINUTE('Copy your Raw data here'!C449)","v":0},{"$f":"('Copy your Raw data here'!C449-'Copy your Raw data here'!B449)*1440","v":0},60,0,null,null,{"$f":"HOUR('Copy your Raw data here'!G449)","v":0},{"$f":"HOUR('Copy your Raw data here'!H449)","v":0},{"$f":"MINUTE('Copy your Raw data here'!G449)","v":0},{"$f":"MINUTE('Copy your Raw data here'!H449)","v":0},{"$f":"('Copy your Raw data here'!H449-'Copy your Raw data here'!G449)*1440","v":0},1440,{"$f":"IF('Copy your Raw data here'!G449=\"\",\"\",IF(V450<U450,Z450,Y450))","v":""}]
[{"$f":"IF(ISBLANK('Copy your Raw data here'!A450),\"\",('Copy your Raw data here'!A450))","v":""},"",{"$f":"IF('Copy your Raw data here'!D450=\"YES\",1,0)","v":0},{"$f":"VLOOKUP('Copy your Raw data here'!E450,'Stroke Ready Hospital List'!A:B,1,FALSE)","v":{"$error":"#N/A"}},0,{"$f":"IF(OR(ISBLANK('Copy your Raw data here'!F450),('Copy your Raw data here'!F450=\"NO\")),0,1)","v":0},{"$f":"IF(ISBLANK('Copy your Raw data here'!G450),0,1)","v":0},{"$f":"IF(ISERROR(D451),'Copy your Raw data here'!E450,\"\")","v":0},"",null,null,{"$f":"HOUR('Copy your Raw data here'!B450)","v":0},{"$f":"HOUR('Copy your Raw data here'!C450)","v":0},{"$f":"MINUTE('Copy your Raw data here'!B450)","v":0},{"$f":"MINUTE('Copy your Raw data here'!C450)","v":0},{"$f":"('Copy your Raw data here'!C450-'Copy your Raw data here'!B450)*1440","v":0},60,0,null,null,{"$f":"HOUR('Copy your Raw data here'!G450)","v":0},{"$f":"HOUR('Copy your Raw data here'!H450)","v":0},{"$f":"MINUTE('Copy your Raw data here'!G450)","v":0},{"$f":"MINUTE('Copy your Raw data here'!H450)","v":0},{"$f":"('Copy your Raw data here'!H450-'Copy your Raw data here'!G450)*1440","v":0},1440,{"$f":"IF('Copy your Raw data here'!G450=\"\",\"\",IF(V451<U451,Z451,Y451))","v":""}]
[{"$f":"IF(ISBLANK('Copy your Raw data here'!A451),\"\",('Copy your Raw data here'!A451))","v":""},{"$f":"IF(R452=0,\"\",R452)","v":""},{"$f":"IF('Copy your Raw data here'!D451=\"YES\",1,0)","v":0},{"$f":"VLOOKUP('Copy your Raw data here'!E451,'Stroke Ready Hospital List'!A:B,1,FALSE)","v":{"$error":"#N/A"}},0,{"$f":"IF(OR(ISBLANK('Copy your Raw data here'!F451),('Copy your Raw data here'!F451=\"NO\")),0,1)","v":0},{"$f":"IF(ISBLANK('Copy your Raw data here'!G451),0,1)","v":0},{"$f":"IF(ISERROR(D452),'Copy your Raw data here'!E451,\"\")","v":0},{"$f":"IF(R452=0,\"\",AA452)","v":""},null,null,{"$f":"HOUR('Copy your Raw data here'!B451)","v":0},{"$f":"HOUR('Copy your Raw data here'!C451)","v":0},{"$f":"MINUTE('Copy your Raw data here'!B451)","v":0},{"$f":"MINUTE('Copy your Raw data here'!C451)","v":0},{"$f":"('Copy your Raw data here'!C451-'Copy your Raw data here'!B451)*1440","v":0},{"$f":"SUM(60-N452)+O452","v":60},{"$f":"IF(M452<L452,Q452,P452)","v":0},null,null,{"$f":"HOUR('Copy your Raw data here'!G451)","v":0},{"$f":"HOUR('Copy your Raw data here'!H451)","v":0},{"$f":"MINUTE('Copy your Raw data here'!G451)","v":0},{"$f":"MINUTE('Copy your Raw data here'!H451)","v":0},{"$f":"('Copy your Raw data here'!H451-'Copy your Raw data here'!G451)*1440","v":0},{"$f":"SUM((60-W452)+X452)+SUM((23-U452)*60)","v":1440},{"$f":"IF('Copy your Raw data here'!G451=\"\",\"\",IF(V452<U452,Z452,Y452))","v":""}]
[{"$f":"IF(ISBLANK('Copy your Raw data here'!A452),\"\",('Copy your Raw data here'!A452))","v":""},"",{"$f":"IF('Copy your Raw data here'!D452=\"YES\",1,0)","v":0},{"$f":"VLOOKUP('Copy your Raw data here'!E452,'Stroke Ready Hospital List'!A:B,1,FALSE)","v":{"$error":"#N/A"}},0,{"$f":"IF(OR(ISBLANK('Copy your Raw data here'!F452),('Copy your Raw data here'!F452=\"NO\")),0,1)","v":0},{"$f":"IF(ISBLANK('Copy your Raw data here'!G452),0,1)","v":0},{"$f":"IF(ISERROR(D453),'Copy your Raw data here'!E452,\"\")","v":0},"",null,null,{"$f":"HOUR('Copy your Raw data here'!B452)","v":0},{"$f":"HOUR('Copy your Raw data here'!C452)","v":0},{"$f":"MINUTE('Copy your Raw data here'!B452)","v":0},{"$f":"MINUTE('Copy your Raw data here'!C452)","v":0},{"$f":"('Copy your Raw data here'!C452-'Copy your Raw data here'!B452)*1440","v":0},60,0,null,null,{"$f":"HOUR('Copy your Raw data here'!G452)","v":0},{"$f":"HOUR('Copy your Raw data here'!H452)","v":0},{"$f":"MINUTE('Copy your Raw data here'!G452)","v":0},{"$f":"MINUTE('Copy your Raw data here'!H452)","v":0},{"$f":"('Copy your Raw data here'!H452-'Copy your Raw data here'!G452)*1440","v":0},1440,{"$f":"IF('Copy your Raw data here'!G452=\"\",\"\",IF(V453<U453,Z453,Y453))","v":""}]
[{"$f":"IF(ISBLANK('Copy your Raw data here'!A453),\"\",('Copy your Raw data here'!A453))","v":""},"",{"$f":"IF('Copy your Raw data here'!D453=\"YES\",1,0)","v":0},{"$f":"VLOOKUP('Copy your Raw data here'!E453,'Stroke Ready Hospital List'!A:B,1,FALSE)","v":{"$error":"#N/A"}},0,{"$f":"IF(OR(ISBLANK('Copy your Raw data here'!F453),('Copy your Raw data here'!F453=\"NO\")),0,1)","v":0},{"$f":"IF(ISBLANK('Copy your Raw data here'!G453),0,1)","v":0},{"$f":"IF(ISERROR(D454),'Copy your Raw data here'!E453,\"\")","v":0},"",null,null,{"$f":"HOUR('Copy your Raw data here'!B453)","v":0},{"$f":"HOUR('Copy your Raw data here'!C453)","v":0},{"$f":"MINUTE('Copy your Raw data here'!B453)","v":0},{"$f":"MINUTE('Copy your Raw data here'!C453)","v":0},{"$f":"('Copy your Raw data here'!C453-'Copy your Raw data here'!B453)*1440","v":0},60,0,null,null,{"$f":"HOUR('Copy your Raw data here'!G453)","v":0},{"$f":"HOUR('Copy your Raw data here'!H453)","v":0},{"$f":"MINUTE('Copy your Raw data here'!G453)","v":0},{"$f":"MINUTE('Copy your Raw data here'!H453)","v":0},{"$f":"('Copy your Raw data here'!H453-'Copy your Raw data here'!G453)*1440","v":0},1440,{"$f":"IF('Copy your Raw data here'!G453=\"\",\"\",IF(V454<U454,Z454,Y454))","v":""}]
[{"$f":"IF(ISBLANK('Copy your Raw data here'!A454),\"\",('Copy your Raw data here'!A454))","v":""},"",{"$f":"IF('Copy your Raw data here'!D454=\"YES\",1,0)","v":0},{"$f":"VLOOKUP('Copy your Raw data here'!E454,'Stroke Ready Hospital List'!A:B,1,FALSE)","v":{"$error":"#N/A"}},0,{"$f":"IF(OR(ISBLANK('Copy your Raw data here'!F454),('Copy your Raw data here'!F454=\"NO\")),0,1)","v":0},{"$f":"IF(ISBLANK('Copy your Raw data here'!G454),0,1)","v":0},{"$f":"IF(ISERROR(D455),'Copy your Raw data here'!E454,\"\")","v":0},"",null,null,{"$f":"HOUR('Copy your Raw data here'!B454)","v":0},{"$f":"HOUR('Copy your Raw data here'!C454)","v":0},{"$f":"MINUTE('Copy your Raw data here'!B454)","v":0},{"$f":"MINUTE('Copy your Raw data here'!C454)","v":0},{"$f":"('Copy your Raw data here'!C454-'Copy your Raw data here'!B454)*1440","v":0},60,0,null,null,{"$f":"HOUR('Copy your Raw data here'!G454)","v":0},{"$f":"HOUR('Copy your Raw data here'!H454)","v":0},{"$f":"MINUTE('Copy your Raw data here'!G454)","v":0},{"$f":"MINUTE('Copy your Raw data here'!H454)","v":0},{"$f":"('Copy your Raw data here'!H454-'Copy your Raw data here'!G454)*1440","v":0},1440,{"$f":"IF('Copy your Raw data here'!G454=\"\",\"\",IF(V455<U455,Z455,Y455))","v":""}]
[{"$f":"IF(ISBLANK('Copy your Raw data here'!A455),\"\",('Copy your Raw data here'!A455))","v":""},"",{"$f":"IF('Copy your Raw data here'!D455=\"YES\",1,0)","v":0},{"$f":"VLOOKUP('Copy your Raw data here'!E455,'Stroke Ready Hospital List'!A:B,1,FALSE)","v":{"$error":"#N/A"}},0,{"$f":"IF(OR(ISBLANK('Copy your Raw data here'!F455),('Copy your Raw data here'!F455=\"NO\")),0,1)","v":0},{"$f":"IF(ISBLANK('Copy your Raw data here'!G455),0,1)","v":0},{"$f":"IF(ISERROR(D456),'Copy your Raw data here'!E455,\"\")","v":0},"",null,null,{"$f":"HOUR('Copy your Raw data here'!B455)","v":0},{"$f":"HOUR('Copy your Raw data here'!C455)","v":0},{"$f":"MINUTE('Copy your Raw data here'!B455)","v":0},{"$f":"MINUTE('Copy your Raw data here'!C455)","v":0},{"$f":"('Copy your Raw data here'!C455-'Copy your Raw data here'!B455)*1440","v":0},60,0,null,null,{"$f":"HOUR('Copy your Raw data here'!G455)","v":0},{"$f":"HOUR('Copy your Raw data here'!H455)","v":0},{"$f":"MINUTE('Copy your Raw data here'!G455)","v":0},{"$f":"MINUTE('Copy your Raw data here'!H455)","v":0},{"$f":"('Copy your Raw data here'!H455-'Copy your Raw data here'!G455)*1440","v":0},1440,{"$f":"IF('Copy your Raw data here'!G455=\"\",\"\",IF(V456<U456,Z456,Y456))","v":""}]
[{"$f":"IF(ISBLANK('Copy your Raw data here'!A456),\"\",('Copy your Raw data here'!A456))","v":""},"",{"$f":"IF('Copy your Raw data here'!D456=\"YES\",1,0)","v":0},{"$f":"VLOOKUP('Copy your Raw data here'!E456,'Stroke Ready Hospital List'!A:B,1,FALSE)","v":{"$error":"#N/A"}},0,{"$f":"IF(OR(ISBLANK('Copy your Raw data here'!F456),('Copy your Raw data here'!F456=\"NO\")),0,1)","v":0},{"$f":"IF(ISBLANK('Copy your Raw data here'!G456),0,1)","v":0},{"$f":"IF(ISERROR(D457),'Copy your Raw data here'!E456,\"\")","v":0},"",null,null,{"$f":"HOUR('Copy your Raw data here'!B456)","v":0},{"$f":"HOUR('Copy your Raw data here'!C456)","v":0},{"$f":"MINUTE('Copy your Raw data here'!B456)","v":0},{"$f":"MINUTE('Copy your Raw data here'!C456)","v":0},{"$f":"('Copy your Raw data here'!C456-'Copy your Raw data here'!B456)*1440","v":0},60,0,null,null,{"$f":"HOUR('Copy your Raw data here'!G456)","v":0},{"$f":"HOUR('Copy your Raw data here'!H456)","v":0},{"$f":"MINUTE('Copy your Raw data here'!G456)","v":0},{"$f":"MINUTE('Copy your Raw data here'!H456)","v":0},{"$f":"('Copy your Raw data here'!H456-'Copy your Raw data here'!G456)*1440","v":0},1440,{"$f":"IF('Copy your Raw data here'!G456=\"\",\"\",IF(V457<U457,Z457,Y457))","v":""}]
[{"$f":"IF(ISBLANK('Copy your Raw data here'!A457),\"\",('Copy your Raw data here'!A457))","v":""},"",{"$f":"IF('Copy your Raw data here'!D457=\"YES\",1,0)","v":0},{"$f":"VLOOKUP('Copy your Raw data here'!E457,'Stroke Ready Hospital List'!A:B,1,FALSE)","v":{"$error":"#N/A"}},0,{"$f":"IF(OR(ISBLANK('Copy your Raw data here'!F457),('Copy your Raw data here'!F457=\"NO\")),0,1)","v":0},{"$f":"IF(ISBLANK('Copy your Raw data here'!G457),0,1)","v":0},{"$f":"IF(ISERROR(D458),'Copy your Raw data here'!E457,\"\")","v":0},"",null,null,{"$f":"HOUR('Copy your Raw data here'!B457)","v":0},{"$f":"HOUR('Copy your Raw data here'!C457)","v":0},{"$f":"MINUTE('Copy your Raw data here'!B457)","v":0},{"$f":"MINUTE('Copy your Raw data here'!C457)","v":0},{"$f":"('Copy your Raw data here'!C457-'Copy your Raw data here'!B457)*1440","v":0},60,0,null,null,{"$f":"HOUR('Copy your Raw data here'!G457)","v":0},{"$f":"HOUR('Copy your Raw data here'!H457)","v":0},{"$f":"MINUTE('Copy your Raw data here'!G457)","v":0},{"$f":"MINUTE('Copy your Raw data here'!H457)","v":0},{"$f":"('Copy your Raw data here'!H457-'Copy your Raw data here'!G457)*1440","v":0},1440,{"$f":"IF('Copy your Raw data here'!G457=\"\",\"\",IF(V458<U458,Z458,Y458))","v":""}]
[{"$f":"IF(ISBLANK('Copy your Raw data here'!A458),\"\",('Copy your Raw data here'!A458))","v":""},"",{"$f":"IF('Copy your Raw data here'!D458=\"YES\",1,0)","v":0},{"$f":"VLOOKUP('Copy your Raw data here'!E458,'Stroke Ready Hospital List'!A:B,1,FALSE)","v":{"$error":"#N/A"}},0,{"$f":"IF(OR(ISBLANK('Copy your Raw data here'!F458),('Copy your Raw data here'!F458=\"NO\")),0,1)","v":0},{"$f":"IF(ISBLANK('Copy your Raw data here'!G458),0,1)","v":0},{"$f":"IF(ISERROR(D459),'Copy your Raw data here'!E458,\"\")","v":0},"",null,null,{"$f":"HOUR('Copy your Raw data here'!B458)","v":0},{"$f":"HOUR('Copy your Raw data here'!C458)","v":0},{"$f":"MINUTE('Copy your Raw data here'!B458)","v":0},{"$f":"MINUTE('Copy your Raw data here'!C458)","v":0},{"$f":"('Copy your Raw data here'!C458-'Copy your Raw data here'!B458)*1440","v":0},60,0,null,null,{"$f":"HOUR('Copy your Raw data here'!G458)","v":0},{"$f":"HOUR('Copy your Raw data here'!H458)","v":0},{"$f":"MINUTE('Copy your Raw data here'!G458)","v":0},{"$f":"MINUTE('Copy your Raw data here'!H458)","v":0},{"$f":"('Copy your Raw data here'!H458-'Copy your Raw data here'!G458)*1440","v":0},1440,{"$f":"IF('Copy your Raw data here'!G458=\"\",\"\",IF(V459<U459,Z459,Y459))","v":""}]
[{"$f":"IF(ISBLANK('Copy your Raw data here'!A459),\"\",('Copy your Raw data here'!A459))","v":""},"",{"$f":"IF('Copy your Raw data here'!D459=\"YES\",1,0)","v":0},{"$f":"VLOOKUP('Copy your Raw data here'!E459,'Stroke Ready Hospital List'!A:B,1,FALSE)","v":{"$error":"#N/A"}},0,{"$f":"IF(OR(ISBLANK('Copy your Raw data here'!F459),('Copy your Raw data here'!F459=\"NO\")),0,1)","v":0},{"$f":"IF(ISBLANK('Copy your Raw data here'!G459),0,1)","v":0},{"$f":"IF(ISERROR(D460),'Copy your Raw data here'!E459,\"\")","v":0},"",null,null,{"$f":"HOUR('Copy your Raw data here'!B459)","v":0},{"$f":"HOUR('Copy your Raw data here'!C459)","v":0},{"$f":"MINUTE('Copy your Raw data here'!B459)","v":0},{"$f":"MINUTE('Copy your Raw data here'!C459)","v":0},{"$f":"('Copy your Raw data here'!C459-'Copy your Raw data here'!B459)*1440","v":0},60,0,null,null,{"$f":"HOUR('Copy your Raw data here'!G459)","v":0},{"$f":"HOUR('Copy your Raw data here'!H459)","v":0},{"$f":"MINUTE('Copy your Raw data here'!G459)","v":0},{"$f":"MINUTE('Copy your Raw data here'!H459)","v":0},{"$f":"('Copy your Raw data here'!H459-'Copy your Raw data here'!G459)*1440","v":0},1440,{"$f":"IF('Copy your Raw data here'!G459=\"\",\"\",IF(V460<U460,Z460,Y460))","v":""}]
[{"$f":"IF(ISBLANK('Copy your Raw data here'!A460),\"\",('Copy your Raw data here'!A460))","v":""},"",{"$f":"IF('Copy your Raw data here'!D460=\"YES\",1,0)","v":0},{"$f":"VLOOKUP('Copy your Raw data here'!E460,'Stroke Ready Hospital List'!A:B,1,FALSE)","v":{"$error":"#N/A"}},0,{"$f":"IF(OR(ISBLANK('Copy your Raw data here'!F460),('Copy your Raw data here'!F460=\"NO\")),0,1)","v":0},{"$f":"IF(ISBLANK('Copy your Raw data here'!G460),0,1)","v":0},{"$f":"IF(ISERROR(D461),'Copy your Raw data here'!E460,\"\")","v":0},"",null,null,{"$f":"HOUR('Copy your Raw data here'!B460)","v":0},{"$f":"HOUR('Copy your Raw data here'!C460)","v":0},{"$f":"MINUTE('Copy your Raw data here'!B460)","v":0},{"$f":"MINUTE('Copy your Raw data here'!C460)","v":0},{"$f":"('Copy your Raw data here'!C460-'Copy your Raw data here'!B460)*1440","v":0},60,0,null,null,{"$f":"HOUR('Copy your Raw data here'!G460)","v":0},{"$f":"HOUR('Copy your Raw data here'!H460)","v":0},{"$f":"MINUTE('Copy your Raw data here'!G460)","v":0},{"$f":"MINUTE('Copy your Raw data here'!H460)","v":0},{"$f":"('Copy your Raw data here'!H460-'Copy your Raw data here'!G460)*1440","v":0},1440,{"$f":"IF('Copy your Raw data here'!G460=\"\",\"\",IF(V461<U461,Z461,Y461))","v":""}]
[{"$f":"IF(ISBLANK('Copy your Raw data here'!A461),\"\",('Copy your Raw data here'!A461))","v":""},"",{"$f":"IF('Copy your Raw data here'!D461=\"YES\",1,0)","v":0},{"$f":"VLOOKUP('Copy your Raw data here'!E461,'Stroke Ready Hospital List'!A:B,1,FALSE)","v":{"$error":"#N/A"}},0,{"$f":"IF(OR(ISBLANK('Copy your Raw data here'!F461),('Copy your Raw data here'!F461=\"NO\")),0,1)","v":0},{"$f":"IF(ISBLANK('Copy your Raw data here'!G461),0,1)","v":0},{"$f":"IF(ISERROR(D462),'Copy your Raw data here'!E461,\"\")","v":0},"",null,null,{"$f":"HOUR('Copy your Raw data here'!B461)","v":0},{"$f":"HOUR('Copy your Raw data here'!C461)","v":0},{"$f":"MINUTE('Copy your Raw data here'!B461)","v":0},{"$f":"MINUTE('Copy your Raw data here'!C461)","v":0},{"$f":"('Copy your Raw data here'!C461-'Copy your Raw data here'!B461)*1440","v":0},60,0,null,null,{"$f":"HOUR('Copy your Raw data here'!G461)","v":0},{"$f":"HOUR('Copy your Raw data here'!H461)","v":0},{"$f":"MINUTE('Copy your Raw data here'!G461)","v":0},{"$f":"MINUTE('Copy your Raw data here'!H461)","v":0},{"$f":"('Copy your Raw data here'!H461-'Copy your Raw data here'!G461)*1440","v":0},1440,{"$f":"IF('Copy your Raw data here'!G461=\"\",\"\",IF(V462<U462,Z462,Y462))","v":""}]
[{"$f":"IF(ISBLANK('Copy your Raw data here'!A462),\"\",('Copy your Raw data here'!A462))","v":""},"",{"$f":"IF('Copy your Raw data here'!D462=\"YES\",1,0)","v":0},{"$f":"VLOOKUP('Copy your Raw data here'!E462,'Stroke Ready Hospital List'!A:B,1,FALSE)","v":{"$error":"#N/A"}},0,{"$f":"IF(OR(ISBLANK('Copy your Raw data here'!F462),('Copy your Raw data here'!F462=\"NO\")),0,1)","v":0},{"$f":"IF(ISBLANK('Copy your Raw data here'!G462),0,1)","v":0},{"$f":"IF(ISERROR(D463),'Copy your Raw data here'!E462,\"\")","v":0},"",null,null,{"$f":"HOUR('Copy your Raw data here'!B462)","v":0},{"$f":"HOUR('Copy your Raw data here'!C462)","v":0},{"$f":"MINUTE('Copy your Raw data here'!B462)","v":0},{"$f":"MINUTE('Copy your Raw data here'!C462)","v":0},{"$f":"('Copy your Raw data here'!C462-'Copy your Raw data here'!B462)*1440","v":0},60,0,null,null,{"$f":"HOUR('Copy your Raw data here'!G462)","v":0},{"$f":"HOUR('Copy your Raw data here'!H462)","v":0},{"$f":"MINUTE('Copy your Raw data here'!G462)","v":0},{"$f":"MINUTE('Copy your Raw data here'!H462)","v":0},{"$f":"('Copy your Raw data here'!H462-'Copy your Raw data here'!G462)*1440","v":0},1440,{"$f":"IF('Copy your Raw data here'!G462=\"\",\"\",IF(V463<U463,Z463,Y463))","v":""}]
[{"$f":"IF(ISBLANK('Copy your Raw data here'!A463),\"\",('Copy your Raw data here'!A463))","v":""},"",{"$f":"IF('Copy your Raw data here'!D463=\"YES\",1,0)","v":0},{"$f":"VLOOKUP('Copy your Raw data here'!E463,'Stroke Ready Hospital List'!A:B,1,FALSE)","v":{"$error":"#N/A"}},0,{"$f":"IF(OR(ISBLANK('Copy your Raw data here'!F463),('Copy your Raw data here'!F463=\"NO\")),0,1)","v":0},{"$f":"IF(ISBLANK('Copy your Raw data here'!G463),0,1)","v":0},{"$f":"IF(ISERROR(D464),'Copy your Raw data here'!E463,\"\")","v":0},"",null,null,{"$f":"HOUR('Copy your Raw data here'!B463)","v":0},{"$f":"HOUR('Copy your Raw data here'!C463)","v":0},{"$f":"MINUTE('Copy your Raw data here'!B463)","v":0},{"$f":"MINUTE('Copy your Raw data here'!C463)","v":0},{"$f":"('Copy your Raw data here'!C463-'Copy your Raw data here'!B463)*1440","v":0},60,0,null,null,{"$f":"HOUR('Copy your Raw data here'!G463)","v":0},{"$f":"HOUR('Copy your Raw data here'!H463)","v":0},{"$f":"MINUTE('Copy your Raw data here'!G463)","v":0},{"$f":"MINUTE('Copy your Raw data here'!H463)","v":0},{"$f":"('Copy your Raw data here'!H463-'Copy your Raw data here'!G463)*1440","v":0},1440,{"$f":"IF('Copy your Raw data here'!G463=\"\",\"\",IF(V464<U464,Z464,Y464))","v":""}]
[{"$f":"IF(ISBLANK('Copy your Raw data here'!A464),\"\",('Copy your Raw data here'!A464))","v":""},"",{"$f":"IF('Copy your Raw data here'!D464=\"YES\",1,0)","v":0},{"$f":"VLOOKUP('Copy your Raw data here'!E464,'Stroke Ready Hospital List'!A:B,1,FALSE)","v":{"$error":"#N/A"}},0,{"$f":"IF(OR(ISBLANK('Copy your Raw data here'!F464),('Copy your Raw data here'!F464=\"NO\")),0,1)","v":0},{"$f":"IF(ISBLANK('Copy your Raw data here'!G464),0,1)","v":0},{"$f":"IF(ISERROR(D465),'Copy your Raw data here'!E464,\"\")","v":0},"",null,null,{"$f":"HOUR('Copy your Raw data here'!B464)","v":0},{"$f":"HOUR('Copy your Raw data here'!C464)","v":0},{"$f":"MINUTE('Copy your Raw data here'!B464)","v":0},{"$f":"MINUTE('Copy your Raw data here'!C464)","v":0},{"$f":"('Copy your Raw data here'!C464-'Copy your Raw data here'!B464)*1440","v":0},60,0,null,null,{"$f":"HOUR('Copy your Raw data here'!G464)","v":0},{"$f":"HOUR('Copy your Raw data here'!H464)","v":0},{"$f":"MINUTE('Copy your Raw data here'!G464)","v":0},{"$f":"MINUTE('Copy your Raw data here'!H464)","v":0},{"$f":"('Copy your Raw data here'!H464-'Copy your Raw data here'!G464)*1440","v":0},1440,{"$f":"IF('Copy your Raw data here'!G464=\"\",\"\",IF(V465<U465,Z465,Y465))","v":""}]
[{"$f":"IF(ISBLANK('Copy your Raw data here'!A465),\"\",('Copy your Raw data here'!A465))","v":""},"",{"$f":"IF('Copy your Raw data here'!D465=\"YES\",1,0)","v":0},{"$f":"VLOOKUP('Copy your Raw data here'!E465,'Stroke Ready Hospital List'!A:B,1,FALSE)","v":{"$error":"#N/A"}},0,{"$f":"IF(OR(ISBLANK('Copy your Raw data here'!F465),('Copy your Raw data here'!F465=\"NO\")),0,1)","v":0},{"$f":"IF(ISBLANK('Copy your Raw data here'!G465),0,1)","v":0},{"$f":"IF(ISERROR(D466),'Copy your Raw data here'!E465,\"\")","v":0},"",null,null,{"$f":"HOUR('Copy your Raw data here'!B465)","v":0},{"$f":"HOUR('Copy your Raw data here'!C465)","v":0},{"$f":"MINUTE('Copy your Raw data here'!B465)","v":0},{"$f":"MINUTE('Copy your Raw data here'!C465)","v":0},{"$f":"('Copy your Raw data here'!C465-'Copy your Raw data here'!B465)*1440","v":0},60,0,null,null,{"$f":"HOUR('Copy your Raw data here'!G465)","v":0},{"$f":"HOUR('Copy your Raw data here'!H465)","v":0},{"$f":"MINUTE('Copy your Raw data here'!G465)","v":0},{"$f":"MINUTE('Copy your Raw data here'!H465)","v":0},{"$f":"('Copy your Raw data here'!H465-'Copy your Raw data here'!G465)*1440","v":0},1440,{"$f":"IF('Copy your Raw data here'!G465=\"\",\"\",IF(V466<U466,Z466,Y466))","v":""}]
[{"$f":"IF(ISBLANK('Copy your Raw data here'!A466),\"\",('Copy your Raw data here'!A466))","v":""},"",{"$f":"IF('Copy your Raw data here'!D466=\"YES\",1,0)","v":0},{"$f":"VLOOKUP('Copy your Raw data here'!E466,'Stroke Ready Hospital List'!A:B,1,FALSE)","v":{"$error":"#N/A"}},0,{"$f":"IF(OR(ISBLANK('Copy your Raw data here'!F466),('Copy your Raw data here'!F466=\"NO\")),0,1)","v":0},{"$f":"IF(ISBLANK('Copy your Raw data here'!G466),0,1)","v":0},{"$f":"IF(ISERROR(D467),'Copy your Raw data here'!E466,\"\")","v":0},"",null,null,{"$f":"HOUR('Copy your Raw data here'!B466)","v":0},{"$f":"HOUR('Copy your Raw data here'!C466)","v":0},{"$f":"MINUTE('Copy your Raw data here'!B466)","v":0},{"$f":"MINUTE('Copy your Raw data here'!C466)","v":0},{"$f":"('Copy your Raw data here'!C466-'Copy your Raw data here'!B466)*1440","v":0},60,0,null,null,{"$f":"HOUR('Copy your Raw data here'!G466)","v":0},{"$f":"HOUR('Copy your Raw data here'!H466)","v":0},{"$f":"MINUTE('Copy your Raw data here'!G466)","v":0},{"$f":"MINUTE('Copy your Raw data here'!H466)","v":0},{"$f":"('Copy your Raw data here'!H466-'Copy your Raw data here'!G466)*1440","v":0},1440,{"$f":"IF('Copy your Raw data here'!G466=\"\",\"\",IF(V467<U467,Z467,Y467))","v":""}]
[{"$f":"IF(ISBLANK('Copy your Raw data here'!A467),\"\",('Copy your Raw data here'!A467))","v":""},"",{"$f":"IF('Copy your Raw data here'!D467=\"YES\",1,0)","v":0},{"$f":"VLOOKUP('Copy your Raw data here'!E467,'Stroke Ready Hospital List'!A:B,1,FALSE)","v":{"$error":"#N/A"}},0,{"$f":"IF(OR(ISBLANK('Copy your Raw data here'!F467),('Copy your Raw data here'!F467=\"NO\")),0,1)","v":0},{"$f":"IF(ISBLANK('Copy your Raw data here'!G467),0,1)","v":0},{"$f":"IF(ISERROR(D468),'Copy your Raw data here'!E467,\"\")","v":0},"",null,null,{"$f":"HOUR('Copy your Raw data here'!B467)","v":0},{"$f":"HOUR('Copy your Raw data here'!C467)","v":0},{"$f":"MINUTE('Copy your Raw data here'!B467)","v":0},{"$f":"MINUTE('Copy your Raw data here'!C467)","v":0},{"$f":"('Copy your Raw data here'!C467-'Copy your Raw data here'!B467)*1440","v":0},60,0,null,null,{"$f":"HOUR('Copy your Raw data here'!G467)","v":0},{"$f":"HOUR('Copy your Raw data here'!H467)","v":0},{"$f":"MINUTE('Copy your Raw data here'!G467)","v":0},{"$f":"MINUTE('Copy your Raw data here'!H467)","v":0},{"$f":"('Copy your Raw data here'!H467-'Copy your Raw data here'!G467)*1440","v":0},1440,{"$f":"IF('Copy your Raw data here'!G467=\"\",\"\",IF(V468<U468,Z468,Y468))","v":""}]
[{"$f":"IF(ISBLANK('Copy your Raw data here'!A468),\"\",('Copy your Raw data here'!A468))","v":""},"",{"$f":"IF('Copy your Raw data here'!D468=\"YES\",1,0)","v":0},{"$f":"VLOOKUP('Copy your Raw data here'!E468,'Stroke Ready Hospital List'!A:B,1,FALSE)","v":{"$error":"#N/A"}},0,{"$f":"IF(OR(ISBLANK('Copy your Raw data here'!F468),('Copy your Raw data here'!F468=\"NO\")),0,1)","v":0},{"$f":"IF(ISBLANK('Copy your Raw data here'!G468),0,1)","v":0},{"$f":"IF(ISERROR(D469),'Copy your Raw data here'!E468,\"\")","v":0},"",null,null,{"$f":"HOUR('Copy your Raw data here'!B468)","v":0},{"$f":"HOUR('Copy your Raw data here'!C468)","v":0},{"$f":"MINUTE('Copy your Raw data here'!B468)","v":0},{"$f":"MINUTE('Copy your Raw data here'!C468)","v":0},{"$f":"('Copy your Raw data here'!C468-'Copy your Raw data here'!B468)*1440","v":0},60,0,null,null,{"$f":"HOUR('Copy your Raw data here'!G468)","v":0},{"$f":"HOUR('Copy your Raw data here'!H468)","v":0},{"$f":"MINUTE('Copy your Raw data here'!G468)","v":0},{"$f":"MINUTE('Copy your Raw data here'!H468)","v":0},{"$f":"('Copy your Raw data here'!H468-'Copy your Raw data here'!G468)*1440","v":0},1440,{"$f":"IF('Copy your Raw data here'!G468=\"\",\"\",IF(V469<U469,Z469,Y469))","v":""}]
[{"$f":"IF(ISBLANK('Copy your Raw data here'!A469),\"\",('Copy your Raw data here'!A469))","v":""},"",{"$f":"IF('Copy your Raw data here'!D469=\"YES\",1,0)","v":0},{"$f":"VLOOKUP('Copy your Raw data here'!E469,'Stroke Ready Hospital List'!A:B,1,FALSE)","v":{"$error":"#N/A"}},0,{"$f":"IF(OR(ISBLANK('Copy your Raw data here'!F469),('Copy your Raw data here'!F469=\"NO\")),0,1)","v":0},{"$f":"IF(ISBLANK('Copy your Raw data here'!G469),0,1)","v":0},{"$f":"IF(ISERROR(D470),'Copy your Raw data here'!E469,\"\")","v":0},"",null,null,{"$f":"HOUR('Copy your Raw data here'!B469)","v":0},{"$f":"HOUR('Copy your Raw data here'!C469)","v":0},{"$f":"MINUTE('Copy your Raw data here'!B469)","v":0},{"$f":"MINUTE('Copy your Raw data here'!C469)","v":0},{"$f":"('Copy your Raw data here'!C469-'Copy your Raw data here'!B469)*1440","v":0},60,0,null,null,{"$f":"HOUR('Copy your Raw data here'!G469)","v":0},{"$f":"HOUR('Copy your Raw data here'!H469)","v":0},{"$f":"MINUTE('Copy your Raw data here'!G469)","v":0},{"$f":"MINUTE('Copy your Raw data here'!H469)","v":0},{"$f":"('Copy your Raw data here'!H469-'Copy your Raw data here'!G469)*1440","v":0},1440,{"$f":"IF('Copy your Raw data here'!G469=\"\",\"\",IF(V470<U470,Z470,Y470))","v":""}]
[{"$f":"IF(ISBLANK('Copy your Raw data here'!A470),\"\",('Copy your Raw data here'!A470))","v":""},"",{"$f":"IF('Copy your Raw data here'!D470=\"YES\",1,0)","v":0},{"$f":"VLOOKUP('Copy your Raw data here'!E470,'Stroke Ready Hospital List'!A:B,1,FALSE)","v":{"$error":"#N/A"}},0,{"$f":"IF(OR(ISBLANK('Copy your Raw data here'!F470),('Copy your Raw data here'!F470=\"NO\")),0,1)","v":0},{"$f":"IF(ISBLANK('Copy your Raw data here'!G470),0,1)","v":0},{"$f":"IF(ISERROR(D471),'Copy your Raw data here'!E470,\"\")","v":0},"",null,null,{"$f":"HOUR('Copy your Raw data here'!B470)","v":0},{"$f":"HOUR('Copy your Raw data here'!C470)","v":0},{"$f":"MINUTE('Copy your Raw data here'!B470)","v":0},{"$f":"MINUTE('Copy your Raw data here'!C470)","v":0},{"$f":"('Copy your Raw data here'!C470-'Copy your Raw data here'!B470)*1440","v":0},60,0,null,null,{"$f":"HOUR('Copy your Raw data here'!G470)","v":0},{"$f":"HOUR('Copy your Raw data here'!H470)","v":0},{"$f":"MINUTE('Copy your Raw data here'!G470)","v":0},{"$f":"MINUTE('Copy your Raw data here'!H470)","v":0},{"$f":"('Copy your Raw data here'!H470-'Copy your Raw data here'!G470)*1440","v":0},1440,{"$f":"IF('Copy your Raw data here'!G470=\"\",\"\",IF(V471<U471,Z471,Y471))","v":""}]
[{"$f":"IF(ISBLANK('Copy your Raw data here'!A471),\"\",('Copy your Raw data here'!A471))","v":""},"",{"$f":"IF('Copy your Raw data here'!D471=\"YES\",1,0)","v":0},{"$f":"VLOOKUP('Copy your Raw data here'!E471,'Stroke Ready Hospital List'!A:B,1,FALSE)","v":{"$error":"#N/A"}},0,{"$f":"IF(OR(ISBLANK('Copy your Raw data here'!F471),('Copy your Raw data here'!F471=\"NO\")),0,1)","v":0},{"$f":"IF(ISBLANK('Copy your Raw data here'!G471),0,1)","v":0},{"$f":"IF(ISERROR(D472),'Copy your Raw data here'!E471,\"\")","v":0},"",null,null,{"$f":"HOUR('Copy your Raw data here'!B471)","v":0},{"$f":"HOUR('Copy your Raw data here'!C471)","v":0},{"$f":"MINUTE('Copy your Raw data here'!B471)","v":0},{"$f":"MINUTE('Copy your Raw data here'!C471)","v":0},{"$f":"('Copy your Raw data here'!C471-'Copy your Raw data here'!B471)*1440","v":0},60,0,null,null,{"$f":"HOUR('Copy your Raw data here'!G471)","v":0},{"$f":"HOUR('Copy your Raw data here'!H471)","v":0},{"$f":"MINUTE('Copy your Raw data here'!G471)","v":0},{"$f":"MINUTE('Copy your Raw data here'!H471)","v":0},{"$f":"('Copy your Raw data here'!H471-'Copy your Raw data here'!G471)*1440","v":0},1440,{"$f":"IF('Copy your Raw data here'!G471=\"\",\"\",IF(V472<U472,Z472,Y472))","v":""}]
[{"$f":"IF(ISBLANK('Copy your Raw data here'!A472),\"\",('Copy your Raw data here'!A472))","v":""},"",{"$f":"IF('Copy your Raw data here'!D472=\"YES\",1,0)","v":0},{"$f":"VLOOKUP('Copy your Raw data here'!E472,'Stroke Ready Hospital List'!A:B,1,FALSE)","v":{"$error":"#N/A"}},0,{"$f":"IF(OR(ISBLANK('Copy your Raw data here'!F472),('Copy your Raw data here'!F472=\"NO\")),0,1)","v":0},{"$f":"IF(ISBLANK('Copy your Raw data here'!G472),0,1)","v":0},{"$f":"IF(ISERROR(D473),'Copy your Raw data here'!E472,\"\")","v":0},"",null,null,{"$f":"HOUR('Copy your Raw data here'!B472)","v":0},{"$f":"HOUR('Copy your Raw data here'!C472)","v":0},{"$f":"MINUTE('Copy your Raw data here'!B472)","v":0},{"$f":"MINUTE('Copy your Raw data here'!C472)","v":0},{"$f":"('Copy your Raw data here'!C472-'Copy your Raw data here'!B472)*1440","v":0},60,0,null,null,{"$f":"HOUR('Copy your Raw data here'!G472)","v":0},{"$f":"HOUR('Copy your Raw data here'!H472)","v":0},{"$f":"MINUTE('Copy your Raw data here'!G472)","v":0},{"$f":"MINUTE('Copy your Raw data here'!H472)","v":0},{"$f":"('Copy your Raw data here'!H472-'Copy your Raw data here'!G472)*1440","v":0},1440,{"$f":"IF('Copy your Raw data here'!G472=\"\",\"\",IF(V473<U473,Z473,Y473))","v":""}]
[{"$f":"IF(ISBLANK('Copy your Raw data here'!A473),\"\",('Copy your Raw data here'!A473))","v":""},"",{"$f":"IF('Copy your Raw data here'!D473=\"YES\",1,0)","v":0},{"$f":"VLOOKUP('Copy your Raw data here'!E473,'Stroke Ready Hospital List'!A:B,1,FALSE)","v":{"$error":"#N/A"}},0,{"$f":"IF(OR(ISBLANK('Copy your Raw data here'!F473),('Copy your Raw data here'!F473=\"NO\")),0,1)","v":0},{"$f":"IF(ISBLANK('Copy your Raw data here'!G473),0,1)","v":0},{"$f":"IF(ISERROR(D474),'Copy your Raw data here'!E473,\"\")","v":0},"",null,null,{"$f":"HOUR('Copy your Raw data here'!B473)","v":0},{"$f":"HOUR('Copy your Raw data here'!C473)","v":0},{"$f":"MINUTE('Copy your Raw data here'!B473)","v":0},{"$f":"MINUTE('Copy your Raw data here'!C473)","v":0},{"$f":"('Copy your Raw data here'!C473-'Copy your Raw data here'!B473)*1440","v":0},60,0,null,null,{"$f":"HOUR('Copy your Raw data here'!G473)","v":0},{"$f":"HOUR('Copy your Raw data here'!H473)","v":0},{"$f":"MINUTE('Copy your Raw data here'!G473)","v":0},{"$f":"MINUTE('Copy your Raw data here'!H473)","v":0},{"$f":"('Copy your Raw data here'!H473-'Copy your Raw data here'!G473)*1440","v":0},1440,{"$f":"IF('Copy your Raw data here'!G473=\"\",\"\",IF(V474<U474,Z474,Y474))","v":""}]
[{"$f":"IF(ISBLANK('Copy your Raw data here'!A474),\"\",('Copy your Raw data here'!A474))","v":""},"",{"$f":"IF('Copy your Raw data here'!D474=\"YES\",1,0)","v":0},{"$f":"VLOOKUP('Copy your Raw data here'!E474,'Stroke Ready Hospital List'!A:B,1,FALSE)","v":{"$error":"#N/A"}},0,{"$f":"IF(OR(ISBLANK('Copy your Raw data here'!F474),('Copy your Raw data here'!F474=\"NO\")),0,1)","v":0},{"$f":"IF(ISBLANK('Copy your Raw data here'!G474),0,1)","v":0},{"$f":"IF(ISERROR(D475),'Copy your Raw data here'!E474,\"\")","v":0},"",null,null,{"$f":"HOUR('Copy your Raw data here'!B474)","v":0},{"$f":"HOUR('Copy your Raw data here'!C474)","v":0},{"$f":"MINUTE('Copy your Raw data here'!B474)","v":0},{"$f":"MINUTE('Copy your Raw data here'!C474)","v":0},{"$f":"('Copy your Raw data here'!C474-'Copy your Raw data here'!B474)*1440","v":0},60,0,null,null,{"$f":"HOUR('Copy your Raw data here'!G474)","v":0},{"$f":"HOUR('Copy your Raw data here'!H474)","v":0},{"$f":"MINUTE('Copy your Raw data here'!G474)","v":0},{"$f":"MINUTE('Copy your Raw data here'!H474)","v":0},{"$f":"('Copy your Raw data here'!H474-'Copy your Raw data here'!G474)*1440","v":0},1440,{"$f":"IF('Copy your Raw data here'!G474=\"\",\"\",IF(V475<U475,Z475,Y475))","v":""}]
[{"$f":"IF(ISBLANK('Copy your Raw data here'!A475),\"\",('Copy your Raw data here'!A475))","v":""},"",{"$f":"IF('Copy your Raw data here'!D475=\"YES\",1,0)","v":0},{"$f":"VLOOKUP('Copy your Raw data here'!E475,'Stroke Ready Hospital List'!A:B,1,FALSE)","v":{"$error":"#N/A"}},{"$f":"IF(ISERROR(D476),0,1)","v":0},{"$f":"IF(OR(ISBLANK('Copy your Raw data here'!F475),('Copy your Raw data here'!F475=\"NO\")),0,1)","v":0},{"$f":"IF(ISBLANK('Copy your Raw data here'!G475),0,1)","v":0},{"$f":"IF(ISERROR(D476),'Copy your Raw data here'!E475,\"\")","v":0},"",null,null,{"$f":"HOUR('Copy your Raw data here'!B475)","v":0},{"$f":"HOUR('Copy your Raw data here'!C475)","v":0},{"$f":"MINUTE('Copy your Raw data here'!B475)","v":0},{"$f":"MINUTE('Copy your Raw data here'!C475)","v":0},{"$f":"('Copy your Raw data here'!C475-'Copy your Raw data here'!B475)*1440","v":0},60,0,null,null,{"$f":"HOUR('Copy your Raw data here'!G475)","v":0},{"$f":"HOUR('Copy your Raw data here'!H475)","v":0},{"$f":"MINUTE('Copy your Raw data here'!G475)","v":0},{"$f":"MINUTE('Copy your Raw data here'!H475)","v":0},{"$f":"('Copy your Raw data here'!H475-'Copy your Raw data here'!G475)*1440","v":0},1440,{"$f":"IF('Copy your Raw data here'!G475=\"\",\"\",IF(V476<U476,Z476,Y476))","v":""}]
[{"$f":"IF(ISBLANK('Copy your Raw data here'!A476),\"\",('Copy your Raw data here'!A476))","v":""},"",{"$f":"IF('Copy your Raw data here'!D476=\"YES\",1,0)","v":0},{"$f":"VLOOKUP('Copy your Raw data here'!E476,'Stroke Ready Hospital List'!A:B,1,FALSE)","v":{"$error":"#N/A"}},0,{"$f":"IF(OR(ISBLANK('Copy your Raw data here'!F476),('Copy your Raw data here'!F476=\"NO\")),0,1)","v":0},{"$f":"IF(ISBLANK('Copy your Raw data here'!G476),0,1)","v":0},{"$f":"IF(ISERROR(D477),'Copy your Raw data here'!E476,\"\")","v":0},"",null,null,{"$f":"HOUR('Copy your Raw data here'!B476)","v":0},{"$f":"HOUR('Copy your Raw data here'!C476)","v":0},{"$f":"MINUTE('Copy your Raw data here'!B476)","v":0},{"$f":"MINUTE('Copy your Raw data here'!C476)","v":0},{"$f":"('Copy your Raw data here'!C476-'Copy your Raw data here'!B476)*1440","v":0},60,0,null,null,{"$f":"HOUR('Copy your Raw data here'!G476)","v":0},{"$f":"HOUR('Copy your Raw data here'!H476)","v":0},{"$f":"MINUTE('Copy your Raw data here'!G476)","v":0},{"$f":"MINUTE('Copy your Raw data here'!H476)","v":0},{"$f":"('Copy your Raw data here'!H476-'Copy your Raw data here'!G476)*1440","v":0},1440,{"$f":"IF('Copy your Raw data here'!G476=\"\",\"\",IF(V477<U477,Z477,Y477))","v":""}]
[{"$f":"IF(ISBLANK('Copy your Raw data here'!A477),\"\",('Copy your Raw data here'!A477))","v":""},"",{"$f":"IF('Copy your Raw data here'!D477=\"YES\",1,0)","v":0},{"$f":"VLOOKUP('Copy your Raw data here'!E477,'Stroke Ready Hospital List'!A:B,1,FALSE)","v":{"$error":"#N/A"}},0,{"$f":"IF(OR(ISBLANK('Copy your Raw data here'!F477),('Copy your Raw data here'!F477=\"NO\")),0,1)","v":0},{"$f":"IF(ISBLANK('Copy your Raw data here'!G477),0,1)","v":0},{"$f":"IF(ISERROR(D478),'Copy your Raw data here'!E477,\"\")","v":0},"",null,null,{"$f":"HOUR('Copy your Raw data here'!B477)","v":0},{"$f":"HOUR('Copy your Raw data here'!C477)","v":0},{"$f":"MINUTE('Copy your Raw data here'!B477)","v":0},{"$f":"MINUTE('Copy your Raw data here'!C477)","v":0},{"$f":"('Copy your Raw data here'!C477-'Copy your Raw data here'!B477)*1440","v":0},60,0,null,null,{"$f":"HOUR('Copy your Raw data here'!G477)","v":0},{"$f":"HOUR('Copy your Raw data here'!H477)","v":0},{"$f":"MINUTE('Copy your Raw data here'!G477)","v":0},{"$f":"MINUTE('Copy your Raw data here'!H477)","v":0},{"$f":"('Copy your Raw data here'!H477-'Copy your Raw data here'!G477)*1440","v":0},1440,{"$f":"IF('Copy your Raw data here'!G477=\"\",\"\",IF(V478<U478,Z478,Y478))","v":""}]
[{"$f":"IF(ISBLANK('Copy your Raw data here'!A478),\"\",('Copy your Raw data here'!A478))","v":""},"",{"$f":"IF('Copy your Raw data here'!D478=\"YES\",1,0)","v":0},{"$f":"VLOOKUP('Copy your Raw data here'!E478,'Stroke Ready Hospital List'!A:B,1,FALSE)","v":{"$error":"#N/A"}},0,{"$f":"IF(OR(ISBLANK('Copy your Raw data here'!F478),('Copy your Raw data here'!F478=\"NO\")),0,1)","v":0},{"$f":"IF(ISBLANK('Copy your Raw data here'!G478),0,1)","v":0},{"$f":"IF(ISERROR(D479),'Copy your Raw data here'!E478,\"\")","v":0},"",null,null,{"$f":"HOUR('Copy your Raw data here'!B478)","v":0},{"$f":"HOUR('Copy your Raw data here'!C478)","v":0},{"$f":"MINUTE('Copy your Raw data here'!B478)","v":0},{"$f":"MINUTE('Copy your Raw data here'!C478)","v":0},{"$f":"('Copy your Raw data here'!C478-'Copy your Raw data here'!B478)*1440","v":0},60,0,null,null,{"$f":"HOUR('Copy your Raw data here'!G478)","v":0},{"$f":"HOUR('Copy your Raw data here'!H478)","v":0},{"$f":"MINUTE('Copy your Raw data here'!G478)","v":0},{"$f":"MINUTE('Copy your Raw data here'!H478)","v":0},{"$f":"('Copy your Raw data here'!H478-'Copy your Raw data here'!G478)*1440","v":0},1440,{"$f":"IF('Copy your Raw data here'!G478=\"\",\"\",IF(V479<U479,Z479,Y479))","v":""}]
[{"$f":"IF(ISBLANK('Copy your Raw data here'!A479),\"\",('Copy your Raw data here'!A479))","v":""},"",{"$f":"IF('Copy your Raw data here'!D479=\"YES\",1,0)","v":0},{"$f":"VLOOKUP('Copy your Raw data here'!E479,'Stroke Ready Hospital List'!A:B,1,FALSE)","v":{"$error":"#N/A"}},0,{"$f":"IF(OR(ISBLANK('Copy your Raw data here'!F479),('Copy your Raw data here'!F479=\"NO\")),0,1)","v":0},{"$f":"IF(ISBLANK('Copy your Raw data here'!G479),0,1)","v":0},{"$f":"IF(ISERROR(D480),'Copy your Raw data here'!E479,\"\")","v":0},"",null,null,{"$f":"HOUR('Copy your Raw data here'!B479)","v":0},{"$f":"HOUR('Copy your Raw data here'!C479)","v":0},{"$f":"MINUTE('Copy your Raw data here'!B479)","v":0},{"$f":"MINUTE('Copy your Raw data here'!C479)","v":0},{"$f":"('Copy your Raw data here'!C479-'Copy your Raw data here'!B479)*1440","v":0},60,0,null,null,{"$f":"HOUR('Copy your Raw data here'!G479)","v":0},{"$f":"HOUR('Copy your Raw data here'!H479)","v":0},{"$f":"MINUTE('Copy your Raw data here'!G479)","v":0},{"$f":"MINUTE('Copy your Raw data here'!H479)","v":0},{"$f":"('Copy your Raw data here'!H479-'Copy your Raw data here'!G479)*1440","v":0},1440,{"$f":"IF('Copy your Raw data here'!G479=\"\",\"\",IF(V480<U480,Z480,Y480))","v":""}]
[{"$f":"IF(ISBLANK('Copy your Raw data here'!A480),\"\",('Copy your Raw data here'!A480))","v":""},"",{"$f":"IF('Copy your Raw data here'!D480=\"YES\",1,0)","v":0},{"$f":"VLOOKUP('Copy your Raw data here'!E480,'Stroke Ready Hospital List'!A:B,1,FALSE)","v":{"$error":"#N/A"}},0,{"$f":"IF(OR(ISBLANK('Copy your Raw data here'!F480),('Copy your Raw data here'!F480=\"NO\")),0,1)","v":0},{"$f":"IF(ISBLANK('Copy your Raw data here'!G480),0,1)","v":0},{"$f":"IF(ISERROR(D481),'Copy your Raw data here'!E480,\"\")","v":0},"",null,null,{"$f":"HOUR('Copy your Raw data here'!B480)","v":0},{"$f":"HOUR('Copy your Raw data here'!C480)","v":0},{"$f":"MINUTE('Copy your Raw data here'!B480)","v":0},{"$f":"MINUTE('Copy your Raw data here'!C480)","v":0},{"$f":"('Copy your Raw data here'!C480-'Copy your Raw data here'!B480)*1440","v":0},60,0,null,null,{"$f":"HOUR('Copy your Raw data here'!G480)","v":0},{"$f":"HOUR('Copy your Raw data here'!H480)","v":0},{"$f":"MINUTE('Copy your Raw data here'!G480)","v":0},{"$f":"MINUTE('Copy your Raw data here'!H480)","v":0},{"$f":"('Copy your Raw data here'!H480-'Copy your Raw data here'!G480)*1440","v":0},1440,{"$f":"IF('Copy your Raw data here'!G480=\"\",\"\",IF(V481<U481,Z481,Y481))","v":""}]
[{"$f":"IF(ISBLANK('Copy your Raw data here'!A481),\"\",('Copy your Raw data here'!A481))","v":""},"",{"$f":"IF('Copy your Raw data here'!D481=\"YES\",1,0)","v":0},{"$f":"VLOOKUP('Copy your Raw data here'!E481,'Stroke Ready Hospital List'!A:B,1,FALSE)","v":{"$error":"#N/A"}},0,{"$f":"IF(OR(ISBLANK('Copy your Raw data here'!F481),('Copy your Raw data here'!F481=\"NO\")),0,1)","v":0},{"$f":"IF(ISBLANK('Copy your Raw data here'!G481),0,1)","v":0},{"$f":"IF(ISERROR(D482),'Copy your Raw data here'!E481,\"\")","v":0},"",null,null,{"$f":"HOUR('Copy your Raw data here'!B481)","v":0},{"$f":"HOUR('Copy your Raw data here'!C481)","v":0},{"$f":"MINUTE('Copy your Raw data here'!B481)","v":0},{"$f":"MINUTE('Copy your Raw data here'!C481)","v":0},{"$f":"('Copy your Raw data here'!C481-'Copy your Raw data here'!B481)*1440","v":0},60,0,null,null,{"$f":"HOUR('Copy your Raw data here'!G481)","v":0},{"$f":"HOUR('Copy your Raw data here'!H481)","v":0},{"$f":"MINUTE('Copy your Raw data here'!G481)","v":0},{"$f":"MINUTE('Copy your Raw data here'!H481)","v":0},{"$f":"('Copy your Raw data here'!H481-'Copy your Raw data here'!G481)*1440","v":0},1440,{"$f":"IF('Copy your Raw data here'!G481=\"\",\"\",IF(V482<U482,Z482,Y482))","v":""}]
[{"$f":"IF(ISBLANK('Copy your Raw data here'!A482),\"\",('Copy your Raw data here'!A482))","v":""},"",{"$f":"IF('Copy your Raw data here'!D482=\"YES\",1,0)","v":0},{"$f":"VLOOKUP('Copy your Raw data here'!E482,'Stroke Ready Hospital List'!A:B,1,FALSE)","v":{"$error":"#N/A"}},0,{"$f":"IF(OR(ISBLANK('Copy your Raw data here'!F482),('Copy your Raw data here'!F482=\"NO\")),0,1)","v":0},{"$f":"IF(ISBLANK('Copy your Raw data here'!G482),0,1)","v":0},{"$f":"IF(ISERROR(D483),'Copy your Raw data here'!E482,\"\")","v":0},"",null,null,{"$f":"HOUR('Copy your Raw data here'!B482)","v":0},{"$f":"HOUR('Copy your Raw data here'!C482)","v":0},{"$f":"MINUTE('Copy your Raw data here'!B482)","v":0},{"$f":"MINUTE('Copy your Raw data here'!C482)","v":0},{"$f":"('Copy your Raw data here'!C482-'Copy your Raw data here'!B482)*1440","v":0},60,0,null,null,{"$f":"HOUR('Copy your Raw data here'!G482)","v":0},{"$f":"HOUR('Copy your Raw data here'!H482)","v":0},{"$f":"MINUTE('Copy your Raw data here'!G482)","v":0},{"$f":"MINUTE('Copy your Raw data here'!H482)","v":0},{"$f":"('Copy your Raw data here'!H482-'Copy your Raw data here'!G482)*1440","v":0},1440,{"$f":"IF('Copy your Raw data here'!G482=\"\",\"\",IF(V483<U483,Z483,Y483))","v":""}]
[{"$f":"IF(ISBLANK('Copy your Raw data here'!A483),\"\",('Copy your Raw data here'!A483))","v":""},"",{"$f":"IF('Copy your Raw data here'!D483=\"YES\",1,0)","v":0},{"$f":"VLOOKUP('Copy your Raw data here'!E483,'Stroke Ready Hospital List'!A:B,1,FALSE)","v":{"$error":"#N/A"}},0,{"$f":"IF(OR(ISBLANK('Copy your Raw data here'!F483),('Copy your Raw data here'!F483=\"NO\")),0,1)","v":0},{"$f":"IF(ISBLANK('Copy your Raw data here'!G483),0,1)","v":0},{"$f":"IF(ISERROR(D484),'Copy your Raw data here'!E483,\"\")","v":0},"",null,null,{"$f":"HOUR('Copy your Raw data here'!B483)","v":0},{"$f":"HOUR('Copy your Raw data here'!C483)","v":0},{"$f":"MINUTE('Copy your Raw data here'!B483)","v":0},{"$f":"MINUTE('Copy your Raw data here'!C483)","v":0},{"$f":"('Copy your Raw data here'!C483-'Copy your Raw data here'!B483)*1440","v":0},60,0,null,null,{"$f":"HOUR('Copy your Raw data here'!G483)","v":0},{"$f":"HOUR('Copy your Raw data here'!H483)","v":0},{"$f":"MINUTE('Copy your Raw data here'!G483)","v":0},{"$f":"MINUTE('Copy your Raw data here'!H483)","v":0},{"$f":"('Copy your Raw data here'!H483-'Copy your Raw data here'!G483)*1440","v":0},1440,{"$f":"IF('Copy your Raw data here'!G483=\"\",\"\",IF(V484<U484,Z484,Y484))","v":""}]
[{"$f":"IF(ISBLANK('Copy your Raw data here'!A484),\"\",('Copy your Raw data here'!A484))","v":""},"",{"$f":"IF('Copy your Raw data here'!D484=\"YES\",1,0)","v":0},{"$f":"VLOOKUP('Copy your Raw data here'!E484,'Stroke Ready Hospital List'!A:B,1,FALSE)","v":{"$error":"#N/A"}},0,{"$f":"IF(OR(ISBLANK('Copy your Raw data here'!F484),('Copy your Raw data here'!F484=\"NO\")),0,1)","v":0},{"$f":"IF(ISBLANK('Copy your Raw data here'!G484),0,1)","v":0},{"$f":"IF(ISERROR(D485),'Copy your Raw data here'!E484,\"\")","v":0},"",null,null,{"$f":"HOUR('Copy your Raw data here'!B484)","v":0},{"$f":"HOUR('Copy your Raw data here'!C484)","v":0},{"$f":"MINUTE('Copy your Raw data here'!B484)","v":0},{"$f":"MINUTE('Copy your Raw data here'!C484)","v":0},{"$f":"('Copy your Raw data here'!C484-'Copy your Raw data here'!B484)*1440","v":0},60,0,null,null,{"$f":"HOUR('Copy your Raw data here'!G484)","v":0},{"$f":"HOUR('Copy your Raw data here'!H484)","v":0},{"$f":"MINUTE('Copy your Raw data here'!G484)","v":0},{"$f":"MINUTE('Copy your Raw data here'!H484)","v":0},{"$f":"('Copy your Raw data here'!H484-'Copy your Raw data here'!G484)*1440","v":0},1440,{"$f":"IF('Copy your Raw data here'!G484=\"\",\"\",IF(V485<U485,Z485,Y485))","v":""}]
[{"$f":"IF(ISBLANK('Copy your Raw data here'!A485),\"\",('Copy your Raw data here'!A485))","v":""},"",{"$f":"IF('Copy your Raw data here'!D485=\"YES\",1,0)","v":0},{"$f":"VLOOKUP('Copy your Raw data here'!E485,'Stroke Ready Hospital List'!A:B,1,FALSE)","v":{"$error":"#N/A"}},0,{"$f":"IF(OR(ISBLANK('Copy your Raw data here'!F485),('Copy your Raw data here'!F485=\"NO\")),0,1)","v":0},{"$f":"IF(ISBLANK('Copy your Raw data here'!G485),0,1)","v":0},{"$f":"IF(ISERROR(D486),'Copy your Raw data here'!E485,\"\")","v":0},"",null,null,{"$f":"HOUR('Copy your Raw data here'!B485)","v":0},{"$f":"HOUR('Copy your Raw data here'!C485)","v":0},{"$f":"MINUTE('Copy your Raw data here'!B485)","v":0},{"$f":"MINUTE('Copy your Raw data here'!C485)","v":0},{"$f":"('Copy your Raw data here'!C485-'Copy your Raw data here'!B485)*1440","v":0},60,0,null,null,{"$f":"HOUR('Copy your Raw data here'!G485)","v":0},{"$f":"HOUR('Copy your Raw data here'!H485)","v":0},{"$f":"MINUTE('Copy your Raw data here'!G485)","v":0},{"$f":"MINUTE('Copy your Raw data here'!H485)","v":0},{"$f":"('Copy your Raw data here'!H485-'Copy your Raw data here'!G485)*1440","v":0},1440,{"$f":"IF('Copy your Raw data here'!G485=\"\",\"\",IF(V486<U486,Z486,Y486))","v":""}]
[{"$f":"IF(ISBLANK('Copy your Raw data here'!A486),\"\",('Copy your Raw data here'!A486))","v":""},"",{"$f":"IF('Copy your Raw data here'!D486=\"YES\",1,0)","v":0},{"$f":"VLOOKUP('Copy your Raw data here'!E486,'Stroke Ready Hospital List'!A:B,1,FALSE)","v":{"$error":"#N/A"}},0,{"$f":"IF(OR(ISBLANK('Copy your Raw data here'!F486),('Copy your Raw data here'!F486=\"NO\")),0,1)","v":0},{"$f":"IF(ISBLANK('Copy your Raw data here'!G486),0,1)","v":0},{"$f":"IF(ISERROR(D487),'Copy your Raw data here'!E486,\"\")","v":0},"",null,null,{"$f":"HOUR('Copy your Raw data here'!B486)","v":0},{"$f":"HOUR('Copy your Raw data here'!C486)","v":0},{"$f":"MINUTE('Copy your Raw data here'!B486)","v":0},{"$f":"MINUTE('Copy your Raw data here'!C486)","v":0},{"$f":"('Copy your Raw data here'!C486-'Copy your Raw data here'!B486)*1440","v":0},60,0,null,null,{"$f":"HOUR('Copy your Raw data here'!G486)","v":0},{"$f":"HOUR('Copy your Raw data here'!H486)","v":0},{"$f":"MINUTE('Copy your Raw data here'!G486)","v":0},{"$f":"MINUTE('Copy your Raw data here'!H486)","v":0},{"$f":"('Copy your Raw data here'!H486-'Copy your Raw data here'!G486)*1440","v":0},1440,{"$f":"IF('Copy your Raw data here'!G486=\"\",\"\",IF(V487<U487,Z487,Y487))","v":""}]
[{"$f":"IF(ISBLANK('Copy your Raw data here'!A487),\"\",('Copy your Raw data here'!A487))","v":""},"",{"$f":"IF('Copy your Raw data here'!D487=\"YES\",1,0)","v":0},{"$f":"VLOOKUP('Copy your Raw data here'!E487,'Stroke Ready Hospital List'!A:B,1,FALSE)","v":{"$error":"#N/A"}},0,{"$f":"IF(OR(ISBLANK('Copy your Raw data here'!F487),('Copy your Raw data here'!F487=\"NO\")),0,1)","v":0},{"$f":"IF(ISBLANK('Copy your Raw data here'!G487),0,1)","v":0},{"$f":"IF(ISERROR(D488),'Copy your Raw data here'!E487,\"\")","v":0},"",null,null,{"$f":"HOUR('Copy your Raw data here'!B487)","v":0},{"$f":"HOUR('Copy your Raw data here'!C487)","v":0},{"$f":"MINUTE('Copy your Raw data here'!B487)","v":0},{"$f":"MINUTE('Copy your Raw data here'!C487)","v":0},{"$f":"('Copy your Raw data here'!C487-'Copy your Raw data here'!B487)*1440","v":0},60,0,null,null,{"$f":"HOUR('Copy your Raw data here'!G487)","v":0},{"$f":"HOUR('Copy your Raw data here'!H487)","v":0},{"$f":"MINUTE('Copy your Raw data here'!G487)","v":0},{"$f":"MINUTE('Copy your Raw data here'!H487)","v":0},{"$f":"('Copy your Raw data here'!H487-'Copy your Raw data here'!G487)*1440","v":0},1440,{"$f":"IF('Copy your Raw data here'!G487=\"\",\"\",IF(V488<U488,Z488,Y488))","v":""}]
[{"$f":"IF(ISBLANK('Copy your Raw data here'!A488),\"\",('Copy your Raw data here'!A488))","v":""},"",{"$f":"IF('Copy your Raw data here'!D488=\"YES\",1,0)","v":0},{"$f":"VLOOKUP('Copy your Raw data here'!E488,'Stroke Ready Hospital List'!A:B,1,FALSE)","v":{"$error":"#N/A"}},0,{"$f":"IF(OR(ISBLANK('Copy your Raw data here'!F488),('Copy your Raw data here'!F488=\"NO\")),0,1)","v":0},{"$f":"IF(ISBLANK('Copy your Raw data here'!G488),0,1)","v":0},{"$f":"IF(ISERROR(D489),'Copy your Raw data here'!E488,\"\")","v":0},"",null,null,{"$f":"HOUR('Copy your Raw data here'!B488)","v":0},{"$f":"HOUR('Copy your Raw data here'!C488)","v":0},{"$f":"MINUTE('Copy your Raw data here'!B488)","v":0},{"$f":"MINUTE('Copy your Raw data here'!C488)","v":0},{"$f":"('Copy your Raw data here'!C488-'Copy your Raw data here'!B488)*1440","v":0},60,0,null,null,{"$f":"HOUR('Copy your Raw data here'!G488)","v":0},{"$f":"HOUR('Copy your Raw data here'!H488)","v":0},{"$f":"MINUTE('Copy your Raw data here'!G488)","v":0},{"$f":"MINUTE('Copy your Raw data here'!H488)","v":0},{"$f":"('Copy your Raw data here'!H488-'Copy your Raw data here'!G488)*1440","v":0},1440,{"$f":"IF('Copy your Raw data here'!G488=\"\",\"\",IF(V489<U489,Z489,Y489))","v":""}]
[{"$f":"IF(ISBLANK('Copy your Raw data here'!A489),\"\",('Copy your Raw data here'!A489))","v":""},"",{"$f":"IF('Copy your Raw data here'!D489=\"YES\",1,0)","v":0},{"$f":"VLOOKUP('Copy your Raw data here'!E489,'Stroke Ready Hospital List'!A:B,1,FALSE)","v":{"$error":"#N/A"}},0,{"$f":"IF(OR(ISBLANK('Copy your Raw data here'!F489),('Copy your Raw data here'!F489=\"NO\")),0,1)","v":0},{"$f":"IF(ISBLANK('Copy your Raw data here'!G489),0,1)","v":0},{"$f":"IF(ISERROR(D490),'Copy your Raw data here'!E489,\"\")","v":0},"",null,null,{"$f":"HOUR('Copy your Raw data here'!B489)","v":0},{"$f":"HOUR('Copy your Raw data here'!C489)","v":0},{"$f":"MINUTE('Copy your Raw data here'!B489)","v":0},{"$f":"MINUTE('Copy your Raw data here'!C489)","v":0},{"$f":"('Copy your Raw data here'!C489-'Copy your Raw data here'!B489)*1440","v":0},60,0,null,null,{"$f":"HOUR('Copy your Raw data here'!G489)","v":0},{"$f":"HOUR('Copy your Raw data here'!H489)","v":0},{"$f":"MINUTE('Copy your Raw data here'!G489)","v":0},{"$f":"MINUTE('Copy your Raw data here'!H489)","v":0},{"$f":"('Copy your Raw data here'!H489-'Copy your Raw data here'!G489)*1440","v":0},1440,{"$f":"IF('Copy your Raw data here'!G489=\"\",\"\",IF(V490<U490,Z490,Y490))","v":""}]
[{"$f":"IF(ISBLANK('Copy your Raw data here'!A490),\"\",('Copy your Raw data here'!A490))","v":""},"",{"$f":"IF('Copy your Raw data here'!D490=\"YES\",1,0)","v":0},{"$f":"VLOOKUP('Copy your Raw data here'!E490,'Stroke Ready Hospital List'!A:B,1,FALSE)","v":{"$error":"#N/A"}},0,{"$f":"IF(OR(ISBLANK('Copy your Raw data here'!F490),('Copy your Raw data here'!F490=\"NO\")),0,1)","v":0},{"$f":"IF(ISBLANK('Copy your Raw data here'!G490),0,1)","v":0},{"$f":"IF(ISERROR(D491),'Copy your Raw data here'!E490,\"\")","v":0},"",null,null,{"$f":"HOUR('Copy your Raw data here'!B490)","v":0},{"$f":"HOUR('Copy your Raw data here'!C490)","v":0},{"$f":"MINUTE('Copy your Raw data here'!B490)","v":0},{"$f":"MINUTE('Copy your Raw data here'!C490)","v":0},{"$f":"('Copy your Raw data here'!C490-'Copy your Raw data here'!B490)*1440","v":0},60,0,null,null,{"$f":"HOUR('Copy your Raw data here'!G490)","v":0},{"$f":"HOUR('Copy your Raw data here'!H490)","v":0},{"$f":"MINUTE('Copy your Raw data here'!G490)","v":0},{"$f":"MINUTE('Copy your Raw data here'!H490)","v":0},{"$f":"('Copy your Raw data here'!H490-'Copy your Raw data here'!G490)*1440","v":0},1440,{"$f":"IF('Copy your Raw data here'!G490=\"\",\"\",IF(V491<U491,Z491,Y491))","v":""}]
[{"$f":"IF(ISBLANK('Copy your Raw data here'!A491),\"\",('Copy your Raw data here'!A491))","v":""},"",{"$f":"IF('Copy your Raw data here'!D491=\"YES\",1,0)","v":0},{"$f":"VLOOKUP('Copy your Raw data here'!E491,'Stroke Ready Hospital List'!A:B,1,FALSE)","v":{"$error":"#N/A"}},0,{"$f":"IF(OR(ISBLANK('Copy your Raw data here'!F491),('Copy your Raw data here'!F491=\"NO\")),0,1)","v":0},{"$f":"IF(ISBLANK('Copy your Raw data here'!G491),0,1)","v":0},{"$f":"IF(ISERROR(D492),'Copy your Raw data here'!E491,\"\")","v":0},"",null,null,{"$f":"HOUR('Copy your Raw data here'!B491)","v":0},{"$f":"HOUR('Copy your Raw data here'!C491)","v":0},{"$f":"MINUTE('Copy your Raw data here'!B491)","v":0},{"$f":"MINUTE('Copy your Raw data here'!C491)","v":0},{"$f":"('Copy your Raw data here'!C491-'Copy your Raw data here'!B491)*1440","v":0},60,0,null,null,{"$f":"HOUR('Copy your Raw data here'!G491)","v":0},{"$f":"HOUR('Copy your Raw data here'!H491)","v":0},{"$f":"MINUTE('Copy your Raw data here'!G491)","v":0},{"$f":"MINUTE('Copy your Raw data here'!H491)","v":0},{"$f":"('Copy your Raw data here'!H491-'Copy your Raw data here'!G491)*1440","v":0},1440,{"$f":"IF('Copy your Raw data here'!G491=\"\",\"\",IF(V492<U492,Z492,Y492))","v":""}]
[{"$f":"IF(ISBLANK('Copy your Raw data here'!A492),\"\",('Copy your Raw data here'!A492))","v":""},"",{"$f":"IF('Copy your Raw data here'!D492=\"YES\",1,0)","v":0},{"$f":"VLOOKUP('Copy your Raw data here'!E492,'Stroke Ready Hospital List'!A:B,1,FALSE)","v":{"$error":"#N/A"}},0,{"$f":"IF(OR(ISBLANK('Copy your Raw data here'!F492),('Copy your Raw data here'!F492=\"NO\")),0,1)","v":0},{"$f":"IF(ISBLANK('Copy your Raw data here'!G492),0,1)","v":0},{"$f":"IF(ISERROR(D493),'Copy your Raw data here'!E492,\"\")","v":0},"",null,null,{"$f":"HOUR('Copy your Raw data here'!B492)","v":0},{"$f":"HOUR('Copy your Raw data here'!C492)","v":0},{"$f":"MINUTE('Copy your Raw data here'!B492)","v":0},{"$f":"MINUTE('Copy your Raw data here'!C492)","v":0},{"$f":"('Copy your Raw data here'!C492-'Copy your Raw data here'!B492)*1440","v":0},60,0,null,null,{"$f":"HOUR('Copy your Raw data here'!G492)","v":0},{"$f":"HOUR('Copy your Raw data here'!H492)","v":0},{"$f":"MINUTE('Copy your Raw data here'!G492)","v":0},{"$f":"MINUTE('Copy your Raw data here'!H492)","v":0},{"$f":"('Copy your Raw data here'!H492-'Copy your Raw data here'!G492)*1440","v":0},1440,{"$f":"IF('Copy your Raw data here'!G492=\"\",\"\",IF(V493<U493,Z493,Y493))","v":""}]
[{"$f":"IF(ISBLANK('Copy your Raw data here'!A493),\"\",('Copy your Raw data here'!A493))","v":""},"",{"$f":"IF('Copy your Raw data here'!D493=\"YES\",1,0)","v":0},{"$f":"VLOOKUP('Copy your Raw data here'!E493,'Stroke Ready Hospital List'!A:B,1,FALSE)","v":{"$error":"#N/A"}},0,{"$f":"IF(OR(ISBLANK('Copy your Raw data here'!F493),('Copy your Raw data here'!F493=\"NO\")),0,1)","v":0},{"$f":"IF(ISBLANK('Copy your Raw data here'!G493),0,1)","v":0},{"$f":"IF(ISERROR(D494),'Copy your Raw data here'!E493,\"\")","v":0},"",null,null,{"$f":"HOUR('Copy your Raw data here'!B493)","v":0},{"$f":"HOUR('Copy your Raw data here'!C493)","v":0},{"$f":"MINUTE('Copy your Raw data here'!B493)","v":0},{"$f":"MINUTE('Copy your Raw data here'!C493)","v":0},{"$f":"('Copy your Raw data here'!C493-'Copy your Raw data here'!B493)*1440","v":0},60,0,null,null,{"$f":"HOUR('Copy your Raw data here'!G493)","v":0},{"$f":"HOUR('Copy your Raw data here'!H493)","v":0},{"$f":"MINUTE('Copy your Raw data here'!G493)","v":0},{"$f":"MINUTE('Copy your Raw data here'!H493)","v":0},{"$f":"('Copy your Raw data here'!H493-'Copy your Raw data here'!G493)*1440","v":0},1440,{"$f":"IF('Copy your Raw data here'!G493=\"\",\"\",IF(V494<U494,Z494,Y494))","v":""}]
[{"$f":"IF(ISBLANK('Copy your Raw data here'!A494),\"\",('Copy your Raw data here'!A494))","v":""},"",{"$f":"IF('Copy your Raw data here'!D494=\"YES\",1,0)","v":0},{"$f":"VLOOKUP('Copy your Raw data here'!E494,'Stroke Ready Hospital List'!A:B,1,FALSE)","v":{"$error":"#N/A"}},0,{"$f":"IF(OR(ISBLANK('Copy your Raw data here'!F494),('Copy your Raw data here'!F494=\"NO\")),0,1)","v":0},{"$f":"IF(ISBLANK('Copy your Raw data here'!G494),0,1)","v":0},{"$f":"IF(ISERROR(D495),'Copy your Raw data here'!E494,\"\")","v":0},"",null,null,{"$f":"HOUR('Copy your Raw data here'!B494)","v":0},{"$f":"HOUR('Copy your Raw data here'!C494)","v":0},{"$f":"MINUTE('Copy your Raw data here'!B494)","v":0},{"$f":"MINUTE('Copy your Raw data here'!C494)","v":0},{"$f":"('Copy your Raw data here'!C494-'Copy your Raw data here'!B494)*1440","v":0},60,0,null,null,{"$f":"HOUR('Copy your Raw data here'!G494)","v":0},{"$f":"HOUR('Copy your Raw data here'!H494)","v":0},{"$f":"MINUTE('Copy your Raw data here'!G494)","v":0},{"$f":"MINUTE('Copy your Raw data here'!H494)","v":0},{"$f":"('Copy your Raw data here'!H494-'Copy your Raw data here'!G494)*1440","v":0},1440,{"$f":"IF('Copy your Raw data here'!G494=\"\",\"\",IF(V495<U495,Z495,Y495))","v":""}]
[{"$f":"IF(ISBLANK('Copy your Raw data here'!A495),\"\",('Copy your Raw data here'!A495))","v":""},"",{"$f":"IF('Copy your Raw data here'!D495=\"YES\",1,0)","v":0},{"$f":"VLOOKUP('Copy your Raw data here'!E495,'Stroke Ready Hospital List'!A:B,1,FALSE)","v":{"$error":"#N/A"}},0,{"$f":"IF(OR(ISBLANK('Copy your Raw data here'!F495),('Copy your Raw data here'!F495=\"NO\")),0,1)","v":0},{"$f":"IF(ISBLANK('Copy your Raw data here'!G495),0,1)","v":0},{"$f":"IF(ISERROR(D496),'Copy your Raw data here'!E495,\"\")","v":0},"",null,null,{"$f":"HOUR('Copy your Raw data here'!B495)","v":0},{"$f":"HOUR('Copy your Raw data here'!C495)","v":0},{"$f":"MINUTE('Copy your Raw data here'!B495)","v":0},{"$f":"MINUTE('Copy your Raw data here'!C495)","v":0},{"$f":"('Copy your Raw data here'!C495-'Copy your Raw data here'!B495)*1440","v":0},60,0,null,null,{"$f":"HOUR('Copy your Raw data here'!G495)","v":0},{"$f":"HOUR('Copy your Raw data here'!H495)","v":0},{"$f":"MINUTE('Copy your Raw data here'!G495)","v":0},{"$f":"MINUTE('Copy your Raw data here'!H495)","v":0},{"$f":"('Copy your Raw data here'!H495-'Copy your Raw data here'!G495)*1440","v":0},1440,{"$f":"IF('Copy your Raw data here'!G495=\"\",\"\",IF(V496<U496,Z496,Y496))","v":""}]
[{"$f":"IF(ISBLANK('Copy your Raw data here'!A496),\"\",('Copy your Raw data here'!A496))","v":""},"",{"$f":"IF('Copy your Raw data here'!D496=\"YES\",1,0)","v":0},{"$f":"VLOOKUP('Copy your Raw data here'!E496,'Stroke Ready Hospital List'!A:B,1,FALSE)","v":{"$error":"#N/A"}},0,{"$f":"IF(OR(ISBLANK('Copy your Raw data here'!F496),('Copy your Raw data here'!F496=\"NO\")),0,1)","v":0},{"$f":"IF(ISBLANK('Copy your Raw data here'!G496),0,1)","v":0},{"$f":"IF(ISERROR(D497),'Copy your Raw data here'!E496,\"\")","v":0},"",null,null,{"$f":"HOUR('Copy your Raw data here'!B496)","v":0},{"$f":"HOUR('Copy your Raw data here'!C496)","v":0},{"$f":"MINUTE('Copy your Raw data here'!B496)","v":0},{"$f":"MINUTE('Copy your Raw data here'!C496)","v":0},{"$f":"('Copy your Raw data here'!C496-'Copy your Raw data here'!B496)*1440","v":0},60,0,null,null,{"$f":"HOUR('Copy your Raw data here'!G496)","v":0},{"$f":"HOUR('Copy your Raw data here'!H496)","v":0},{"$f":"MINUTE('Copy your Raw data here'!G496)","v":0},{"$f":"MINUTE('Copy your Raw data here'!H496)","v":0},{"$f":"('Copy your Raw data here'!H496-'Copy your Raw data here'!G496)*1440","v":0},1440,{"$f":"IF('Copy your Raw data here'!G496=\"\",\"\",IF(V497<U497,Z497,Y497))","v":""}]
[{"$f":"IF(ISBLANK('Copy your Raw data here'!A497),\"\",('Copy your Raw data here'!A497))","v":""},"",{"$f":"IF('Copy your Raw data here'!D497=\"YES\",1,0)","v":0},{"$f":"VLOOKUP('Copy your Raw data here'!E497,'Stroke Ready Hospital List'!A:B,1,FALSE)","v":{"$error":"#N/A"}},0,{"$f":"IF(OR(ISBLANK('Copy your Raw data here'!F497),('Copy your Raw data here'!F497=\"NO\")),0,1)","v":0},{"$f":"IF(ISBLANK('Copy your Raw data here'!G497),0,1)","v":0},{"$f":"IF(ISERROR(D498),'Copy your Raw data here'!E497,\"\")","v":0},"",null,null,{"$f":"HOUR('Copy your Raw data here'!B497)","v":0},{"$f":"HOUR('Copy your Raw data here'!C497)","v":0},{"$f":"MINUTE('Copy your Raw data here'!B497)","v":0},{"$f":"MINUTE('Copy your Raw data here'!C497)","v":0},{"$f":"('Copy your Raw data here'!C497-'Copy your Raw data here'!B497)*1440","v":0},60,0,null,null,{"$f":"HOUR('Copy your Raw data here'!G497)","v":0},{"$f":"HOUR('Copy your Raw data here'!H497)","v":0},{"$f":"MINUTE('Copy your Raw data here'!G497)","v":0},{"$f":"MINUTE('Copy your Raw data here'!H497)","v":0},{"$f":"('Copy your Raw data here'!H497-'Copy your Raw data here'!G497)*1440","v":0},1440,{"$f":"IF('Copy your Raw data here'!G497=\"\",\"\",IF(V498<U498,Z498,Y498))","v":""}]
[{"$f":"IF(ISBLANK('Copy your Raw data here'!A498),\"\",('Copy your Raw data here'!A498))","v":""},"",{"$f":"IF('Copy your Raw data here'!D498=\"YES\",1,0)","v":0},{"$f":"VLOOKUP('Copy your Raw data here'!E498,'Stroke Ready Hospital List'!A:B,1,FALSE)","v":{"$error":"#N/A"}},0,{"$f":"IF(OR(ISBLANK('Copy your Raw data here'!F498),('Copy your Raw data here'!F498=\"NO\")),0,1)","v":0},{"$f":"IF(ISBLANK('Copy your Raw data here'!G498),0,1)","v":0},{"$f":"IF(ISERROR(D499),'Copy your Raw data here'!E498,\"\")","v":0},"",null,null,{"$f":"HOUR('Copy your Raw data here'!B498)","v":0},{"$f":"HOUR('Copy your Raw data here'!C498)","v":0},{"$f":"MINUTE('Copy your Raw data here'!B498)","v":0},{"$f":"MINUTE('Copy your Raw data here'!C498)","v":0},{"$f":"('Copy your Raw data here'!C498-'Copy your Raw data here'!B498)*1440","v":0},60,0,null,null,{"$f":"HOUR('Copy your Raw data here'!G498)","v":0},{"$f":"HOUR('Copy your Raw data here'!H498)","v":0},{"$f":"MINUTE('Copy your Raw data here'!G498)","v":0},{"$f":"MINUTE('Copy your Raw data here'!H498)","v":0},{"$f":"('Copy your Raw data here'!H498-'Copy your Raw data here'!G498)*1440","v":0},1440,{"$f":"IF('Copy your Raw data here'!G498=\"\",\"\",IF(V499<U499,Z499,Y499))","v":""}]
[{"$f":"IF(ISBLANK('Copy your Raw data here'!A499),\"\",('Copy your Raw data here'!A499))","v":""},"",{"$f":"IF('Copy your Raw data here'!D499=\"YES\",1,0)","v":0},{"$f":"VLOOKUP('Copy your Raw data here'!E499,'Stroke Ready Hospital List'!A:B,1,FALSE)","v":{"$error":"#N/A"}},0,{"$f":"IF(OR(ISBLANK('Copy your Raw data here'!F499),('Copy your Raw data here'!F499=\"NO\")),0,1)","v":0},{"$f":"IF(ISBLANK('Copy your Raw data here'!G499),0,1)","v":0},{"$f":"IF(ISERROR(D500),'Copy your Raw data here'!E499,\"\")","v":0},"",null,null,{"$f":"HOUR('Copy your Raw data here'!B499)","v":0},{"$f":"HOUR('Copy your Raw data here'!C499)","v":0},{"$f":"MINUTE('Copy your Raw data here'!B499)","v":0},{"$f":"MINUTE('Copy your Raw data here'!C499)","v":0},{"$f":"('Copy your Raw data here'!C499-'Copy your Raw data here'!B499)*1440","v":0},60,0,null,null,{"$f":"HOUR('Copy your Raw data here'!G499)","v":0},{"$f":"HOUR('Copy your Raw data here'!H499)","v":0},{"$f":"MINUTE('Copy your Raw data here'!G499)","v":0},{"$f":"MINUTE('Copy your Raw data here'!H499)","v":0},{"$f":"('Copy your Raw data here'!H499-'Copy your Raw data here'!G499)*1440","v":0},1440,{"$f":"IF('Copy your Raw data here'!G499=\"\",\"\",IF(V500<U500,Z500,Y500))","v":""}]
[{"$f":"IF(ISBLANK('Copy your Raw data here'!A500),\"\",('Copy your Raw data here'!A500))","v":""},"",{"$f":"IF('Copy your Raw data here'!D500=\"YES\",1,0)","v":0},{"$f":"VLOOKUP('Copy your Raw data here'!E500,'Stroke Ready Hospital List'!A:B,1,FALSE)","v":{"$error":"#N/A"}},0,{"$f":"IF(OR(ISBLANK('Copy your Raw data here'!F500),('Copy your Raw data here'!F500=\"NO\")),0,1)","v":0},{"$f":"IF(ISBLANK('Copy your Raw data here'!G500),0,1)","v":0},{"$f":"IF(ISERROR(D501),'Copy your Raw data here'!E500,\"\")","v":0},"",null,null,{"$f":"HOUR('Copy your Raw data here'!B500)","v":0},{"$f":"HOUR('Copy your Raw data here'!C500)","v":0},{"$f":"MINUTE('Copy your Raw data here'!B500)","v":0},{"$f":"MINUTE('Copy your Raw data here'!C500)","v":0},{"$f":"('Copy your Raw data here'!C500-'Copy your Raw data here'!B500)*1440","v":0},60,0,null,null,{"$f":"HOUR('Copy your Raw data here'!G500)","v":0},{"$f":"HOUR('Copy your Raw data here'!H500)","v":0},{"$f":"MINUTE('Copy your Raw data here'!G500)","v":0},{"$f":"MINUTE('Copy your Raw data here'!H500)","v":0},{"$f":"('Copy your Raw data here'!H500-'Copy your Raw data here'!G500)*1440","v":0},1440,{"$f":"IF('Copy your Raw data here'!G500=\"\",\"\",IF(V501<U501,Z501,Y501))","v":""}]
[{"$f":"IF(ISBLANK('Copy your Raw data here'!A501),\"\",('Copy your Raw data here'!A501))","v":""},"",{"$f":"IF('Copy your Raw data here'!D501=\"YES\",1,0)","v":0},{"$f":"VLOOKUP('Copy your Raw data here'!E501,'Stroke Ready Hospital List'!A:B,1,FALSE)","v":{"$error":"#N/A"}},0,{"$f":"IF(OR(ISBLANK('Copy your Raw data here'!F501),('Copy your Raw data here'!F501=\"NO\")),0,1)","v":0},{"$f":"IF(ISBLANK('Copy your Raw data here'!G501),0,1)","v":0},{"$f":"IF(ISERROR(D502),'Copy your Raw data here'!E501,\"\")","v":0},"",null,null,{"$f":"HOUR('Copy your Raw data here'!B501)","v":0},{"$f":"HOUR('Copy your Raw data here'!C501)","v":0},{"$f":"MINUTE('Copy your Raw data here'!B501)","v":0},{"$f":"MINUTE('Copy your Raw data here'!C501)","v":0},{"$f":"('Copy your Raw data here'!C501-'Copy your Raw data here'!B501)*1440","v":0},60,0,null,null,{"$f":"HOUR('Copy your Raw data here'!G501)","v":0},{"$f":"HOUR('Copy your Raw data here'!H501)","v":0},{"$f":"MINUTE('Copy your Raw data here'!G501)","v":0},{"$f":"MINUTE('Copy your Raw data here'!H501)","v":0},{"$f":"('Copy your Raw data here'!H501-'Copy your Raw data here'!G501)*1440","v":0},1440,{"$f":"IF('Copy your Raw data here'!G501=\"\",\"\",IF(V502<U502,Z502,Y502))","v":""}]

{"sheet":"Awards Report Sheet","index":4,"n_rows":503,"n_cols":13,"rows_kept":503,"cut":false,"hidden":false,"merged":[]}
[]
[null,"On this page you can get an overview of your EMS service's performance as it pertains to acute stroke care. You can see if you qualify for an award and easily identify points of improvement (highlighted in red)."]
[null,"The aggregated data in the blue blocks below will be what you can add to the Angels EMS Awards platform on the ResQ registry. "]
[]
[null,"Awards qualification criteria"]
[null,"Minimum of 30 patients ",null,{"$f":"IF(Calculations!A2>29,\"Yes\",\"No\")","v":"No"},{"$f":"IF($D6=\"No\",\"Minimum Awards Entry Criteria NOT Met\",\"\")","v":"Minimum Awards Entry Criteria NOT Met"},{"$f":"IF($D6=\"No\",1,0)","v":1}]
[null,"Is there a stroke specific protocol in place?",null,{"$f":"'EMS Details'!C12","v":0},{"$f":"IF($D7=\"No\",\"Minimum Awards Entry Criteria NOT Met\",\"\")","v":""},{"$f":"IF($D7=\"No\",1,0)","v":0}]
[null,"Is an annual Stroke Education program in place?",null,{"$f":"'EMS Details'!C13","v":0},"",0]
[null,"Does your service make use of specific stroke scales? ",null,{"$f":"'EMS Details'!C14","v":0},"",0]
[null,null,null,null,{"$f":"SUM(F6:F9)","v":1},null,null,null,null,"No award"]
[null,"Award level criteria",null,null,null,"Gold","Platinum","Diamond",null,{"$f":"IF(D12<K11,3,IF(D12<L11,2,IF(D12<M11,1,0)))","v":{"$error":"#NUM!"}},25,31,36]
[null,"Median time on scene (Minutes):",null,{"$f":"Calculations!$B$2","v":{"$error":"#NUM!"}},{"$f":"IF(D12<K11,H$11,IF(D12<L11,G$11,IF(D12<M11,F$11,J10)))","v":{"$error":"#NUM!"}},"31 - 35 min","25 - 30 min","< 25 minutes",null,{"$f":"IF(D13>94%,3,IF(D13>89%,2,IF(D13>84%,1,0)))","v":{"$error":"#DIV/0!"}}]
[null,"% Prenotification to hospital:",null,{"$f":"Calculations!$C$2","v":{"$error":"#DIV/0!"}},{"$f":"IF(D13>94%,H$11,IF(D13>89%,G$11,IF(D13>84%,F$11,J10)))","v":{"$error":"#DIV/0!"}},0.85,0.9,0.95,null,{"$f":"IF(D14>94%,3,IF(D14>89%,2,IF(D14>84%,1,0)))","v":{"$error":"#DIV/0!"}}]
[null,"% of patients delivered to Stroke Ready Hospitals:",null,{"$f":"Calculations!$E$2","v":{"$error":"#DIV/0!"}},{"$f":"IF(D14>94%,H$11,IF(D14>89%,G$11,IF(D14>84%,F$11,J10)))","v":{"$error":"#DIV/0!"}},0.85,0.9,0.95,null,{"$f":"IF(D15>94%,3,IF(D15>89%,2,IF(D15>84%,1,0)))","v":{"$error":"#DIV/0!"}}]
[null,"% of patients where medications details are reported:",null,{"$f":"Calculations!$F$2","v":{"$error":"#DIV/0!"}},{"$f":"IF(D15>94%,H$11,IF(D15>89%,G$11,IF(D15>84%,F$11,J10)))","v":{"$error":"#DIV/0!"}},0.85,0.9,0.95,null,{"$f":"IF(D16>94%,3,IF(D16>89%,2,IF(D16>84%,1,0)))","v":{"$error":"#DIV/0!"}}]
[null,"% of patients where time last known normal is reported:",null,{"$f":"Calculations!$G$2","v":{"$error":"#DIV/0!"}},{"$f":"IF(D16>94%,H$11,IF(D16>89%,G$11,IF(D16>84%,F$11,J10)))","v":{"$error":"#DIV/0!"}},0.85,0.9,0.95,null,{"$f":"MIN(J11:J15)","v":{"$error":"#NUM!"}}]
[]
[null,"Overall award level",null,{"$f":"IF(E10>0,\"No award\",(IF(J16=3,H$11,IF(J16=2,G$11,IF(J16=1,F$11,\"No award\")))))","v":"No award"}]
[]
[null,"Case identifier","Time on scene (minutes)                  Target <30 minutes","Symptom-to-door time (minutes)   Target <180 minutes","Hospital Pre-notified","Patient delivered to                     Stroke Ready Hospital","Patient Medication recorded ","Last known normal recorded "]
[null,{"$f":"Calculations!A3","v":""},{"$f":"IF(B21=\"\",0,Calculations!B3)","v":0},{"$f":"IF(B21=\"\",0,Calculations!I3)","v":0},{"$f":"IF(B21=\"\",\"\",IF(Calculations!C3=1,\"Yes\",\"No\"))","v":""},{"$f":"IF(B21=\"\",\"\",IF(Calculations!E3=1,\"Yes\",\"No\"))","v":""},{"$f":"IF(B21=\"\",\"\",IF(Calculations!F3=1,\"Yes\",\"No\"))","v":""},{"$f":"IF(B21=\"\",\"\",IF(Calculations!G3=1,\"Yes\",\"No\"))","v":""}]
[null,{"$f":"Calculations!A4","v":""},{"$f":"IF(B22=\"\",0,Calculations!B4)","v":0},{"$f":"IF(B22=\"\",0,Calculations!I4)","v":0},{"$f":"IF(B22=\"\",\"\",IF(Calculations!C4=1,\"Yes\",\"No\"))","v":""},{"$f":"IF(B22=\"\",\"\",IF(Calculations!E4=1,\"Yes\",\"No\"))","v":""},{"$f":"IF(B22=\"\",\"\",IF(Calculations!F4=1,\"Yes\",\"No\"))","v":""},{"$f":"IF(B22=\"\",\"\",IF(Calculations!G4=1,\"Yes\",\"No\"))","v":""}]
[null,{"$f":"Calculations!A5","v":""},{"$f":"IF(B23=\"\",0,Calculations!B5)","v":0},{"$f":"IF(B23=\"\",0,Calculations!I5)","v":0},{"$f":"IF(B23=\"\",\"\",IF(Calculations!C5=1,\"Yes\",\"No\"))","v":""},{"$f":"IF(B23=\"\",\"\",IF(Calculations!E5=1,\"Yes\",\"No\"))","v":""},{"$f":"IF(B23=\"\",\"\",IF(Calculations!F5=1,\"Yes\",\"No\"))","v":""},{"$f":"IF(B23=\"\",\"\",IF(Calculations!G5=1,\"Yes\",\"No\"))","v":""}]
[null,{"$f":"Calculations!A6","v":""},{"$f":"IF(B24=\"\",0,Calculations!B6)","v":0},{"$f":"IF(B24=\"\",0,Calculations!I6)","v":0},{"$f":"IF(B24=\"\",\"\",IF(Calculations!C6=1,\"Yes\",\"No\"))","v":""},{"$f":"IF(B24=\"\",\"\",IF(Calculations!E6=1,\"Yes\",\"No\"))","v":""},{"$f":"IF(B24=\"\",\"\",IF(Calculations!F6=1,\"Yes\",\"No\"))","v":""},{"$f":"IF(B24=\"\",\"\",IF(Calculations!G6=1,\"Yes\",\"No\"))","v":""}]
[null,{"$f":"Calculations!A7","v":""},{"$f":"IF(B25=\"\",0,Calculations!B7)","v":0},{"$f":"IF(B25=\"\",0,Calculations!I7)","v":0},{"$f":"IF(B25=\"\",\"\",IF(Calculations!C7=1,\"Yes\",\"No\"))","v":""},{"$f":"IF(B25=\"\",\"\",IF(Calculations!E7=1,\"Yes\",\"No\"))","v":""},{"$f":"IF(B25=\"\",\"\",IF(Calculations!F7=1,\"Yes\",\"No\"))","v":""},{"$f":"IF(B25=\"\",\"\",IF(Calculations!G7=1,\"Yes\",\"No\"))","v":""}]
[null,{"$f":"Calculations!A8","v":""},{"$f":"IF(B26=\"\",0,Calculations!B8)","v":0},{"$f":"IF(B26=\"\",0,Calculations!I8)","v":0},{"$f":"IF(B26=\"\",\"\",IF(Calculations!C8=1,\"Yes\",\"No\"))","v":""},{"$f":"IF(B26=\"\",\"\",IF(Calculations!E8=1,\"Yes\",\"No\"))","v":""},{"$f":"IF(B26=\"\",\"\",IF(Calculations!F8=1,\"Yes\",\"No\"))","v":""},{"$f":"IF(B26=\"\",\"\",IF(Calculations!G8=1,\"Yes\",\"No\"))","v":""}]
[null,{"$f":"Calculations!A9","v":""},{"$f":"IF(B27=\"\",0,Calculations!B9)","v":0},{"$f":"IF(B27=\"\",0,Calculations!I9)","v":0},{"$f":"IF(B27=\"\",\"\",IF(Calculations!C9=1,\"Yes\",\"No\"))","v":""},{"$f":"IF(B27=\"\",\"\",IF(Calculations!E9=1,\"Yes\",\"No\"))","v":""},{"$f":"IF(B27=\"\",\"\",IF(Calculations!F9=1,\"Yes\",\"No\"))","v":""},{"$f":"IF(B27=\"\",\"\",IF(Calculations!G9=1,\"Yes\",\"No\"))","v":""}]
[null,{"$f":"Calculations!A10","v":""},{"$f":"IF(B28=\"\",0,Calculations!B10)","v":0},{"$f":"IF(B28=\"\",0,Calculations!I10)","v":0},{"$f":"IF(B28=\"\",\"\",IF(Calculations!C10=1,\"Yes\",\"No\"))","v":""},{"$f":"IF(B28=\"\",\"\",IF(Calculations!E10=1,\"Yes\",\"No\"))","v":""},{"$f":"IF(B28=\"\",\"\",IF(Calculations!F10=1,\"Yes\",\"No\"))","v":""},{"$f":"IF(B28=\"\",\"\",IF(Calculations!G10=1,\"Yes\",\"No\"))","v":""}]
[null,{"$f":"Calculations!A11","v":""},{"$f":"IF(B29=\"\",0,Calculations!B11)","v":0},{"$f":"IF(B29=\"\",0,Calculations!I11)","v":0},{"$f":"IF(B29=\"\",\"\",IF(Calculations!C11=1,\"Yes\",\"No\"))","v":""},{"$f":"IF(B29=\"\",\"\",IF(Calculations!E11=1,\"Yes\",\"No\"))","v":""},{"$f":"IF(B29=\"\",\"\",IF(Calculations!F11=1,\"Yes\",\"No\"))","v":""},{"$f":"IF(B29=\"\",\"\",IF(Calculations!G11=1,\"Yes\",\"No\"))","v":""}]
[null,{"$f":"Calculations!A12","v":""},{"$f":"IF(B30=\"\",0,Calculations!B12)","v":0},{"$f":"IF(B30=\"\",0,Calculations!I12)","v":0},{"$f":"IF(B30=\"\",\"\",IF(Calculations!C12=1,\"Yes\",\"No\"))","v":""},{"$f":"IF(B30=\"\",\"\",IF(Calculations!E12=1,\"Yes\",\"No\"))","v":""},{"$f":"IF(B30=\"\",\"\",IF(Calculations!F12=1,\"Yes\",\"No\"))","v":""},{"$f":"IF(B30=\"\",\"\",IF(Calculations!G12=1,\"Yes\",\"No\"))","v":""}]
[null,{"$f":"Calculations!A13","v":""},{"$f":"IF(B31=\"\",0,Calculations!B13)","v":0},{"$f":"IF(B31=\"\",0,Calculations!I13)","v":0},{"$f":"IF(B31=\"\",\"\",IF(Calculations!C13=1,\"Yes\",\"No\"))","v":""},{"$f":"IF(B31=\"\",\"\",IF(Calculations!E13=1,\"Yes\",\"No\"))","v":""},{"$f":"IF(B31=\"\",\"\",IF(Calculations!F13=1,\"Yes\",\"No\"))","v":""},{"$f":"IF(B31=\"\",\"\",IF(Calculations!G13=1,\"Yes\",\"No\"))","v":""}]
[null,{"$f":"Calculations!A14","v":""},{"$f":"IF(B32=\"\",0,Calculations!B14)","v":0},{"$f":"IF(B32=\"\",0,Calculations!I14)","v":0},{"$f":"IF(B32=\"\",\"\",IF(Calculations!C14=1,\"Yes\",\"No\"))","v":""},{"$f":"IF(B32=\"\",\"\",IF(Calculations!E14=1,\"Yes\",\"No\"))","v":""},{"$f":"IF(B32=\"\",\"\",IF(Calculations!F14=1,\"Yes\",\"No\"))","v":""},{"$f":"IF(B32=\"\",\"\",IF(Calculations!G14=1,\"Yes\",\"No\"))","v":""}]
[null,{"$f":"Calculations!A15","v":""},{"$f":"IF(B33=\"\",0,Calculations!B15)","v":0},{"$f":"IF(B33=\"\",0,Calculations!I15)","v":0},{"$f":"IF(B33=\"\",\"\",IF(Calculations!C15=1,\"Yes\",\"No\"))","v":""},{"$f":"IF(B33=\"\",\"\",IF(Calculations!E15=1,\"Yes\",\"No\"))","v":""},{"$f":"IF(B33=\"\",\"\",IF(Calculations!F15=1,\"Yes\",\"No\"))","v":""},{"$f":"IF(B33=\"\",\"\",IF(Calculations!G15=1,\"Yes\",\"No\"))","v":""}]
[null,{"$f":"Calculations!A16","v":""},{"$f":"IF(B34=\"\",0,Calculations!B16)","v":0},{"$f":"IF(B34=\"\",0,Calculations!I16)","v":0},{"$f":"IF(B34=\"\",\"\",IF(Calculations!C16=1,\"Yes\",\"No\"))","v":""},{"$f":"IF(B34=\"\",\"\",IF(Calculations!E16=1,\"Yes\",\"No\"))","v":""},{"$f":"IF(B34=\"\",\"\",IF(Calculations!F16=1,\"Yes\",\"No\"))","v":""},{"$f":"IF(B34=\"\",\"\",IF(Calculations!G16=1,\"Yes\",\"No\"))","v":""}]
[null,{"$f":"Calculations!A17","v":""},{"$f":"IF(B35=\"\",0,Calculations!B17)","v":0},{"$f":"IF(B35=\"\",0,Calculations!I17)","v":0},{"$f":"IF(B35=\"\",\"\",IF(Calculations!C17=1,\"Yes\",\"No\"))","v":""},{"$f":"IF(B35=\"\",\"\",IF(Calculations!E17=1,\"Yes\",\"No\"))","v":""},{"$f":"IF(B35=\"\",\"\",IF(Calculations!F17=1,\"Yes\",\"No\"))","v":""},{"$f":"IF(B35=\"\",\"\",IF(Calculations!G17=1,\"Yes\",\"No\"))","v":""}]
[null,{"$f":"Calculations!A18","v":""},{"$f":"IF(B36=\"\",0,Calculations!B18)","v":0},{"$f":"IF(B36=\"\",0,Calculations!I18)","v":0},{"$f":"IF(B36=\"\",\"\",IF(Calculations!C18=1,\"Yes\",\"No\"))","v":""},{"$f":"IF(B36=\"\",\"\",IF(Calculations!E18=1,\"Yes\",\"No\"))","v":""},{"$f":"IF(B36=\"\",\"\",IF(Calculations!F18=1,\"Yes\",\"No\"))","v":""},{"$f":"IF(B36=\"\",\"\",IF(Calculations!G18=1,\"Yes\",\"No\"))","v":""}]
[null,{"$f":"Calculations!A19","v":""},{"$f":"IF(B37=\"\",0,Calculations!B19)","v":0},{"$f":"IF(B37=\"\",0,Calculations!I19)","v":0},{"$f":"IF(B37=\"\",\"\",IF(Calculations!C19=1,\"Yes\",\"No\"))","v":""},{"$f":"IF(B37=\"\",\"\",IF(Calculations!E19=1,\"Yes\",\"No\"))","v":""},{"$f":"IF(B37=\"\",\"\",IF(Calculations!F19=1,\"Yes\",\"No\"))","v":""},{"$f":"IF(B37=\"\",\"\",IF(Calculations!G19=1,\"Yes\",\"No\"))","v":""}]
[null,{"$f":"Calculations!A20","v":""},{"$f":"IF(B38=\"\",0,Calculations!B20)","v":0},{"$f":"IF(B38=\"\",0,Calculations!I20)","v":0},{"$f":"IF(B38=\"\",\"\",IF(Calculations!C20=1,\"Yes\",\"No\"))","v":""},{"$f":"IF(B38=\"\",\"\",IF(Calculations!E20=1,\"Yes\",\"No\"))","v":""},{"$f":"IF(B38=\"\",\"\",IF(Calculations!F20=1,\"Yes\",\"No\"))","v":""},{"$f":"IF(B38=\"\",\"\",IF(Calculations!G20=1,\"Yes\",\"No\"))","v":""}]
[null,{"$f":"Calculations!A21","v":""},{"$f":"IF(B39=\"\",0,Calculations!B21)","v":0},{"$f":"IF(B39=\"\",0,Calculations!I21)","v":0},{"$f":"IF(B39=\"\",\"\",IF(Calculations!C21=1,\"Yes\",\"No\"))","v":""},{"$f":"IF(B39=\"\",\"\",IF(Calculations!E21=1,\"Yes\",\"No\"))","v":""},{"$f":"IF(B39=\"\",\"\",IF(Calculations!F21=1,\"Yes\",\"No\"))","v":""},{"$f":"IF(B39=\"\",\"\",IF(Calculations!G21=1,\"Yes\",\"No\"))","v":""}]
[null,{"$f":"Calculations!A22","v":""},{"$f":"IF(B40=\"\",0,Calculations!B22)","v":0},{"$f":"IF(B40=\"\",0,Calculations!I22)","v":0},{"$f":"IF(B40=\"\",\"\",IF(Calculations!C22=1,\"Yes\",\"No\"))","v":""},{"$f":"IF(B40=\"\",\"\",IF(Calculations!E22=1,\"Yes\",\"No\"))","v":""},{"$f":"IF(B40=\"\",\"\",IF(Calculations!F22=1,\"Yes\",\"No\"))","v":""},{"$f":"IF(B40=\"\",\"\",IF(Calculations!G22=1,\"Yes\",\"No\"))","v":""}]
[null,{"$f":"Calculations!A23","v":""},{"$f":"IF(B41=\"\",0,Calculations!B23)","v":0},{"$f":"IF(B41=\"\",0,Calculations!I23)","v":0},{"$f":"IF(B41=\"\",\"\",IF(Calculations!C23=1,\"Yes\",\"No\"))","v":""},{"$f":"IF(B41=\"\",\"\",IF(Calculations!E23=1,\"Yes\",\"No\"))","v":""},{"$f":"IF(B41=\"\",\"\",IF(Calculations!F23=1,\"Yes\",\"No\"))","v":""},{"$f":"IF(B41=\"\",\"\",IF(Calculations!G23=1,\"Yes\",\"No\"))","v":""}]
[null,{"$f":"Calculations!A24","v":""},{"$f":"IF(B42=\"\",0,Calculations!B24)","v":0},{"$f":"IF(B42=\"\",0,Calculations!I24)","v":0},{"$f":"IF(B42=\"\",\"\",IF(Calculations!C24=1,\"Yes\",\"No\"))","v":""},{"$f":"IF(B42=\"\",\"\",IF(Calculations!E24=1,\"Yes\",\"No\"))","v":""},{"$f":"IF(B42=\"\",\"\",IF(Calculations!F24=1,\"Yes\",\"No\"))","v":""},{"$f":"IF(B42=\"\",\"\",IF(Calculations!G24=1,\"Yes\",\"No\"))","v":""}]
[null,{"$f":"Calculations!A25","v":""},{"$f":"IF(B43=\"\",0,Calculations!B25)","v":0},{"$f":"IF(B43=\"\",0,Calculations!I25)","v":0},{"$f":"IF(B43=\"\",\"\",IF(Calculations!C25=1,\"Yes\",\"No\"))","v":""},{"$f":"IF(B43=\"\",\"\",IF(Calculations!E25=1,\"Yes\",\"No\"))","v":""},{"$f":"IF(B43=\"\",\"\",IF(Calculations!F25=1,\"Yes\",\"No\"))","v":""},{"$f":"IF(B43=\"\",\"\",IF(Calculations!G25=1,\"Yes\",\"No\"))","v":""}]
[null,{"$f":"Calculations!A26","v":""},{"$f":"IF(B44=\"\",0,Calculations!B26)","v":0},{"$f":"IF(B44=\"\",0,Calculations!I26)","v":0},{"$f":"IF(B44=\"\",\"\",IF(Calculations!C26=1,\"Yes\",\"No\"))","v":""},{"$f":"IF(B44=\"\",\"\",IF(Calculations!E26=1,\"Yes\",\"No\"))","v":""},{"$f":"IF(B44=\"\",\"\",IF(Calculations!F26=1,\"Yes\",\"No\"))","v":""},{"$f":"IF(B44=\"\",\"\",IF(Calculations!G26=1,\"Yes\",\"No\"))","v":""}]
[null,{"$f":"Calculations!A27","v":""},{"$f":"IF(B45=\"\",0,Calculations!B27)","v":0},{"$f":"IF(B45=\"\",0,Calculations!I27)","v":0},{"$f":"IF(B45=\"\",\"\",IF(Calculations!C27=1,\"Yes\",\"No\"))","v":""},{"$f":"IF(B45=\"\",\"\",IF(Calculations!E27=1,\"Yes\",\"No\"))","v":""},{"$f":"IF(B45=\"\",\"\",IF(Calculations!F27=1,\"Yes\",\"No\"))","v":""},{"$f":"IF(B45=\"\",\"\",IF(Calculations!G27=1,\"Yes\",\"No\"))","v":""}]
[null,{"$f":"Calculations!A28","v":""},{"$f":"IF(B46=\"\",0,Calculations!B28)","v":0},{"$f":"IF(B46=\"\",0,Calculations!I28)","v":0},{"$f":"IF(B46=\"\",\"\",IF(Calculations!C28=1,\"Yes\",\"No\"))","v":""},{"$f":"IF(B46=\"\",\"\",IF(Calculations!E28=1,\"Yes\",\"No\"))","v":""},{"$f":"IF(B46=\"\",\"\",IF(Calculations!F28=1,\"Yes\",\"No\"))","v":""},{"$f":"IF(B46=\"\",\"\",IF(Calculations!G28=1,\"Yes\",\"No\"))","v":""}]
[null,{"$f":"Calculations!A29","v":""},{"$f":"IF(B47=\"\",0,Calculations!B29)","v":0},{"$f":"IF(B47=\"\",0,Calculations!I29)","v":0},{"$f":"IF(B47=\"\",\"\",IF(Calculations!C29=1,\"Yes\",\"No\"))","v":""},{"$f":"IF(B47=\"\",\"\",IF(Calculations!E29=1,\"Yes\",\"No\"))","v":""},{"$f":"IF(B47=\"\",\"\",IF(Calculations!F29=1,\"Yes\",\"No\"))","v":""},{"$f":"IF(B47=\"\",\"\",IF(Calculations!G29=1,\"Yes\",\"No\"))","v":""}]
[null,{"$f":"Calculations!A30","v":""},{"$f":"IF(B48=\"\",0,Calculations!B30)","v":0},{"$f":"IF(B48=\"\",0,Calculations!I30)","v":0},{"$f":"IF(B48=\"\",\"\",IF(Calculations!C30=1,\"Yes\",\"No\"))","v":""},{"$f":"IF(B48=\"\",\"\",IF(Calculations!E30=1,\"Yes\",\"No\"))","v":""},{"$f":"IF(B48=\"\",\"\",IF(Calculations!F30=1,\"Yes\",\"No\"))","v":""},{"$f":"IF(B48=\"\",\"\",IF(Calculations!G30=1,\"Yes\",\"No\"))","v":""}]
[null,{"$f":"Calculations!A31","v":""},{"$f":"IF(B49=\"\",0,Calculations!B31)","v":0},{"$f":"IF(B49=\"\",0,Calculations!I31)","v":0},{"$f":"IF(B49=\"\",\"\",IF(Calculations!C31=1,\"Yes\",\"No\"))","v":""},{"$f":"IF(B49=\"\",\"\",IF(Calculations!E31=1,\"Yes\",\"No\"))","v":""},{"$f":"IF(B49=\"\",\"\",IF(Calculations!F31=1,\"Yes\",\"No\"))","v":""},{"$f":"IF(B49=\"\",\"\",IF(Calculations!G31=1,\"Yes\",\"No\"))","v":""}]
[null,{"$f":"Calculations!A32","v":""},{"$f":"IF(B50=\"\",0,Calculations!B32)","v":0},{"$f":"IF(B50=\"\",0,Calculations!I32)","v":0},{"$f":"IF(B50=\"\",\"\",IF(Calculations!C32=1,\"Yes\",\"No\"))","v":""},{"$f":"IF(B50=\"\",\"\",IF(Calculations!E32=1,\"Yes\",\"No\"))","v":""},{"$f":"IF(B50=\"\",\"\",IF(Calculations!F32=1,\"Yes\",\"No\"))","v":""},{"$f":"IF(B50=\"\",\"\",IF(Calculations!G32=1,\"Yes\",\"No\"))","v":""}]
[null,{"$f":"Calculations!A33","v":""},{"$f":"IF(B51=\"\",0,Calculations!B33)","v":0},{"$f":"IF(B51=\"\",0,Calculations!I33)","v":0},{"$f":"IF(B51=\"\",\"\",IF(Calculations!C33=1,\"Yes\",\"No\"))","v":""},{"$f":"IF(B51=\"\",\"\",IF(Calculations!E33=1,\"Yes\",\"No\"))","v":""},{"$f":"IF(B51=\"\",\"\",IF(Calculations!F33=1,\"Yes\",\"No\"))","v":""},{"$f":"IF(B51=\"\",\"\",IF(Calculations!G33=1,\"Yes\",\"No\"))","v":""}]
[null,{"$f":"Calculations!A34","v":""},{"$f":"IF(B52=\"\",0,Calculations!B34)","v":0},{"$f":"IF(B52=\"\",0,Calculations!I34)","v":0},{"$f":"IF(B52=\"\",\"\",IF(Calculations!C34=1,\"Yes\",\"No\"))","v":""},{"$f":"IF(B52=\"\",\"\",IF(Calculations!E34=1,\"Yes\",\"No\"))","v":""},{"$f":"IF(B52=\"\",\"\",IF(Calculations!F34=1,\"Yes\",\"No\"))","v":""},{"$f":"IF(B52=\"\",\"\",IF(Calculations!G34=1,\"Yes\",\"No\"))","v":""}]
[null,{"$f":"Calculations!A35","v":""},{"$f":"IF(B53=\"\",0,Calculations!B35)","v":0},{"$f":"IF(B53=\"\",0,Calculations!I35)","v":0},{"$f":"IF(B53=\"\",\"\",IF(Calculations!C35=1,\"Yes\",\"No\"))","v":""},{"$f":"IF(B53=\"\",\"\",IF(Calculations!E35=1,\"Yes\",\"No\"))","v":""},{"$f":"IF(B53=\"\",\"\",IF(Calculations!F35=1,\"Yes\",\"No\"))","v":""},{"$f":"IF(B53=\"\",\"\",IF(Calculations!G35=1,\"Yes\",\"No\"))","v":""}]
[null,{"$f":"Calculations!A36","v":""},{"$f":"IF(B54=\"\",0,Calculations!B36)","v":0},{"$f":"IF(B54=\"\",0,Calculations!I36)","v":0},{"$f":"IF(B54=\"\",\"\",IF(Calculations!C36=1,\"Yes\",\"No\"))","v":""},{"$f":"IF(B54=\"\",\"\",IF(Calculations!E36=1,\"Yes\",\"No\"))","v":""},{"$f":"IF(B54=\"\",\"\",IF(Calculations!F36=1,\"Yes\",\"No\"))","v":""},{"$f":"IF(B54=\"\",\"\",IF(Calculations!G36=1,\"Yes\",\"No\"))","v":""}]
[null,{"$f":"Calculations!A37","v":""},{"$f":"IF(B55=\"\",0,Calculations!B37)","v":0},{"$f":"IF(B55=\"\",0,Calculations!I37)","v":0},{"$f":"IF(B55=\"\",\"\",IF(Calculations!C37=1,\"Yes\",\"No\"))","v":""},{"$f":"IF(B55=\"\",\"\",IF(Calculations!E37=1,\"Yes\",\"No\"))","v":""},{"$f":"IF(B55=\"\",\"\",IF(Calculations!F37=1,\"Yes\",\"No\"))","v":""},{"$f":"IF(B55=\"\",\"\",IF(Calculations!G37=1,\"Yes\",\"No\"))","v":""}]
[null,{"$f":"Calculations!A38","v":""},{"$f":"IF(B56=\"\",0,Calculations!B38)","v":0},{"$f":"IF(B56=\"\",0,Calculations!I38)","v":0},{"$f":"IF(B56=\"\",\"\",IF(Calculations!C38=1,\"Yes\",\"No\"))","v":""},{"$f":"IF(B56=\"\",\"\",IF(Calculations!E38=1,\"Yes\",\"No\"))","v":""},{"$f":"IF(B56=\"\",\"\",IF(Calculations!F38=1,\"Yes\",\"No\"))","v":""},{"$f":"IF(B56=\"\",\"\",IF(Calculations!G38=1,\"Yes\",\"No\"))","v":""}]
[null,{"$f":"Calculations!A39","v":""},{"$f":"IF(B57=\"\",0,Calculations!B39)","v":0},{"$f":"IF(B57=\"\",0,Calculations!I39)","v":0},{"$f":"IF(B57=\"\",\"\",IF(Calculations!C39=1,\"Yes\",\"No\"))","v":""},{"$f":"IF(B57=\"\",\"\",IF(Calculations!E39=1,\"Yes\",\"No\"))","v":""},{"$f":"IF(B57=\"\",\"\",IF(Calculations!F39=1,\"Yes\",\"No\"))","v":""},{"$f":"IF(B57=\"\",\"\",IF(Calculations!G39=1,\"Yes\",\"No\"))","v":""}]
[null,{"$f":"Calculations!A40","v":""},{"$f":"IF(B58=\"\",0,Calculations!B40)","v":0},{"$f":"IF(B58=\"\",0,Calculations!I40)","v":0},{"$f":"IF(B58=\"\",\"\",IF(Calculations!C40=1,\"Yes\",\"No\"))","v":""},{"$f":"IF(B58=\"\",\"\",IF(Calculations!E40=1,\"Yes\",\"No\"))","v":""},{"$f":"IF(B58=\"\",\"\",IF(Calculations!F40=1,\"Yes\",\"No\"))","v":""},{"$f":"IF(B58=\"\",\"\",IF(Calculations!G40=1,\"Yes\",\"No\"))","v":""}]
[null,{"$f":"Calculations!A41","v":""},{"$f":"IF(B59=\"\",0,Calculations!B41)","v":0},{"$f":"IF(B59=\"\",0,Calculations!I41)","v":0},{"$f":"IF(B59=\"\",\"\",IF(Calculations!C41=1,\"Yes\",\"No\"))","v":""},{"$f":"IF(B59=\"\",\"\",IF(Calculations!E41=1,\"Yes\",\"No\"))","v":""},{"$f":"IF(B59=\"\",\"\",IF(Calculations!F41=1,\"Yes\",\"No\"))","v":""},{"$f":"IF(B59=\"\",\"\",IF(Calculations!G41=1,\"Yes\",\"No\"))","v":""}]
[null,{"$f":"Calculations!A42","v":""},{"$f":"IF(B60=\"\",0,Calculations!B42)","v":0},{"$f":"IF(B60=\"\",0,Calculations!I42)","v":0},{"$f":"IF(B60=\"\",\"\",IF(Calculations!C42=1,\"Yes\",\"No\"))","v":""},{"$f":"IF(B60=\"\",\"\",IF(Calculations!E42=1,\"Yes\",\"No\"))","v":""},{"$f":"IF(B60=\"\",\"\",IF(Calculations!F42=1,\"Yes\",\"No\"))","v":""},{"$f":"IF(B60=\"\",\"\",IF(Calculations!G42=1,\"Yes\",\"No\"))","v":""}]
[null,{"$f":"Calculations!A43","v":""},{"$f":"IF(B61=\"\",0,Calculations!B43)","v":0},{"$f":"IF(B61=\"\",0,Calculations!I43)","v":0},{"$f":"IF(B61=\"\",\"\",IF(Calculations!C43=1,\"Yes\",\"No\"))","v":""},{"$f":"IF(B61=\"\",\"\",IF(Calculations!E43=1,\"Yes\",\"No\"))","v":""},{"$f":"IF(B61=\"\",\"\",IF(Calculations!F43=1,\"Yes\",\"No\"))","v":""},{"$f":"IF(B61=\"\",\"\",IF(Calculations!G43=1,\"Yes\",\"No\"))","v":""}]
[null,{"$f":"Calculations!A44","v":""},{"$f":"IF(B62=\"\",0,Calculations!B44)","v":0},{"$f":"IF(B62=\"\",0,Calculations!I44)","v":0},{"$f":"IF(B62=\"\",\"\",IF(Calculations!C44=1,\"Yes\",\"No\"))","v":""},{"$f":"IF(B62=\"\",\"\",IF(Calculations!E44=1,\"Yes\",\"No\"))","v":""},{"$f":"IF(B62=\"\",\"\",IF(Calculations!F44=1,\"Yes\",\"No\"))","v":""},{"$f":"IF(B62=\"\",\"\",IF(Calculations!G44=1,\"Yes\",\"No\"))","v":""}]
[null,{"$f":"Calculations!A45","v":""},{"$f":"IF(B63=\"\",0,Calculations!B45)","v":0},{"$f":"IF(B63=\"\",0,Calculations!I45)","v":0},{"$f":"IF(B63=\"\",\"\",IF(Calculations!C45=1,\"Yes\",\"No\"))","v":""},{"$f":"IF(B63=\"\",\"\",IF(Calculations!E45=1,\"Yes\",\"No\"))","v":""},{"$f":"IF(B63=\"\",\"\",IF(Calculations!F45=1,\"Yes\",\"No\"))","v":""},{"$f":"IF(B63=\"\",\"\",IF(Calculations!G45=1,\"Yes\",\"No\"))","v":""}]
[null,{"$f":"Calculations!A46","v":""},{"$f":"IF(B64=\"\",0,Calculations!B46)","v":0},{"$f":"IF(B64=\"\",0,Calculations!I46)","v":0},{"$f":"IF(B64=\"\",\"\",IF(Calculations!C46=1,\"Yes\",\"No\"))","v":""},{"$f":"IF(B64=\"\",\"\",IF(Calculations!E46=1,\"Yes\",\"No\"))","v":""},{"$f":"IF(B64=\"\",\"\",IF(Calculations!F46=1,\"Yes\",\"No\"))","v":""},{"$f":"IF(B64=\"\",\"\",IF(Calculations!G46=1,\"Yes\",\"No\"))","v":""}]
[null,{"$f":"Calculations!A47","v":""},{"$f":"IF(B65=\"\",0,Calculations!B47)","v":0},{"$f":"IF(B65=\"\",0,Calculations!I47)","v":0},{"$f":"IF(B65=\"\",\"\",IF(Calculations!C47=1,\"Yes\",\"No\"))","v":""},{"$f":"IF(B65=\"\",\"\",IF(Calculations!E47=1,\"Yes\",\"No\"))","v":""},{"$f":"IF(B65=\"\",\"\",IF(Calculations!F47=1,\"Yes\",\"No\"))","v":""},{"$f":"IF(B65=\"\",\"\",IF(Calculations!G47=1,\"Yes\",\"No\"))","v":""}]
[null,{"$f":"Calculations!A48","v":""},{"$f":"IF(B66=\"\",0,Calculations!B48)","v":0},{"$f":"IF(B66=\"\",0,Calculations!I48)","v":0},{"$f":"IF(B66=\"\",\"\",IF(Calculations!C48=1,\"Yes\",\"No\"))","v":""},{"$f":"IF(B66=\"\",\"\",IF(Calculations!E48=1,\"Yes\",\"No\"))","v":""},{"$f":"IF(B66=\"\",\"\",IF(Calculations!F48=1,\"Yes\",\"No\"))","v":""},{"$f":"IF(B66=\"\",\"\",IF(Calculations!G48=1,\"Yes\",\"No\"))","v":""}]
[null,{"$f":"Calculations!A49","v":""},{"$f":"IF(B67=\"\",0,Calculations!B49)","v":0},{"$f":"IF(B67=\"\",0,Calculations!I49)","v":0},{"$f":"IF(B67=\"\",\"\",IF(Calculations!C49=1,\"Yes\",\"No\"))","v":""},{"$f":"IF(B67=\"\",\"\",IF(Calculations!E49=1,\"Yes\",\"No\"))","v":""},{"$f":"IF(B67=\"\",\"\",IF(Calculations!F49=1,\"Yes\",\"No\"))","v":""},{"$f":"IF(B67=\"\",\"\",IF(Calculations!G49=1,\"Yes\",\"No\"))","v":""}]
[null,{"$f":"Calculations!A50","v":""},{"$f":"IF(B68=\"\",0,Calculations!B50)","v":0},{"$f":"IF(B68=\"\",0,Calculations!I50)","v":0},{"$f":"IF(B68=\"\",\"\",IF(Calculations!C50=1,\"Yes\",\"No\"))","v":""},{"$f":"IF(B68=\"\",\"\",IF(Calculations!E50=1,\"Yes\",\"No\"))","v":""},{"$f":"IF(B68=\"\",\"\",IF(Calculations!F50=1,\"Yes\",\"No\"))","v":""},{"$f":"IF(B68=\"\",\"\",IF(Calculations!G50=1,\"Yes\",\"No\"))","v":""}]
[null,{"$f":"Calculations!A51","v":""},{"$f":"IF(B69=\"\",0,Calculations!B51)","v":0},{"$f":"IF(B69=\"\",0,Calculations!I51)","v":0},{"$f":"IF(B69=\"\",\"\",IF(Calculations!C51=1,\"Yes\",\"No\"))","v":""},{"$f":"IF(B69=\"\",\"\",IF(Calculations!E51=1,\"Yes\",\"No\"))","v":""},{"$f":"IF(B69=\"\",\"\",IF(Calculations!F51=1,\"Yes\",\"No\"))","v":""},{"$f":"IF(B69=\"\",\"\",IF(Calculations!G51=1,\"Yes\",\"No\"))","v":""}]
[null,{"$f":"Calculations!A52","v":""},{"$f":"IF(B70=\"\",0,Calculations!B52)","v":0},{"$f":"IF(B70=\"\",0,Calculations!I52)","v":0},{"$f":"IF(B70=\"\",\"\",IF(Calculations!C52=1,\"Yes\",\"No\"))","v":""},{"$f":"IF(B70=\"\",\"\",IF(Calculations!E52=1,\"Yes\",\"No\"))","v":""},{"$f":"IF(B70=\"\",\"\",IF(Calculations!F52=1,\"Yes\",\"No\"))","v":""},{"$f":"IF(B70=\"\",\"\",IF(Calculations!G52=1,\"Yes\",\"No\"))","v":""}]
[null,{"$f":"Calculations!A53","v":""},{"$f":"IF(B71=\"\",0,Calculations!B53)","v":0},{"$f":"IF(B71=\"\",0,Calculations!I53)","v":0},{"$f":"IF(B71=\"\",\"\",IF(Calculations!C53=1,\"Yes\",\"No\"))","v":""},{"$f":"IF(B71=\"\",\"\",IF(Calculations!E53=1,\"Yes\",\"No\"))","v":""},{"$f":"IF(B71=\"\",\"\",IF(Calculations!F53=1,\"Yes\",\"No\"))","v":""},{"$f":"IF(B71=\"\",\"\",IF(Calculations!G53=1,\"Yes\",\"No\"))","v":""}]
[null,{"$f":"Calculations!A54","v":""},{"$f":"IF(B72=\"\",0,Calculations!B54)","v":0},{"$f":"IF(B72=\"\",0,Calculations!I54)","v":0},{"$f":"IF(B72=\"\",\"\",IF(Calculations!C54=1,\"Yes\",\"No\"))","v":""},{"$f":"IF(B72=\"\",\"\",IF(Calculations!E54=1,\"Yes\",\"No\"))","v":""},{"$f":"IF(B72=\"\",\"\",IF(Calculations!F54=1,\"Yes\",\"No\"))","v":""},{"$f":"IF(B72=\"\",\"\",IF(Calculations!G54=1,\"Yes\",\"No\"))","v":""}]
[null,{"$f":"Calculations!A55","v":""},{"$f":"IF(B73=\"\",0,Calculations!B55)","v":0},{"$f":"IF(B73=\"\",0,Calculations!I55)","v":0},{"$f":"IF(B73=\"\",\"\",IF(Calculations!C55=1,\"Yes\",\"No\"))","v":""},{"$f":"IF(B73=\"\",\"\",IF(Calculations!E55=1,\"Yes\",\"No\"))","v":""},{"$f":"IF(B73=\"\",\"\",IF(Calculations!F55=1,\"Yes\",\"No\"))","v":""},{"$f":"IF(B73=\"\",\"\",IF(Calculations!G55=1,\"Yes\",\"No\"))","v":""}]
[null,{"$f":"Calculations!A56","v":""},{"$f":"IF(B74=\"\",0,Calculations!B56)","v":0},{"$f":"IF(B74=\"\",0,Calculations!I56)","v":0},{"$f":"IF(B74=\"\",\"\",IF(Calculations!C56=1,\"Yes\",\"No\"))","v":""},{"$f":"IF(B74=\"\",\"\",IF(Calculations!E56=1,\"Yes\",\"No\"))","v":""},{"$f":"IF(B74=\"\",\"\",IF(Calculations!F56=1,\"Yes\",\"No\"))","v":""},{"$f":"IF(B74=\"\",\"\",IF(Calculations!G56=1,\"Yes\",\"No\"))","v":""}]
[null,{"$f":"Calculations!A57","v":""},{"$f":"IF(B75=\"\",0,Calculations!B57)","v":0},{"$f":"IF(B75=\"\",0,Calculations!I57)","v":0},{"$f":"IF(B75=\"\",\"\",IF(Calculations!C57=1,\"Yes\",\"No\"))","v":""},{"$f":"IF(B75=\"\",\"\",IF(Calculations!E57=1,\"Yes\",\"No\"))","v":""},{"$f":"IF(B75=\"\",\"\",IF(Calculations!F57=1,\"Yes\",\"No\"))","v":""},{"$f":"IF(B75=\"\",\"\",IF(Calculations!G57=1,\"Yes\",\"No\"))","v":""}]
[null,{"$f":"Calculations!A58","v":""},{"$f":"IF(B76=\"\",0,Calculations!B58)","v":0},{"$f":"IF(B76=\"\",0,Calculations!I58)","v":0},{"$f":"IF(B76=\"\",\"\",IF(Calculations!C58=1,\"Yes\",\"No\"))","v":""},{"$f":"IF(B76=\"\",\"\",IF(Calculations!E58=1,\"Yes\",\"No\"))","v":""},{"$f":"IF(B76=\"\",\"\",IF(Calculations!F58=1,\"Yes\",\"No\"))","v":""},{"$f":"IF(B76=\"\",\"\",IF(Calculations!G58=1,\"Yes\",\"No\"))","v":""}]
[null,{"$f":"Calculations!A59","v":""},{"$f":"IF(B77=\"\",0,Calculations!B59)","v":0},{"$f":"IF(B77=\"\",0,Calculations!I59)","v":0},{"$f":"IF(B77=\"\",\"\",IF(Calculations!C59=1,\"Yes\",\"No\"))","v":""},{"$f":"IF(B77=\"\",\"\",IF(Calculations!E59=1,\"Yes\",\"No\"))","v":""},{"$f":"IF(B77=\"\",\"\",IF(Calculations!F59=1,\"Yes\",\"No\"))","v":""},{"$f":"IF(B77=\"\",\"\",IF(Calculations!G59=1,\"Yes\",\"No\"))","v":""}]
[null,{"$f":"Calculations!A60","v":""},{"$f":"IF(B78=\"\",0,Calculations!B60)","v":0},{"$f":"IF(B78=\"\",0,Calculations!I60)","v":0},{"$f":"IF(B78=\"\",\"\",IF(Calculations!C60=1,\"Yes\",\"No\"))","v":""},{"$f":"IF(B78=\"\",\"\",IF(Calculations!E60=1,\"Yes\",\"No\"))","v":""},{"$f":"IF(B78=\"\",\"\",IF(Calculations!F60=1,\"Yes\",\"No\"))","v":""},{"$f":"IF(B78=\"\",\"\",IF(Calculations!G60=1,\"Yes\",\"No\"))","v":""}]
[null,{"$f":"Calculations!A61","v":""},{"$f":"IF(B79=\"\",0,Calculations!B61)","v":0},{"$f":"IF(B79=\"\",0,Calculations!I61)","v":0},{"$f":"IF(B79=\"\",\"\",IF(Calculations!C61=1,\"Yes\",\"No\"))","v":""},{"$f":"IF(B79=\"\",\"\",IF(Calculations!E61=1,\"Yes\",\"No\"))","v":""},{"$f":"IF(B79=\"\",\"\",IF(Calculations!F61=1,\"Yes\",\"No\"))","v":""},{"$f":"IF(B79=\"\",\"\",IF(Calculations!G61=1,\"Yes\",\"No\"))","v":""}]
[null,{"$f":"Calculations!A62","v":""},{"$f":"IF(B80=\"\",0,Calculations!B62)","v":0},{"$f":"IF(B80=\"\",0,Calculations!I62)","v":0},{"$f":"IF(B80=\"\",\"\",IF(Calculations!C62=1,\"Yes\",\"No\"))","v":""},{"$f":"IF(B80=\"\",\"\",IF(Calculations!E62=1,\"Yes\",\"No\"))","v":""},{"$f":"IF(B80=\"\",\"\",IF(Calculations!F62=1,\"Yes\",\"No\"))","v":""},{"$f":"IF(B80=\"\",\"\",IF(Calculations!G62=1,\"Yes\",\"No\"))","v":""}]
[null,{"$f":"Calculations!A63","v":""},{"$f":"IF(B81=\"\",0,Calculations!B63)","v":0},{"$f":"IF(B81=\"\",0,Calculations!I63)","v":0},{"$f":"IF(B81=\"\",\"\",IF(Calculations!C63=1,\"Yes\",\"No\"))","v":""},{"$f":"IF(B81=\"\",\"\",IF(Calculations!E63=1,\"Yes\",\"No\"))","v":""},{"$f":"IF(B81=\"\",\"\",IF(Calculations!F63=1,\"Yes\",\"No\"))","v":""},{"$f":"IF(B81=\"\",\"\",IF(Calculations!G63=1,\"Yes\",\"No\"))","v":""}]
[null,{"$f":"Calculations!A64","v":""},{"$f":"IF(B82=\"\",0,Calculations!B64)","v":0},{"$f":"IF(B82=\"\",0,Calculations!I64)","v":0},{"$f":"IF(B82=\"\",\"\",IF(Calculations!C64=1,\"Yes\",\"No\"))","v":""},{"$f":"IF(B82=\"\",\"\",IF(Calculations!E64=1,\"Yes\",\"No\"))","v":""},{"$f":"IF(B82=\"\",\"\",IF(Calculations!F64=1,\"Yes\",\"No\"))","v":""},{"$f":"IF(B82=\"\",\"\",IF(Calculations!G64=1,\"Yes\",\"No\"))","v":""}]
[null,{"$f":"Calculations!A65","v":""},{"$f":"IF(B83=\"\",0,Calculations!B65)","v":0},{"$f":"IF(B83=\"\",0,Calculations!I65)","v":0},{"$f":"IF(B83=\"\",\"\",IF(Calculations!C65=1,\"Yes\",\"No\"))","v":""},{"$f":"IF(B83=\"\",\"\",IF(Calculations!E65=1,\"Yes\",\"No\"))","v":""},{"$f":"IF(B83=\"\",\"\",IF(Calculations!F65=1,\"Yes\",\"No\"))","v":""},{"$f":"IF(B83=\"\",\"\",IF(Calculations!G65=1,\"Yes\",\"No\"))","v":""}]
[null,{"$f":"Calculations!A66","v":""},{"$f":"IF(B84=\"\",0,Calculations!B66)","v":0},{"$f":"IF(B84=\"\",0,Calculations!I66)","v":0},{"$f":"IF(B84=\"\",\"\",IF(Calculations!C66=1,\"Yes\",\"No\"))","v":""},{"$f":"IF(B84=\"\",\"\",IF(Calculations!E66=1,\"Yes\",\"No\"))","v":""},{"$f":"IF(B84=\"\",\"\",IF(Calculations!F66=1,\"Yes\",\"No\"))","v":""},{"$f":"IF(B84=\"\",\"\",IF(Calculations!G66=1,\"Yes\",\"No\"))","v":""}]
[null,{"$f":"Calculations!A67","v":""},{"$f":"IF(B85=\"\",0,Calculations!B67)","v":0},{"$f":"IF(B85=\"\",0,Calculations!I67)","v":0},{"$f":"IF(B85=\"\",\"\",IF(Calculations!C67=1,\"Yes\",\"No\"))","v":""},{"$f":"IF(B85=\"\",\"\",IF(Calculations!E67=1,\"Yes\",\"No\"))","v":""},{"$f":"IF(B85=\"\",\"\",IF(Calculations!F67=1,\"Yes\",\"No\"))","v":""},{"$f":"IF(B85=\"\",\"\",IF(Calculations!G67=1,\"Yes\",\"No\"))","v":""}]
[null,{"$f":"Calculations!A68","v":""},{"$f":"IF(B86=\"\",0,Calculations!B68)","v":0},{"$f":"IF(B86=\"\",0,Calculations!I68)","v":0},{"$f":"IF(B86=\"\",\"\",IF(Calculations!C68=1,\"Yes\",\"No\"))","v":""},{"$f":"IF(B86=\"\",\"\",IF(Calculations!E68=1,\"Yes\",\"No\"))","v":""},{"$f":"IF(B86=\"\",\"\",IF(Calculations!F68=1,\"Yes\",\"No\"))","v":""},{"$f":"IF(B86=\"\",\"\",IF(Calculations!G68=1,\"Yes\",\"No\"))","v":""}]
[null,{"$f":"Calculations!A69","v":""},{"$f":"IF(B87=\"\",0,Calculations!B69)","v":0},{"$f":"IF(B87=\"\",0,Calculations!I69)","v":0},{"$f":"IF(B87=\"\",\"\",IF(Calculations!C69=1,\"Yes\",\"No\"))","v":""},{"$f":"IF(B87=\"\",\"\",IF(Calculations!E69=1,\"Yes\",\"No\"))","v":""},{"$f":"IF(B87=\"\",\"\",IF(Calculations!F69=1,\"Yes\",\"No\"))","v":""},{"$f":"IF(B87=\"\",\"\",IF(Calculations!G69=1,\"Yes\",\"No\"))","v":""}]
[null,{"$f":"Calculations!A70","v":""},{"$f":"IF(B88=\"\",0,Calculations!B70)","v":0},{"$f":"IF(B88=\"\",0,Calculations!I70)","v":0},{"$f":"IF(B88=\"\",\"\",IF(Calculations!C70=1,\"Yes\",\"No\"))","v":""},{"$f":"IF(B88=\"\",\"\",IF(Calculations!E70=1,\"Yes\",\"No\"))","v":""},{"$f":"IF(B88=\"\",\"\",IF(Calculations!F70=1,\"Yes\",\"No\"))","v":""},{"$f":"IF(B88=\"\",\"\",IF(Calculations!G70=1,\"Yes\",\"No\"))","v":""}]
[null,{"$f":"Calculations!A71","v":""},{"$f":"IF(B89=\"\",0,Calculations!B71)","v":0},{"$f":"IF(B89=\"\",0,Calculations!I71)","v":0},{"$f":"IF(B89=\"\",\"\",IF(Calculations!C71=1,\"Yes\",\"No\"))","v":""},{"$f":"IF(B89=\"\",\"\",IF(Calculations!E71=1,\"Yes\",\"No\"))","v":""},{"$f":"IF(B89=\"\",\"\",IF(Calculations!F71=1,\"Yes\",\"No\"))","v":""},{"$f":"IF(B89=\"\",\"\",IF(Calculations!G71=1,\"Yes\",\"No\"))","v":""}]
[null,{"$f":"Calculations!A72","v":""},{"$f":"IF(B90=\"\",0,Calculations!B72)","v":0},{"$f":"IF(B90=\"\",0,Calculations!I72)","v":0},{"$f":"IF(B90=\"\",\"\",IF(Calculations!C72=1,\"Yes\",\"No\"))","v":""},{"$f":"IF(B90=\"\",\"\",IF(Calculations!E72=1,\"Yes\",\"No\"))","v":""},{"$f":"IF(B90=\"\",\"\",IF(Calculations!F72=1,\"Yes\",\"No\"))","v":""},{"$f":"IF(B90=\"\",\"\",IF(Calculations!G72=1,\"Yes\",\"No\"))","v":""}]
[null,{"$f":"Calculations!A73","v":""},{"$f":"IF(B91=\"\",0,Calculations!B73)","v":0},{"$f":"IF(B91=\"\",0,Calculations!I73)","v":0},{"$f":"IF(B91=\"\",\"\",IF(Calculations!C73=1,\"Yes\",\"No\"))","v":""},{"$f":"IF(B91=\"\",\"\",IF(Calculations!E73=1,\"Yes\",\"No\"))","v":""},{"$f":"IF(B91=\"\",\"\",IF(Calculations!F73=1,\"Yes\",\"No\"))","v":""},{"$f":"IF(B91=\"\",\"\",IF(Calculations!G73=1,\"Yes\",\"No\"))","v":""}]
[null,{"$f":"Calculations!A74","v":""},{"$f":"IF(B92=\"\",0,Calculations!B74)","v":0},{"$f":"IF(B92=\"\",0,Calculations!I74)","v":0},{"$f":"IF(B92=\"\",\"\",IF(Calculations!C74=1,\"Yes\",\"No\"))","v":""},{"$f":"IF(B92=\"\",\"\",IF(Calculations!E74=1,\"Yes\",\"No\"))","v":""},{"$f":"IF(B92=\"\",\"\",IF(Calculations!F74=1,\"Yes\",\"No\"))","v":""},{"$f":"IF(B92=\"\",\"\",IF(Calculations!G74=1,\"Yes\",\"No\"))","v":""}]
[null,{"$f":"Calculations!A75","v":""},{"$f":"IF(B93=\"\",0,Calculations!B75)","v":0},{"$f":"IF(B93=\"\",0,Calculations!I75)","v":0},{"$f":"IF(B93=\"\",\"\",IF(Calculations!C75=1,\"Yes\",\"No\"))","v":""},{"$f":"IF(B93=\"\",\"\",IF(Calculations!E75=1,\"Yes\",\"No\"))","v":""},{"$f":"IF(B93=\"\",\"\",IF(Calculations!F75=1,\"Yes\",\"No\"))","v":""},{"$f":"IF(B93=\"\",\"\",IF(Calculations!G75=1,\"Yes\",\"No\"))","v":""}]
[null,{"$f":"Calculations!A76","v":""},{"$f":"IF(B94=\"\",0,Calculations!B76)","v":0},{"$f":"IF(B94=\"\",0,Calculations!I76)","v":0},{"$f":"IF(B94=\"\",\"\",IF(Calculations!C76=1,\"Yes\",\"No\"))","v":""},{"$f":"IF(B94=\"\",\"\",IF(Calculations!E76=1,\"Yes\",\"No\"))","v":""},{"$f":"IF(B94=\"\",\"\",IF(Calculations!F76=1,\"Yes\",\"No\"))","v":""},{"$f":"IF(B94=\"\",\"\",IF(Calculations!G76=1,\"Yes\",\"No\"))","v":""}]
[null,{"$f":"Calculations!A77","v":""},{"$f":"IF(B95=\"\",0,Calculations!B77)","v":0},{"$f":"IF(B95=\"\",0,Calculations!I77)","v":0},{"$f":"IF(B95=\"\",\"\",IF(Calculations!C77=1,\"Yes\",\"No\"))","v":""},{"$f":"IF(B95=\"\",\"\",IF(Calculations!E77=1,\"Yes\",\"No\"))","v":""},{"$f":"IF(B95=\"\",\"\",IF(Calculations!F77=1,\"Yes\",\"No\"))","v":""},{"$f":"IF(B95=\"\",\"\",IF(Calculations!G77=1,\"Yes\",\"No\"))","v":""}]
[null,{"$f":"Calculations!A78","v":""},{"$f":"IF(B96=\"\",0,Calculations!B78)","v":0},{"$f":"IF(B96=\"\",0,Calculations!I78)","v":0},{"$f":"IF(B96=\"\",\"\",IF(Calculations!C78=1,\"Yes\",\"No\"))","v":""},{"$f":"IF(B96=\"\",\"\",IF(Calculations!E78=1,\"Yes\",\"No\"))","v":""},{"$f":"IF(B96=\"\",\"\",IF(Calculations!F78=1,\"Yes\",\"No\"))","v":""},{"$f":"IF(B96=\"\",\"\",IF(Calculations!G78=1,\"Yes\",\"No\"))","v":""}]
[null,{"$f":"Calculations!A79","v":""},{"$f":"IF(B97=\"\",0,Calculations!B79)","v":0},{"$f":"IF(B97=\"\",0,Calculations!I79)","v":0},{"$f":"IF(B97=\"\",\"\",IF(Calculations!C79=1,\"Yes\",\"No\"))","v":""},{"$f":"IF(B97=\"\",\"\",IF(Calculations!E79=1,\"Yes\",\"No\"))","v":""},{"$f":"IF(B97=\"\",\"\",IF(Calculations!F79=1,\"Yes\",\"No\"))","v":""},{"$f":"IF(B97=\"\",\"\",IF(Calculations!G79=1,\"Yes\",\"No\"))","v":""}]
[null,{"$f":"Calculations!A80","v":""},{"$f":"IF(B98=\"\",0,Calculations!B80)","v":0},{"$f":"IF(B98=\"\",0,Calculations!I80)","v":0},{"$f":"IF(B98=\"\",\"\",IF(Calculations!C80=1,\"Yes\",\"No\"))","v":""},{"$f":"IF(B98=\"\",\"\",IF(Calculations!E80=1,\"Yes\",\"No\"))","v":""},{"$f":"IF(B98=\"\",\"\",IF(Calculations!F80=1,\"Yes\",\"No\"))","v":""},{"$f":"IF(B98=\"\",\"\",IF(Calculations!G80=1,\"Yes\",\"No\"))","v":""}]
[null,{"$f":"Calculations!A81","v":""},{"$f":"IF(B99=\"\",0,Calculations!B81)","v":0},{"$f":"IF(B99=\"\",0,Calculations!I81)","v":0},{"$f":"IF(B99=\"\",\"\",IF(Calculations!C81=1,\"Yes\",\"No\"))","v":""},{"$f":"IF(B99=\"\",\"\",IF(Calculations!E81=1,\"Yes\",\"No\"))","v":""},{"$f":"IF(B99=\"\",\"\",IF(Calculations!F81=1,\"Yes\",\"No\"))","v":""},{"$f":"IF(B99=\"\",\"\",IF(Calculations!G81=1,\"Yes\",\"No\"))","v":""}]
[null,{"$f":"Calculations!A82","v":""},{"$f":"IF(B100=\"\",0,Calculations!B82)","v":0},{"$f":"IF(B100=\"\",0,Calculations!I82)","v":0},{"$f":"IF(B100=\"\",\"\",IF(Calculations!C82=1,\"Yes\",\"No\"))","v":""},{"$f":"IF(B100=\"\",\"\",IF(Calculations!E82=1,\"Yes\",\"No\"))","v":""},{"$f":"IF(B100=\"\",\"\",IF(Calculations!F82=1,\"Yes\",\"No\"))","v":""},{"$f":"IF(B100=\"\",\"\",IF(Calculations!G82=1,\"Yes\",\"No\"))","v":""}]
[null,{"$f":"Calculations!A83","v":""},{"$f":"IF(B101=\"\",0,Calculations!B83)","v":0},{"$f":"IF(B101=\"\",0,Calculations!I83)","v":0},{"$f":"IF(B101=\"\",\"\",IF(Calculations!C83=1,\"Yes\",\"No\"))","v":""},{"$f":"IF(B101=\"\",\"\",IF(Calculations!E83=1,\"Yes\",\"No\"))","v":""},{"$f":"IF(B101=\"\",\"\",IF(Calculations!F83=1,\"Yes\",\"No\"))","v":""},{"$f":"IF(B101=\"\",\"\",IF(Calculations!G83=1,\"Yes\",\"No\"))","v":""}]
[null,{"$f":"Calculations!A84","v":""},{"$f":"IF(B102=\"\",0,Calculations!B84)","v":0},{"$f":"IF(B102=\"\",0,Calculations!I84)","v":0},{"$f":"IF(B102=\"\",\"\",IF(Calculations!C84=1,\"Yes\",\"No\"))","v":""},{"$f":"IF(B102=\"\",\"\",IF(Calculations!E84=1,\"Yes\",\"No\"))","v":""},{"$f":"IF(B102=\"\",\"\",IF(Calculations!F84=1,\"Yes\",\"No\"))","v":""},{"$f":"IF(B102=\"\",\"\",IF(Calculations!G84=1,\"Yes\",\"No\"))","v":""}]
[null,{"$f":"Calculations!A85","v":""},{"$f":"IF(B103=\"\",0,Calculations!B85)","v":0},{"$f":"IF(B103=\"\",0,Calculations!I85)","v":0},{"$f":"IF(B103=\"\",\"\",IF(Calculations!C85=1,\"Yes\",\"No\"))","v":""},{"$f":"IF(B103=\"\",\"\",IF(Calculations!E85=1,\"Yes\",\"No\"))","v":""},{"$f":"IF(B103=\"\",\"\",IF(Calculations!F85=1,\"Yes\",\"No\"))","v":""},{"$f":"IF(B103=\"\",\"\",IF(Calculations!G85=1,\"Yes\",\"No\"))","v":""}]
[null,{"$f":"Calculations!A86","v":""},{"$f":"IF(B104=\"\",0,Calculations!B86)","v":0},{"$f":"IF(B104=\"\",0,Calculations!I86)","v":0},{"$f":"IF(B104=\"\",\"\",IF(Calculations!C86=1,\"Yes\",\"No\"))","v":""},{"$f":"IF(B104=\"\",\"\",IF(Calculations!E86=1,\"Yes\",\"No\"))","v":""},{"$f":"IF(B104=\"\",\"\",IF(Calculations!F86=1,\"Yes\",\"No\"))","v":""},{"$f":"IF(B104=\"\",\"\",IF(Calculations!G86=1,\"Yes\",\"No\"))","v":""}]
[null,{"$f":"Calculations!A87","v":""},{"$f":"IF(B105=\"\",0,Calculations!B87)","v":0},{"$f":"IF(B105=\"\",0,Calculations!I87)","v":0},{"$f":"IF(B105=\"\",\"\",IF(Calculations!C87=1,\"Yes\",\"No\"))","v":""},{"$f":"IF(B105=\"\",\"\",IF(Calculations!E87=1,\"Yes\",\"No\"))","v":""},{"$f":"IF(B105=\"\",\"\",IF(Calculations!F87=1,\"Yes\",\"No\"))","v":""},{"$f":"IF(B105=\"\",\"\",IF(Calculations!G87=1,\"Yes\",\"No\"))","v":""}]
[null,{"$f":"Calculations!A88","v":""},{"$f":"IF(B106=\"\",0,Calculations!B88)","v":0},{"$f":"IF(B106=\"\",0,Calculations!I88)","v":0},{"$f":"IF(B106=\"\",\"\",IF(Calculations!C88=1,\"Yes\",\"No\"))","v":""},{"$f":"IF(B106=\"\",\"\",IF(Calculations!E88=1,\"Yes\",\"No\"))","v":""},{"$f":"IF(B106=\"\",\"\",IF(Calculations!F88=1,\"Yes\",\"No\"))","v":""},{"$f":"IF(B106=\"\",\"\",IF(Calculations!G88=1,\"Yes\",\"No\"))","v":""}]
[null,{"$f":"Calculations!A89","v":""},{"$f":"IF(B107=\"\",0,Calculations!B89)","v":0},{"$f":"IF(B107=\"\",0,Calculations!I89)","v":0},{"$f":"IF(B107=\"\",\"\",IF(Calculations!C89=1,\"Yes\",\"No\"))","v":""},{"$f":"IF(B107=\"\",\"\",IF(Calculations!E89=1,\"Yes\",\"No\"))","v":""},{"$f":"IF(B107=\"\",\"\",IF(Calculations!F89=1,\"Yes\",\"No\"))","v":""},{"$f":"IF(B107=\"\",\"\",IF(Calculations!G89=1,\"Yes\",\"No\"))","v":""}]
[null,{"$f":"Calculations!A90","v":""},{"$f":"IF(B108=\"\",0,Calculations!B90)","v":0},{"$f":"IF(B108=\"\",0,Calculations!I90)","v":0},{"$f":"IF(B108=\"\",\"\",IF(Calculations!C90=1,\"Yes\",\"No\"))","v":""},{"$f":"IF(B108=\"\",\"\",IF(Calculations!E90=1,\"Yes\",\"No\"))","v":""},{"$f":"IF(B108=\"\",\"\",IF(Calculations!F90=1,\"Yes\",\"No\"))","v":""},{"$f":"IF(B108=\"\",\"\",IF(Calculations!G90=1,\"Yes\",\"No\"))","v":""}]
[null,{"$f":"Calculations!A91","v":""},{"$f":"IF(B109=\"\",0,Calculations!B91)","v":0},{"$f":"IF(B109=\"\",0,Calculations!I91)","v":0},{"$f":"IF(B109=\"\",\"\",IF(Calculations!C91=1,\"Yes\",\"No\"))","v":""},{"$f":"IF(B109=\"\",\"\",IF(Calculations!E91=1,\"Yes\",\"No\"))","v":""},{"$f":"IF(B109=\"\",\"\",IF(Calculations!F91=1,\"Yes\",\"No\"))","v":""},{"$f":"IF(B109=\"\",\"\",IF(Calculations!G91=1,\"Yes\",\"No\"))","v":""}]
[null,{"$f":"Calculations!A92","v":""},{"$f":"IF(B110=\"\",0,Calculations!B92)","v":0},{"$f":"IF(B110=\"\",0,Calculations!I92)","v":0},{"$f":"IF(B110=\"\",\"\",IF(Calculations!C92=1,\"Yes\",\"No\"))","v":""},{"$f":"IF(B110=\"\",\"\",IF(Calculations!E92=1,\"Yes\",\"No\"))","v":""},{"$f":"IF(B110=\"\",\"\",IF(Calculations!F92=1,\"Yes\",\"No\"))","v":""},{"$f":"IF(B110=\"\",\"\",IF(Calculations!G92=1,\"Yes\",\"No\"))","v":""}]
[null,{"$f":"Calculations!A93","v":""},{"$f":"IF(B111=\"\",0,Calculations!B93)","v":0},{"$f":"IF(B111=\"\",0,Calculations!I93)","v":0},{"$f":"IF(B111=\"\",\"\",IF(Calculations!C93=1,\"Yes\",\"No\"))","v":""},{"$f":"IF(B111=\"\",\"\",IF(Calculations!E93=1,\"Yes\",\"No\"))","v":""},{"$f":"IF(B111=\"\",\"\",IF(Calculations!F93=1,\"Yes\",\"No\"))","v":""},{"$f":"IF(B111=\"\",\"\",IF(Calculations!G93=1,\"Yes\",\"No\"))","v":""}]
[null,{"$f":"Calculations!A94","v":""},{"$f":"IF(B112=\"\",0,Calculations!B94)","v":0},{"$f":"IF(B112=\"\",0,Calculations!I94)","v":0},{"$f":"IF(B112=\"\",\"\",IF(Calculations!C94=1,\"Yes\",\"No\"))","v":""},{"$f":"IF(B112=\"\",\"\",IF(Calculations!E94=1,\"Yes\",\"No\"))","v":""},{"$f":"IF(B112=\"\",\"\",IF(Calculations!F94=1,\"Yes\",\"No\"))","v":""},{"$f":"IF(B112=\"\",\"\",IF(Calculations!G94=1,\"Yes\",\"No\"))","v":""}]
[null,{"$f":"Calculations!A95","v":""},{"$f":"IF(B113=\"\",0,Calculations!B95)","v":0},{"$f":"IF(B113=\"\",0,Calculations!I95)","v":0},{"$f":"IF(B113=\"\",\"\",IF(Calculations!C95=1,\"Yes\",\"No\"))","v":""},{"$f":"IF(B113=\"\",\"\",IF(Calculations!E95=1,\"Yes\",\"No\"))","v":""},{"$f":"IF(B113=\"\",\"\",IF(Calculations!F95=1,\"Yes\",\"No\"))","v":""},{"$f":"IF(B113=\"\",\"\",IF(Calculations!G95=1,\"Yes\",\"No\"))","v":""}]
[null,{"$f":"Calculations!A96","v":""},{"$f":"IF(B114=\"\",0,Calculations!B96)","v":0},{"$f":"IF(B114=\"\",0,Calculations!I96)","v":0},{"$f":"IF(B114=\"\",\"\",IF(Calculations!C96=1,\"Yes\",\"No\"))","v":""},{"$f":"IF(B114=\"\",\"\",IF(Calculations!E96=1,\"Yes\",\"No\"))","v":""},{"$f":"IF(B114=\"\",\"\",IF(Calculations!F96=1,\"Yes\",\"No\"))","v":""},{"$f":"IF(B114=\"\",\"\",IF(Calculations!G96=1,\"Yes\",\"No\"))","v":""}]
[null,{"$f":"Calculations!A97","v":""},{"$f":"IF(B115=\"\",0,Calculations!B97)","v":0},{"$f":"IF(B115=\"\",0,Calculations!I97)","v":0},{"$f":"IF(B115=\"\",\"\",IF(Calculations!C97=1,\"Yes\",\"No\"))","v":""},{"$f":"IF(B115=\"\",\"\",IF(Calculations!E97=1,\"Yes\",\"No\"))","v":""},{"$f":"IF(B115=\"\",\"\",IF(Calculations!F97=1,\"Yes\",\"No\"))","v":""},{"$f":"IF(B115=\"\",\"\",IF(Calculations!G97=1,\"Yes\",\"No\"))","v":""}]
[null,{"$f":"Calculations!A98","v":""},{"$f":"IF(B116=\"\",0,Calculations!B98)","v":0},{"$f":"IF(B116=\"\",0,Calculations!I98)","v":0},{"$f":"IF(B116=\"\",\"\",IF(Calculations!C98=1,\"Yes\",\"No\"))","v":""},{"$f":"IF(B116=\"\",\"\",IF(Calculations!E98=1,\"Yes\",\"No\"))","v":""},{"$f":"IF(B116=\"\",\"\",IF(Calculations!F98=1,\"Yes\",\"No\"))","v":""},{"$f":"IF(B116=\"\",\"\",IF(Calculations!G98=1,\"Yes\",\"No\"))","v":""}]
[null,{"$f":"Calculations!A99","v":""},{"$f":"IF(B117=\"\",0,Calculations!B99)","v":0},{"$f":"IF(B117=\"\",0,Calculations!I99)","v":0},{"$f":"IF(B117=\"\",\"\",IF(Calculations!C99=1,\"Yes\",\"No\"))","v":""},{"$f":"IF(B117=\"\",\"\",IF(Calculations!E99=1,\"Yes\",\"No\"))","v":""},{"$f":"IF(B117=\"\",\"\",IF(Calculations!F99=1,\"Yes\",\"No\"))","v":""},{"$f":"IF(B117=\"\",\"\",IF(Calculations!G99=1,\"Yes\",\"No\"))","v":""}]
[null,{"$f":"Calculations!A100","v":""},{"$f":"IF(B118=\"\",0,Calculations!B100)","v":0},{"$f":"IF(B118=\"\",0,Calculations!I100)","v":0},{"$f":"IF(B118=\"\",\"\",IF(Calculations!C100=1,\"Yes\",\"No\"))","v":""},{"$f":"IF(B118=\"\",\"\",IF(Calculations!E100=1,\"Yes\",\"No\"))","v":""},{"$f":"IF(B118=\"\",\"\",IF(Calculations!F100=1,\"Yes\",\"No\"))","v":""},{"$f":"IF(B118=\"\",\"\",IF(Calculations!G100=1,\"Yes\",\"No\"))","v":""}]
[null,{"$f":"Calculations!A101","v":""},{"$f":"IF(B119=\"\",0,Calculations!B101)","v":0},{"$f":"IF(B119=\"\",0,Calculations!I101)","v":0},{"$f":"IF(B119=\"\",\"\",IF(Calculations!C101=1,\"Yes\",\"No\"))","v":""},{"$f":"IF(B119=\"\",\"\",IF(Calculations!E101=1,\"Yes\",\"No\"))","v":""},{"$f":"IF(B119=\"\",\"\",IF(Calculations!F101=1,\"Yes\",\"No\"))","v":""},{"$f":"IF(B119=\"\",\"\",IF(Calculations!G101=1,\"Yes\",\"No\"))","v":""}]
[null,{"$f":"Calculations!A102","v":""},{"$f":"IF(B120=\"\",0,Calculations!B102)","v":0},{"$f":"IF(B120=\"\",0,Calculations!I102)","v":0},{"$f":"IF(B120=\"\",\"\",IF(Calculations!C102=1,\"Yes\",\"No\"))","v":""},{"$f":"IF(B120=\"\",\"\",IF(Calculations!E102=1,\"Yes\",\"No\"))","v":""},{"$f":"IF(B120=\"\",\"\",IF(Calculations!F102=1,\"Yes\",\"No\"))","v":""},{"$f":"IF(B120=\"\",\"\",IF(Calculations!G102=1,\"Yes\",\"No\"))","v":""}]
[null,{"$f":"Calculations!A103","v":""},{"$f":"IF(B121=\"\",0,Calculations!B103)","v":0},{"$f":"IF(B121=\"\",0,Calculations!I103)","v":0},{"$f":"IF(B121=\"\",\"\",IF(Calculations!C103=1,\"Yes\",\"No\"))","v":""},{"$f":"IF(B121=\"\",\"\",IF(Calculations!E103=1,\"Yes\",\"No\"))","v":""},{"$f":"IF(B121=\"\",\"\",IF(Calculations!F103=1,\"Yes\",\"No\"))","v":""},{"$f":"IF(B121=\"\",\"\",IF(Calculations!G103=1,\"Yes\",\"No\"))","v":""}]
[null,{"$f":"Calculations!A104","v":""},{"$f":"IF(B122=\"\",0,Calculations!B104)","v":0},{"$f":"IF(B122=\"\",0,Calculations!I104)","v":0},{"$f":"IF(B122=\"\",\"\",IF(Calculations!C104=1,\"Yes\",\"No\"))","v":""},{"$f":"IF(B122=\"\",\"\",IF(Calculations!E104=1,\"Yes\",\"No\"))","v":""},{"$f":"IF(B122=\"\",\"\",IF(Calculations!F104=1,\"Yes\",\"No\"))","v":""},{"$f":"IF(B122=\"\",\"\",IF(Calculations!G104=1,\"Yes\",\"No\"))","v":""}]
[null,{"$f":"Calculations!A105","v":""},{"$f":"IF(B123=\"\",0,Calculations!B105)","v":0},{"$f":"IF(B123=\"\",0,Calculations!I105)","v":0},{"$f":"IF(B123=\"\",\"\",IF(Calculations!C105=1,\"Yes\",\"No\"))","v":""},{"$f":"IF(B123=\"\",\"\",IF(Calculations!E105=1,\"Yes\",\"No\"))","v":""},{"$f":"IF(B123=\"\",\"\",IF(Calculations!F105=1,\"Yes\",\"No\"))","v":""},{"$f":"IF(B123=\"\",\"\",IF(Calculations!G105=1,\"Yes\",\"No\"))","v":""}]
[null,{"$f":"Calculations!A106","v":""},{"$f":"IF(B124=\"\",0,Calculations!B106)","v":0},{"$f":"IF(B124=\"\",0,Calculations!I106)","v":0},{"$f":"IF(B124=\"\",\"\",IF(Calculations!C106=1,\"Yes\",\"No\"))","v":""},{"$f":"IF(B124=\"\",\"\",IF(Calculations!E106=1,\"Yes\",\"No\"))","v":""},{"$f":"IF(B124=\"\",\"\",IF(Calculations!F106=1,\"Yes\",\"No\"))","v":""},{"$f":"IF(B124=\"\",\"\",IF(Calculations!G106=1,\"Yes\",\"No\"))","v":""}]
[null,{"$f":"Calculations!A107","v":""},{"$f":"IF(B125=\"\",0,Calculations!B107)","v":0},{"$f":"IF(B125=\"\",0,Calculations!I107)","v":0},{"$f":"IF(B125=\"\",\"\",IF(Calculations!C107=1,\"Yes\",\"No\"))","v":""},{"$f":"IF(B125=\"\",\"\",IF(Calculations!E107=1,\"Yes\",\"No\"))","v":""},{"$f":"IF(B125=\"\",\"\",IF(Calculations!F107=1,\"Yes\",\"No\"))","v":""},{"$f":"IF(B125=\"\",\"\",IF(Calculations!G107=1,\"Yes\",\"No\"))","v":""}]
[null,{"$f":"Calculations!A108","v":""},{"$f":"IF(B126=\"\",0,Calculations!B108)","v":0},{"$f":"IF(B126=\"\",0,Calculations!I108)","v":0},{"$f":"IF(B126=\"\",\"\",IF(Calculations!C108=1,\"Yes\",\"No\"))","v":""},{"$f":"IF(B126=\"\",\"\",IF(Calculations!E108=1,\"Yes\",\"No\"))","v":""},{"$f":"IF(B126=\"\",\"\",IF(Calculations!F108=1,\"Yes\",\"No\"))","v":""},{"$f":"IF(B126=\"\",\"\",IF(Calculations!G108=1,\"Yes\",\"No\"))","v":""}]
[null,{"$f":"Calculations!A109","v":""},{"$f":"IF(B127=\"\",0,Calculations!B109)","v":0},{"$f":"IF(B127=\"\",0,Calculations!I109)","v":0},{"$f":"IF(B127=\"\",\"\",IF(Calculations!C109=1,\"Yes\",\"No\"))","v":""},{"$f":"IF(B127=\"\",\"\",IF(Calculations!E109=1,\"Yes\",\"No\"))","v":""},{"$f":"IF(B127=\"\",\"\",IF(Calculations!F109=1,\"Yes\",\"No\"))","v":""},{"$f":"IF(B127=\"\",\"\",IF(Calculations!G109=1,\"Yes\",\"No\"))","v":""}]
[null,{"$f":"Calculations!A110","v":""},{"$f":"IF(B128=\"\",0,Calculations!B110)","v":0},{"$f":"IF(B128=\"\",0,Calculations!I110)","v":0},{"$f":"IF(B128=\"\",\"\",IF(Calculations!C110=1,\"Yes\",\"No\"))","v":""},{"$f":"IF(B128=\"\",\"\",IF(Calculations!E110=1,\"Yes\",\"No\"))","v":""},{"$f":"IF(B128=\"\",\"\",IF(Calculations!F110=1,\"Yes\",\"No\"))","v":""},{"$f":"IF(B128=\"\",\"\",IF(Calculations!G110=1,\"Yes\",\"No\"))","v":""}]
[null,{"$f":"Calculations!A111","v":""},{"$f":"IF(B129=\"\",0,Calculations!B111)","v":0},{"$f":"IF(B129=\"\",0,Calculations!I111)","v":0},{"$f":"IF(B129=\"\",\"\",IF(Calculations!C111=1,\"Yes\",\"No\"))","v":""},{"$f":"IF(B129=\"\",\"\",IF(Calculations!E111=1,\"Yes\",\"No\"))","v":""},{"$f":"IF(B129=\"\",\"\",IF(Calculations!F111=1,\"Yes\",\"No\"))","v":""},{"$f":"IF(B129=\"\",\"\",IF(Calculations!G111=1,\"Yes\",\"No\"))","v":""}]
[null,{"$f":"Calculations!A112","v":""},{"$f":"IF(B130=\"\",0,Calculations!B112)","v":0},{"$f":"IF(B130=\"\",0,Calculations!I112)","v":0},{"$f":"IF(B130=\"\",\"\",IF(Calculations!C112=1,\"Yes\",\"No\"))","v":""},{"$f":"IF(B130=\"\",\"\",IF(Calculations!E112=1,\"Yes\",\"No\"))","v":""},{"$f":"IF(B130=\"\",\"\",IF(Calculations!F112=1,\"Yes\",\"No\"))","v":""},{"$f":"IF(B130=\"\",\"\",IF(Calculations!G112=1,\"Yes\",\"No\"))","v":""}]
[null,{"$f":"Calculations!A113","v":""},{"$f":"IF(B131=\"\",0,Calculations!B113)","v":0},{"$f":"IF(B131=\"\",0,Calculations!I113)","v":0},{"$f":"IF(B131=\"\",\"\",IF(Calculations!C113=1,\"Yes\",\"No\"))","v":""},{"$f":"IF(B131=\"\",\"\",IF(Calculations!E113=1,\"Yes\",\"No\"))","v":""},{"$f":"IF(B131=\"\",\"\",IF(Calculations!F113=1,\"Yes\",\"No\"))","v":""},{"$f":"IF(B131=\"\",\"\",IF(Calculations!G113=1,\"Yes\",\"No\"))","v":""}]
[null,{"$f":"Calculations!A114","v":""},{"$f":"IF(B132=\"\",0,Calculations!B114)","v":0},{"$f":"IF(B132=\"\",0,Calculations!I114)","v":0},{"$f":"IF(B132=\"\",\"\",IF(Calculations!C114=1,\"Yes\",\"No\"))","v":""},{"$f":"IF(B132=\"\",\"\",IF(Calculations!E114=1,\"Yes\",\"No\"))","v":""},{"$f":"IF(B132=\"\",\"\",IF(Calculations!F114=1,\"Yes\",\"No\"))","v":""},{"$f":"IF(B132=\"\",\"\",IF(Calculations!G114=1,\"Yes\",\"No\"))","v":""}]
[null,{"$f":"Calculations!A115","v":""},{"$f":"IF(B133=\"\",0,Calculations!B115)","v":0},{"$f":"IF(B133=\"\",0,Calculations!I115)","v":0},{"$f":"IF(B133=\"\",\"\",IF(Calculations!C115=1,\"Yes\",\"No\"))","v":""},{"$f":"IF(B133=\"\",\"\",IF(Calculations!E115=1,\"Yes\",\"No\"))","v":""},{"$f":"IF(B133=\"\",\"\",IF(Calculations!F115=1,\"Yes\",\"No\"))","v":""},{"$f":"IF(B133=\"\",\"\",IF(Calculations!G115=1,\"Yes\",\"No\"))","v":""}]
[null,{"$f":"Calculations!A116","v":""},{"$f":"IF(B134=\"\",0,Calculations!B116)","v":0},{"$f":"IF(B134=\"\",0,Calculations!I116)","v":0},{"$f":"IF(B134=\"\",\"\",IF(Calculations!C116=1,\"Yes\",\"No\"))","v":""},{"$f":"IF(B134=\"\",\"\",IF(Calculations!E116=1,\"Yes\",\"No\"))","v":""},{"$f":"IF(B134=\"\",\"\",IF(Calculations!F116=1,\"Yes\",\"No\"))","v":""},{"$f":"IF(B134=\"\",\"\",IF(Calculations!G116=1,\"Yes\",\"No\"))","v":""}]
[null,{"$f":"Calculations!A117","v":""},{"$f":"IF(B135=\"\",0,Calculations!B117)","v":0},{"$f":"IF(B135=\"\",0,Calculations!I117)","v":0},{"$f":"IF(B135=\"\",\"\",IF(Calculations!C117=1,\"Yes\",\"No\"))","v":""},{"$f":"IF(B135=\"\",\"\",IF(Calculations!E117=1,\"Yes\",\"No\"))","v":""},{"$f":"IF(B135=\"\",\"\",IF(Calculations!F117=1,\"Yes\",\"No\"))","v":""},{"$f":"IF(B135=\"\",\"\",IF(Calculations!G117=1,\"Yes\",\"No\"))","v":""}]
[null,{"$f":"Calculations!A118","v":""},{"$f":"IF(B136=\"\",0,Calculations!B118)","v":0},{"$f":"IF(B136=\"\",0,Calculations!I118)","v":0},{"$f":"IF(B136=\"\",\"\",IF(Calculations!C118=1,\"Yes\",\"No\"))","v":""},{"$f":"IF(B136=\"\",\"\",IF(Calculations!E118=1,\"Yes\",\"No\"))","v":""},{"$f":"IF(B136=\"\",\"\",IF(Calculations!F118=1,\"Yes\",\"No\"))","v":""},{"$f":"IF(B136=\"\",\"\",IF(Calculations!G118=1,\"Yes\",\"No\"))","v":""}]
[null,{"$f":"Calculations!A119","v":""},{"$f":"IF(B137=\"\",0,Calculations!B119)","v":0},{"$f":"IF(B137=\"\",0,Calculations!I119)","v":0},{"$f":"IF(B137=\"\",\"\",IF(Calculations!C119=1,\"Yes\",\"No\"))","v":""},{"$f":"IF(B137=\"\",\"\",IF(Calculations!E119=1,\"Yes\",\"No\"))","v":""},{"$f":"IF(B137=\"\",\"\",IF(Calculations!F119=1,\"Yes\",\"No\"))","v":""},{"$f":"IF(B137=\"\",\"\",IF(Calculations!G119=1,\"Yes\",\"No\"))","v":""}]
[null,{"$f":"Calculations!A120","v":""},{"$f":"IF(B138=\"\",0,Calculations!B120)","v":0},{"$f":"IF(B138=\"\",0,Calculations!I120)","v":0},{"$f":"IF(B138=\"\",\"\",IF(Calculations!C120=1,\"Yes\",\"No\"))","v":""},{"$f":"IF(B138=\"\",\"\",IF(Calculations!E120=1,\"Yes\",\"No\"))","v":""},{"$f":"IF(B138=\"\",\"\",IF(Calculations!F120=1,\"Yes\",\"No\"))","v":""},{"$f":"IF(B138=\"\",\"\",IF(Calculations!G120=1,\"Yes\",\"No\"))","v":""}]
[null,{"$f":"Calculations!A121","v":""},{"$f":"IF(B139=\"\",0,Calculations!B121)","v":0},{"$f":"IF(B139=\"\",0,Calculations!I121)","v":0},{"$f":"IF(B139=\"\",\"\",IF(Calculations!C121=1,\"Yes\",\"No\"))","v":""},{"$f":"IF(B139=\"\",\"\",IF(Calculations!E121=1,\"Yes\",\"No\"))","v":""},{"$f":"IF(B139=\"\",\"\",IF(Calculations!F121=1,\"Yes\",\"No\"))","v":""},{"$f":"IF(B139=\"\",\"\",IF(Calculations!G121=1,\"Yes\",\"No\"))","v":""}]
[null,{"$f":"Calculations!A122","v":""},{"$f":"IF(B140=\"\",0,Calculations!B122)","v":0},{"$f":"IF(B140=\"\",0,Calculations!I122)","v":0},{"$f":"IF(B140=\"\",\"\",IF(Calculations!C122=1,\"Yes\",\"No\"))","v":""},{"$f":"IF(B140=\"\",\"\",IF(Calculations!E122=1,\"Yes\",\"No\"))","v":""},{"$f":"IF(B140=\"\",\"\",IF(Calculations!F122=1,\"Yes\",\"No\"))","v":""},{"$f":"IF(B140=\"\",\"\",IF(Calculations!G122=1,\"Yes\",\"No\"))","v":""}]
[null,{"$f":"Calculations!A123","v":""},{"$f":"IF(B141=\"\",0,Calculations!B123)","v":0},{"$f":"IF(B141=\"\",0,Calculations!I123)","v":0},{"$f":"IF(B141=\"\",\"\",IF(Calculations!C123=1,\"Yes\",\"No\"))","v":""},{"$f":"IF(B141=\"\",\"\",IF(Calculations!E123=1,\"Yes\",\"No\"))","v":""},{"$f":"IF(B141=\"\",\"\",IF(Calculations!F123=1,\"Yes\",\"No\"))","v":""},{"$f":"IF(B141=\"\",\"\",IF(Calculations!G123=1,\"Yes\",\"No\"))","v":""}]
[null,{"$f":"Calculations!A124","v":""},{"$f":"IF(B142=\"\",0,Calculations!B124)","v":0},{"$f":"IF(B142=\"\",0,Calculations!I124)","v":0},{"$f":"IF(B142=\"\",\"\",IF(Calculations!C124=1,\"Yes\",\"No\"))","v":""},{"$f":"IF(B142=\"\",\"\",IF(Calculations!E124=1,\"Yes\",\"No\"))","v":""},{"$f":"IF(B142=\"\",\"\",IF(Calculations!F124=1,\"Yes\",\"No\"))","v":""},{"$f":"IF(B142=\"\",\"\",IF(Calculations!G124=1,\"Yes\",\"No\"))","v":""}]
[null,{"$f":"Calculations!A125","v":""},{"$f":"IF(B143=\"\",0,Calculations!B125)","v":0},{"$f":"IF(B143=\"\",0,Calculations!I125)","v":0},{"$f":"IF(B143=\"\",\"\",IF(Calculations!C125=1,\"Yes\",\"No\"))","v":""},{"$f":"IF(B143=\"\",\"\",IF(Calculations!E125=1,\"Yes\",\"No\"))","v":""},{"$f":"IF(B143=\"\",\"\",IF(Calculations!F125=1,\"Yes\",\"No\"))","v":""},{"$f":"IF(B143=\"\",\"\",IF(Calculations!G125=1,\"Yes\",\"No\"))","v":""}]
[null,{"$f":"Calculations!A126","v":""},{"$f":"IF(B144=\"\",0,Calculations!B126)","v":0},{"$f":"IF(B144=\"\",0,Calculations!I126)","v":0},{"$f":"IF(B144=\"\",\"\",IF(Calculations!C126=1,\"Yes\",\"No\"))","v":""},{"$f":"IF(B144=\"\",\"\",IF(Calculations!E126=1,\"Yes\",\"No\"))","v":""},{"$f":"IF(B144=\"\",\"\",IF(Calculations!F126=1,\"Yes\",\"No\"))","v":""},{"$f":"IF(B144=\"\",\"\",IF(Calculations!G126=1,\"Yes\",\"No\"))","v":""}]
[null,{"$f":"Calculations!A127","v":""},{"$f":"IF(B145=\"\",0,Calculations!B127)","v":0},{"$f":"IF(B145=\"\",0,Calculations!I127)","v":0},{"$f":"IF(B145=\"\",\"\",IF(Calculations!C127=1,\"Yes\",\"No\"))","v":""},{"$f":"IF(B145=\"\",\"\",IF(Calculations!E127=1,\"Yes\",\"No\"))","v":""},{"$f":"IF(B145=\"\",\"\",IF(Calculations!F127=1,\"Yes\",\"No\"))","v":""},{"$f":"IF(B145=\"\",\"\",IF(Calculations!G127=1,\"Yes\",\"No\"))","v":""}]
[null,{"$f":"Calculations!A128","v":""},{"$f":"IF(B146=\"\",0,Calculations!B128)","v":0},{"$f":"IF(B146=\"\",0,Calculations!I128)","v":0},{"$f":"IF(B146=\"\",\"\",IF(Calculations!C128=1,\"Yes\",\"No\"))","v":""},{"$f":"IF(B146=\"\",\"\",IF(Calculations!E128=1,\"Yes\",\"No\"))","v":""},{"$f":"IF(B146=\"\",\"\",IF(Calculations!F128=1,\"Yes\",\"No\"))","v":""},{"$f":"IF(B146=\"\",\"\",IF(Calculations!G128=1,\"Yes\",\"No\"))","v":""}]
[null,{"$f":"Calculations!A129","v":""},{"$f":"IF(B147=\"\",0,Calculations!B129)","v":0},{"$f":"IF(B147=\"\",0,Calculations!I129)","v":0},{"$f":"IF(B147=\"\",\"\",IF(Calculations!C129=1,\"Yes\",\"No\"))","v":""},{"$f":"IF(B147=\"\",\"\",IF(Calculations!E129=1,\"Yes\",\"No\"))","v":""},{"$f":"IF(B147=\"\",\"\",IF(Calculations!F129=1,\"Yes\",\"No\"))","v":""},{"$f":"IF(B147=\"\",\"\",IF(Calculations!G129=1,\"Yes\",\"No\"))","v":""}]
[null,{"$f":"Calculations!A130","v":""},{"$f":"IF(B148=\"\",0,Calculations!B130)","v":0},{"$f":"IF(B148=\"\",0,Calculations!I130)","v":0},{"$f":"IF(B148=\"\",\"\",IF(Calculations!C130=1,\"Yes\",\"No\"))","v":""},{"$f":"IF(B148=\"\",\"\",IF(Calculations!E130=1,\"Yes\",\"No\"))","v":""},{"$f":"IF(B148=\"\",\"\",IF(Calculations!F130=1,\"Yes\",\"No\"))","v":""},{"$f":"IF(B148=\"\",\"\",IF(Calculations!G130=1,\"Yes\",\"No\"))","v":""}]
[null,{"$f":"Calculations!A131","v":""},{"$f":"IF(B149=\"\",0,Calculations!B131)","v":0},{"$f":"IF(B149=\"\",0,Calculations!I131)","v":0},{"$f":"IF(B149=\"\",\"\",IF(Calculations!C131=1,\"Yes\",\"No\"))","v":""},{"$f":"IF(B149=\"\",\"\",IF(Calculations!E131=1,\"Yes\",\"No\"))","v":""},{"$f":"IF(B149=\"\",\"\",IF(Calculations!F131=1,\"Yes\",\"No\"))","v":""},{"$f":"IF(B149=\"\",\"\",IF(Calculations!G131=1,\"Yes\",\"No\"))","v":""}]
[null,{"$f":"Calculations!A132","v":""},{"$f":"IF(B150=\"\",0,Calculations!B132)","v":0},{"$f":"IF(B150=\"\",0,Calculations!I132)","v":0},{"$f":"IF(B150=\"\",\"\",IF(Calculations!C132=1,\"Yes\",\"No\"))","v":""},{"$f":"IF(B150=\"\",\"\",IF(Calculations!E132=1,\"Yes\",\"No\"))","v":""},{"$f":"IF(B150=\"\",\"\",IF(Calculations!F132=1,\"Yes\",\"No\"))","v":""},{"$f":"IF(B150=\"\",\"\",IF(Calculations!G132=1,\"Yes\",\"No\"))","v":""}]
[null,{"$f":"Calculations!A133","v":""},{"$f":"IF(B151=\"\",0,Calculations!B133)","v":0},{"$f":"IF(B151=\"\",0,Calculations!I133)","v":0},{"$f":"IF(B151=\"\",\"\",IF(Calculations!C133=1,\"Yes\",\"No\"))","v":""},{"$f":"IF(B151=\"\",\"\",IF(Calculations!E133=1,\"Yes\",\"No\"))","v":""},{"$f":"IF(B151=\"\",\"\",IF(Calculations!F133=1,\"Yes\",\"No\"))","v":""},{"$f":"IF(B151=\"\",\"\",IF(Calculations!G133=1,\"Yes\",\"No\"))","v":""}]
[null,{"$f":"Calculations!A134","v":""},{"$f":"IF(B152=\"\",0,Calculations!B134)","v":0},{"$f":"IF(B152=\"\",0,Calculations!I134)","v":0},{"$f":"IF(B152=\"\",\"\",IF(Calculations!C134=1,\"Yes\",\"No\"))","v":""},{"$f":"IF(B152=\"\",\"\",IF(Calculations!E134=1,\"Yes\",\"No\"))","v":""},{"$f":"IF(B152=\"\",\"\",IF(Calculations!F134=1,\"Yes\",\"No\"))","v":""},{"$f":"IF(B152=\"\",\"\",IF(Calculations!G134=1,\"Yes\",\"No\"))","v":""}]
[null,{"$f":"Calculations!A135","v":""},{"$f":"IF(B153=\"\",0,Calculations!B135)","v":0},{"$f":"IF(B153=\"\",0,Calculations!I135)","v":0},{"$f":"IF(B153=\"\",\"\",IF(Calculations!C135=1,\"Yes\",\"No\"))","v":""},{"$f":"IF(B153=\"\",\"\",IF(Calculations!E135=1,\"Yes\",\"No\"))","v":""},{"$f":"IF(B153=\"\",\"\",IF(Calculations!F135=1,\"Yes\",\"No\"))","v":""},{"$f":"IF(B153=\"\",\"\",IF(Calculations!G135=1,\"Yes\",\"No\"))","v":""}]
[null,{"$f":"Calculations!A136","v":""},{"$f":"IF(B154=\"\",0,Calculations!B136)","v":0},{"$f":"IF(B154=\"\",0,Calculations!I136)","v":0},{"$f":"IF(B154=\"\",\"\",IF(Calculations!C136=1,\"Yes\",\"No\"))","v":""},{"$f":"IF(B154=\"\",\"\",IF(Calculations!E136=1,\"Yes\",\"No\"))","v":""},{"$f":"IF(B154=\"\",\"\",IF(Calculations!F136=1,\"Yes\",\"No\"))","v":""},{"$f":"IF(B154=\"\",\"\",IF(Calculations!G136=1,\"Yes\",\"No\"))","v":""}]
[null,{"$f":"Calculations!A137","v":""},{"$f":"IF(B155=\"\",0,Calculations!B137)","v":0},{"$f":"IF(B155=\"\",0,Calculations!I137)","v":0},{"$f":"IF(B155=\"\",\"\",IF(Calculations!C137=1,\"Yes\",\"No\"))","v":""},{"$f":"IF(B155=\"\",\"\",IF(Calculations!E137=1,\"Yes\",\"No\"))","v":""},{"$f":"IF(B155=\"\",\"\",IF(Calculations!F137=1,\"Yes\",\"No\"))","v":""},{"$f":"IF(B155=\"\",\"\",IF(Calculations!G137=1,\"Yes\",\"No\"))","v":""}]
[null,{"$f":"Calculations!A138","v":""},{"$f":"IF(B156=\"\",0,Calculations!B138)","v":0},{"$f":"IF(B156=\"\",0,Calculations!I138)","v":0},{"$f":"IF(B156=\"\",\"\",IF(Calculations!C138=1,\"Yes\",\"No\"))","v":""},{"$f":"IF(B156=\"\",\"\",IF(Calculations!E138=1,\"Yes\",\"No\"))","v":""},{"$f":"IF(B156=\"\",\"\",IF(Calculations!F138=1,\"Yes\",\"No\"))","v":""},{"$f":"IF(B156=\"\",\"\",IF(Calculations!G138=1,\"Yes\",\"No\"))","v":""}]
[null,{"$f":"Calculations!A139","v":""},{"$f":"IF(B157=\"\",0,Calculations!B139)","v":0},{"$f":"IF(B157=\"\",0,Calculations!I139)","v":0},{"$f":"IF(B157=\"\",\"\",IF(Calculations!C139=1,\"Yes\",\"No\"))","v":""},{"$f":"IF(B157=\"\",\"\",IF(Calculations!E139=1,\"Yes\",\"No\"))","v":""},{"$f":"IF(B157=\"\",\"\",IF(Calculations!F139=1,\"Yes\",\"No\"))","v":""},{"$f":"IF(B157=\"\",\"\",IF(Calculations!G139=1,\"Yes\",\"No\"))","v":""}]
[null,{"$f":"Calculations!A140","v":""},{"$f":"IF(B158=\"\",0,Calculations!B140)","v":0},{"$f":"IF(B158=\"\",0,Calculations!I140)","v":0},{"$f":"IF(B158=\"\",\"\",IF(Calculations!C140=1,\"Yes\",\"No\"))","v":""},{"$f":"IF(B158=\"\",\"\",IF(Calculations!E140=1,\"Yes\",\"No\"))","v":""},{"$f":"IF(B158=\"\",\"\",IF(Calculations!F140=1,\"Yes\",\"No\"))","v":""},{"$f":"IF(B158=\"\",\"\",IF(Calculations!G140=1,\"Yes\",\"No\"))","v":""}]
[null,{"$f":"Calculations!A141","v":""},{"$f":"IF(B159=\"\",0,Calculations!B141)","v":0},{"$f":"IF(B159=\"\",0,Calculations!I141)","v":0},{"$f":"IF(B159=\"\",\"\",IF(Calculations!C141=1,\"Yes\",\"No\"))","v":""},{"$f":"IF(B159=\"\",\"\",IF(Calculations!E141=1,\"Yes\",\"No\"))","v":""},{"$f":"IF(B159=\"\",\"\",IF(Calculations!F141=1,\"Yes\",\"No\"))","v":""},{"$f":"IF(B159=\"\",\"\",IF(Calculations!G141=1,\"Yes\",\"No\"))","v":""}]
[null,{"$f":"Calculations!A142","v":""},{"$f":"IF(B160=\"\",0,Calculations!B142)","v":0},{"$f":"IF(B160=\"\",0,Calculations!I142)","v":0},{"$f":"IF(B160=\"\",\"\",IF(Calculations!C142=1,\"Yes\",\"No\"))","v":""},{"$f":"IF(B160=\"\",\"\",IF(Calculations!E142=1,\"Yes\",\"No\"))","v":""},{"$f":"IF(B160=\"\",\"\",IF(Calculations!F142=1,\"Yes\",\"No\"))","v":""},{"$f":"IF(B160=\"\",\"\",IF(Calculations!G142=1,\"Yes\",\"No\"))","v":""}]
[null,{"$f":"Calculations!A143","v":""},{"$f":"IF(B161=\"\",0,Calculations!B143)","v":0},{"$f":"IF(B161=\"\",0,Calculations!I143)","v":0},{"$f":"IF(B161=\"\",\"\",IF(Calculations!C143=1,\"Yes\",\"No\"))","v":""},{"$f":"IF(B161=\"\",\"\",IF(Calculations!E143=1,\"Yes\",\"No\"))","v":""},{"$f":"IF(B161=\"\",\"\",IF(Calculations!F143=1,\"Yes\",\"No\"))","v":""},{"$f":"IF(B161=\"\",\"\",IF(Calculations!G143=1,\"Yes\",\"No\"))","v":""}]
[null,{"$f":"Calculations!A144","v":""},{"$f":"IF(B162=\"\",0,Calculations!B144)","v":0},{"$f":"IF(B162=\"\",0,Calculations!I144)","v":0},{"$f":"IF(B162=\"\",\"\",IF(Calculations!C144=1,\"Yes\",\"No\"))","v":""},{"$f":"IF(B162=\"\",\"\",IF(Calculations!E144=1,\"Yes\",\"No\"))","v":""},{"$f":"IF(B162=\"\",\"\",IF(Calculations!F144=1,\"Yes\",\"No\"))","v":""},{"$f":"IF(B162=\"\",\"\",IF(Calculations!G144=1,\"Yes\",\"No\"))","v":""}]
[null,{"$f":"Calculations!A145","v":""},{"$f":"IF(B163=\"\",0,Calculations!B145)","v":0},{"$f":"IF(B163=\"\",0,Calculations!I145)","v":0},{"$f":"IF(B163=\"\",\"\",IF(Calculations!C145=1,\"Yes\",\"No\"))","v":""},{"$f":"IF(B163=\"\",\"\",IF(Calculations!E145=1,\"Yes\",\"No\"))","v":""},{"$f":"IF(B163=\"\",\"\",IF(Calculations!F145=1,\"Yes\",\"No\"))","v":""},{"$f":"IF(B163=\"\",\"\",IF(Calculations!G145=1,\"Yes\",\"No\"))","v":""}]
[null,{"$f":"Calculations!A146","v":""},{"$f":"IF(B164=\"\",0,Calculations!B146)","v":0},{"$f":"IF(B164=\"\",0,Calculations!I146)","v":0},{"$f":"IF(B164=\"\",\"\",IF(Calculations!C146=1,\"Yes\",\"No\"))","v":""},{"$f":"IF(B164=\"\",\"\",IF(Calculations!E146=1,\"Yes\",\"No\"))","v":""},{"$f":"IF(B164=\"\",\"\",IF(Calculations!F146=1,\"Yes\",\"No\"))","v":""},{"$f":"IF(B164=\"\",\"\",IF(Calculations!G146=1,\"Yes\",\"No\"))","v":""}]
[null,{"$f":"Calculations!A147","v":""},{"$f":"IF(B165=\"\",0,Calculations!B147)","v":0},{"$f":"IF(B165=\"\",0,Calculations!I147)","v":0},{"$f":"IF(B165=\"\",\"\",IF(Calculations!C147=1,\"Yes\",\"No\"))","v":""},{"$f":"IF(B165=\"\",\"\",IF(Calculations!E147=1,\"Yes\",\"No\"))","v":""},{"$f":"IF(B165=\"\",\"\",IF(Calculations!F147=1,\"Yes\",\"No\"))","v":""},{"$f":"IF(B165=\"\",\"\",IF(Calculations!G147=1,\"Yes\",\"No\"))","v":""}]
[null,{"$f":"Calculations!A148","v":""},{"$f":"IF(B166=\"\",0,Calculations!B148)","v":0},{"$f":"IF(B166=\"\",0,Calculations!I148)","v":0},{"$f":"IF(B166=\"\",\"\",IF(Calculations!C148=1,\"Yes\",\"No\"))","v":""},{"$f":"IF(B166=\"\",\"\",IF(Calculations!E148=1,\"Yes\",\"No\"))","v":""},{"$f":"IF(B166=\"\",\"\",IF(Calculations!F148=1,\"Yes\",\"No\"))","v":""},{"$f":"IF(B166=\"\",\"\",IF(Calculations!G148=1,\"Yes\",\"No\"))","v":""}]
[null,{"$f":"Calculations!A149","v":""},{"$f":"IF(B167=\"\",0,Calculations!B149)","v":0},{"$f":"IF(B167=\"\",0,Calculations!I149)","v":0},{"$f":"IF(B167=\"\",\"\",IF(Calculations!C149=1,\"Yes\",\"No\"))","v":""},{"$f":"IF(B167=\"\",\"\",IF(Calculations!E149=1,\"Yes\",\"No\"))","v":""},{"$f":"IF(B167=\"\",\"\",IF(Calculations!F149=1,\"Yes\",\"No\"))","v":""},{"$f":"IF(B167=\"\",\"\",IF(Calculations!G149=1,\"Yes\",\"No\"))","v":""}]
[null,{"$f":"Calculations!A150","v":""},{"$f":"IF(B168=\"\",0,Calculations!B150)","v":0},{"$f":"IF(B168=\"\",0,Calculations!I150)","v":0},{"$f":"IF(B168=\"\",\"\",IF(Calculations!C150=1,\"Yes\",\"No\"))","v":""},{"$f":"IF(B168=\"\",\"\",IF(Calculations!E150=1,\"Yes\",\"No\"))","v":""},{"$f":"IF(B168=\"\",\"\",IF(Calculations!F150=1,\"Yes\",\"No\"))","v":""},{"$f":"IF(B168=\"\",\"\",IF(Calculations!G150=1,\"Yes\",\"No\"))","v":""}]
[null,{"$f":"Calculations!A151","v":""},{"$f":"IF(B169=\"\",0,Calculations!B151)","v":0},{"$f":"IF(B169=\"\",0,Calculations!I151)","v":0},{"$f":"IF(B169=\"\",\"\",IF(Calculations!C151=1,\"Yes\",\"No\"))","v":""},{"$f":"IF(B169=\"\",\"\",IF(Calculations!E151=1,\"Yes\",\"No\"))","v":""},{"$f":"IF(B169=\"\",\"\",IF(Calculations!F151=1,\"Yes\",\"No\"))","v":""},{"$f":"IF(B169=\"\",\"\",IF(Calculations!G151=1,\"Yes\",\"No\"))","v":""}]
[null,{"$f":"Calculations!A152","v":""},{"$f":"IF(B170=\"\",0,Calculations!B152)","v":0},{"$f":"IF(B170=\"\",0,Calculations!I152)","v":0},{"$f":"IF(B170=\"\",\"\",IF(Calculations!C152=1,\"Yes\",\"No\"))","v":""},{"$f":"IF(B170=\"\",\"\",IF(Calculations!E152=1,\"Yes\",\"No\"))","v":""},{"$f":"IF(B170=\"\",\"\",IF(Calculations!F152=1,\"Yes\",\"No\"))","v":""},{"$f":"IF(B170=\"\",\"\",IF(Calculations!G152=1,\"Yes\",\"No\"))","v":""}]
[null,{"$f":"Calculations!A153","v":""},{"$f":"IF(B171=\"\",0,Calculations!B153)","v":0},{"$f":"IF(B171=\"\",0,Calculations!I153)","v":0},{"$f":"IF(B171=\"\",\"\",IF(Calculations!C153=1,\"Yes\",\"No\"))","v":""},{"$f":"IF(B171=\"\",\"\",IF(Calculations!E153=1,\"Yes\",\"No\"))","v":""},{"$f":"IF(B171=\"\",\"\",IF(Calculations!F153=1,\"Yes\",\"No\"))","v":""},{"$f":"IF(B171=\"\",\"\",IF(Calculations!G153=1,\"Yes\",\"No\"))","v":""}]
[null,{"$f":"Calculations!A154","v":""},{"$f":"IF(B172=\"\",0,Calculations!B154)","v":0},{"$f":"IF(B172=\"\",0,Calculations!I154)","v":0},{"$f":"IF(B172=\"\",\"\",IF(Calculations!C154=1,\"Yes\",\"No\"))","v":""},{"$f":"IF(B172=\"\",\"\",IF(Calculations!E154=1,\"Yes\",\"No\"))","v":""},{"$f":"IF(B172=\"\",\"\",IF(Calculations!F154=1,\"Yes\",\"No\"))","v":""},{"$f":"IF(B172=\"\",\"\",IF(Calculations!G154=1,\"Yes\",\"No\"))","v":""}]
[null,{"$f":"Calculations!A155","v":""},{"$f":"IF(B173=\"\",0,Calculations!B155)","v":0},{"$f":"IF(B173=\"\",0,Calculations!I155)","v":0},{"$f":"IF(B173=\"\",\"\",IF(Calculations!C155=1,\"Yes\",\"No\"))","v":""},{"$f":"IF(B173=\"\",\"\",IF(Calculations!E155=1,\"Yes\",\"No\"))","v":""},{"$f":"IF(B173=\"\",\"\",IF(Calculations!F155=1,\"Yes\",\"No\"))","v":""},{"$f":"IF(B173=\"\",\"\",IF(Calculations!G155=1,\"Yes\",\"No\"))","v":""}]
[null,{"$f":"Calculations!A156","v":""},{"$f":"IF(B174=\"\",0,Calculations!B156)","v":0},{"$f":"IF(B174=\"\",0,Calculations!I156)","v":0},{"$f":"IF(B174=\"\",\"\",IF(Calculations!C156=1,\"Yes\",\"No\"))","v":""},{"$f":"IF(B174=\"\",\"\",IF(Calculations!E156=1,\"Yes\",\"No\"))","v":""},{"$f":"IF(B174=\"\",\"\",IF(Calculations!F156=1,\"Yes\",\"No\"))","v":""},{"$f":"IF(B174=\"\",\"\",IF(Calculations!G156=1,\"Yes\",\"No\"))","v":""}]
[null,{"$f":"Calculations!A157","v":""},{"$f":"IF(B175=\"\",0,Calculations!B157)","v":0},{"$f":"IF(B175=\"\",0,Calculations!I157)","v":0},{"$f":"IF(B175=\"\",\"\",IF(Calculations!C157=1,\"Yes\",\"No\"))","v":""},{"$f":"IF(B175=\"\",\"\",IF(Calculations!E157=1,\"Yes\",\"No\"))","v":""},{"$f":"IF(B175=\"\",\"\",IF(Calculations!F157=1,\"Yes\",\"No\"))","v":""},{"$f":"IF(B175=\"\",\"\",IF(Calculations!G157=1,\"Yes\",\"No\"))","v":""}]
[null,{"$f":"Calculations!A158","v":""},{"$f":"IF(B176=\"\",0,Calculations!B158)","v":0},{"$f":"IF(B176=\"\",0,Calculations!I158)","v":0},{"$f":"IF(B176=\"\",\"\",IF(Calculations!C158=1,\"Yes\",\"No\"))","v":""},{"$f":"IF(B176=\"\",\"\",IF(Calculations!E158=1,\"Yes\",\"No\"))","v":""},{"$f":"IF(B176=\"\",\"\",IF(Calculations!F158=1,\"Yes\",\"No\"))","v":""},{"$f":"IF(B176=\"\",\"\",IF(Calculations!G158=1,\"Yes\",\"No\"))","v":""}]
[null,{"$f":"Calculations!A159","v":""},{"$f":"IF(B177=\"\",0,Calculations!B159)","v":0},{"$f":"IF(B177=\"\",0,Calculations!I159)","v":0},{"$f":"IF(B177=\"\",\"\",IF(Calculations!C159=1,\"Yes\",\"No\"))","v":""},{"$f":"IF(B177=\"\",\"\",IF(Calculations!E159=1,\"Yes\",\"No\"))","v":""},{"$f":"IF(B177=\"\",\"\",IF(Calculations!F159=1,\"Yes\",\"No\"))","v":""},{"$f":"IF(B177=\"\",\"\",IF(Calculations!G159=1,\"Yes\",\"No\"))","v":""}]
[null,{"$f":"Calculations!A160","v":""},{"$f":"IF(B178=\"\",0,Calculations!B160)","v":0},{"$f":"IF(B178=\"\",0,Calculations!I160)","v":0},{"$f":"IF(B178=\"\",\"\",IF(Calculations!C160=1,\"Yes\",\"No\"))","v":""},{"$f":"IF(B178=\"\",\"\",IF(Calculations!E160=1,\"Yes\",\"No\"))","v":""},{"$f":"IF(B178=\"\",\"\",IF(Calculations!F160=1,\"Yes\",\"No\"))","v":""},{"$f":"IF(B178=\"\",\"\",IF(Calculations!G160=1,\"Yes\",\"No\"))","v":""}]
[null,{"$f":"Calculations!A161","v":""},{"$f":"IF(B179=\"\",0,Calculations!B161)","v":0},{"$f":"IF(B179=\"\",0,Calculations!I161)","v":0},{"$f":"IF(B179=\"\",\"\",IF(Calculations!C161=1,\"Yes\",\"No\"))","v":""},{"$f":"IF(B179=\"\",\"\",IF(Calculations!E161=1,\"Yes\",\"No\"))","v":""},{"$f":"IF(B179=\"\",\"\",IF(Calculations!F161=1,\"Yes\",\"No\"))","v":""},{"$f":"IF(B179=\"\",\"\",IF(Calculations!G161=1,\"Yes\",\"No\"))","v":""}]
[null,{"$f":"Calculations!A162","v":""},{"$f":"IF(B180=\"\",0,Calculations!B162)","v":0},{"$f":"IF(B180=\"\",0,Calculations!I162)","v":0},{"$f":"IF(B180=\"\",\"\",IF(Calculations!C162=1,\"Yes\",\"No\"))","v":""},{"$f":"IF(B180=\"\",\"\",IF(Calculations!E162=1,\"Yes\",\"No\"))","v":""},{"$f":"IF(B180=\"\",\"\",IF(Calculations!F162=1,\"Yes\",\"No\"))","v":""},{"$f":"IF(B180=\"\",\"\",IF(Calculations!G162=1,\"Yes\",\"No\"))","v":""}]
[null,{"$f":"Calculations!A163","v":""},{"$f":"IF(B181=\"\",0,Calculations!B163)","v":0},{"$f":"IF(B181=\"\",0,Calculations!I163)","v":0},{"$f":"IF(B181=\"\",\"\",IF(Calculations!C163=1,\"Yes\",\"No\"))","v":""},{"$f":"IF(B181=\"\",\"\",IF(Calculations!E163=1,\"Yes\",\"No\"))","v":""},{"$f":"IF(B181=\"\",\"\",IF(Calculations!F163=1,\"Yes\",\"No\"))","v":""},{"$f":"IF(B181=\"\",\"\",IF(Calculations!G163=1,\"Yes\",\"No\"))","v":""}]
[null,{"$f":"Calculations!A164","v":""},{"$f":"IF(B182=\"\",0,Calculations!B164)","v":0},{"$f":"IF(B182=\"\",0,Calculations!I164)","v":0},{"$f":"IF(B182=\"\",\"\",IF(Calculations!C164=1,\"Yes\",\"No\"))","v":""},{"$f":"IF(B182=\"\",\"\",IF(Calculations!E164=1,\"Yes\",\"No\"))","v":""},{"$f":"IF(B182=\"\",\"\",IF(Calculations!F164=1,\"Yes\",\"No\"))","v":""},{"$f":"IF(B182=\"\",\"\",IF(Calculations!G164=1,\"Yes\",\"No\"))","v":""}]
[null,{"$f":"Calculations!A165","v":""},{"$f":"IF(B183=\"\",0,Calculations!B165)","v":0},{"$f":"IF(B183=\"\",0,Calculations!I165)","v":0},{"$f":"IF(B183=\"\",\"\",IF(Calculations!C165=1,\"Yes\",\"No\"))","v":""},{"$f":"IF(B183=\"\",\"\",IF(Calculations!E165=1,\"Yes\",\"No\"))","v":""},{"$f":"IF(B183=\"\",\"\",IF(Calculations!F165=1,\"Yes\",\"No\"))","v":""},{"$f":"IF(B183=\"\",\"\",IF(Calculations!G165=1,\"Yes\",\"No\"))","v":""}]
[null,{"$f":"Calculations!A166","v":""},{"$f":"IF(B184=\"\",0,Calculations!B166)","v":0},{"$f":"IF(B184=\"\",0,Calculations!I166)","v":0},{"$f":"IF(B184=\"\",\"\",IF(Calculations!C166=1,\"Yes\",\"No\"))","v":""},{"$f":"IF(B184=\"\",\"\",IF(Calculations!E166=1,\"Yes\",\"No\"))","v":""},{"$f":"IF(B184=\"\",\"\",IF(Calculations!F166=1,\"Yes\",\"No\"))","v":""},{"$f":"IF(B184=\"\",\"\",IF(Calculations!G166=1,\"Yes\",\"No\"))","v":""}]
[null,{"$f":"Calculations!A167","v":""},{"$f":"IF(B185=\"\",0,Calculations!B167)","v":0},{"$f":"IF(B185=\"\",0,Calculations!I167)","v":0},{"$f":"IF(B185=\"\",\"\",IF(Calculations!C167=1,\"Yes\",\"No\"))","v":""},{"$f":"IF(B185=\"\",\"\",IF(Calculations!E167=1,\"Yes\",\"No\"))","v":""},{"$f":"IF(B185=\"\",\"\",IF(Calculations!F167=1,\"Yes\",\"No\"))","v":""},{"$f":"IF(B185=\"\",\"\",IF(Calculations!G167=1,\"Yes\",\"No\"))","v":""}]
[null,{"$f":"Calculations!A168","v":""},{"$f":"IF(B186=\"\",0,Calculations!B168)","v":0},{"$f":"IF(B186=\"\",0,Calculations!I168)","v":0},{"$f":"IF(B186=\"\",\"\",IF(Calculations!C168=1,\"Yes\",\"No\"))","v":""},{"$f":"IF(B186=\"\",\"\",IF(Calculations!E168=1,\"Yes\",\"No\"))","v":""},{"$f":"IF(B186=\"\",\"\",IF(Calculations!F168=1,\"Yes\",\"No\"))","v":""},{"$f":"IF(B186=\"\",\"\",IF(Calculations!G168=1,\"Yes\",\"No\"))","v":""}]
[null,{"$f":"Calculations!A169","v":""},{"$f":"IF(B187=\"\",0,Calculations!B169)","v":0},{"$f":"IF(B187=\"\",0,Calculations!I169)","v":0},{"$f":"IF(B187=\"\",\"\",IF(Calculations!C169=1,\"Yes\",\"No\"))","v":""},{"$f":"IF(B187=\"\",\"\",IF(Calculations!E169=1,\"Yes\",\"No\"))","v":""},{"$f":"IF(B187=\"\",\"\",IF(Calculations!F169=1,\"Yes\",\"No\"))","v":""},{"$f":"IF(B187=\"\",\"\",IF(Calculations!G169=1,\"Yes\",\"No\"))","v":""}]
[null,{"$f":"Calculations!A170","v":""},{"$f":"IF(B188=\"\",0,Calculations!B170)","v":0},{"$f":"IF(B188=\"\",0,Calculations!I170)","v":0},{"$f":"IF(B188=\"\",\"\",IF(Calculations!C170=1,\"Yes\",\"No\"))","v":""},{"$f":"IF(B188=\"\",\"\",IF(Calculations!E170=1,\"Yes\",\"No\"))","v":""},{"$f":"IF(B188=\"\",\"\",IF(Calculations!F170=1,\"Yes\",\"No\"))","v":""},{"$f":"IF(B188=\"\",\"\",IF(Calculations!G170=1,\"Yes\",\"No\"))","v":""}]
[null,{"$f":"Calculations!A171","v":""},{"$f":"IF(B189=\"\",0,Calculations!B171)","v":0},{"$f":"IF(B189=\"\",0,Calculations!I171)","v":0},{"$f":"IF(B189=\"\",\"\",IF(Calculations!C171=1,\"Yes\",\"No\"))","v":""},{"$f":"IF(B189=\"\",\"\",IF(Calculations!E171=1,\"Yes\",\"No\"))","v":""},{"$f":"IF(B189=\"\",\"\",IF(Calculations!F171=1,\"Yes\",\"No\"))","v":""},{"$f":"IF(B189=\"\",\"\",IF(Calculations!G171=1,\"Yes\",\"No\"))","v":""}]
[null,{"$f":"Calculations!A172","v":""},{"$f":"IF(B190=\"\",0,Calculations!B172)","v":0},{"$f":"IF(B190=\"\",0,Calculations!I172)","v":0},{"$f":"IF(B190=\"\",\"\",IF(Calculations!C172=1,\"Yes\",\"No\"))","v":""},{"$f":"IF(B190=\"\",\"\",IF(Calculations!E172=1,\"Yes\",\"No\"))","v":""},{"$f":"IF(B190=\"\",\"\",IF(Calculations!F172=1,\"Yes\",\"No\"))","v":""},{"$f":"IF(B190=\"\",\"\",IF(Calculations!G172=1,\"Yes\",\"No\"))","v":""}]
[null,{"$f":"Calculations!A173","v":""},{"$f":"IF(B191=\"\",0,Calculations!B173)","v":0},{"$f":"IF(B191=\"\",0,Calculations!I173)","v":0},{"$f":"IF(B191=\"\",\"\",IF(Calculations!C173=1,\"Yes\",\"No\"))","v":""},{"$f":"IF(B191=\"\",\"\",IF(Calculations!E173=1,\"Yes\",\"No\"))","v":""},{"$f":"IF(B191=\"\",\"\",IF(Calculations!F173=1,\"Yes\",\"No\"))","v":""},{"$f":"IF(B191=\"\",\"\",IF(Calculations!G173=1,\"Yes\",\"No\"))","v":""}]
[null,{"$f":"Calculations!A174","v":""},{"$f":"IF(B192=\"\",0,Calculations!B174)","v":0},{"$f":"IF(B192=\"\",0,Calculations!I174)","v":0},{"$f":"IF(B192=\"\",\"\",IF(Calculations!C174=1,\"Yes\",\"No\"))","v":""},{"$f":"IF(B192=\"\",\"\",IF(Calculations!E174=1,\"Yes\",\"No\"))","v":""},{"$f":"IF(B192=\"\",\"\",IF(Calculations!F174=1,\"Yes\",\"No\"))","v":""},{"$f":"IF(B192=\"\",\"\",IF(Calculations!G174=1,\"Yes\",\"No\"))","v":""}]
[null,{"$f":"Calculations!A175","v":""},{"$f":"IF(B193=\"\",0,Calculations!B175)","v":0},{"$f":"IF(B193=\"\",0,Calculations!I175)","v":0},{"$f":"IF(B193=\"\",\"\",IF(Calculations!C175=1,\"Yes\",\"No\"))","v":""},{"$f":"IF(B193=\"\",\"\",IF(Calculations!E175=1,\"Yes\",\"No\"))","v":""},{"$f":"IF(B193=\"\",\"\",IF(Calculations!F175=1,\"Yes\",\"No\"))","v":""},{"$f":"IF(B193=\"\",\"\",IF(Calculations!G175=1,\"Yes\",\"No\"))","v":""}]
[null,{"$f":"Calculations!A176","v":""},{"$f":"IF(B194=\"\",0,Calculations!B176)","v":0},{"$f":"IF(B194=\"\",0,Calculations!I176)","v":0},{"$f":"IF(B194=\"\",\"\",IF(Calculations!C176=1,\"Yes\",\"No\"))","v":""},{"$f":"IF(B194=\"\",\"\",IF(Calculations!E176=1,\"Yes\",\"No\"))","v":""},{"$f":"IF(B194=\"\",\"\",IF(Calculations!F176=1,\"Yes\",\"No\"))","v":""},{"$f":"IF(B194=\"\",\"\",IF(Calculations!G176=1,\"Yes\",\"No\"))","v":""}]
[null,{"$f":"Calculations!A177","v":""},{"$f":"IF(B195=\"\",0,Calculations!B177)","v":0},{"$f":"IF(B195=\"\",0,Calculations!I177)","v":0},{"$f":"IF(B195=\"\",\"\",IF(Calculations!C177=1,\"Yes\",\"No\"))","v":""},{"$f":"IF(B195=\"\",\"\",IF(Calculations!E177=1,\"Yes\",\"No\"))","v":""},{"$f":"IF(B195=\"\",\"\",IF(Calculations!F177=1,\"Yes\",\"No\"))","v":""},{"$f":"IF(B195=\"\",\"\",IF(Calculations!G177=1,\"Yes\",\"No\"))","v":""}]
[null,{"$f":"Calculations!A178","v":""},{"$f":"IF(B196=\"\",0,Calculations!B178)","v":0},{"$f":"IF(B196=\"\",0,Calculations!I178)","v":0},{"$f":"IF(B196=\"\",\"\",IF(Calculations!C178=1,\"Yes\",\"No\"))","v":""},{"$f":"IF(B196=\"\",\"\",IF(Calculations!E178=1,\"Yes\",\"No\"))","v":""},{"$f":"IF(B196=\"\",\"\",IF(Calculations!F178=1,\"Yes\",\"No\"))","v":""},{"$f":"IF(B196=\"\",\"\",IF(Calculations!G178=1,\"Yes\",\"No\"))","v":""}]
[null,{"$f":"Calculations!A179","v":""},{"$f":"IF(B197=\"\",0,Calculations!B179)","v":0},{"$f":"IF(B197=\"\",0,Calculations!I179)","v":0},{"$f":"IF(B197=\"\",\"\",IF(Calculations!C179=1,\"Yes\",\"No\"))","v":""},{"$f":"IF(B197=\"\",\"\",IF(Calculations!E179=1,\"Yes\",\"No\"))","v":""},{"$f":"IF(B197=\"\",\"\",IF(Calculations!F179=1,\"Yes\",\"No\"))","v":""},{"$f":"IF(B197=\"\",\"\",IF(Calculations!G179=1,\"Yes\",\"No\"))","v":""}]
[null,{"$f":"Calculations!A180","v":""},{"$f":"IF(B198=\"\",0,Calculations!B180)","v":0},{"$f":"IF(B198=\"\",0,Calculations!I180)","v":0},{"$f":"IF(B198=\"\",\"\",IF(Calculations!C180=1,\"Yes\",\"No\"))","v":""},{"$f":"IF(B198=\"\",\"\",IF(Calculations!E180=1,\"Yes\",\"No\"))","v":""},{"$f":"IF(B198=\"\",\"\",IF(Calculations!F180=1,\"Yes\",\"No\"))","v":""},{"$f":"IF(B198=\"\",\"\",IF(Calculations!G180=1,\"Yes\",\"No\"))","v":""}]
[null,{"$f":"Calculations!A181","v":""},{"$f":"IF(B199=\"\",0,Calculations!B181)","v":0},{"$f":"IF(B199=\"\",0,Calculations!I181)","v":0},{"$f":"IF(B199=\"\",\"\",IF(Calculations!C181=1,\"Yes\",\"No\"))","v":""},{"$f":"IF(B199=\"\",\"\",IF(Calculations!E181=1,\"Yes\",\"No\"))","v":""},{"$f":"IF(B199=\"\",\"\",IF(Calculations!F181=1,\"Yes\",\"No\"))","v":""},{"$f":"IF(B199=\"\",\"\",IF(Calculations!G181=1,\"Yes\",\"No\"))","v":""}]
[null,{"$f":"Calculations!A182","v":""},{"$f":"IF(B200=\"\",0,Calculations!B182)","v":0},{"$f":"IF(B200=\"\",0,Calculations!I182)","v":0},{"$f":"IF(B200=\"\",\"\",IF(Calculations!C182=1,\"Yes\",\"No\"))","v":""},{"$f":"IF(B200=\"\",\"\",IF(Calculations!E182=1,\"Yes\",\"No\"))","v":""},{"$f":"IF(B200=\"\",\"\",IF(Calculations!F182=1,\"Yes\",\"No\"))","v":""},{"$f":"IF(B200=\"\",\"\",IF(Calculations!G182=1,\"Yes\",\"No\"))","v":""}]
[null,{"$f":"Calculations!A183","v":""},{"$f":"IF(B201=\"\",0,Calculations!B183)","v":0},{"$f":"IF(B201=\"\",0,Calculations!I183)","v":0},{"$f":"IF(B201=\"\",\"\",IF(Calculations!C183=1,\"Yes\",\"No\"))","v":""},{"$f":"IF(B201=\"\",\"\",IF(Calculations!E183=1,\"Yes\",\"No\"))","v":""},{"$f":"IF(B201=\"\",\"\",IF(Calculations!F183=1,\"Yes\",\"No\"))","v":""},{"$f":"IF(B201=\"\",\"\",IF(Calculations!G183=1,\"Yes\",\"No\"))","v":""}]
[null,{"$f":"Calculations!A184","v":""},{"$f":"IF(B202=\"\",0,Calculations!B184)","v":0},{"$f":"IF(B202=\"\",0,Calculations!I184)","v":0},{"$f":"IF(B202=\"\",\"\",IF(Calculations!C184=1,\"Yes\",\"No\"))","v":""},{"$f":"IF(B202=\"\",\"\",IF(Calculations!E184=1,\"Yes\",\"No\"))","v":""},{"$f":"IF(B202=\"\",\"\",IF(Calculations!F184=1,\"Yes\",\"No\"))","v":""},{"$f":"IF(B202=\"\",\"\",IF(Calculations!G184=1,\"Yes\",\"No\"))","v":""}]
[null,{"$f":"Calculations!A185","v":""},{"$f":"IF(B203=\"\",0,Calculations!B185)","v":0},{"$f":"IF(B203=\"\",0,Calculations!I185)","v":0},{"$f":"IF(B203=\"\",\"\",IF(Calculations!C185=1,\"Yes\",\"No\"))","v":""},{"$f":"IF(B203=\"\",\"\",IF(Calculations!E185=1,\"Yes\",\"No\"))","v":""},{"$f":"IF(B203=\"\",\"\",IF(Calculations!F185=1,\"Yes\",\"No\"))","v":""},{"$f":"IF(B203=\"\",\"\",IF(Calculations!G185=1,\"Yes\",\"No\"))","v":""}]
[null,{"$f":"Calculations!A186","v":""},{"$f":"IF(B204=\"\",0,Calculations!B186)","v":0},{"$f":"IF(B204=\"\",0,Calculations!I186)","v":0},{"$f":"IF(B204=\"\",\"\",IF(Calculations!C186=1,\"Yes\",\"No\"))","v":""},{"$f":"IF(B204=\"\",\"\",IF(Calculations!E186=1,\"Yes\",\"No\"))","v":""},{"$f":"IF(B204=\"\",\"\",IF(Calculations!F186=1,\"Yes\",\"No\"))","v":""},{"$f":"IF(B204=\"\",\"\",IF(Calculations!G186=1,\"Yes\",\"No\"))","v":""}]
[null,{"$f":"Calculations!A187","v":""},{"$f":"IF(B205=\"\",0,Calculations!B187)","v":0},{"$f":"IF(B205=\"\",0,Calculations!I187)","v":0},{"$f":"IF(B205=\"\",\"\",IF(Calculations!C187=1,\"Yes\",\"No\"))","v":""},{"$f":"IF(B205=\"\",\"\",IF(Calculations!E187=1,\"Yes\",\"No\"))","v":""},{"$f":"IF(B205=\"\",\"\",IF(Calculations!F187=1,\"Yes\",\"No\"))","v":""},{"$f":"IF(B205=\"\",\"\",IF(Calculations!G187=1,\"Yes\",\"No\"))","v":""}]
[null,{"$f":"Calculations!A188","v":""},{"$f":"IF(B206=\"\",0,Calculations!B188)","v":0},{"$f":"IF(B206=\"\",0,Calculations!I188)","v":0},{"$f":"IF(B206=\"\",\"\",IF(Calculations!C188=1,\"Yes\",\"No\"))","v":""},{"$f":"IF(B206=\"\",\"\",IF(Calculations!E188=1,\"Yes\",\"No\"))","v":""},{"$f":"IF(B206=\"\",\"\",IF(Calculations!F188=1,\"Yes\",\"No\"))","v":""},{"$f":"IF(B206=\"\",\"\",IF(Calculations!G188=1,\"Yes\",\"No\"))","v":""}]
[null,{"$f":"Calculations!A189","v":""},{"$f":"IF(B207=\"\",0,Calculations!B189)","v":0},{"$f":"IF(B207=\"\",0,Calculations!I189)","v":0},{"$f":"IF(B207=\"\",\"\",IF(Calculations!C189=1,\"Yes\",\"No\"))","v":""},{"$f":"IF(B207=\"\",\"\",IF(Calculations!E189=1,\"Yes\",\"No\"))","v":""},{"$f":"IF(B207=\"\",\"\",IF(Calculations!F189=1,\"Yes\",\"No\"))","v":""},{"$f":"IF(B207=\"\",\"\",IF(Calculations!G189=1,\"Yes\",\"No\"))","v":""}]
[null,{"$f":"Calculations!A190","v":""},{"$f":"IF(B208=\"\",0,Calculations!B190)","v":0},{"$f":"IF(B208=\"\",0,Calculations!I190)","v":0},{"$f":"IF(B208=\"\",\"\",IF(Calculations!C190=1,\"Yes\",\"No\"))","v":""},{"$f":"IF(B208=\"\",\"\",IF(Calculations!E190=1,\"Yes\",\"No\"))","v":""},{"$f":"IF(B208=\"\",\"\",IF(Calculations!F190=1,\"Yes\",\"No\"))","v":""},{"$f":"IF(B208=\"\",\"\",IF(Calculations!G190=1,\"Yes\",\"No\"))","v":""}]
[null,{"$f":"Calculations!A191","v":""},{"$f":"IF(B209=\"\",0,Calculations!B191)","v":0},{"$f":"IF(B209=\"\",0,Calculations!I191)","v":0},{"$f":"IF(B209=\"\",\"\",IF(Calculations!C191=1,\"Yes\",\"No\"))","v":""},{"$f":"IF(B209=\"\",\"\",IF(Calculations!E191=1,\"Yes\",\"No\"))","v":""},{"$f":"IF(B209=\"\",\"\",IF(Calculations!F191=1,\"Yes\",\"No\"))","v":""},{"$f":"IF(B209=\"\",\"\",IF(Calculations!G191=1,\"Yes\",\"No\"))","v":""}]
[null,{"$f":"Calculations!A192","v":""},{"$f":"IF(B210=\"\",0,Calculations!B192)","v":0},{"$f":"IF(B210=\"\",0,Calculations!I192)","v":0},{"$f":"IF(B210=\"\",\"\",IF(Calculations!C192=1,\"Yes\",\"No\"))","v":""},{"$f":"IF(B210=\"\",\"\",IF(Calculations!E192=1,\"Yes\",\"No\"))","v":""},{"$f":"IF(B210=\"\",\"\",IF(Calculations!F192=1,\"Yes\",\"No\"))","v":""},{"$f":"IF(B210=\"\",\"\",IF(Calculations!G192=1,\"Yes\",\"No\"))","v":""}]
[null,{"$f":"Calculations!A193","v":""},{"$f":"IF(B211=\"\",0,Calculations!B193)","v":0},{"$f":"IF(B211=\"\",0,Calculations!I193)","v":0},{"$f":"IF(B211=\"\",\"\",IF(Calculations!C193=1,\"Yes\",\"No\"))","v":""},{"$f":"IF(B211=\"\",\"\",IF(Calculations!E193=1,\"Yes\",\"No\"))","v":""},{"$f":"IF(B211=\"\",\"\",IF(Calculations!F193=1,\"Yes\",\"No\"))","v":""},{"$f":"IF(B211=\"\",\"\",IF(Calculations!G193=1,\"Yes\",\"No\"))","v":""}]
[null,{"$f":"Calculations!A194","v":""},{"$f":"IF(B212=\"\",0,Calculations!B194)","v":0},{"$f":"IF(B212=\"\",0,Calculations!I194)","v":0},{"$f":"IF(B212=\"\",\"\",IF(Calculations!C194=1,\"Yes\",\"No\"))","v":""},{"$f":"IF(B212=\"\",\"\",IF(Calculations!E194=1,\"Yes\",\"No\"))","v":""},{"$f":"IF(B212=\"\",\"\",IF(Calculations!F194=1,\"Yes\",\"No\"))","v":""},{"$f":"IF(B212=\"\",\"\",IF(Calculations!G194=1,\"Yes\",\"No\"))","v":""}]
[null,{"$f":"Calculations!A195","v":""},{"$f":"IF(B213=\"\",0,Calculations!B195)","v":0},{"$f":"IF(B213=\"\",0,Calculations!I195)","v":0},{"$f":"IF(B213=\"\",\"\",IF(Calculations!C195=1,\"Yes\",\"No\"))","v":""},{"$f":"IF(B213=\"\",\"\",IF(Calculations!E195=1,\"Yes\",\"No\"))","v":""},{"$f":"IF(B213=\"\",\"\",IF(Calculations!F195=1,\"Yes\",\"No\"))","v":""},{"$f":"IF(B213=\"\",\"\",IF(Calculations!G195=1,\"Yes\",\"No\"))","v":""}]
[null,{"$f":"Calculations!A196","v":""},{"$f":"IF(B214=\"\",0,Calculations!B196)","v":0},{"$f":"IF(B214=\"\",0,Calculations!I196)","v":0},{"$f":"IF(B214=\"\",\"\",IF(Calculations!C196=1,\"Yes\",\"No\"))","v":""},{"$f":"IF(B214=\"\",\"\",IF(Calculations!E196=1,\"Yes\",\"No\"))","v":""},{"$f":"IF(B214=\"\",\"\",IF(Calculations!F196=1,\"Yes\",\"No\"))","v":""},{"$f":"IF(B214=\"\",\"\",IF(Calculations!G196=1,\"Yes\",\"No\"))","v":""}]
[null,{"$f":"Calculations!A197","v":""},{"$f":"IF(B215=\"\",0,Calculations!B197)","v":0},{"$f":"IF(B215=\"\",0,Calculations!I197)","v":0},{"$f":"IF(B215=\"\",\"\",IF(Calculations!C197=1,\"Yes\",\"No\"))","v":""},{"$f":"IF(B215=\"\",\"\",IF(Calculations!E197=1,\"Yes\",\"No\"))","v":""},{"$f":"IF(B215=\"\",\"\",IF(Calculations!F197=1,\"Yes\",\"No\"))","v":""},{"$f":"IF(B215=\"\",\"\",IF(Calculations!G197=1,\"Yes\",\"No\"))","v":""}]
[null,{"$f":"Calculations!A198","v":""},{"$f":"IF(B216=\"\",0,Calculations!B198)","v":0},{"$f":"IF(B216=\"\",0,Calculations!I198)","v":0},{"$f":"IF(B216=\"\",\"\",IF(Calculations!C198=1,\"Yes\",\"No\"))","v":""},{"$f":"IF(B216=\"\",\"\",IF(Calculations!E198=1,\"Yes\",\"No\"))","v":""},{"$f":"IF(B216=\"\",\"\",IF(Calculations!F198=1,\"Yes\",\"No\"))","v":""},{"$f":"IF(B216=\"\",\"\",IF(Calculations!G198=1,\"Yes\",\"No\"))","v":""}]
[null,{"$f":"Calculations!A199","v":""},{"$f":"IF(B217=\"\",0,Calculations!B199)","v":0},{"$f":"IF(B217=\"\",0,Calculations!I199)","v":0},{"$f":"IF(B217=\"\",\"\",IF(Calculations!C199=1,\"Yes\",\"No\"))","v":""},{"$f":"IF(B217=\"\",\"\",IF(Calculations!E199=1,\"Yes\",\"No\"))","v":""},{"$f":"IF(B217=\"\",\"\",IF(Calculations!F199=1,\"Yes\",\"No\"))","v":""},{"$f":"IF(B217=\"\",\"\",IF(Calculations!G199=1,\"Yes\",\"No\"))","v":""}]
[null,{"$f":"Calculations!A200","v":""},{"$f":"IF(B218=\"\",0,Calculations!B200)","v":0},{"$f":"IF(B218=\"\",0,Calculations!I200)","v":0},{"$f":"IF(B218=\"\",\"\",IF(Calculations!C200=1,\"Yes\",\"No\"))","v":""},{"$f":"IF(B218=\"\",\"\",IF(Calculations!E200=1,\"Yes\",\"No\"))","v":""},{"$f":"IF(B218=\"\",\"\",IF(Calculations!F200=1,\"Yes\",\"No\"))","v":""},{"$f":"IF(B218=\"\",\"\",IF(Calculations!G200=1,\"Yes\",\"No\"))","v":""}]
[null,{"$f":"Calculations!A201","v":""},{"$f":"IF(B219=\"\",0,Calculations!B201)","v":0},{"$f":"IF(B219=\"\",0,Calculations!I201)","v":0},{"$f":"IF(B219=\"\",\"\",IF(Calculations!C201=1,\"Yes\",\"No\"))","v":""},{"$f":"IF(B219=\"\",\"\",IF(Calculations!E201=1,\"Yes\",\"No\"))","v":""},{"$f":"IF(B219=\"\",\"\",IF(Calculations!F201=1,\"Yes\",\"No\"))","v":""},{"$f":"IF(B219=\"\",\"\",IF(Calculations!G201=1,\"Yes\",\"No\"))","v":""}]
[null,{"$f":"Calculations!A202","v":""},{"$f":"IF(B220=\"\",0,Calculations!B202)","v":0},{"$f":"IF(B220=\"\",0,Calculations!I202)","v":0},{"$f":"IF(B220=\"\",\"\",IF(Calculations!C202=1,\"Yes\",\"No\"))","v":""},{"$f":"IF(B220=\"\",\"\",IF(Calculations!E202=1,\"Yes\",\"No\"))","v":""},{"$f":"IF(B220=\"\",\"\",IF(Calculations!F202=1,\"Yes\",\"No\"))","v":""},{"$f":"IF(B220=\"\",\"\",IF(Calculations!G202=1,\"Yes\",\"No\"))","v":""}]
[null,{"$f":"Calculations!A203","v":""},{"$f":"IF(B221=\"\",0,Calculations!B203)","v":0},{"$f":"IF(B221=\"\",0,Calculations!I203)","v":0},{"$f":"IF(B221=\"\",\"\",IF(Calculations!C203=1,\"Yes\",\"No\"))","v":""},{"$f":"IF(B221=\"\",\"\",IF(Calculations!E203=1,\"Yes\",\"No\"))","v":""},{"$f":"IF(B221=\"\",\"\",IF(Calculations!F203=1,\"Yes\",\"No\"))","v":""},{"$f":"IF(B221=\"\",\"\",IF(Calculations!G203=1,\"Yes\",\"No\"))","v":""}]
[null,{"$f":"Calculations!A204","v":""},{"$f":"IF(B222=\"\",0,Calculations!B204)","v":0},{"$f":"IF(B222=\"\",0,Calculations!I204)","v":0},{"$f":"IF(B222=\"\",\"\",IF(Calculations!C204=1,\"Yes\",\"No\"))","v":""},{"$f":"IF(B222=\"\",\"\",IF(Calculations!E204=1,\"Yes\",\"No\"))","v":""},{"$f":"IF(B222=\"\",\"\",IF(Calculations!F204=1,\"Yes\",\"No\"))","v":""},{"$f":"IF(B222=\"\",\"\",IF(Calculations!G204=1,\"Yes\",\"No\"))","v":""}]
[null,{"$f":"Calculations!A205","v":""},{"$f":"IF(B223=\"\",0,Calculations!B205)","v":0},{"$f":"IF(B223=\"\",0,Calculations!I205)","v":0},{"$f":"IF(B223=\"\",\"\",IF(Calculations!C205=1,\"Yes\",\"No\"))","v":""},{"$f":"IF(B223=\"\",\"\",IF(Calculations!E205=1,\"Yes\",\"No\"))","v":""},{"$f":"IF(B223=\"\",\"\",IF(Calculations!F205=1,\"Yes\",\"No\"))","v":""},{"$f":"IF(B223=\"\",\"\",IF(Calculations!G205=1,\"Yes\",\"No\"))","v":""}]
[null,{"$f":"Calculations!A206","v":""},{"$f":"IF(B224=\"\",0,Calculations!B206)","v":0},{"$f":"IF(B224=\"\",0,Calculations!I206)","v":0},{"$f":"IF(B224=\"\",\"\",IF(Calculations!C206=1,\"Yes\",\"No\"))","v":""},{"$f":"IF(B224=\"\",\"\",IF(Calculations!E206=1,\"Yes\",\"No\"))","v":""},{"$f":"IF(B224=\"\",\"\",IF(Calculations!F206=1,\"Yes\",\"No\"))","v":""},{"$f":"IF(B224=\"\",\"\",IF(Calculations!G206=1,\"Yes\",\"No\"))","v":""}]
[null,{"$f":"Calculations!A207","v":""},{"$f":"IF(B225=\"\",0,Calculations!B207)","v":0},{"$f":"IF(B225=\"\",0,Calculations!I207)","v":0},{"$f":"IF(B225=\"\",\"\",IF(Calculations!C207=1,\"Yes\",\"No\"))","v":""},{"$f":"IF(B225=\"\",\"\",IF(Calculations!E207=1,\"Yes\",\"No\"))","v":""},{"$f":"IF(B225=\"\",\"\",IF(Calculations!F207=1,\"Yes\",\"No\"))","v":""},{"$f":"IF(B225=\"\",\"\",IF(Calculations!G207=1,\"Yes\",\"No\"))","v":""}]
[null,{"$f":"Calculations!A208","v":""},{"$f":"IF(B226=\"\",0,Calculations!B208)","v":0},{"$f":"IF(B226=\"\",0,Calculations!I208)","v":0},{"$f":"IF(B226=\"\",\"\",IF(Calculations!C208=1,\"Yes\",\"No\"))","v":""},{"$f":"IF(B226=\"\",\"\",IF(Calculations!E208=1,\"Yes\",\"No\"))","v":""},{"$f":"IF(B226=\"\",\"\",IF(Calculations!F208=1,\"Yes\",\"No\"))","v":""},{"$f":"IF(B226=\"\",\"\",IF(Calculations!G208=1,\"Yes\",\"No\"))","v":""}]
[null,{"$f":"Calculations!A209","v":""},{"$f":"IF(B227=\"\",0,Calculations!B209)","v":0},{"$f":"IF(B227=\"\",0,Calculations!I209)","v":0},{"$f":"IF(B227=\"\",\"\",IF(Calculations!C209=1,\"Yes\",\"No\"))","v":""},{"$f":"IF(B227=\"\",\"\",IF(Calculations!E209=1,\"Yes\",\"No\"))","v":""},{"$f":"IF(B227=\"\",\"\",IF(Calculations!F209=1,\"Yes\",\"No\"))","v":""},{"$f":"IF(B227=\"\",\"\",IF(Calculations!G209=1,\"Yes\",\"No\"))","v":""}]
[null,{"$f":"Calculations!A210","v":""},{"$f":"IF(B228=\"\",0,Calculations!B210)","v":0},{"$f":"IF(B228=\"\",0,Calculations!I210)","v":0},{"$f":"IF(B228=\"\",\"\",IF(Calculations!C210=1,\"Yes\",\"No\"))","v":""},{"$f":"IF(B228=\"\",\"\",IF(Calculations!E210=1,\"Yes\",\"No\"))","v":""},{"$f":"IF(B228=\"\",\"\",IF(Calculations!F210=1,\"Yes\",\"No\"))","v":""},{"$f":"IF(B228=\"\",\"\",IF(Calculations!G210=1,\"Yes\",\"No\"))","v":""}]
[null,{"$f":"Calculations!A211","v":""},{"$f":"IF(B229=\"\",0,Calculations!B211)","v":0},{"$f":"IF(B229=\"\",0,Calculations!I211)","v":0},{"$f":"IF(B229=\"\",\"\",IF(Calculations!C211=1,\"Yes\",\"No\"))","v":""},{"$f":"IF(B229=\"\",\"\",IF(Calculations!E211=1,\"Yes\",\"No\"))","v":""},{"$f":"IF(B229=\"\",\"\",IF(Calculations!F211=1,\"Yes\",\"No\"))","v":""},{"$f":"IF(B229=\"\",\"\",IF(Calculations!G211=1,\"Yes\",\"No\"))","v":""}]
[null,{"$f":"Calculations!A212","v":""},{"$f":"IF(B230=\"\",0,Calculations!B212)","v":0},{"$f":"IF(B230=\"\",0,Calculations!I212)","v":0},{"$f":"IF(B230=\"\",\"\",IF(Calculations!C212=1,\"Yes\",\"No\"))","v":""},{"$f":"IF(B230=\"\",\"\",IF(Calculations!E212=1,\"Yes\",\"No\"))","v":""},{"$f":"IF(B230=\"\",\"\",IF(Calculations!F212=1,\"Yes\",\"No\"))","v":""},{"$f":"IF(B230=\"\",\"\",IF(Calculations!G212=1,\"Yes\",\"No\"))","v":""}]
[null,{"$f":"Calculations!A213","v":""},{"$f":"IF(B231=\"\",0,Calculations!B213)","v":0},{"$f":"IF(B231=\"\",0,Calculations!I213)","v":0},{"$f":"IF(B231=\"\",\"\",IF(Calculations!C213=1,\"Yes\",\"No\"))","v":""},{"$f":"IF(B231=\"\",\"\",IF(Calculations!E213=1,\"Yes\",\"No\"))","v":""},{"$f":"IF(B231=\"\",\"\",IF(Calculations!F213=1,\"Yes\",\"No\"))","v":""},{"$f":"IF(B231=\"\",\"\",IF(Calculations!G213=1,\"Yes\",\"No\"))","v":""}]
[null,{"$f":"Calculations!A214","v":""},{"$f":"IF(B232=\"\",0,Calculations!B214)","v":0},{"$f":"IF(B232=\"\",0,Calculations!I214)","v":0},{"$f":"IF(B232=\"\",\"\",IF(Calculations!C214=1,\"Yes\",\"No\"))","v":""},{"$f":"IF(B232=\"\",\"\",IF(Calculations!E214=1,\"Yes\",\"No\"))","v":""},{"$f":"IF(B232=\"\",\"\",IF(Calculations!F214=1,\"Yes\",\"No\"))","v":""},{"$f":"IF(B232=\"\",\"\",IF(Calculations!G214=1,\"Yes\",\"No\"))","v":""}]
[null,{"$f":"Calculations!A215","v":""},{"$f":"IF(B233=\"\",0,Calculations!B215)","v":0},{"$f":"IF(B233=\"\",0,Calculations!I215)","v":0},{"$f":"IF(B233=\"\",\"\",IF(Calculations!C215=1,\"Yes\",\"No\"))","v":""},{"$f":"IF(B233=\"\",\"\",IF(Calculations!E215=1,\"Yes\",\"No\"))","v":""},{"$f":"IF(B233=\"\",\"\",IF(Calculations!F215=1,\"Yes\",\"No\"))","v":""},{"$f":"IF(B233=\"\",\"\",IF(Calculations!G215=1,\"Yes\",\"No\"))","v":""}]
[null,{"$f":"Calculations!A216","v":""},{"$f":"IF(B234=\"\",0,Calculations!B216)","v":0},{"$f":"IF(B234=\"\",0,Calculations!I216)","v":0},{"$f":"IF(B234=\"\",\"\",IF(Calculations!C216=1,\"Yes\",\"No\"))","v":""},{"$f":"IF(B234=\"\",\"\",IF(Calculations!E216=1,\"Yes\",\"No\"))","v":""},{"$f":"IF(B234=\"\",\"\",IF(Calculations!F216=1,\"Yes\",\"No\"))","v":""},{"$f":"IF(B234=\"\",\"\",IF(Calculations!G216=1,\"Yes\",\"No\"))","v":""}]
[null,{"$f":"Calculations!A217","v":""},{"$f":"IF(B235=\"\",0,Calculations!B217)","v":0},{"$f":"IF(B235=\"\",0,Calculations!I217)","v":0},{"$f":"IF(B235=\"\",\"\",IF(Calculations!C217=1,\"Yes\",\"No\"))","v":""},{"$f":"IF(B235=\"\",\"\",IF(Calculations!E217=1,\"Yes\",\"No\"))","v":""},{"$f":"IF(B235=\"\",\"\",IF(Calculations!F217=1,\"Yes\",\"No\"))","v":""},{"$f":"IF(B235=\"\",\"\",IF(Calculations!G217=1,\"Yes\",\"No\"))","v":""}]
[null,{"$f":"Calculations!A218","v":""},{"$f":"IF(B236=\"\",0,Calculations!B218)","v":0},{"$f":"IF(B236=\"\",0,Calculations!I218)","v":0},{"$f":"IF(B236=\"\",\"\",IF(Calculations!C218=1,\"Yes\",\"No\"))","v":""},{"$f":"IF(B236=\"\",\"\",IF(Calculations!E218=1,\"Yes\",\"No\"))","v":""},{"$f":"IF(B236=\"\",\"\",IF(Calculations!F218=1,\"Yes\",\"No\"))","v":""},{"$f":"IF(B236=\"\",\"\",IF(Calculations!G218=1,\"Yes\",\"No\"))","v":""}]
[null,{"$f":"Calculations!A219","v":""},{"$f":"IF(B237=\"\",0,Calculations!B219)","v":0},{"$f":"IF(B237=\"\",0,Calculations!I219)","v":0},{"$f":"IF(B237=\"\",\"\",IF(Calculations!C219=1,\"Yes\",\"No\"))","v":""},{"$f":"IF(B237=\"\",\"\",IF(Calculations!E219=1,\"Yes\",\"No\"))","v":""},{"$f":"IF(B237=\"\",\"\",IF(Calculations!F219=1,\"Yes\",\"No\"))","v":""},{"$f":"IF(B237=\"\",\"\",IF(Calculations!G219=1,\"Yes\",\"No\"))","v":""}]
[null,{"$f":"Calculations!A220","v":""},{"$f":"IF(B238=\"\",0,Calculations!B220)","v":0},{"$f":"IF(B238=\"\",0,Calculations!I220)","v":0},{"$f":"IF(B238=\"\",\"\",IF(Calculations!C220=1,\"Yes\",\"No\"))","v":""},{"$f":"IF(B238=\"\",\"\",IF(Calculations!E220=1,\"Yes\",\"No\"))","v":""},{"$f":"IF(B238=\"\",\"\",IF(Calculations!F220=1,\"Yes\",\"No\"))","v":""},{"$f":"IF(B238=\"\",\"\",IF(Calculations!G220=1,\"Yes\",\"No\"))","v":""}]
[null,{"$f":"Calculations!A221","v":""},{"$f":"IF(B239=\"\",0,Calculations!B221)","v":0},{"$f":"IF(B239=\"\",0,Calculations!I221)","v":0},{"$f":"IF(B239=\"\",\"\",IF(Calculations!C221=1,\"Yes\",\"No\"))","v":""},{"$f":"IF(B239=\"\",\"\",IF(Calculations!E221=1,\"Yes\",\"No\"))","v":""},{"$f":"IF(B239=\"\",\"\",IF(Calculations!F221=1,\"Yes\",\"No\"))","v":""},{"$f":"IF(B239=\"\",\"\",IF(Calculations!G221=1,\"Yes\",\"No\"))","v":""}]
[null,{"$f":"Calculations!A222","v":""},{"$f":"IF(B240=\"\",0,Calculations!B222)","v":0},{"$f":"IF(B240=\"\",0,Calculations!I222)","v":0},{"$f":"IF(B240=\"\",\"\",IF(Calculations!C222=1,\"Yes\",\"No\"))","v":""},{"$f":"IF(B240=\"\",\"\",IF(Calculations!E222=1,\"Yes\",\"No\"))","v":""},{"$f":"IF(B240=\"\",\"\",IF(Calculations!F222=1,\"Yes\",\"No\"))","v":""},{"$f":"IF(B240=\"\",\"\",IF(Calculations!G222=1,\"Yes\",\"No\"))","v":""}]
[null,{"$f":"Calculations!A223","v":""},{"$f":"IF(B241=\"\",0,Calculations!B223)","v":0},{"$f":"IF(B241=\"\",0,Calculations!I223)","v":0},{"$f":"IF(B241=\"\",\"\",IF(Calculations!C223=1,\"Yes\",\"No\"))","v":""},{"$f":"IF(B241=\"\",\"\",IF(Calculations!E223=1,\"Yes\",\"No\"))","v":""},{"$f":"IF(B241=\"\",\"\",IF(Calculations!F223=1,\"Yes\",\"No\"))","v":""},{"$f":"IF(B241=\"\",\"\",IF(Calculations!G223=1,\"Yes\",\"No\"))","v":""}]
[null,{"$f":"Calculations!A224","v":""},{"$f":"IF(B242=\"\",0,Calculations!B224)","v":0},{"$f":"IF(B242=\"\",0,Calculations!I224)","v":0},{"$f":"IF(B242=\"\",\"\",IF(Calculations!C224=1,\"Yes\",\"No\"))","v":""},{"$f":"IF(B242=\"\",\"\",IF(Calculations!E224=1,\"Yes\",\"No\"))","v":""},{"$f":"IF(B242=\"\",\"\",IF(Calculations!F224=1,\"Yes\",\"No\"))","v":""},{"$f":"IF(B242=\"\",\"\",IF(Calculations!G224=1,\"Yes\",\"No\"))","v":""}]
[null,{"$f":"Calculations!A225","v":""},{"$f":"IF(B243=\"\",0,Calculations!B225)","v":0},{"$f":"IF(B243=\"\",0,Calculations!I225)","v":0},{"$f":"IF(B243=\"\",\"\",IF(Calculations!C225=1,\"Yes\",\"No\"))","v":""},{"$f":"IF(B243=\"\",\"\",IF(Calculations!E225=1,\"Yes\",\"No\"))","v":""},{"$f":"IF(B243=\"\",\"\",IF(Calculations!F225=1,\"Yes\",\"No\"))","v":""},{"$f":"IF(B243=\"\",\"\",IF(Calculations!G225=1,\"Yes\",\"No\"))","v":""}]
[null,{"$f":"Calculations!A226","v":""},{"$f":"IF(B244=\"\",0,Calculations!B226)","v":0},{"$f":"IF(B244=\"\",0,Calculations!I226)","v":0},{"$f":"IF(B244=\"\",\"\",IF(Calculations!C226=1,\"Yes\",\"No\"))","v":""},{"$f":"IF(B244=\"\",\"\",IF(Calculations!E226=1,\"Yes\",\"No\"))","v":""},{"$f":"IF(B244=\"\",\"\",IF(Calculations!F226=1,\"Yes\",\"No\"))","v":""},{"$f":"IF(B244=\"\",\"\",IF(Calculations!G226=1,\"Yes\",\"No\"))","v":""}]
[null,{"$f":"Calculations!A227","v":""},{"$f":"IF(B245=\"\",0,Calculations!B227)","v":0},{"$f":"IF(B245=\"\",0,Calculations!I227)","v":0},{"$f":"IF(B245=\"\",\"\",IF(Calculations!C227=1,\"Yes\",\"No\"))","v":""},{"$f":"IF(B245=\"\",\"\",IF(Calculations!E227=1,\"Yes\",\"No\"))","v":""},{"$f":"IF(B245=\"\",\"\",IF(Calculations!F227=1,\"Yes\",\"No\"))","v":""},{"$f":"IF(B245=\"\",\"\",IF(Calculations!G227=1,\"Yes\",\"No\"))","v":""}]
[null,{"$f":"Calculations!A228","v":""},{"$f":"IF(B246=\"\",0,Calculations!B228)","v":0},{"$f":"IF(B246=\"\",0,Calculations!I228)","v":0},{"$f":"IF(B246=\"\",\"\",IF(Calculations!C228=1,\"Yes\",\"No\"))","v":""},{"$f":"IF(B246=\"\",\"\",IF(Calculations!E228=1,\"Yes\",\"No\"))","v":""},{"$f":"IF(B246=\"\",\"\",IF(Calculations!F228=1,\"Yes\",\"No\"))","v":""},{"$f":"IF(B246=\"\",\"\",IF(Calculations!G228=1,\"Yes\",\"No\"))","v":""}]
[null,{"$f":"Calculations!A229","v":""},{"$f":"IF(B247=\"\",0,Calculations!B229)","v":0},{"$f":"IF(B247=\"\",0,Calculations!I229)","v":0},{"$f":"IF(B247=\"\",\"\",IF(Calculations!C229=1,\"Yes\",\"No\"))","v":""},{"$f":"IF(B247=\"\",\"\",IF(Calculations!E229=1,\"Yes\",\"No\"))","v":""},{"$f":"IF(B247=\"\",\"\",IF(Calculations!F229=1,\"Yes\",\"No\"))","v":""},{"$f":"IF(B247=\"\",\"\",IF(Calculations!G229=1,\"Yes\",\"No\"))","v":""}]
[null,{"$f":"Calculations!A230","v":""},{"$f":"IF(B248=\"\",0,Calculations!B230)","v":0},{"$f":"IF(B248=\"\",0,Calculations!I230)","v":0},{"$f":"IF(B248=\"\",\"\",IF(Calculations!C230=1,\"Yes\",\"No\"))","v":""},{"$f":"IF(B248=\"\",\"\",IF(Calculations!E230=1,\"Yes\",\"No\"))","v":""},{"$f":"IF(B248=\"\",\"\",IF(Calculations!F230=1,\"Yes\",\"No\"))","v":""},{"$f":"IF(B248=\"\",\"\",IF(Calculations!G230=1,\"Yes\",\"No\"))","v":""}]
[null,{"$f":"Calculations!A231","v":""},{"$f":"IF(B249=\"\",0,Calculations!B231)","v":0},{"$f":"IF(B249=\"\",0,Calculations!I231)","v":0},{"$f":"IF(B249=\"\",\"\",IF(Calculations!C231=1,\"Yes\",\"No\"))","v":""},{"$f":"IF(B249=\"\",\"\",IF(Calculations!E231=1,\"Yes\",\"No\"))","v":""},{"$f":"IF(B249=\"\",\"\",IF(Calculations!F231=1,\"Yes\",\"No\"))","v":""},{"$f":"IF(B249=\"\",\"\",IF(Calculations!G231=1,\"Yes\",\"No\"))","v":""}]
[null,{"$f":"Calculations!A232","v":""},{"$f":"IF(B250=\"\",0,Calculations!B232)","v":0},{"$f":"IF(B250=\"\",0,Calculations!I232)","v":0},{"$f":"IF(B250=\"\",\"\",IF(Calculations!C232=1,\"Yes\",\"No\"))","v":""},{"$f":"IF(B250=\"\",\"\",IF(Calculations!E232=1,\"Yes\",\"No\"))","v":""},{"$f":"IF(B250=\"\",\"\",IF(Calculations!F232=1,\"Yes\",\"No\"))","v":""},{"$f":"IF(B250=\"\",\"\",IF(Calculations!G232=1,\"Yes\",\"No\"))","v":""}]
[null,{"$f":"Calculations!A233","v":""},{"$f":"IF(B251=\"\",0,Calculations!B233)","v":0},{"$f":"IF(B251=\"\",0,Calculations!I233)","v":0},{"$f":"IF(B251=\"\",\"\",IF(Calculations!C233=1,\"Yes\",\"No\"))","v":""},{"$f":"IF(B251=\"\",\"\",IF(Calculations!E233=1,\"Yes\",\"No\"))","v":""},{"$f":"IF(B251=\"\",\"\",IF(Calculations!F233=1,\"Yes\",\"No\"))","v":""},{"$f":"IF(B251=\"\",\"\",IF(Calculations!G233=1,\"Yes\",\"No\"))","v":""}]
[null,{"$f":"Calculations!A234","v":""},{"$f":"IF(B252=\"\",0,Calculations!B234)","v":0},{"$f":"IF(B252=\"\",0,Calculations!I234)","v":0},{"$f":"IF(B252=\"\",\"\",IF(Calculations!C234=1,\"Yes\",\"No\"))","v":""},{"$f":"IF(B252=\"\",\"\",IF(Calculations!E234=1,\"Yes\",\"No\"))","v":""},{"$f":"IF(B252=\"\",\"\",IF(Calculations!F234=1,\"Yes\",\"No\"))","v":""},{"$f":"IF(B252=\"\",\"\",IF(Calculations!G234=1,\"Yes\",\"No\"))","v":""}]
[null,{"$f":"Calculations!A235","v":""},{"$f":"IF(B253=\"\",0,Calculations!B235)","v":0},{"$f":"IF(B253=\"\",0,Calculations!I235)","v":0},{"$f":"IF(B253=\"\",\"\",IF(Calculations!C235=1,\"Yes\",\"No\"))","v":""},{"$f":"IF(B253=\"\",\"\",IF(Calculations!E235=1,\"Yes\",\"No\"))","v":""},{"$f":"IF(B253=\"\",\"\",IF(Calculations!F235=1,\"Yes\",\"No\"))","v":""},{"$f":"IF(B253=\"\",\"\",IF(Calculations!G235=1,\"Yes\",\"No\"))","v":""}]
[null,{"$f":"Calculations!A236","v":""},{"$f":"IF(B254=\"\",0,Calculations!B236)","v":0},{"$f":"IF(B254=\"\",0,Calculations!I236)","v":0},{"$f":"IF(B254=\"\",\"\",IF(Calculations!C236=1,\"Yes\",\"No\"))","v":""},{"$f":"IF(B254=\"\",\"\",IF(Calculations!E236=1,\"Yes\",\"No\"))","v":""},{"$f":"IF(B254=\"\",\"\",IF(Calculations!F236=1,\"Yes\",\"No\"))","v":""},{"$f":"IF(B254=\"\",\"\",IF(Calculations!G236=1,\"Yes\",\"No\"))","v":""}]
[null,{"$f":"Calculations!A237","v":""},{"$f":"IF(B255=\"\",0,Calculations!B237)","v":0},{"$f":"IF(B255=\"\",0,Calculations!I237)","v":0},{"$f":"IF(B255=\"\",\"\",IF(Calculations!C237=1,\"Yes\",\"No\"))","v":""},{"$f":"IF(B255=\"\",\"\",IF(Calculations!E237=1,\"Yes\",\"No\"))","v":""},{"$f":"IF(B255=\"\",\"\",IF(Calculations!F237=1,\"Yes\",\"No\"))","v":""},{"$f":"IF(B255=\"\",\"\",IF(Calculations!G237=1,\"Yes\",\"No\"))","v":""}]
[null,{"$f":"Calculations!A238","v":""},{"$f":"IF(B256=\"\",0,Calculations!B238)","v":0},{"$f":"IF(B256=\"\",0,Calculations!I238)","v":0},{"$f":"IF(B256=\"\",\"\",IF(Calculations!C238=1,\"Yes\",\"No\"))","v":""},{"$f":"IF(B256=\"\",\"\",IF(Calculations!E238=1,\"Yes\",\"No\"))","v":""},{"$f":"IF(B256=\"\",\"\",IF(Calculations!F238=1,\"Yes\",\"No\"))","v":""},{"$f":"IF(B256=\"\",\"\",IF(Calculations!G238=1,\"Yes\",\"No\"))","v":""}]
[null,{"$f":"Calculations!A239","v":""},{"$f":"IF(B257=\"\",0,Calculations!B239)","v":0},{"$f":"IF(B257=\"\",0,Calculations!I239)","v":0},{"$f":"IF(B257=\"\",\"\",IF(Calculations!C239=1,\"Yes\",\"No\"))","v":""},{"$f":"IF(B257=\"\",\"\",IF(Calculations!E239=1,\"Yes\",\"No\"))","v":""},{"$f":"IF(B257=\"\",\"\",IF(Calculations!F239=1,\"Yes\",\"No\"))","v":""},{"$f":"IF(B257=\"\",\"\",IF(Calculations!G239=1,\"Yes\",\"No\"))","v":""}]
[null,{"$f":"Calculations!A240","v":""},{"$f":"IF(B258=\"\",0,Calculations!B240)","v":0},{"$f":"IF(B258=\"\",0,Calculations!I240)","v":0},{"$f":"IF(B258=\"\",\"\",IF(Calculations!C240=1,\"Yes\",\"No\"))","v":""},{"$f":"IF(B258=\"\",\"\",IF(Calculations!E240=1,\"Yes\",\"No\"))","v":""},{"$f":"IF(B258=\"\",\"\",IF(Calculations!F240=1,\"Yes\",\"No\"))","v":""},{"$f":"IF(B258=\"\",\"\",IF(Calculations!G240=1,\"Yes\",\"No\"))","v":""}]
[null,{"$f":"Calculations!A241","v":""},{"$f":"IF(B259=\"\",0,Calculations!B241)","v":0},{"$f":"IF(B259=\"\",0,Calculations!I241)","v":0},{"$f":"IF(B259=\"\",\"\",IF(Calculations!C241=1,\"Yes\",\"No\"))","v":""},{"$f":"IF(B259=\"\",\"\",IF(Calculations!E241=1,\"Yes\",\"No\"))","v":""},{"$f":"IF(B259=\"\",\"\",IF(Calculations!F241=1,\"Yes\",\"No\"))","v":""},{"$f":"IF(B259=\"\",\"\",IF(Calculations!G241=1,\"Yes\",\"No\"))","v":""}]
[null,{"$f":"Calculations!A242","v":""},{"$f":"IF(B260=\"\",0,Calculations!B242)","v":0},{"$f":"IF(B260=\"\",0,Calculations!I242)","v":0},{"$f":"IF(B260=\"\",\"\",IF(Calculations!C242=1,\"Yes\",\"No\"))","v":""},{"$f":"IF(B260=\"\",\"\",IF(Calculations!E242=1,\"Yes\",\"No\"))","v":""},{"$f":"IF(B260=\"\",\"\",IF(Calculations!F242=1,\"Yes\",\"No\"))","v":""},{"$f":"IF(B260=\"\",\"\",IF(Calculations!G242=1,\"Yes\",\"No\"))","v":""}]
[null,{"$f":"Calculations!A243","v":""},{"$f":"IF(B261=\"\",0,Calculations!B243)","v":0},{"$f":"IF(B261=\"\",0,Calculations!I243)","v":0},{"$f":"IF(B261=\"\",\"\",IF(Calculations!C243=1,\"Yes\",\"No\"))","v":""},{"$f":"IF(B261=\"\",\"\",IF(Calculations!E243=1,\"Yes\",\"No\"))","v":""},{"$f":"IF(B261=\"\",\"\",IF(Calculations!F243=1,\"Yes\",\"No\"))","v":""},{"$f":"IF(B261=\"\",\"\",IF(Calculations!G243=1,\"Yes\",\"No\"))","v":""}]
[null,{"$f":"Calculations!A244","v":""},{"$f":"IF(B262=\"\",0,Calculations!B244)","v":0},{"$f":"IF(B262=\"\",0,Calculations!I244)","v":0},{"$f":"IF(B262=\"\",\"\",IF(Calculations!C244=1,\"Yes\",\"No\"))","v":""},{"$f":"IF(B262=\"\",\"\",IF(Calculations!E244=1,\"Yes\",\"No\"))","v":""},{"$f":"IF(B262=\"\",\"\",IF(Calculations!F244=1,\"Yes\",\"No\"))","v":""},{"$f":"IF(B262=\"\",\"\",IF(Calculations!G244=1,\"Yes\",\"No\"))","v":""}]
[null,{"$f":"Calculations!A245","v":""},{"$f":"IF(B263=\"\",0,Calculations!B245)","v":0},{"$f":"IF(B263=\"\",0,Calculations!I245)","v":0},{"$f":"IF(B263=\"\",\"\",IF(Calculations!C245=1,\"Yes\",\"No\"))","v":""},{"$f":"IF(B263=\"\",\"\",IF(Calculations!E245=1,\"Yes\",\"No\"))","v":""},{"$f":"IF(B263=\"\",\"\",IF(Calculations!F245=1,\"Yes\",\"No\"))","v":""},{"$f":"IF(B263=\"\",\"\",IF(Calculations!G245=1,\"Yes\",\"No\"))","v":""}]
[null,{"$f":"Calculations!A246","v":""},{"$f":"IF(B264=\"\",0,Calculations!B246)","v":0},{"$f":"IF(B264=\"\",0,Calculations!I246)","v":0},{"$f":"IF(B264=\"\",\"\",IF(Calculations!C246=1,\"Yes\",\"No\"))","v":""},{"$f":"IF(B264=\"\",\"\",IF(Calculations!E246=1,\"Yes\",\"No\"))","v":""},{"$f":"IF(B264=\"\",\"\",IF(Calculations!F246=1,\"Yes\",\"No\"))","v":""},{"$f":"IF(B264=\"\",\"\",IF(Calculations!G246=1,\"Yes\",\"No\"))","v":""}]
[null,{"$f":"Calculations!A247","v":""},{"$f":"IF(B265=\"\",0,Calculations!B247)","v":0},{"$f":"IF(B265=\"\",0,Calculations!I247)","v":0},{"$f":"IF(B265=\"\",\"\",IF(Calculations!C247=1,\"Yes\",\"No\"))","v":""},{"$f":"IF(B265=\"\",\"\",IF(Calculations!E247=1,\"Yes\",\"No\"))","v":""},{"$f":"IF(B265=\"\",\"\",IF(Calculations!F247=1,\"Yes\",\"No\"))","v":""},{"$f":"IF(B265=\"\",\"\",IF(Calculations!G247=1,\"Yes\",\"No\"))","v":""}]
[null,{"$f":"Calculations!A248","v":""},{"$f":"IF(B266=\"\",0,Calculations!B248)","v":0},{"$f":"IF(B266=\"\",0,Calculations!I248)","v":0},{"$f":"IF(B266=\"\",\"\",IF(Calculations!C248=1,\"Yes\",\"No\"))","v":""},{"$f":"IF(B266=\"\",\"\",IF(Calculations!E248=1,\"Yes\",\"No\"))","v":""},{"$f":"IF(B266=\"\",\"\",IF(Calculations!F248=1,\"Yes\",\"No\"))","v":""},{"$f":"IF(B266=\"\",\"\",IF(Calculations!G248=1,\"Yes\",\"No\"))","v":""}]
[null,{"$f":"Calculations!A249","v":""},{"$f":"IF(B267=\"\",0,Calculations!B249)","v":0},{"$f":"IF(B267=\"\",0,Calculations!I249)","v":0},{"$f":"IF(B267=\"\",\"\",IF(Calculations!C249=1,\"Yes\",\"No\"))","v":""},{"$f":"IF(B267=\"\",\"\",IF(Calculations!E249=1,\"Yes\",\"No\"))","v":""},{"$f":"IF(B267=\"\",\"\",IF(Calculations!F249=1,\"Yes\",\"No\"))","v":""},{"$f":"IF(B267=\"\",\"\",IF(Calculations!G249=1,\"Yes\",\"No\"))","v":""}]
[null,{"$f":"Calculations!A250","v":""},{"$f":"IF(B268=\"\",0,Calculations!B250)","v":0},{"$f":"IF(B268=\"\",0,Calculations!I250)","v":0},{"$f":"IF(B268=\"\",\"\",IF(Calculations!C250=1,\"Yes\",\"No\"))","v":""},{"$f":"IF(B268=\"\",\"\",IF(Calculations!E250=1,\"Yes\",\"No\"))","v":""},{"$f":"IF(B268=\"\",\"\",IF(Calculations!F250=1,\"Yes\",\"No\"))","v":""},{"$f":"IF(B268=\"\",\"\",IF(Calculations!G250=1,\"Yes\",\"No\"))","v":""}]
[null,{"$f":"Calculations!A251","v":""},{"$f":"IF(B269=\"\",0,Calculations!B251)","v":0},{"$f":"IF(B269=\"\",0,Calculations!I251)","v":0},{"$f":"IF(B269=\"\",\"\",IF(Calculations!C251=1,\"Yes\",\"No\"))","v":""},{"$f":"IF(B269=\"\",\"\",IF(Calculations!E251=1,\"Yes\",\"No\"))","v":""},{"$f":"IF(B269=\"\",\"\",IF(Calculations!F251=1,\"Yes\",\"No\"))","v":""},{"$f":"IF(B269=\"\",\"\",IF(Calculations!G251=1,\"Yes\",\"No\"))","v":""}]
[null,{"$f":"Calculations!A252","v":""},{"$f":"IF(B270=\"\",0,Calculations!B252)","v":0},{"$f":"IF(B270=\"\",0,Calculations!I252)","v":0},{"$f":"IF(B270=\"\",\"\",IF(Calculations!C252=1,\"Yes\",\"No\"))","v":""},{"$f":"IF(B270=\"\",\"\",IF(Calculations!E252=1,\"Yes\",\"No\"))","v":""},{"$f":"IF(B270=\"\",\"\",IF(Calculations!F252=1,\"Yes\",\"No\"))","v":""},{"$f":"IF(B270=\"\",\"\",IF(Calculations!G252=1,\"Yes\",\"No\"))","v":""}]
[null,{"$f":"Calculations!A253","v":""},{"$f":"IF(B271=\"\",0,Calculations!B253)","v":0},{"$f":"IF(B271=\"\",0,Calculations!I253)","v":0},{"$f":"IF(B271=\"\",\"\",IF(Calculations!C253=1,\"Yes\",\"No\"))","v":""},{"$f":"IF(B271=\"\",\"\",IF(Calculations!E253=1,\"Yes\",\"No\"))","v":""},{"$f":"IF(B271=\"\",\"\",IF(Calculations!F253=1,\"Yes\",\"No\"))","v":""},{"$f":"IF(B271=\"\",\"\",IF(Calculations!G253=1,\"Yes\",\"No\"))","v":""}]
[null,{"$f":"Calculations!A254","v":""},{"$f":"IF(B272=\"\",0,Calculations!B254)","v":0},{"$f":"IF(B272=\"\",0,Calculations!I254)","v":0},{"$f":"IF(B272=\"\",\"\",IF(Calculations!C254=1,\"Yes\",\"No\"))","v":""},{"$f":"IF(B272=\"\",\"\",IF(Calculations!E254=1,\"Yes\",\"No\"))","v":""},{"$f":"IF(B272=\"\",\"\",IF(Calculations!F254=1,\"Yes\",\"No\"))","v":""},{"$f":"IF(B272=\"\",\"\",IF(Calculations!G254=1,\"Yes\",\"No\"))","v":""}]
[null,{"$f":"Calculations!A255","v":""},{"$f":"IF(B273=\"\",0,Calculations!B255)","v":0},{"$f":"IF(B273=\"\",0,Calculations!I255)","v":0},{"$f":"IF(B273=\"\",\"\",IF(Calculations!C255=1,\"Yes\",\"No\"))","v":""},{"$f":"IF(B273=\"\",\"\",IF(Calculations!E255=1,\"Yes\",\"No\"))","v":""},{"$f":"IF(B273=\"\",\"\",IF(Calculations!F255=1,\"Yes\",\"No\"))","v":""},{"$f":"IF(B273=\"\",\"\",IF(Calculations!G255=1,\"Yes\",\"No\"))","v":""}]
[null,{"$f":"Calculations!A256","v":""},{"$f":"IF(B274=\"\",0,Calculations!B256)","v":0},{"$f":"IF(B274=\"\",0,Calculations!I256)","v":0},{"$f":"IF(B274=\"\",\"\",IF(Calculations!C256=1,\"Yes\",\"No\"))","v":""},{"$f":"IF(B274=\"\",\"\",IF(Calculations!E256=1,\"Yes\",\"No\"))","v":""},{"$f":"IF(B274=\"\",\"\",IF(Calculations!F256=1,\"Yes\",\"No\"))","v":""},{"$f":"IF(B274=\"\",\"\",IF(Calculations!G256=1,\"Yes\",\"No\"))","v":""}]
[null,{"$f":"Calculations!A257","v":""},{"$f":"IF(B275=\"\",0,Calculations!B257)","v":0},{"$f":"IF(B275=\"\",0,Calculations!I257)","v":0},{"$f":"IF(B275=\"\",\"\",IF(Calculations!C257=1,\"Yes\",\"No\"))","v":""},{"$f":"IF(B275=\"\",\"\",IF(Calculations!E257=1,\"Yes\",\"No\"))","v":""},{"$f":"IF(B275=\"\",\"\",IF(Calculations!F257=1,\"Yes\",\"No\"))","v":""},{"$f":"IF(B275=\"\",\"\",IF(Calculations!G257=1,\"Yes\",\"No\"))","v":""}]
[null,{"$f":"Calculations!A258","v":""},{"$f":"IF(B276=\"\",0,Calculations!B258)","v":0},{"$f":"IF(B276=\"\",0,Calculations!I258)","v":0},{"$f":"IF(B276=\"\",\"\",IF(Calculations!C258=1,\"Yes\",\"No\"))","v":""},{"$f":"IF(B276=\"\",\"\",IF(Calculations!E258=1,\"Yes\",\"No\"))","v":""},{"$f":"IF(B276=\"\",\"\",IF(Calculations!F258=1,\"Yes\",\"No\"))","v":""},{"$f":"IF(B276=\"\",\"\",IF(Calculations!G258=1,\"Yes\",\"No\"))","v":""}]
[null,{"$f":"Calculations!A259","v":""},{"$f":"IF(B277=\"\",0,Calculations!B259)","v":0},{"$f":"IF(B277=\"\",0,Calculations!I259)","v":0},{"$f":"IF(B277=\"\",\"\",IF(Calculations!C259=1,\"Yes\",\"No\"))","v":""},{"$f":"IF(B277=\"\",\"\",IF(Calculations!E259=1,\"Yes\",\"No\"))","v":""},{"$f":"IF(B277=\"\",\"\",IF(Calculations!F259=1,\"Yes\",\"No\"))","v":""},{"$f":"IF(B277=\"\",\"\",IF(Calculations!G259=1,\"Yes\",\"No\"))","v":""}]
[null,{"$f":"Calculations!A260","v":""},{"$f":"IF(B278=\"\",0,Calculations!B260)","v":0},{"$f":"IF(B278=\"\",0,Calculations!I260)","v":0},{"$f":"IF(B278=\"\",\"\",IF(Calculations!C260=1,\"Yes\",\"No\"))","v":""},{"$f":"IF(B278=\"\",\"\",IF(Calculations!E260=1,\"Yes\",\"No\"))","v":""},{"$f":"IF(B278=\"\",\"\",IF(Calculations!F260=1,\"Yes\",\"No\"))","v":""},{"$f":"IF(B278=\"\",\"\",IF(Calculations!G260=1,\"Yes\",\"No\"))","v":""}]
[null,{"$f":"Calculations!A261","v":""},{"$f":"IF(B279=\"\",0,Calculations!B261)","v":0},{"$f":"IF(B279=\"\",0,Calculations!I261)","v":0},{"$f":"IF(B279=\"\",\"\",IF(Calculations!C261=1,\"Yes\",\"No\"))","v":""},{"$f":"IF(B279=\"\",\"\",IF(Calculations!E261=1,\"Yes\",\"No\"))","v":""},{"$f":"IF(B279=\"\",\"\",IF(Calculations!F261=1,\"Yes\",\"No\"))","v":""},{"$f":"IF(B279=\"\",\"\",IF(Calculations!G261=1,\"Yes\",\"No\"))","v":""}]
[null,{"$f":"Calculations!A262","v":""},{"$f":"IF(B280=\"\",0,Calculations!B262)","v":0},{"$f":"IF(B280=\"\",0,Calculations!I262)","v":0},{"$f":"IF(B280=\"\",\"\",IF(Calculations!C262=1,\"Yes\",\"No\"))","v":""},{"$f":"IF(B280=\"\",\"\",IF(Calculations!E262=1,\"Yes\",\"No\"))","v":""},{"$f":"IF(B280=\"\",\"\",IF(Calculations!F262=1,\"Yes\",\"No\"))","v":""},{"$f":"IF(B280=\"\",\"\",IF(Calculations!G262=1,\"Yes\",\"No\"))","v":""}]
[null,{"$f":"Calculations!A263","v":""},{"$f":"IF(B281=\"\",0,Calculations!B263)","v":0},{"$f":"IF(B281=\"\",0,Calculations!I263)","v":0},{"$f":"IF(B281=\"\",\"\",IF(Calculations!C263=1,\"Yes\",\"No\"))","v":""},{"$f":"IF(B281=\"\",\"\",IF(Calculations!E263=1,\"Yes\",\"No\"))","v":""},{"$f":"IF(B281=\"\",\"\",IF(Calculations!F263=1,\"Yes\",\"No\"))","v":""},{"$f":"IF(B281=\"\",\"\",IF(Calculations!G263=1,\"Yes\",\"No\"))","v":""}]
[null,{"$f":"Calculations!A264","v":""},{"$f":"IF(B282=\"\",0,Calculations!B264)","v":0},{"$f":"IF(B282=\"\",0,Calculations!I264)","v":0},{"$f":"IF(B282=\"\",\"\",IF(Calculations!C264=1,\"Yes\",\"No\"))","v":""},{"$f":"IF(B282=\"\",\"\",IF(Calculations!E264=1,\"Yes\",\"No\"))","v":""},{"$f":"IF(B282=\"\",\"\",IF(Calculations!F264=1,\"Yes\",\"No\"))","v":""},{"$f":"IF(B282=\"\",\"\",IF(Calculations!G264=1,\"Yes\",\"No\"))","v":""}]
[null,{"$f":"Calculations!A265","v":""},{"$f":"IF(B283=\"\",0,Calculations!B265)","v":0},{"$f":"IF(B283=\"\",0,Calculations!I265)","v":0},{"$f":"IF(B283=\"\",\"\",IF(Calculations!C265=1,\"Yes\",\"No\"))","v":""},{"$f":"IF(B283=\"\",\"\",IF(Calculations!E265=1,\"Yes\",\"No\"))","v":""},{"$f":"IF(B283=\"\",\"\",IF(Calculations!F265=1,\"Yes\",\"No\"))","v":""},{"$f":"IF(B283=\"\",\"\",IF(Calculations!G265=1,\"Yes\",\"No\"))","v":""}]
[null,{"$f":"Calculations!A266","v":""},{"$f":"IF(B284=\"\",0,Calculations!B266)","v":0},{"$f":"IF(B284=\"\",0,Calculations!I266)","v":0},{"$f":"IF(B284=\"\",\"\",IF(Calculations!C266=1,\"Yes\",\"No\"))","v":""},{"$f":"IF(B284=\"\",\"\",IF(Calculations!E266=1,\"Yes\",\"No\"))","v":""},{"$f":"IF(B284=\"\",\"\",IF(Calculations!F266=1,\"Yes\",\"No\"))","v":""},{"$f":"IF(B284=\"\",\"\",IF(Calculations!G266=1,\"Yes\",\"No\"))","v":""}]
[null,{"$f":"Calculations!A267","v":""},{"$f":"IF(B285=\"\",0,Calculations!B267)","v":0},{"$f":"IF(B285=\"\",0,Calculations!I267)","v":0},{"$f":"IF(B285=\"\",\"\",IF(Calculations!C267=1,\"Yes\",\"No\"))","v":""},{"$f":"IF(B285=\"\",\"\",IF(Calculations!E267=1,\"Yes\",\"No\"))","v":""},{"$f":"IF(B285=\"\",\"\",IF(Calculations!F267=1,\"Yes\",\"No\"))","v":""},{"$f":"IF(B285=\"\",\"\",IF(Calculations!G267=1,\"Yes\",\"No\"))","v":""}]
[null,{"$f":"Calculations!A268","v":""},{"$f":"IF(B286=\"\",0,Calculations!B268)","v":0},{"$f":"IF(B286=\"\",0,Calculations!I268)","v":0},{"$f":"IF(B286=\"\",\"\",IF(Calculations!C268=1,\"Yes\",\"No\"))","v":""},{"$f":"IF(B286=\"\",\"\",IF(Calculations!E268=1,\"Yes\",\"No\"))","v":""},{"$f":"IF(B286=\"\",\"\",IF(Calculations!F268=1,\"Yes\",\"No\"))","v":""},{"$f":"IF(B286=\"\",\"\",IF(Calculations!G268=1,\"Yes\",\"No\"))","v":""}]
[null,{"$f":"Calculations!A269","v":""},{"$f":"IF(B287=\"\",0,Calculations!B269)","v":0},{"$f":"IF(B287=\"\",0,Calculations!I269)","v":0},{"$f":"IF(B287=\"\",\"\",IF(Calculations!C269=1,\"Yes\",\"No\"))","v":""},{"$f":"IF(B287=\"\",\"\",IF(Calculations!E269=1,\"Yes\",\"No\"))","v":""},{"$f":"IF(B287=\"\",\"\",IF(Calculations!F269=1,\"Yes\",\"No\"))","v":""},{"$f":"IF(B287=\"\",\"\",IF(Calculations!G269=1,\"Yes\",\"No\"))","v":""}]
[null,{"$f":"Calculations!A270","v":""},{"$f":"IF(B288=\"\",0,Calculations!B270)","v":0},{"$f":"IF(B288=\"\",0,Calculations!I270)","v":0},{"$f":"IF(B288=\"\",\"\",IF(Calculations!C270=1,\"Yes\",\"No\"))","v":""},{"$f":"IF(B288=\"\",\"\",IF(Calculations!E270=1,\"Yes\",\"No\"))","v":""},{"$f":"IF(B288=\"\",\"\",IF(Calculations!F270=1,\"Yes\",\"No\"))","v":""},{"$f":"IF(B288=\"\",\"\",IF(Calculations!G270=1,\"Yes\",\"No\"))","v":""}]
[null,{"$f":"Calculations!A271","v":""},{"$f":"IF(B289=\"\",0,Calculations!B271)","v":0},{"$f":"IF(B289=\"\",0,Calculations!I271)","v":0},{"$f":"IF(B289=\"\",\"\",IF(Calculations!C271=1,\"Yes\",\"No\"))","v":""},{"$f":"IF(B289=\"\",\"\",IF(Calculations!E271=1,\"Yes\",\"No\"))","v":""},{"$f":"IF(B289=\"\",\"\",IF(Calculations!F271=1,\"Yes\",\"No\"))","v":""},{"$f":"IF(B289=\"\",\"\",IF(Calculations!G271=1,\"Yes\",\"No\"))","v":""}]
[null,{"$f":"Calculations!A272","v":""},{"$f":"IF(B290=\"\",0,Calculations!B272)","v":0},{"$f":"IF(B290=\"\",0,Calculations!I272)","v":0},{"$f":"IF(B290=\"\",\"\",IF(Calculations!C272=1,\"Yes\",\"No\"))","v":""},{"$f":"IF(B290=\"\",\"\",IF(Calculations!E272=1,\"Yes\",\"No\"))","v":""},{"$f":"IF(B290=\"\",\"\",IF(Calculations!F272=1,\"Yes\",\"No\"))","v":""},{"$f":"IF(B290=\"\",\"\",IF(Calculations!G272=1,\"Yes\",\"No\"))","v":""}]
[null,{"$f":"Calculations!A273","v":""},{"$f":"IF(B291=\"\",0,Calculations!B273)","v":0},{"$f":"IF(B291=\"\",0,Calculations!I273)","v":0},{"$f":"IF(B291=\"\",\"\",IF(Calculations!C273=1,\"Yes\",\"No\"))","v":""},{"$f":"IF(B291=\"\",\"\",IF(Calculations!E273=1,\"Yes\",\"No\"))","v":""},{"$f":"IF(B291=\"\",\"\",IF(Calculations!F273=1,\"Yes\",\"No\"))","v":""},{"$f":"IF(B291=\"\",\"\",IF(Calculations!G273=1,\"Yes\",\"No\"))","v":""}]
[null,{"$f":"Calculations!A274","v":""},{"$f":"IF(B292=\"\",0,Calculations!B274)","v":0},{"$f":"IF(B292=\"\",0,Calculations!I274)","v":0},{"$f":"IF(B292=\"\",\"\",IF(Calculations!C274=1,\"Yes\",\"No\"))","v":""},{"$f":"IF(B292=\"\",\"\",IF(Calculations!E274=1,\"Yes\",\"No\"))","v":""},{"$f":"IF(B292=\"\",\"\",IF(Calculations!F274=1,\"Yes\",\"No\"))","v":""},{"$f":"IF(B292=\"\",\"\",IF(Calculations!G274=1,\"Yes\",\"No\"))","v":""}]
[null,{"$f":"Calculations!A275","v":""},{"$f":"IF(B293=\"\",0,Calculations!B275)","v":0},{"$f":"IF(B293=\"\",0,Calculations!I275)","v":0},{"$f":"IF(B293=\"\",\"\",IF(Calculations!C275=1,\"Yes\",\"No\"))","v":""},{"$f":"IF(B293=\"\",\"\",IF(Calculations!E275=1,\"Yes\",\"No\"))","v":""},{"$f":"IF(B293=\"\",\"\",IF(Calculations!F275=1,\"Yes\",\"No\"))","v":""},{"$f":"IF(B293=\"\",\"\",IF(Calculations!G275=1,\"Yes\",\"No\"))","v":""}]
[null,{"$f":"Calculations!A276","v":""},{"$f":"IF(B294=\"\",0,Calculations!B276)","v":0},{"$f":"IF(B294=\"\",0,Calculations!I276)","v":0},{"$f":"IF(B294=\"\",\"\",IF(Calculations!C276=1,\"Yes\",\"No\"))","v":""},{"$f":"IF(B294=\"\",\"\",IF(Calculations!E276=1,\"Yes\",\"No\"))","v":""},{"$f":"IF(B294=\"\",\"\",IF(Calculations!F276=1,\"Yes\",\"No\"))","v":""},{"$f":"IF(B294=\"\",\"\",IF(Calculations!G276=1,\"Yes\",\"No\"))","v":""}]
[null,{"$f":"Calculations!A277","v":""},{"$f":"IF(B295=\"\",0,Calculations!B277)","v":0},{"$f":"IF(B295=\"\",0,Calculations!I277)","v":0},{"$f":"IF(B295=\"\",\"\",IF(Calculations!C277=1,\"Yes\",\"No\"))","v":""},{"$f":"IF(B295=\"\",\"\",IF(Calculations!E277=1,\"Yes\",\"No\"))","v":""},{"$f":"IF(B295=\"\",\"\",IF(Calculations!F277=1,\"Yes\",\"No\"))","v":""},{"$f":"IF(B295=\"\",\"\",IF(Calculations!G277=1,\"Yes\",\"No\"))","v":""}]
[null,{"$f":"Calculations!A278","v":""},{"$f":"IF(B296=\"\",0,Calculations!B278)","v":0},{"$f":"IF(B296=\"\",0,Calculations!I278)","v":0},{"$f":"IF(B296=\"\",\"\",IF(Calculations!C278=1,\"Yes\",\"No\"))","v":""},{"$f":"IF(B296=\"\",\"\",IF(Calculations!E278=1,\"Yes\",\"No\"))","v":""},{"$f":"IF(B296=\"\",\"\",IF(Calculations!F278=1,\"Yes\",\"No\"))","v":""},{"$f":"IF(B296=\"\",\"\",IF(Calculations!G278=1,\"Yes\",\"No\"))","v":""}]
[null,{"$f":"Calculations!A279","v":""},{"$f":"IF(B297=\"\",0,Calculations!B279)","v":0},{"$f":"IF(B297=\"\",0,Calculations!I279)","v":0},{"$f":"IF(B297=\"\",\"\",IF(Calculations!C279=1,\"Yes\",\"No\"))","v":""},{"$f":"IF(B297=\"\",\"\",IF(Calculations!E279=1,\"Yes\",\"No\"))","v":""},{"$f":"IF(B297=\"\",\"\",IF(Calculations!F279=1,\"Yes\",\"No\"))","v":""},{"$f":"IF(B297=\"\",\"\",IF(Calculations!G279=1,\"Yes\",\"No\"))","v":""}]
[null,{"$f":"Calculations!A280","v":""},{"$f":"IF(B298=\"\",0,Calculations!B280)","v":0},{"$f":"IF(B298=\"\",0,Calculations!I280)","v":0},{"$f":"IF(B298=\"\",\"\",IF(Calculations!C280=1,\"Yes\",\"No\"))","v":""},{"$f":"IF(B298=\"\",\"\",IF(Calculations!E280=1,\"Yes\",\"No\"))","v":""},{"$f":"IF(B298=\"\",\"\",IF(Calculations!F280=1,\"Yes\",\"No\"))","v":""},{"$f":"IF(B298=\"\",\"\",IF(Calculations!G280=1,\"Yes\",\"No\"))","v":""}]
[null,{"$f":"Calculations!A281","v":""},{"$f":"IF(B299=\"\",0,Calculations!B281)","v":0},{"$f":"IF(B299=\"\",0,Calculations!I281)","v":0},{"$f":"IF(B299=\"\",\"\",IF(Calculations!C281=1,\"Yes\",\"No\"))","v":""},{"$f":"IF(B299=\"\",\"\",IF(Calculations!E281=1,\"Yes\",\"No\"))","v":""},{"$f":"IF(B299=\"\",\"\",IF(Calculations!F281=1,\"Yes\",\"No\"))","v":""},{"$f":"IF(B299=\"\",\"\",IF(Calculations!G281=1,\"Yes\",\"No\"))","v":""}]
[null,{"$f":"Calculations!A282","v":""},{"$f":"IF(B300=\"\",0,Calculations!B282)","v":0},{"$f":"IF(B300=\"\",0,Calculations!I282)","v":0},{"$f":"IF(B300=\"\",\"\",IF(Calculations!C282=1,\"Yes\",\"No\"))","v":""},{"$f":"IF(B300=\"\",\"\",IF(Calculations!E282=1,\"Yes\",\"No\"))","v":""},{"$f":"IF(B300=\"\",\"\",IF(Calculations!F282=1,\"Yes\",\"No\"))","v":""},{"$f":"IF(B300=\"\",\"\",IF(Calculations!G282=1,\"Yes\",\"No\"))","v":""}]
[null,{"$f":"Calculations!A283","v":""},{"$f":"IF(B301=\"\",0,Calculations!B283)","v":0},{"$f":"IF(B301=\"\",0,Calculations!I283)","v":0},{"$f":"IF(B301=\"\",\"\",IF(Calculations!C283=1,\"Yes\",\"No\"))","v":""},{"$f":"IF(B301=\"\",\"\",IF(Calculations!E283=1,\"Yes\",\"No\"))","v":""},{"$f":"IF(B301=\"\",\"\",IF(Calculations!F283=1,\"Yes\",\"No\"))","v":""},{"$f":"IF(B301=\"\",\"\",IF(Calculations!G283=1,\"Yes\",\"No\"))","v":""}]
[null,{"$f":"Calculations!A284","v":""},{"$f":"IF(B302=\"\",0,Calculations!B284)","v":0},{"$f":"IF(B302=\"\",0,Calculations!I284)","v":0},{"$f":"IF(B302=\"\",\"\",IF(Calculations!C284=1,\"Yes\",\"No\"))","v":""},{"$f":"IF(B302=\"\",\"\",IF(Calculations!E284=1,\"Yes\",\"No\"))","v":""},{"$f":"IF(B302=\"\",\"\",IF(Calculations!F284=1,\"Yes\",\"No\"))","v":""},{"$f":"IF(B302=\"\",\"\",IF(Calculations!G284=1,\"Yes\",\"No\"))","v":""}]
[null,{"$f":"Calculations!A285","v":""},{"$f":"IF(B303=\"\",0,Calculations!B285)","v":0},{"$f":"IF(B303=\"\",0,Calculations!I285)","v":0},{"$f":"IF(B303=\"\",\"\",IF(Calculations!C285=1,\"Yes\",\"No\"))","v":""},{"$f":"IF(B303=\"\",\"\",IF(Calculations!E285=1,\"Yes\",\"No\"))","v":""},{"$f":"IF(B303=\"\",\"\",IF(Calculations!F285=1,\"Yes\",\"No\"))","v":""},{"$f":"IF(B303=\"\",\"\",IF(Calculations!G285=1,\"Yes\",\"No\"))","v":""}]
[null,{"$f":"Calculations!A286","v":""},{"$f":"IF(B304=\"\",0,Calculations!B286)","v":0},{"$f":"IF(B304=\"\",0,Calculations!I286)","v":0},{"$f":"IF(B304=\"\",\"\",IF(Calculations!C286=1,\"Yes\",\"No\"))","v":""},{"$f":"IF(B304=\"\",\"\",IF(Calculations!E286=1,\"Yes\",\"No\"))","v":""},{"$f":"IF(B304=\"\",\"\",IF(Calculations!F286=1,\"Yes\",\"No\"))","v":""},{"$f":"IF(B304=\"\",\"\",IF(Calculations!G286=1,\"Yes\",\"No\"))","v":""}]
[null,{"$f":"Calculations!A287","v":""},{"$f":"IF(B305=\"\",0,Calculations!B287)","v":0},{"$f":"IF(B305=\"\",0,Calculations!I287)","v":0},{"$f":"IF(B305=\"\",\"\",IF(Calculations!C287=1,\"Yes\",\"No\"))","v":""},{"$f":"IF(B305=\"\",\"\",IF(Calculations!E287=1,\"Yes\",\"No\"))","v":""},{"$f":"IF(B305=\"\",\"\",IF(Calculations!F287=1,\"Yes\",\"No\"))","v":""},{"$f":"IF(B305=\"\",\"\",IF(Calculations!G287=1,\"Yes\",\"No\"))","v":""}]
[null,{"$f":"Calculations!A288","v":""},{"$f":"IF(B306=\"\",0,Calculations!B288)","v":0},{"$f":"IF(B306=\"\",0,Calculations!I288)","v":0},{"$f":"IF(B306=\"\",\"\",IF(Calculations!C288=1,\"Yes\",\"No\"))","v":""},{"$f":"IF(B306=\"\",\"\",IF(Calculations!E288=1,\"Yes\",\"No\"))","v":""},{"$f":"IF(B306=\"\",\"\",IF(Calculations!F288=1,\"Yes\",\"No\"))","v":""},{"$f":"IF(B306=\"\",\"\",IF(Calculations!G288=1,\"Yes\",\"No\"))","v":""}]
[null,{"$f":"Calculations!A289","v":""},{"$f":"IF(B307=\"\",0,Calculations!B289)","v":0},{"$f":"IF(B307=\"\",0,Calculations!I289)","v":0},{"$f":"IF(B307=\"\",\"\",IF(Calculations!C289=1,\"Yes\",\"No\"))","v":""},{"$f":"IF(B307=\"\",\"\",IF(Calculations!E289=1,\"Yes\",\"No\"))","v":""},{"$f":"IF(B307=\"\",\"\",IF(Calculations!F289=1,\"Yes\",\"No\"))","v":""},{"$f":"IF(B307=\"\",\"\",IF(Calculations!G289=1,\"Yes\",\"No\"))","v":""}]
[null,{"$f":"Calculations!A290","v":""},{"$f":"IF(B308=\"\",0,Calculations!B290)","v":0},{"$f":"IF(B308=\"\",0,Calculations!I290)","v":0},{"$f":"IF(B308=\"\",\"\",IF(Calculations!C290=1,\"Yes\",\"No\"))","v":""},{"$f":"IF(B308=\"\",\"\",IF(Calculations!E290=1,\"Yes\",\"No\"))","v":""},{"$f":"IF(B308=\"\",\"\",IF(Calculations!F290=1,\"Yes\",\"No\"))","v":""},{"$f":"IF(B308=\"\",\"\",IF(Calculations!G290=1,\"Yes\",\"No\"))","v":""}]
[null,{"$f":"Calculations!A291","v":""},{"$f":"IF(B309=\"\",0,Calculations!B291)","v":0},{"$f":"IF(B309=\"\",0,Calculations!I291)","v":0},{"$f":"IF(B309=\"\",\"\",IF(Calculations!C291=1,\"Yes\",\"No\"))","v":""},{"$f":"IF(B309=\"\",\"\",IF(Calculations!E291=1,\"Yes\",\"No\"))","v":""},{"$f":"IF(B309=\"\",\"\",IF(Calculations!F291=1,\"Yes\",\"No\"))","v":""},{"$f":"IF(B309=\"\",\"\",IF(Calculations!G291=1,\"Yes\",\"No\"))","v":""}]
[null,{"$f":"Calculations!A292","v":""},{"$f":"IF(B310=\"\",0,Calculations!B292)","v":0},{"$f":"IF(B310=\"\",0,Calculations!I292)","v":0},{"$f":"IF(B310=\"\",\"\",IF(Calculations!C292=1,\"Yes\",\"No\"))","v":""},{"$f":"IF(B310=\"\",\"\",IF(Calculations!E292=1,\"Yes\",\"No\"))","v":""},{"$f":"IF(B310=\"\",\"\",IF(Calculations!F292=1,\"Yes\",\"No\"))","v":""},{"$f":"IF(B310=\"\",\"\",IF(Calculations!G292=1,\"Yes\",\"No\"))","v":""}]
[null,{"$f":"Calculations!A293","v":""},{"$f":"IF(B311=\"\",0,Calculations!B293)","v":0},{"$f":"IF(B311=\"\",0,Calculations!I293)","v":0},{"$f":"IF(B311=\"\",\"\",IF(Calculations!C293=1,\"Yes\",\"No\"))","v":""},{"$f":"IF(B311=\"\",\"\",IF(Calculations!E293=1,\"Yes\",\"No\"))","v":""},{"$f":"IF(B311=\"\",\"\",IF(Calculations!F293=1,\"Yes\",\"No\"))","v":""},{"$f":"IF(B311=\"\",\"\",IF(Calculations!G293=1,\"Yes\",\"No\"))","v":""}]
[null,{"$f":"Calculations!A294","v":""},{"$f":"IF(B312=\"\",0,Calculations!B294)","v":0},{"$f":"IF(B312=\"\",0,Calculations!I294)","v":0},{"$f":"IF(B312=\"\",\"\",IF(Calculations!C294=1,\"Yes\",\"No\"))","v":""},{"$f":"IF(B312=\"\",\"\",IF(Calculations!E294=1,\"Yes\",\"No\"))","v":""},{"$f":"IF(B312=\"\",\"\",IF(Calculations!F294=1,\"Yes\",\"No\"))","v":""},{"$f":"IF(B312=\"\",\"\",IF(Calculations!G294=1,\"Yes\",\"No\"))","v":""}]
[null,{"$f":"Calculations!A295","v":""},{"$f":"IF(B313=\"\",0,Calculations!B295)","v":0},{"$f":"IF(B313=\"\",0,Calculations!I295)","v":0},{"$f":"IF(B313=\"\",\"\",IF(Calculations!C295=1,\"Yes\",\"No\"))","v":""},{"$f":"IF(B313=\"\",\"\",IF(Calculations!E295=1,\"Yes\",\"No\"))","v":""},{"$f":"IF(B313=\"\",\"\",IF(Calculations!F295=1,\"Yes\",\"No\"))","v":""},{"$f":"IF(B313=\"\",\"\",IF(Calculations!G295=1,\"Yes\",\"No\"))","v":""}]
[null,{"$f":"Calculations!A296","v":""},{"$f":"IF(B314=\"\",0,Calculations!B296)","v":0},{"$f":"IF(B314=\"\",0,Calculations!I296)","v":0},{"$f":"IF(B314=\"\",\"\",IF(Calculations!C296=1,\"Yes\",\"No\"))","v":""},{"$f":"IF(B314=\"\",\"\",IF(Calculations!E296=1,\"Yes\",\"No\"))","v":""},{"$f":"IF(B314=\"\",\"\",IF(Calculations!F296=1,\"Yes\",\"No\"))","v":""},{"$f":"IF(B314=\"\",\"\",IF(Calculations!G296=1,\"Yes\",\"No\"))","v":""}]
[null,{"$f":"Calculations!A297","v":""},{"$f":"IF(B315=\"\",0,Calculations!B297)","v":0},{"$f":"IF(B315=\"\",0,Calculations!I297)","v":0},{"$f":"IF(B315=\"\",\"\",IF(Calculations!C297=1,\"Yes\",\"No\"))","v":""},{"$f":"IF(B315=\"\",\"\",IF(Calculations!E297=1,\"Yes\",\"No\"))","v":""},{"$f":"IF(B315=\"\",\"\",IF(Calculations!F297=1,\"Yes\",\"No\"))","v":""},{"$f":"IF(B315=\"\",\"\",IF(Calculations!G297=1,\"Yes\",\"No\"))","v":""}]
[null,{"$f":"Calculations!A298","v":""},{"$f":"IF(B316=\"\",0,Calculations!B298)","v":0},{"$f":"IF(B316=\"\",0,Calculations!I298)","v":0},{"$f":"IF(B316=\"\",\"\",IF(Calculations!C298=1,\"Yes\",\"No\"))","v":""},{"$f":"IF(B316=\"\",\"\",IF(Calculations!E298=1,\"Yes\",\"No\"))","v":""},{"$f":"IF(B316=\"\",\"\",IF(Calculations!F298=1,\"Yes\",\"No\"))","v":""},{"$f":"IF(B316=\"\",\"\",IF(Calculations!G298=1,\"Yes\",\"No\"))","v":""}]
[null,{"$f":"Calculations!A299","v":""},{"$f":"IF(B317=\"\",0,Calculations!B299)","v":0},{"$f":"IF(B317=\"\",0,Calculations!I299)","v":0},{"$f":"IF(B317=\"\",\"\",IF(Calculations!C299=1,\"Yes\",\"No\"))","v":""},{"$f":"IF(B317=\"\",\"\",IF(Calculations!E299=1,\"Yes\",\"No\"))","v":""},{"$f":"IF(B317=\"\",\"\",IF(Calculations!F299=1,\"Yes\",\"No\"))","v":""},{"$f":"IF(B317=\"\",\"\",IF(Calculations!G299=1,\"Yes\",\"No\"))","v":""}]
[null,{"$f":"Calculations!A300","v":""},{"$f":"IF(B318=\"\",0,Calculations!B300)","v":0},{"$f":"IF(B318=\"\",0,Calculations!I300)","v":0},{"$f":"IF(B318=\"\",\"\",IF(Calculations!C300=1,\"Yes\",\"No\"))","v":""},{"$f":"IF(B318=\"\",\"\",IF(Calculations!E300=1,\"Yes\",\"No\"))","v":""},{"$f":"IF(B318=\"\",\"\",IF(Calculations!F300=1,\"Yes\",\"No\"))","v":""},{"$f":"IF(B318=\"\",\"\",IF(Calculations!G300=1,\"Yes\",\"No\"))","v":""}]
[null,{"$f":"Calculations!A301","v":""},{"$f":"IF(B319=\"\",0,Calculations!B301)","v":0},{"$f":"IF(B319=\"\",0,Calculations!I301)","v":0},{"$f":"IF(B319=\"\",\"\",IF(Calculations!C301=1,\"Yes\",\"No\"))","v":""},{"$f":"IF(B319=\"\",\"\",IF(Calculations!E301=1,\"Yes\",\"No\"))","v":""},{"$f":"IF(B319=\"\",\"\",IF(Calculations!F301=1,\"Yes\",\"No\"))","v":""},{"$f":"IF(B319=\"\",\"\",IF(Calculations!G301=1,\"Yes\",\"No\"))","v":""}]
[null,{"$f":"Calculations!A302","v":""},{"$f":"IF(B320=\"\",0,Calculations!B302)","v":0},{"$f":"IF(B320=\"\",0,Calculations!I302)","v":0},{"$f":"IF(B320=\"\",\"\",IF(Calculations!C302=1,\"Yes\",\"No\"))","v":""},{"$f":"IF(B320=\"\",\"\",IF(Calculations!E302=1,\"Yes\",\"No\"))","v":""},{"$f":"IF(B320=\"\",\"\",IF(Calculations!F302=1,\"Yes\",\"No\"))","v":""},{"$f":"IF(B320=\"\",\"\",IF(Calculations!G302=1,\"Yes\",\"No\"))","v":""}]
[null,{"$f":"Calculations!A303","v":""},{"$f":"IF(B321=\"\",0,Calculations!B303)","v":0},{"$f":"IF(B321=\"\",0,Calculations!I303)","v":0},{"$f":"IF(B321=\"\",\"\",IF(Calculations!C303=1,\"Yes\",\"No\"))","v":""},{"$f":"IF(B321=\"\",\"\",IF(Calculations!E303=1,\"Yes\",\"No\"))","v":""},{"$f":"IF(B321=\"\",\"\",IF(Calculations!F303=1,\"Yes\",\"No\"))","v":""},{"$f":"IF(B321=\"\",\"\",IF(Calculations!G303=1,\"Yes\",\"No\"))","v":""}]
[null,{"$f":"Calculations!A304","v":""},{"$f":"IF(B322=\"\",0,Calculations!B304)","v":0},{"$f":"IF(B322=\"\",0,Calculations!I304)","v":0},{"$f":"IF(B322=\"\",\"\",IF(Calculations!C304=1,\"Yes\",\"No\"))","v":""},{"$f":"IF(B322=\"\",\"\",IF(Calculations!E304=1,\"Yes\",\"No\"))","v":""},{"$f":"IF(B322=\"\",\"\",IF(Calculations!F304=1,\"Yes\",\"No\"))","v":""},{"$f":"IF(B322=\"\",\"\",IF(Calculations!G304=1,\"Yes\",\"No\"))","v":""}]
[null,{"$f":"Calculations!A305","v":""},{"$f":"IF(B323=\"\",0,Calculations!B305)","v":0},{"$f":"IF(B323=\"\",0,Calculations!I305)","v":0},{"$f":"IF(B323=\"\",\"\",IF(Calculations!C305=1,\"Yes\",\"No\"))","v":""},{"$f":"IF(B323=\"\",\"\",IF(Calculations!E305=1,\"Yes\",\"No\"))","v":""},{"$f":"IF(B323=\"\",\"\",IF(Calculations!F305=1,\"Yes\",\"No\"))","v":""},{"$f":"IF(B323=\"\",\"\",IF(Calculations!G305=1,\"Yes\",\"No\"))","v":""}]
[null,{"$f":"Calculations!A306","v":""},{"$f":"IF(B324=\"\",0,Calculations!B306)","v":0},{"$f":"IF(B324=\"\",0,Calculations!I306)","v":0},{"$f":"IF(B324=\"\",\"\",IF(Calculations!C306=1,\"Yes\",\"No\"))","v":""},{"$f":"IF(B324=\"\",\"\",IF(Calculations!E306=1,\"Yes\",\"No\"))","v":""},{"$f":"IF(B324=\"\",\"\",IF(Calculations!F306=1,\"Yes\",\"No\"))","v":""},{"$f":"IF(B324=\"\",\"\",IF(Calculations!G306=1,\"Yes\",\"No\"))","v":""}]
[null,{"$f":"Calculations!A307","v":""},{"$f":"IF(B325=\"\",0,Calculations!B307)","v":0},{"$f":"IF(B325=\"\",0,Calculations!I307)","v":0},{"$f":"IF(B325=\"\",\"\",IF(Calculations!C307=1,\"Yes\",\"No\"))","v":""},{"$f":"IF(B325=\"\",\"\",IF(Calculations!E307=1,\"Yes\",\"No\"))","v":""},{"$f":"IF(B325=\"\",\"\",IF(Calculations!F307=1,\"Yes\",\"No\"))","v":""},{"$f":"IF(B325=\"\",\"\",IF(Calculations!G307=1,\"Yes\",\"No\"))","v":""}]
[null,{"$f":"Calculations!A308","v":""},{"$f":"IF(B326=\"\",0,Calculations!B308)","v":0},{"$f":"IF(B326=\"\",0,Calculations!I308)","v":0},{"$f":"IF(B326=\"\",\"\",IF(Calculations!C308=1,\"Yes\",\"No\"))","v":""},{"$f":"IF(B326=\"\",\"\",IF(Calculations!E308=1,\"Yes\",\"No\"))","v":""},{"$f":"IF(B326=\"\",\"\",IF(Calculations!F308=1,\"Yes\",\"No\"))","v":""},{"$f":"IF(B326=\"\",\"\",IF(Calculations!G308=1,\"Yes\",\"No\"))","v":""}]
[null,{"$f":"Calculations!A309","v":""},{"$f":"IF(B327=\"\",0,Calculations!B309)","v":0},{"$f":"IF(B327=\"\",0,Calculations!I309)","v":0},{"$f":"IF(B327=\"\",\"\",IF(Calculations!C309=1,\"Yes\",\"No\"))","v":""},{"$f":"IF(B327=\"\",\"\",IF(Calculations!E309=1,\"Yes\",\"No\"))","v":""},{"$f":"IF(B327=\"\",\"\",IF(Calculations!F309=1,\"Yes\",\"No\"))","v":""},{"$f":"IF(B327=\"\",\"\",IF(Calculations!G309=1,\"Yes\",\"No\"))","v":""}]
[null,{"$f":"Calculations!A310","v":""},{"$f":"IF(B328=\"\",0,Calculations!B310)","v":0},{"$f":"IF(B328=\"\",0,Calculations!I310)","v":0},{"$f":"IF(B328=\"\",\"\",IF(Calculations!C310=1,\"Yes\",\"No\"))","v":""},{"$f":"IF(B328=\"\",\"\",IF(Calculations!E310=1,\"Yes\",\"No\"))","v":""},{"$f":"IF(B328=\"\",\"\",IF(Calculations!F310=1,\"Yes\",\"No\"))","v":""},{"$f":"IF(B328=\"\",\"\",IF(Calculations!G310=1,\"Yes\",\"No\"))","v":""}]
[null,{"$f":"Calculations!A311","v":""},{"$f":"IF(B329=\"\",0,Calculations!B311)","v":0},{"$f":"IF(B329=\"\",0,Calculations!I311)","v":0},{"$f":"IF(B329=\"\",\"\",IF(Calculations!C311=1,\"Yes\",\"No\"))","v":""},{"$f":"IF(B329=\"\",\"\",IF(Calculations!E311=1,\"Yes\",\"No\"))","v":""},{"$f":"IF(B329=\"\",\"\",IF(Calculations!F311=1,\"Yes\",\"No\"))","v":""},{"$f":"IF(B329=\"\",\"\",IF(Calculations!G311=1,\"Yes\",\"No\"))","v":""}]
[null,{"$f":"Calculations!A312","v":""},{"$f":"IF(B330=\"\",0,Calculations!B312)","v":0},{"$f":"IF(B330=\"\",0,Calculations!I312)","v":0},{"$f":"IF(B330=\"\",\"\",IF(Calculations!C312=1,\"Yes\",\"No\"))","v":""},{"$f":"IF(B330=\"\",\"\",IF(Calculations!E312=1,\"Yes\",\"No\"))","v":""},{"$f":"IF(B330=\"\",\"\",IF(Calculations!F312=1,\"Yes\",\"No\"))","v":""},{"$f":"IF(B330=\"\",\"\",IF(Calculations!G312=1,\"Yes\",\"No\"))","v":""}]
[null,{"$f":"Calculations!A313","v":""},{"$f":"IF(B331=\"\",0,Calculations!B313)","v":0},{"$f":"IF(B331=\"\",0,Calculations!I313)","v":0},{"$f":"IF(B331=\"\",\"\",IF(Calculations!C313=1,\"Yes\",\"No\"))","v":""},{"$f":"IF(B331=\"\",\"\",IF(Calculations!E313=1,\"Yes\",\"No\"))","v":""},{"$f":"IF(B331=\"\",\"\",IF(Calculations!F313=1,\"Yes\",\"No\"))","v":""},{"$f":"IF(B331=\"\",\"\",IF(Calculations!G313=1,\"Yes\",\"No\"))","v":""}]
[null,{"$f":"Calculations!A314","v":""},{"$f":"IF(B332=\"\",0,Calculations!B314)","v":0},{"$f":"IF(B332=\"\",0,Calculations!I314)","v":0},{"$f":"IF(B332=\"\",\"\",IF(Calculations!C314=1,\"Yes\",\"No\"))","v":""},{"$f":"IF(B332=\"\",\"\",IF(Calculations!E314=1,\"Yes\",\"No\"))","v":""},{"$f":"IF(B332=\"\",\"\",IF(Calculations!F314=1,\"Yes\",\"No\"))","v":""},{"$f":"IF(B332=\"\",\"\",IF(Calculations!G314=1,\"Yes\",\"No\"))","v":""}]
[null,{"$f":"Calculations!A315","v":""},{"$f":"IF(B333=\"\",0,Calculations!B315)","v":0},{"$f":"IF(B333=\"\",0,Calculations!I315)","v":0},{"$f":"IF(B333=\"\",\"\",IF(Calculations!C315=1,\"Yes\",\"No\"))","v":""},{"$f":"IF(B333=\"\",\"\",IF(Calculations!E315=1,\"Yes\",\"No\"))","v":""},{"$f":"IF(B333=\"\",\"\",IF(Calculations!F315=1,\"Yes\",\"No\"))","v":""},{"$f":"IF(B333=\"\",\"\",IF(Calculations!G315=1,\"Yes\",\"No\"))","v":""}]
[null,{"$f":"Calculations!A316","v":""},{"$f":"IF(B334=\"\",0,Calculations!B316)","v":0},{"$f":"IF(B334=\"\",0,Calculations!I316)","v":0},{"$f":"IF(B334=\"\",\"\",IF(Calculations!C316=1,\"Yes\",\"No\"))","v":""},{"$f":"IF(B334=\"\",\"\",IF(Calculations!E316=1,\"Yes\",\"No\"))","v":""},{"$f":"IF(B334=\"\",\"\",IF(Calculations!F316=1,\"Yes\",\"No\"))","v":""},{"$f":"IF(B334=\"\",\"\",IF(Calculations!G316=1,\"Yes\",\"No\"))","v":""}]
[null,{"$f":"Calculations!A317","v":""},{"$f":"IF(B335=\"\",0,Calculations!B317)","v":0},{"$f":"IF(B335=\"\",0,Calculations!I317)","v":0},{"$f":"IF(B335=\"\",\"\",IF(Calculations!C317=1,\"Yes\",\"No\"))","v":""},{"$f":"IF(B335=\"\",\"\",IF(Calculations!E317=1,\"Yes\",\"No\"))","v":""},{"$f":"IF(B335=\"\",\"\",IF(Calculations!F317=1,\"Yes\",\"No\"))","v":""},{"$f":"IF(B335=\"\",\"\",IF(Calculations!G317=1,\"Yes\",\"No\"))","v":""}]
[null,{"$f":"Calculations!A318","v":""},{"$f":"IF(B336=\"\",0,Calculations!B318)","v":0},{"$f":"IF(B336=\"\",0,Calculations!I318)","v":0},{"$f":"IF(B336=\"\",\"\",IF(Calculations!C318=1,\"Yes\",\"No\"))","v":""},{"$f":"IF(B336=\"\",\"\",IF(Calculations!E318=1,\"Yes\",\"No\"))","v":""},{"$f":"IF(B336=\"\",\"\",IF(Calculations!F318=1,\"Yes\",\"No\"))","v":""},{"$f":"IF(B336=\"\",\"\",IF(Calculations!G318=1,\"Yes\",\"No\"))","v":""}]
[null,{"$f":"Calculations!A319","v":""},{"$f":"IF(B337=\"\",0,Calculations!B319)","v":0},{"$f":"IF(B337=\"\",0,Calculations!I319)","v":0},{"$f":"IF(B337=\"\",\"\",IF(Calculations!C319=1,\"Yes\",\"No\"))","v":""},{"$f":"IF(B337=\"\",\"\",IF(Calculations!E319=1,\"Yes\",\"No\"))","v":""},{"$f":"IF(B337=\"\",\"\",IF(Calculations!F319=1,\"Yes\",\"No\"))","v":""},{"$f":"IF(B337=\"\",\"\",IF(Calculations!G319=1,\"Yes\",\"No\"))","v":""}]
[null,{"$f":"Calculations!A320","v":""},{"$f":"IF(B338=\"\",0,Calculations!B320)","v":0},{"$f":"IF(B338=\"\",0,Calculations!I320)","v":0},{"$f":"IF(B338=\"\",\"\",IF(Calculations!C320=1,\"Yes\",\"No\"))","v":""},{"$f":"IF(B338=\"\",\"\",IF(Calculations!E320=1,\"Yes\",\"No\"))","v":""},{"$f":"IF(B338=\"\",\"\",IF(Calculations!F320=1,\"Yes\",\"No\"))","v":""},{"$f":"IF(B338=\"\",\"\",IF(Calculations!G320=1,\"Yes\",\"No\"))","v":""}]
[null,{"$f":"Calculations!A321","v":""},{"$f":"IF(B339=\"\",0,Calculations!B321)","v":0},{"$f":"IF(B339=\"\",0,Calculations!I321)","v":0},{"$f":"IF(B339=\"\",\"\",IF(Calculations!C321=1,\"Yes\",\"No\"))","v":""},{"$f":"IF(B339=\"\",\"\",IF(Calculations!E321=1,\"Yes\",\"No\"))","v":""},{"$f":"IF(B339=\"\",\"\",IF(Calculations!F321=1,\"Yes\",\"No\"))","v":""},{"$f":"IF(B339=\"\",\"\",IF(Calculations!G321=1,\"Yes\",\"No\"))","v":""}]
[null,{"$f":"Calculations!A322","v":""},{"$f":"IF(B340=\"\",0,Calculations!B322)","v":0},{"$f":"IF(B340=\"\",0,Calculations!I322)","v":0},{"$f":"IF(B340=\"\",\"\",IF(Calculations!C322=1,\"Yes\",\"No\"))","v":""},{"$f":"IF(B340=\"\",\"\",IF(Calculations!E322=1,\"Yes\",\"No\"))","v":""},{"$f":"IF(B340=\"\",\"\",IF(Calculations!F322=1,\"Yes\",\"No\"))","v":""},{"$f":"IF(B340=\"\",\"\",IF(Calculations!G322=1,\"Yes\",\"No\"))","v":""}]
[null,{"$f":"Calculations!A323","v":""},{"$f":"IF(B341=\"\",0,Calculations!B323)","v":0},{"$f":"IF(B341=\"\",0,Calculations!I323)","v":0},{"$f":"IF(B341=\"\",\"\",IF(Calculations!C323=1,\"Yes\",\"No\"))","v":""},{"$f":"IF(B341=\"\",\"\",IF(Calculations!E323=1,\"Yes\",\"No\"))","v":""},{"$f":"IF(B341=\"\",\"\",IF(Calculations!F323=1,\"Yes\",\"No\"))","v":""},{"$f":"IF(B341=\"\",\"\",IF(Calculations!G323=1,\"Yes\",\"No\"))","v":""}]
[null,{"$f":"Calculations!A324","v":""},{"$f":"IF(B342=\"\",0,Calculations!B324)","v":0},{"$f":"IF(B342=\"\",0,Calculations!I324)","v":0},{"$f":"IF(B342=\"\",\"\",IF(Calculations!C324=1,\"Yes\",\"No\"))","v":""},{"$f":"IF(B342=\"\",\"\",IF(Calculations!E324=1,\"Yes\",\"No\"))","v":""},{"$f":"IF(B342=\"\",\"\",IF(Calculations!F324=1,\"Yes\",\"No\"))","v":""},{"$f":"IF(B342=\"\",\"\",IF(Calculations!G324=1,\"Yes\",\"No\"))","v":""}]
[null,{"$f":"Calculations!A325","v":""},{"$f":"IF(B343=\"\",0,Calculations!B325)","v":0},{"$f":"IF(B343=\"\",0,Calculations!I325)","v":0},{"$f":"IF(B343=\"\",\"\",IF(Calculations!C325=1,\"Yes\",\"No\"))","v":""},{"$f":"IF(B343=\"\",\"\",IF(Calculations!E325=1,\"Yes\",\"No\"))","v":""},{"$f":"IF(B343=\"\",\"\",IF(Calculations!F325=1,\"Yes\",\"No\"))","v":""},{"$f":"IF(B343=\"\",\"\",IF(Calculations!G325=1,\"Yes\",\"No\"))","v":""}]
[null,{"$f":"Calculations!A326","v":""},{"$f":"IF(B344=\"\",0,Calculations!B326)","v":0},{"$f":"IF(B344=\"\",0,Calculations!I326)","v":0},{"$f":"IF(B344=\"\",\"\",IF(Calculations!C326=1,\"Yes\",\"No\"))","v":""},{"$f":"IF(B344=\"\",\"\",IF(Calculations!E326=1,\"Yes\",\"No\"))","v":""},{"$f":"IF(B344=\"\",\"\",IF(Calculations!F326=1,\"Yes\",\"No\"))","v":""},{"$f":"IF(B344=\"\",\"\",IF(Calculations!G326=1,\"Yes\",\"No\"))","v":""}]
[null,{"$f":"Calculations!A327","v":""},{"$f":"IF(B345=\"\",0,Calculations!B327)","v":0},{"$f":"IF(B345=\"\",0,Calculations!I327)","v":0},{"$f":"IF(B345=\"\",\"\",IF(Calculations!C327=1,\"Yes\",\"No\"))","v":""},{"$f":"IF(B345=\"\",\"\",IF(Calculations!E327=1,\"Yes\",\"No\"))","v":""},{"$f":"IF(B345=\"\",\"\",IF(Calculations!F327=1,\"Yes\",\"No\"))","v":""},{"$f":"IF(B345=\"\",\"\",IF(Calculations!G327=1,\"Yes\",\"No\"))","v":""}]
[null,{"$f":"Calculations!A328","v":""},{"$f":"IF(B346=\"\",0,Calculations!B328)","v":0},{"$f":"IF(B346=\"\",0,Calculations!I328)","v":0},{"$f":"IF(B346=\"\",\"\",IF(Calculations!C328=1,\"Yes\",\"No\"))","v":""},{"$f":"IF(B346=\"\",\"\",IF(Calculations!E328=1,\"Yes\",\"No\"))","v":""},{"$f":"IF(B346=\"\",\"\",IF(Calculations!F328=1,\"Yes\",\"No\"))","v":""},{"$f":"IF(B346=\"\",\"\",IF(Calculations!G328=1,\"Yes\",\"No\"))","v":""}]
[null,{"$f":"Calculations!A329","v":""},{"$f":"IF(B347=\"\",0,Calculations!B329)","v":0},{"$f":"IF(B347=\"\",0,Calculations!I329)","v":0},{"$f":"IF(B347=\"\",\"\",IF(Calculations!C329=1,\"Yes\",\"No\"))","v":""},{"$f":"IF(B347=\"\",\"\",IF(Calculations!E329=1,\"Yes\",\"No\"))","v":""},{"$f":"IF(B347=\"\",\"\",IF(Calculations!F329=1,\"Yes\",\"No\"))","v":""},{"$f":"IF(B347=\"\",\"\",IF(Calculations!G329=1,\"Yes\",\"No\"))","v":""}]
[null,{"$f":"Calculations!A330","v":""},{"$f":"IF(B348=\"\",0,Calculations!B330)","v":0},{"$f":"IF(B348=\"\",0,Calculations!I330)","v":0},{"$f":"IF(B348=\"\",\"\",IF(Calculations!C330=1,\"Yes\",\"No\"))","v":""},{"$f":"IF(B348=\"\",\"\",IF(Calculations!E330=1,\"Yes\",\"No\"))","v":""},{"$f":"IF(B348=\"\",\"\",IF(Calculations!F330=1,\"Yes\",\"No\"))","v":""},{"$f":"IF(B348=\"\",\"\",IF(Calculations!G330=1,\"Yes\",\"No\"))","v":""}]
[null,{"$f":"Calculations!A331","v":""},{"$f":"IF(B349=\"\",0,Calculations!B331)","v":0},{"$f":"IF(B349=\"\",0,Calculations!I331)","v":0},{"$f":"IF(B349=\"\",\"\",IF(Calculations!C331=1,\"Yes\",\"No\"))","v":""},{"$f":"IF(B349=\"\",\"\",IF(Calculations!E331=1,\"Yes\",\"No\"))","v":""},{"$f":"IF(B349=\"\",\"\",IF(Calculations!F331=1,\"Yes\",\"No\"))","v":""},{"$f":"IF(B349=\"\",\"\",IF(Calculations!G331=1,\"Yes\",\"No\"))","v":""}]
[null,{"$f":"Calculations!A332","v":""},{"$f":"IF(B350=\"\",0,Calculations!B332)","v":0},{"$f":"IF(B350=\"\",0,Calculations!I332)","v":0},{"$f":"IF(B350=\"\",\"\",IF(Calculations!C332=1,\"Yes\",\"No\"))","v":""},{"$f":"IF(B350=\"\",\"\",IF(Calculations!E332=1,\"Yes\",\"No\"))","v":""},{"$f":"IF(B350=\"\",\"\",IF(Calculations!F332=1,\"Yes\",\"No\"))","v":""},{"$f":"IF(B350=\"\",\"\",IF(Calculations!G332=1,\"Yes\",\"No\"))","v":""}]
[null,{"$f":"Calculations!A333","v":""},{"$f":"IF(B351=\"\",0,Calculations!B333)","v":0},{"$f":"IF(B351=\"\",0,Calculations!I333)","v":0},{"$f":"IF(B351=\"\",\"\",IF(Calculations!C333=1,\"Yes\",\"No\"))","v":""},{"$f":"IF(B351=\"\",\"\",IF(Calculations!E333=1,\"Yes\",\"No\"))","v":""},{"$f":"IF(B351=\"\",\"\",IF(Calculations!F333=1,\"Yes\",\"No\"))","v":""},{"$f":"IF(B351=\"\",\"\",IF(Calculations!G333=1,\"Yes\",\"No\"))","v":""}]
[null,{"$f":"Calculations!A334","v":""},{"$f":"IF(B352=\"\",0,Calculations!B334)","v":0},{"$f":"IF(B352=\"\",0,Calculations!I334)","v":0},{"$f":"IF(B352=\"\",\"\",IF(Calculations!C334=1,\"Yes\",\"No\"))","v":""},{"$f":"IF(B352=\"\",\"\",IF(Calculations!E334=1,\"Yes\",\"No\"))","v":""},{"$f":"IF(B352=\"\",\"\",IF(Calculations!F334=1,\"Yes\",\"No\"))","v":""},{"$f":"IF(B352=\"\",\"\",IF(Calculations!G334=1,\"Yes\",\"No\"))","v":""}]
[null,{"$f":"Calculations!A335","v":""},{"$f":"IF(B353=\"\",0,Calculations!B335)","v":0},{"$f":"IF(B353=\"\",0,Calculations!I335)","v":0},{"$f":"IF(B353=\"\",\"\",IF(Calculations!C335=1,\"Yes\",\"No\"))","v":""},{"$f":"IF(B353=\"\",\"\",IF(Calculations!E335=1,\"Yes\",\"No\"))","v":""},{"$f":"IF(B353=\"\",\"\",IF(Calculations!F335=1,\"Yes\",\"No\"))","v":""},{"$f":"IF(B353=\"\",\"\",IF(Calculations!G335=1,\"Yes\",\"No\"))","v":""}]
[null,{"$f":"Calculations!A336","v":""},{"$f":"IF(B354=\"\",0,Calculations!B336)","v":0},{"$f":"IF(B354=\"\",0,Calculations!I336)","v":0},{"$f":"IF(B354=\"\",\"\",IF(Calculations!C336=1,\"Yes\",\"No\"))","v":""},{"$f":"IF(B354=\"\",\"\",IF(Calculations!E336=1,\"Yes\",\"No\"))","v":""},{"$f":"IF(B354=\"\",\"\",IF(Calculations!F336=1,\"Yes\",\"No\"))","v":""},{"$f":"IF(B354=\"\",\"\",IF(Calculations!G336=1,\"Yes\",\"No\"))","v":""}]
[null,{"$f":"Calculations!A337","v":""},{"$f":"IF(B355=\"\",0,Calculations!B337)","v":0},{"$f":"IF(B355=\"\",0,Calculations!I337)","v":0},{"$f":"IF(B355=\"\",\"\",IF(Calculations!C337=1,\"Yes\",\"No\"))","v":""},{"$f":"IF(B355=\"\",\"\",IF(Calculations!E337=1,\"Yes\",\"No\"))","v":""},{"$f":"IF(B355=\"\",\"\",IF(Calculations!F337=1,\"Yes\",\"No\"))","v":""},{"$f":"IF(B355=\"\",\"\",IF(Calculations!G337=1,\"Yes\",\"No\"))","v":""}]
[null,{"$f":"Calculations!A338","v":""},{"$f":"IF(B356=\"\",0,Calculations!B338)","v":0},{"$f":"IF(B356=\"\",0,Calculations!I338)","v":0},{"$f":"IF(B356=\"\",\"\",IF(Calculations!C338=1,\"Yes\",\"No\"))","v":""},{"$f":"IF(B356=\"\",\"\",IF(Calculations!E338=1,\"Yes\",\"No\"))","v":""},{"$f":"IF(B356=\"\",\"\",IF(Calculations!F338=1,\"Yes\",\"No\"))","v":""},{"$f":"IF(B356=\"\",\"\",IF(Calculations!G338=1,\"Yes\",\"No\"))","v":""}]
[null,{"$f":"Calculations!A339","v":""},{"$f":"IF(B357=\"\",0,Calculations!B339)","v":0},{"$f":"IF(B357=\"\",0,Calculations!I339)","v":0},{"$f":"IF(B357=\"\",\"\",IF(Calculations!C339=1,\"Yes\",\"No\"))","v":""},{"$f":"IF(B357=\"\",\"\",IF(Calculations!E339=1,\"Yes\",\"No\"))","v":""},{"$f":"IF(B357=\"\",\"\",IF(Calculations!F339=1,\"Yes\",\"No\"))","v":""},{"$f":"IF(B357=\"\",\"\",IF(Calculations!G339=1,\"Yes\",\"No\"))","v":""}]
[null,{"$f":"Calculations!A340","v":""},{"$f":"IF(B358=\"\",0,Calculations!B340)","v":0},{"$f":"IF(B358=\"\",0,Calculations!I340)","v":0},{"$f":"IF(B358=\"\",\"\",IF(Calculations!C340=1,\"Yes\",\"No\"))","v":""},{"$f":"IF(B358=\"\",\"\",IF(Calculations!E340=1,\"Yes\",\"No\"))","v":""},{"$f":"IF(B358=\"\",\"\",IF(Calculations!F340=1,\"Yes\",\"No\"))","v":""},{"$f":"IF(B358=\"\",\"\",IF(Calculations!G340=1,\"Yes\",\"No\"))","v":""}]
[null,{"$f":"Calculations!A341","v":""},{"$f":"IF(B359=\"\",0,Calculations!B341)","v":0},{"$f":"IF(B359=\"\",0,Calculations!I341)","v":0},{"$f":"IF(B359=\"\",\"\",IF(Calculations!C341=1,\"Yes\",\"No\"))","v":""},{"$f":"IF(B359=\"\",\"\",IF(Calculations!E341=1,\"Yes\",\"No\"))","v":""},{"$f":"IF(B359=\"\",\"\",IF(Calculations!F341=1,\"Yes\",\"No\"))","v":""},{"$f":"IF(B359=\"\",\"\",IF(Calculations!G341=1,\"Yes\",\"No\"))","v":""}]
[null,{"$f":"Calculations!A342","v":""},{"$f":"IF(B360=\"\",0,Calculations!B342)","v":0},{"$f":"IF(B360=\"\",0,Calculations!I342)","v":0},{"$f":"IF(B360=\"\",\"\",IF(Calculations!C342=1,\"Yes\",\"No\"))","v":""},{"$f":"IF(B360=\"\",\"\",IF(Calculations!E342=1,\"Yes\",\"No\"))","v":""},{"$f":"IF(B360=\"\",\"\",IF(Calculations!F342=1,\"Yes\",\"No\"))","v":""},{"$f":"IF(B360=\"\",\"\",IF(Calculations!G342=1,\"Yes\",\"No\"))","v":""}]
[null,{"$f":"Calculations!A343","v":""},{"$f":"IF(B361=\"\",0,Calculations!B343)","v":0},{"$f":"IF(B361=\"\",0,Calculations!I343)","v":0},{"$f":"IF(B361=\"\",\"\",IF(Calculations!C343=1,\"Yes\",\"No\"))","v":""},{"$f":"IF(B361=\"\",\"\",IF(Calculations!E343=1,\"Yes\",\"No\"))","v":""},{"$f":"IF(B361=\"\",\"\",IF(Calculations!F343=1,\"Yes\",\"No\"))","v":""},{"$f":"IF(B361=\"\",\"\",IF(Calculations!G343=1,\"Yes\",\"No\"))","v":""}]
[null,{"$f":"Calculations!A344","v":""},{"$f":"IF(B362=\"\",0,Calculations!B344)","v":0},{"$f":"IF(B362=\"\",0,Calculations!I344)","v":0},{"$f":"IF(B362=\"\",\"\",IF(Calculations!C344=1,\"Yes\",\"No\"))","v":""},{"$f":"IF(B362=\"\",\"\",IF(Calculations!E344=1,\"Yes\",\"No\"))","v":""},{"$f":"IF(B362=\"\",\"\",IF(Calculations!F344=1,\"Yes\",\"No\"))","v":""},{"$f":"IF(B362=\"\",\"\",IF(Calculations!G344=1,\"Yes\",\"No\"))","v":""}]
[null,{"$f":"Calculations!A345","v":""},{"$f":"IF(B363=\"\",0,Calculations!B345)","v":0},{"$f":"IF(B363=\"\",0,Calculations!I345)","v":0},{"$f":"IF(B363=\"\",\"\",IF(Calculations!C345=1,\"Yes\",\"No\"))","v":""},{"$f":"IF(B363=\"\",\"\",IF(Calculations!E345=1,\"Yes\",\"No\"))","v":""},{"$f":"IF(B363=\"\",\"\",IF(Calculations!F345=1,\"Yes\",\"No\"))","v":""},{"$f":"IF(B363=\"\",\"\",IF(Calculations!G345=1,\"Yes\",\"No\"))","v":""}]
[null,{"$f":"Calculations!A346","v":""},{"$f":"IF(B364=\"\",0,Calculations!B346)","v":0},{"$f":"IF(B364=\"\",0,Calculations!I346)","v":0},{"$f":"IF(B364=\"\",\"\",IF(Calculations!C346=1,\"Yes\",\"No\"))","v":""},{"$f":"IF(B364=\"\",\"\",IF(Calculations!E346=1,\"Yes\",\"No\"))","v":""},{"$f":"IF(B364=\"\",\"\",IF(Calculations!F346=1,\"Yes\",\"No\"))","v":""},{"$f":"IF(B364=\"\",\"\",IF(Calculations!G346=1,\"Yes\",\"No\"))","v":""}]
[null,{"$f":"Calculations!A347","v":""},{"$f":"IF(B365=\"\",0,Calculations!B347)","v":0},{"$f":"IF(B365=\"\",0,Calculations!I347)","v":0},{"$f":"IF(B365=\"\",\"\",IF(Calculations!C347=1,\"Yes\",\"No\"))","v":""},{"$f":"IF(B365=\"\",\"\",IF(Calculations!E347=1,\"Yes\",\"No\"))","v":""},{"$f":"IF(B365=\"\",\"\",IF(Calculations!F347=1,\"Yes\",\"No\"))","v":""},{"$f":"IF(B365=\"\",\"\",IF(Calculations!G347=1,\"Yes\",\"No\"))","v":""}]
[null,{"$f":"Calculations!A348","v":""},{"$f":"IF(B366=\"\",0,Calculations!B348)","v":0},{"$f":"IF(B366=\"\",0,Calculations!I348)","v":0},{"$f":"IF(B366=\"\",\"\",IF(Calculations!C348=1,\"Yes\",\"No\"))","v":""},{"$f":"IF(B366=\"\",\"\",IF(Calculations!E348=1,\"Yes\",\"No\"))","v":""},{"$f":"IF(B366=\"\",\"\",IF(Calculations!F348=1,\"Yes\",\"No\"))","v":""},{"$f":"IF(B366=\"\",\"\",IF(Calculations!G348=1,\"Yes\",\"No\"))","v":""}]
[null,{"$f":"Calculations!A349","v":""},{"$f":"IF(B367=\"\",0,Calculations!B349)","v":0},{"$f":"IF(B367=\"\",0,Calculations!I349)","v":0},{"$f":"IF(B367=\"\",\"\",IF(Calculations!C349=1,\"Yes\",\"No\"))","v":""},{"$f":"IF(B367=\"\",\"\",IF(Calculations!E349=1,\"Yes\",\"No\"))","v":""},{"$f":"IF(B367=\"\",\"\",IF(Calculations!F349=1,\"Yes\",\"No\"))","v":""},{"$f":"IF(B367=\"\",\"\",IF(Calculations!G349=1,\"Yes\",\"No\"))","v":""}]
[null,{"$f":"Calculations!A350","v":""},{"$f":"IF(B368=\"\",0,Calculations!B350)","v":0},{"$f":"IF(B368=\"\",0,Calculations!I350)","v":0},{"$f":"IF(B368=\"\",\"\",IF(Calculations!C350=1,\"Yes\",\"No\"))","v":""},{"$f":"IF(B368=\"\",\"\",IF(Calculations!E350=1,\"Yes\",\"No\"))","v":""},{"$f":"IF(B368=\"\",\"\",IF(Calculations!F350=1,\"Yes\",\"No\"))","v":""},{"$f":"IF(B368=\"\",\"\",IF(Calculations!G350=1,\"Yes\",\"No\"))","v":""}]
[null,{"$f":"Calculations!A351","v":""},{"$f":"IF(B369=\"\",0,Calculations!B351)","v":0},{"$f":"IF(B369=\"\",0,Calculations!I351)","v":0},{"$f":"IF(B369=\"\",\"\",IF(Calculations!C351=1,\"Yes\",\"No\"))","v":""},{"$f":"IF(B369=\"\",\"\",IF(Calculations!E351=1,\"Yes\",\"No\"))","v":""},{"$f":"IF(B369=\"\",\"\",IF(Calculations!F351=1,\"Yes\",\"No\"))","v":""},{"$f":"IF(B369=\"\",\"\",IF(Calculations!G351=1,\"Yes\",\"No\"))","v":""}]
[null,{"$f":"Calculations!A352","v":""},{"$f":"IF(B370=\"\",0,Calculations!B352)","v":0},{"$f":"IF(B370=\"\",0,Calculations!I352)","v":0},{"$f":"IF(B370=\"\",\"\",IF(Calculations!C352=1,\"Yes\",\"No\"))","v":""},{"$f":"IF(B370=\"\",\"\",IF(Calculations!E352=1,\"Yes\",\"No\"))","v":""},{"$f":"IF(B370=\"\",\"\",IF(Calculations!F352=1,\"Yes\",\"No\"))","v":""},{"$f":"IF(B370=\"\",\"\",IF(Calculations!G352=1,\"Yes\",\"No\"))","v":""}]
[null,{"$f":"Calculations!A353","v":""},{"$f":"IF(B371=\"\",0,Calculations!B353)","v":0},{"$f":"IF(B371=\"\",0,Calculations!I353)","v":0},{"$f":"IF(B371=\"\",\"\",IF(Calculations!C353=1,\"Yes\",\"No\"))","v":""},{"$f":"IF(B371=\"\",\"\",IF(Calculations!E353=1,\"Yes\",\"No\"))","v":""},{"$f":"IF(B371=\"\",\"\",IF(Calculations!F353=1,\"Yes\",\"No\"))","v":""},{"$f":"IF(B371=\"\",\"\",IF(Calculations!G353=1,\"Yes\",\"No\"))","v":""}]
[null,{"$f":"Calculations!A354","v":""},{"$f":"IF(B372=\"\",0,Calculations!B354)","v":0},{"$f":"IF(B372=\"\",0,Calculations!I354)","v":0},{"$f":"IF(B372=\"\",\"\",IF(Calculations!C354=1,\"Yes\",\"No\"))","v":""},{"$f":"IF(B372=\"\",\"\",IF(Calculations!E354=1,\"Yes\",\"No\"))","v":""},{"$f":"IF(B372=\"\",\"\",IF(Calculations!F354=1,\"Yes\",\"No\"))","v":""},{"$f":"IF(B372=\"\",\"\",IF(Calculations!G354=1,\"Yes\",\"No\"))","v":""}]
[null,{"$f":"Calculations!A355","v":""},{"$f":"IF(B373=\"\",0,Calculations!B355)","v":0},{"$f":"IF(B373=\"\",0,Calculations!I355)","v":0},{"$f":"IF(B373=\"\",\"\",IF(Calculations!C355=1,\"Yes\",\"No\"))","v":""},{"$f":"IF(B373=\"\",\"\",IF(Calculations!E355=1,\"Yes\",\"No\"))","v":""},{"$f":"IF(B373=\"\",\"\",IF(Calculations!F355=1,\"Yes\",\"No\"))","v":""},{"$f":"IF(B373=\"\",\"\",IF(Calculations!G355=1,\"Yes\",\"No\"))","v":""}]
[null,{"$f":"Calculations!A356","v":""},{"$f":"IF(B374=\"\",0,Calculations!B356)","v":0},{"$f":"IF(B374=\"\",0,Calculations!I356)","v":0},{"$f":"IF(B374=\"\",\"\",IF(Calculations!C356=1,\"Yes\",\"No\"))","v":""},{"$f":"IF(B374=\"\",\"\",IF(Calculations!E356=1,\"Yes\",\"No\"))","v":""},{"$f":"IF(B374=\"\",\"\",IF(Calculations!F356=1,\"Yes\",\"No\"))","v":""},{"$f":"IF(B374=\"\",\"\",IF(Calculations!G356=1,\"Yes\",\"No\"))","v":""}]
[null,{"$f":"Calculations!A357","v":""},{"$f":"IF(B375=\"\",0,Calculations!B357)","v":0},{"$f":"IF(B375=\"\",0,Calculations!I357)","v":0},{"$f":"IF(B375=\"\",\"\",IF(Calculations!C357=1,\"Yes\",\"No\"))","v":""},{"$f":"IF(B375=\"\",\"\",IF(Calculations!E357=1,\"Yes\",\"No\"))","v":""},{"$f":"IF(B375=\"\",\"\",IF(Calculations!F357=1,\"Yes\",\"No\"))","v":""},{"$f":"IF(B375=\"\",\"\",IF(Calculations!G357=1,\"Yes\",\"No\"))","v":""}]
[null,{"$f":"Calculations!A358","v":""},{"$f":"IF(B376=\"\",0,Calculations!B358)","v":0},{"$f":"IF(B376=\"\",0,Calculations!I358)","v":0},{"$f":"IF(B376=\"\",\"\",IF(Calculations!C358=1,\"Yes\",\"No\"))","v":""},{"$f":"IF(B376=\"\",\"\",IF(Calculations!E358=1,\"Yes\",\"No\"))","v":""},{"$f":"IF(B376=\"\",\"\",IF(Calculations!F358=1,\"Yes\",\"No\"))","v":""},{"$f":"IF(B376=\"\",\"\",IF(Calculations!G358=1,\"Yes\",\"No\"))","v":""}]
[null,{"$f":"Calculations!A359","v":""},{"$f":"IF(B377=\"\",0,Calculations!B359)","v":0},{"$f":"IF(B377=\"\",0,Calculations!I359)","v":0},{"$f":"IF(B377=\"\",\"\",IF(Calculations!C359=1,\"Yes\",\"No\"))","v":""},{"$f":"IF(B377=\"\",\"\",IF(Calculations!E359=1,\"Yes\",\"No\"))","v":""},{"$f":"IF(B377=\"\",\"\",IF(Calculations!F359=1,\"Yes\",\"No\"))","v":""},{"$f":"IF(B377=\"\",\"\",IF(Calculations!G359=1,\"Yes\",\"No\"))","v":""}]
[null,{"$f":"Calculations!A360","v":""},{"$f":"IF(B378=\"\",0,Calculations!B360)","v":0},{"$f":"IF(B378=\"\",0,Calculations!I360)","v":0},{"$f":"IF(B378=\"\",\"\",IF(Calculations!C360=1,\"Yes\",\"No\"))","v":""},{"$f":"IF(B378=\"\",\"\",IF(Calculations!E360=1,\"Yes\",\"No\"))","v":""},{"$f":"IF(B378=\"\",\"\",IF(Calculations!F360=1,\"Yes\",\"No\"))","v":""},{"$f":"IF(B378=\"\",\"\",IF(Calculations!G360=1,\"Yes\",\"No\"))","v":""}]
[null,{"$f":"Calculations!A361","v":""},{"$f":"IF(B379=\"\",0,Calculations!B361)","v":0},{"$f":"IF(B379=\"\",0,Calculations!I361)","v":0},{"$f":"IF(B379=\"\",\"\",IF(Calculations!C361=1,\"Yes\",\"No\"))","v":""},{"$f":"IF(B379=\"\",\"\",IF(Calculations!E361=1,\"Yes\",\"No\"))","v":""},{"$f":"IF(B379=\"\",\"\",IF(Calculations!F361=1,\"Yes\",\"No\"))","v":""},{"$f":"IF(B379=\"\",\"\",IF(Calculations!G361=1,\"Yes\",\"No\"))","v":""}]
[null,{"$f":"Calculations!A362","v":""},{"$f":"IF(B380=\"\",0,Calculations!B362)","v":0},{"$f":"IF(B380=\"\",0,Calculations!I362)","v":0},{"$f":"IF(B380=\"\",\"\",IF(Calculations!C362=1,\"Yes\",\"No\"))","v":""},{"$f":"IF(B380=\"\",\"\",IF(Calculations!E362=1,\"Yes\",\"No\"))","v":""},{"$f":"IF(B380=\"\",\"\",IF(Calculations!F362=1,\"Yes\",\"No\"))","v":""},{"$f":"IF(B380=\"\",\"\",IF(Calculations!G362=1,\"Yes\",\"No\"))","v":""}]
[null,{"$f":"Calculations!A363","v":""},{"$f":"IF(B381=\"\",0,Calculations!B363)","v":0},{"$f":"IF(B381=\"\",0,Calculations!I363)","v":0},{"$f":"IF(B381=\"\",\"\",IF(Calculations!C363=1,\"Yes\",\"No\"))","v":""},{"$f":"IF(B381=\"\",\"\",IF(Calculations!E363=1,\"Yes\",\"No\"))","v":""},{"$f":"IF(B381=\"\",\"\",IF(Calculations!F363=1,\"Yes\",\"No\"))","v":""},{"$f":"IF(B381=\"\",\"\",IF(Calculations!G363=1,\"Yes\",\"No\"))","v":""}]
[null,{"$f":"Calculations!A364","v":""},{"$f":"IF(B382=\"\",0,Calculations!B364)","v":0},{"$f":"IF(B382=\"\",0,Calculations!I364)","v":0},{"$f":"IF(B382=\"\",\"\",IF(Calculations!C364=1,\"Yes\",\"No\"))","v":""},{"$f":"IF(B382=\"\",\"\",IF(Calculations!E364=1,\"Yes\",\"No\"))","v":""},{"$f":"IF(B382=\"\",\"\",IF(Calculations!F364=1,\"Yes\",\"No\"))","v":""},{"$f":"IF(B382=\"\",\"\",IF(Calculations!G364=1,\"Yes\",\"No\"))","v":""}]
[null,{"$f":"Calculations!A365","v":""},{"$f":"IF(B383=\"\",0,Calculations!B365)","v":0},{"$f":"IF(B383=\"\",0,Calculations!I365)","v":0},{"$f":"IF(B383=\"\",\"\",IF(Calculations!C365=1,\"Yes\",\"No\"))","v":""},{"$f":"IF(B383=\"\",\"\",IF(Calculations!E365=1,\"Yes\",\"No\"))","v":""},{"$f":"IF(B383=\"\",\"\",IF(Calculations!F365=1,\"Yes\",\"No\"))","v":""},{"$f":"IF(B383=\"\",\"\",IF(Calculations!G365=1,\"Yes\",\"No\"))","v":""}]
[null,{"$f":"Calculations!A366","v":""},{"$f":"IF(B384=\"\",0,Calculations!B366)","v":0},{"$f":"IF(B384=\"\",0,Calculations!I366)","v":0},{"$f":"IF(B384=\"\",\"\",IF(Calculations!C366=1,\"Yes\",\"No\"))","v":""},{"$f":"IF(B384=\"\",\"\",IF(Calculations!E366=1,\"Yes\",\"No\"))","v":""},{"$f":"IF(B384=\"\",\"\",IF(Calculations!F366=1,\"Yes\",\"No\"))","v":""},{"$f":"IF(B384=\"\",\"\",IF(Calculations!G366=1,\"Yes\",\"No\"))","v":""}]
[null,{"$f":"Calculations!A367","v":""},{"$f":"IF(B385=\"\",0,Calculations!B367)","v":0},{"$f":"IF(B385=\"\",0,Calculations!I367)","v":0},{"$f":"IF(B385=\"\",\"\",IF(Calculations!C367=1,\"Yes\",\"No\"))","v":""},{"$f":"IF(B385=\"\",\"\",IF(Calculations!E367=1,\"Yes\",\"No\"))","v":""},{"$f":"IF(B385=\"\",\"\",IF(Calculations!F367=1,\"Yes\",\"No\"))","v":""},{"$f":"IF(B385=\"\",\"\",IF(Calculations!G367=1,\"Yes\",\"No\"))","v":""}]
[null,{"$f":"Calculations!A368","v":""},{"$f":"IF(B386=\"\",0,Calculations!B368)","v":0},{"$f":"IF(B386=\"\",0,Calculations!I368)","v":0},{"$f":"IF(B386=\"\",\"\",IF(Calculations!C368=1,\"Yes\",\"No\"))","v":""},{"$f":"IF(B386=\"\",\"\",IF(Calculations!E368=1,\"Yes\",\"No\"))","v":""},{"$f":"IF(B386=\"\",\"\",IF(Calculations!F368=1,\"Yes\",\"No\"))","v":""},{"$f":"IF(B386=\"\",\"\",IF(Calculations!G368=1,\"Yes\",\"No\"))","v":""}]
[null,{"$f":"Calculations!A369","v":""},{"$f":"IF(B387=\"\",0,Calculations!B369)","v":0},{"$f":"IF(B387=\"\",0,Calculations!I369)","v":0},{"$f":"IF(B387=\"\",\"\",IF(Calculations!C369=1,\"Yes\",\"No\"))","v":""},{"$f":"IF(B387=\"\",\"\",IF(Calculations!E369=1,\"Yes\",\"No\"))","v":""},{"$f":"IF(B387=\"\",\"\",IF(Calculations!F369=1,\"Yes\",\"No\"))","v":""},{"$f":"IF(B387=\"\",\"\",IF(Calculations!G369=1,\"Yes\",\"No\"))","v":""}]
[null,{"$f":"Calculations!A370","v":""},{"$f":"IF(B388=\"\",0,Calculations!B370)","v":0},{"$f":"IF(B388=\"\",0,Calculations!I370)","v":0},{"$f":"IF(B388=\"\",\"\",IF(Calculations!C370=1,\"Yes\",\"No\"))","v":""},{"$f":"IF(B388=\"\",\"\",IF(Calculations!E370=1,\"Yes\",\"No\"))","v":""},{"$f":"IF(B388=\"\",\"\",IF(Calculations!F370=1,\"Yes\",\"No\"))","v":""},{"$f":"IF(B388=\"\",\"\",IF(Calculations!G370=1,\"Yes\",\"No\"))","v":""}]
[null,{"$f":"Calculations!A371","v":""},{"$f":"IF(B389=\"\",0,Calculations!B371)","v":0},{"$f":"IF(B389=\"\",0,Calculations!I371)","v":0},{"$f":"IF(B389=\"\",\"\",IF(Calculations!C371=1,\"Yes\",\"No\"))","v":""},{"$f":"IF(B389=\"\",\"\",IF(Calculations!E371=1,\"Yes\",\"No\"))","v":""},{"$f":"IF(B389=\"\",\"\",IF(Calculations!F371=1,\"Yes\",\"No\"))","v":""},{"$f":"IF(B389=\"\",\"\",IF(Calculations!G371=1,\"Yes\",\"No\"))","v":""}]
[null,{"$f":"Calculations!A372","v":""},{"$f":"IF(B390=\"\",0,Calculations!B372)","v":0},{"$f":"IF(B390=\"\",0,Calculations!I372)","v":0},{"$f":"IF(B390=\"\",\"\",IF(Calculations!C372=1,\"Yes\",\"No\"))","v":""},{"$f":"IF(B390=\"\",\"\",IF(Calculations!E372=1,\"Yes\",\"No\"))","v":""},{"$f":"IF(B390=\"\",\"\",IF(Calculations!F372=1,\"Yes\",\"No\"))","v":""},{"$f":"IF(B390=\"\",\"\",IF(Calculations!G372=1,\"Yes\",\"No\"))","v":""}]
[null,{"$f":"Calculations!A373","v":""},{"$f":"IF(B391=\"\",0,Calculations!B373)","v":0},{"$f":"IF(B391=\"\",0,Calculations!I373)","v":0},{"$f":"IF(B391=\"\",\"\",IF(Calculations!C373=1,\"Yes\",\"No\"))","v":""},{"$f":"IF(B391=\"\",\"\",IF(Calculations!E373=1,\"Yes\",\"No\"))","v":""},{"$f":"IF(B391=\"\",\"\",IF(Calculations!F373=1,\"Yes\",\"No\"))","v":""},{"$f":"IF(B391=\"\",\"\",IF(Calculations!G373=1,\"Yes\",\"No\"))","v":""}]
[null,{"$f":"Calculations!A374","v":""},{"$f":"IF(B392=\"\",0,Calculations!B374)","v":0},{"$f":"IF(B392=\"\",0,Calculations!I374)","v":0},{"$f":"IF(B392=\"\",\"\",IF(Calculations!C374=1,\"Yes\",\"No\"))","v":""},{"$f":"IF(B392=\"\",\"\",IF(Calculations!E374=1,\"Yes\",\"No\"))","v":""},{"$f":"IF(B392=\"\",\"\",IF(Calculations!F374=1,\"Yes\",\"No\"))","v":""},{"$f":"IF(B392=\"\",\"\",IF(Calculations!G374=1,\"Yes\",\"No\"))","v":""}]
[null,{"$f":"Calculations!A375","v":""},{"$f":"IF(B393=\"\",0,Calculations!B375)","v":0},{"$f":"IF(B393=\"\",0,Calculations!I375)","v":0},{"$f":"IF(B393=\"\",\"\",IF(Calculations!C375=1,\"Yes\",\"No\"))","v":""},{"$f":"IF(B393=\"\",\"\",IF(Calculations!E375=1,\"Yes\",\"No\"))","v":""},{"$f":"IF(B393=\"\",\"\",IF(Calculations!F375=1,\"Yes\",\"No\"))","v":""},{"$f":"IF(B393=\"\",\"\",IF(Calculations!G375=1,\"Yes\",\"No\"))","v":""}]
[null,{"$f":"Calculations!A376","v":""},{"$f":"IF(B394=\"\",0,Calculations!B376)","v":0},{"$f":"IF(B394=\"\",0,Calculations!I376)","v":0},{"$f":"IF(B394=\"\",\"\",IF(Calculations!C376=1,\"Yes\",\"No\"))","v":""},{"$f":"IF(B394=\"\",\"\",IF(Calculations!E376=1,\"Yes\",\"No\"))","v":""},{"$f":"IF(B394=\"\",\"\",IF(Calculations!F376=1,\"Yes\",\"No\"))","v":""},{"$f":"IF(B394=\"\",\"\",IF(Calculations!G376=1,\"Yes\",\"No\"))","v":""}]
[null,{"$f":"Calculations!A377","v":""},{"$f":"IF(B395=\"\",0,Calculations!B377)","v":0},{"$f":"IF(B395=\"\",0,Calculations!I377)","v":0},{"$f":"IF(B395=\"\",\"\",IF(Calculations!C377=1,\"Yes\",\"No\"))","v":""},{"$f":"IF(B395=\"\",\"\",IF(Calculations!E377=1,\"Yes\",\"No\"))","v":""},{"$f":"IF(B395=\"\",\"\",IF(Calculations!F377=1,\"Yes\",\"No\"))","v":""},{"$f":"IF(B395=\"\",\"\",IF(Calculations!G377=1,\"Yes\",\"No\"))","v":""}]
[null,{"$f":"Calculations!A378","v":""},{"$f":"IF(B396=\"\",0,Calculations!B378)","v":0},{"$f":"IF(B396=\"\",0,Calculations!I378)","v":0},{"$f":"IF(B396=\"\",\"\",IF(Calculations!C378=1,\"Yes\",\"No\"))","v":""},{"$f":"IF(B396=\"\",\"\",IF(Calculations!E378=1,\"Yes\",\"No\"))","v":""},{"$f":"IF(B396=\"\",\"\",IF(Calculations!F378=1,\"Yes\",\"No\"))","v":""},{"$f":"IF(B396=\"\",\"\",IF(Calculations!G378=1,\"Yes\",\"No\"))","v":""}]
[null,{"$f":"Calculations!A379","v":""},{"$f":"IF(B397=\"\",0,Calculations!B379)","v":0},{"$f":"IF(B397=\"\",0,Calculations!I379)","v":0},{"$f":"IF(B397=\"\",\"\",IF(Calculations!C379=1,\"Yes\",\"No\"))","v":""},{"$f":"IF(B397=\"\",\"\",IF(Calculations!E379=1,\"Yes\",\"No\"))","v":""},{"$f":"IF(B397=\"\",\"\",IF(Calculations!F379=1,\"Yes\",\"No\"))","v":""},{"$f":"IF(B397=\"\",\"\",IF(Calculations!G379=1,\"Yes\",\"No\"))","v":""}]
[null,{"$f":"Calculations!A380","v":""},{"$f":"IF(B398=\"\",0,Calculations!B380)","v":0},{"$f":"IF(B398=\"\",0,Calculations!I380)","v":0},{"$f":"IF(B398=\"\",\"\",IF(Calculations!C380=1,\"Yes\",\"No\"))","v":""},{"$f":"IF(B398=\"\",\"\",IF(Calculations!E380=1,\"Yes\",\"No\"))","v":""},{"$f":"IF(B398=\"\",\"\",IF(Calculations!F380=1,\"Yes\",\"No\"))","v":""},{"$f":"IF(B398=\"\",\"\",IF(Calculations!G380=1,\"Yes\",\"No\"))","v":""}]
[null,{"$f":"Calculations!A381","v":""},{"$f":"IF(B399=\"\",0,Calculations!B381)","v":0},{"$f":"IF(B399=\"\",0,Calculations!I381)","v":0},{"$f":"IF(B399=\"\",\"\",IF(Calculations!C381=1,\"Yes\",\"No\"))","v":""},{"$f":"IF(B399=\"\",\"\",IF(Calculations!E381=1,\"Yes\",\"No\"))","v":""},{"$f":"IF(B399=\"\",\"\",IF(Calculations!F381=1,\"Yes\",\"No\"))","v":""},{"$f":"IF(B399=\"\",\"\",IF(Calculations!G381=1,\"Yes\",\"No\"))","v":""}]
[null,{"$f":"Calculations!A382","v":""},{"$f":"IF(B400=\"\",0,Calculations!B382)","v":0},{"$f":"IF(B400=\"\",0,Calculations!I382)","v":0},{"$f":"IF(B400=\"\",\"\",IF(Calculations!C382=1,\"Yes\",\"No\"))","v":""},{"$f":"IF(B400=\"\",\"\",IF(Calculations!E382=1,\"Yes\",\"No\"))","v":""},{"$f":"IF(B400=\"\",\"\",IF(Calculations!F382=1,\"Yes\",\"No\"))","v":""},{"$f":"IF(B400=\"\",\"\",IF(Calculations!G382=1,\"Yes\",\"No\"))","v":""}]
[null,{"$f":"Calculations!A383","v":""},{"$f":"IF(B401=\"\",0,Calculations!B383)","v":0},{"$f":"IF(B401=\"\",0,Calculations!I383)","v":0},{"$f":"IF(B401=\"\",\"\",IF(Calculations!C383=1,\"Yes\",\"No\"))","v":""},{"$f":"IF(B401=\"\",\"\",IF(Calculations!E383=1,\"Yes\",\"No\"))","v":""},{"$f":"IF(B401=\"\",\"\",IF(Calculations!F383=1,\"Yes\",\"No\"))","v":""},{"$f":"IF(B401=\"\",\"\",IF(Calculations!G383=1,\"Yes\",\"No\"))","v":""}]
[null,{"$f":"Calculations!A384","v":""},{"$f":"IF(B402=\"\",0,Calculations!B384)","v":0},{"$f":"IF(B402=\"\",0,Calculations!I384)","v":0},{"$f":"IF(B402=\"\",\"\",IF(Calculations!C384=1,\"Yes\",\"No\"))","v":""},{"$f":"IF(B402=\"\",\"\",IF(Calculations!E384=1,\"Yes\",\"No\"))","v":""},{"$f":"IF(B402=\"\",\"\",IF(Calculations!F384=1,\"Yes\",\"No\"))","v":""},{"$f":"IF(B402=\"\",\"\",IF(Calculations!G384=1,\"Yes\",\"No\"))","v":""}]
[null,{"$f":"Calculations!A385","v":""},{"$f":"IF(B403=\"\",0,Calculations!B385)","v":0},{"$f":"IF(B403=\"\",0,Calculations!I385)","v":0},{"$f":"IF(B403=\"\",\"\",IF(Calculations!C385=1,\"Yes\",\"No\"))","v":""},{"$f":"IF(B403=\"\",\"\",IF(Calculations!E385=1,\"Yes\",\"No\"))","v":""},{"$f":"IF(B403=\"\",\"\",IF(Calculations!F385=1,\"Yes\",\"No\"))","v":""},{"$f":"IF(B403=\"\",\"\",IF(Calculations!G385=1,\"Yes\",\"No\"))","v":""}]
[null,{"$f":"Calculations!A386","v":""},{"$f":"IF(B404=\"\",0,Calculations!B386)","v":0},{"$f":"IF(B404=\"\",0,Calculations!I386)","v":0},{"$f":"IF(B404=\"\",\"\",IF(Calculations!C386=1,\"Yes\",\"No\"))","v":""},{"$f":"IF(B404=\"\",\"\",IF(Calculations!E386=1,\"Yes\",\"No\"))","v":""},{"$f":"IF(B404=\"\",\"\",IF(Calculations!F386=1,\"Yes\",\"No\"))","v":""},{"$f":"IF(B404=\"\",\"\",IF(Calculations!G386=1,\"Yes\",\"No\"))","v":""}]
[null,{"$f":"Calculations!A387","v":""},{"$f":"IF(B405=\"\",0,Calculations!B387)","v":0},{"$f":"IF(B405=\"\",0,Calculations!I387)","v":0},{"$f":"IF(B405=\"\",\"\",IF(Calculations!C387=1,\"Yes\",\"No\"))","v":""},{"$f":"IF(B405=\"\",\"\",IF(Calculations!E387=1,\"Yes\",\"No\"))","v":""},{"$f":"IF(B405=\"\",\"\",IF(Calculations!F387=1,\"Yes\",\"No\"))","v":""},{"$f":"IF(B405=\"\",\"\",IF(Calculations!G387=1,\"Yes\",\"No\"))","v":""}]
[null,{"$f":"Calculations!A388","v":""},{"$f":"IF(B406=\"\",0,Calculations!B388)","v":0},{"$f":"IF(B406=\"\",0,Calculations!I388)","v":0},{"$f":"IF(B406=\"\",\"\",IF(Calculations!C388=1,\"Yes\",\"No\"))","v":""},{"$f":"IF(B406=\"\",\"\",IF(Calculations!E388=1,\"Yes\",\"No\"))","v":""},{"$f":"IF(B406=\"\",\"\",IF(Calculations!F388=1,\"Yes\",\"No\"))","v":""},{"$f":"IF(B406=\"\",\"\",IF(Calculations!G388=1,\"Yes\",\"No\"))","v":""}]
[null,{"$f":"Calculations!A389","v":""},{"$f":"IF(B407=\"\",0,Calculations!B389)","v":0},{"$f":"IF(B407=\"\",0,Calculations!I389)","v":0},{"$f":"IF(B407=\"\",\"\",IF(Calculations!C389=1,\"Yes\",\"No\"))","v":""},{"$f":"IF(B407=\"\",\"\",IF(Calculations!E389=1,\"Yes\",\"No\"))","v":""},{"$f":"IF(B407=\"\",\"\",IF(Calculations!F389=1,\"Yes\",\"No\"))","v":""},{"$f":"IF(B407=\"\",\"\",IF(Calculations!G389=1,\"Yes\",\"No\"))","v":""}]
[null,{"$f":"Calculations!A390","v":""},{"$f":"IF(B408=\"\",0,Calculations!B390)","v":0},{"$f":"IF(B408=\"\",0,Calculations!I390)","v":0},{"$f":"IF(B408=\"\",\"\",IF(Calculations!C390=1,\"Yes\",\"No\"))","v":""},{"$f":"IF(B408=\"\",\"\",IF(Calculations!E390=1,\"Yes\",\"No\"))","v":""},{"$f":"IF(B408=\"\",\"\",IF(Calculations!F390=1,\"Yes\",\"No\"))","v":""},{"$f":"IF(B408=\"\",\"\",IF(Calculations!G390=1,\"Yes\",\"No\"))","v":""}]
[null,{"$f":"Calculations!A391","v":""},{"$f":"IF(B409=\"\",0,Calculations!B391)","v":0},{"$f":"IF(B409=\"\",0,Calculations!I391)","v":0},{"$f":"IF(B409=\"\",\"\",IF(Calculations!C391=1,\"Yes\",\"No\"))","v":""},{"$f":"IF(B409=\"\",\"\",IF(Calculations!E391=1,\"Yes\",\"No\"))","v":""},{"$f":"IF(B409=\"\",\"\",IF(Calculations!F391=1,\"Yes\",\"No\"))","v":""},{"$f":"IF(B409=\"\",\"\",IF(Calculations!G391=1,\"Yes\",\"No\"))","v":""}]
[null,{"$f":"Calculations!A392","v":""},{"$f":"IF(B410=\"\",0,Calculations!B392)","v":0},{"$f":"IF(B410=\"\",0,Calculations!I392)","v":0},{"$f":"IF(B410=\"\",\"\",IF(Calculations!C392=1,\"Yes\",\"No\"))","v":""},{"$f":"IF(B410=\"\",\"\",IF(Calculations!E392=1,\"Yes\",\"No\"))","v":""},{"$f":"IF(B410=\"\",\"\",IF(Calculations!F392=1,\"Yes\",\"No\"))","v":""},{"$f":"IF(B410=\"\",\"\",IF(Calculations!G392=1,\"Yes\",\"No\"))","v":""}]
[null,{"$f":"Calculations!A393","v":""},{"$f":"IF(B411=\"\",0,Calculations!B393)","v":0},{"$f":"IF(B411=\"\",0,Calculations!I393)","v":0},{"$f":"IF(B411=\"\",\"\",IF(Calculations!C393=1,\"Yes\",\"No\"))","v":""},{"$f":"IF(B411=\"\",\"\",IF(Calculations!E393=1,\"Yes\",\"No\"))","v":""},{"$f":"IF(B411=\"\",\"\",IF(Calculations!F393=1,\"Yes\",\"No\"))","v":""},{"$f":"IF(B411=\"\",\"\",IF(Calculations!G393=1,\"Yes\",\"No\"))","v":""}]
[null,{"$f":"Calculations!A394","v":""},{"$f":"IF(B412=\"\",0,Calculations!B394)","v":0},{"$f":"IF(B412=\"\",0,Calculations!I394)","v":0},{"$f":"IF(B412=\"\",\"\",IF(Calculations!C394=1,\"Yes\",\"No\"))","v":""},{"$f":"IF(B412=\"\",\"\",IF(Calculations!E394=1,\"Yes\",\"No\"))","v":""},{"$f":"IF(B412=\"\",\"\",IF(Calculations!F394=1,\"Yes\",\"No\"))","v":""},{"$f":"IF(B412=\"\",\"\",IF(Calculations!G394=1,\"Yes\",\"No\"))","v":""}]
[null,{"$f":"Calculations!A395","v":""},{"$f":"IF(B413=\"\",0,Calculations!B395)","v":0},{"$f":"IF(B413=\"\",0,Calculations!I395)","v":0},{"$f":"IF(B413=\"\",\"\",IF(Calculations!C395=1,\"Yes\",\"No\"))","v":""},{"$f":"IF(B413=\"\",\"\",IF(Calculations!E395=1,\"Yes\",\"No\"))","v":""},{"$f":"IF(B413=\"\",\"\",IF(Calculations!F395=1,\"Yes\",\"No\"))","v":""},{"$f":"IF(B413=\"\",\"\",IF(Calculations!G395=1,\"Yes\",\"No\"))","v":""}]
[null,{"$f":"Calculations!A396","v":""},{"$f":"IF(B414=\"\",0,Calculations!B396)","v":0},{"$f":"IF(B414=\"\",0,Calculations!I396)","v":0},{"$f":"IF(B414=\"\",\"\",IF(Calculations!C396=1,\"Yes\",\"No\"))","v":""},{"$f":"IF(B414=\"\",\"\",IF(Calculations!E396=1,\"Yes\",\"No\"))","v":""},{"$f":"IF(B414=\"\",\"\",IF(Calculations!F396=1,\"Yes\",\"No\"))","v":""},{"$f":"IF(B414=\"\",\"\",IF(Calculations!G396=1,\"Yes\",\"No\"))","v":""}]
[null,{"$f":"Calculations!A397","v":""},{"$f":"IF(B415=\"\",0,Calculations!B397)","v":0},{"$f":"IF(B415=\"\",0,Calculations!I397)","v":0},{"$f":"IF(B415=\"\",\"\",IF(Calculations!C397=1,\"Yes\",\"No\"))","v":""},{"$f":"IF(B415=\"\",\"\",IF(Calculations!E397=1,\"Yes\",\"No\"))","v":""},{"$f":"IF(B415=\"\",\"\",IF(Calculations!F397=1,\"Yes\",\"No\"))","v":""},{"$f":"IF(B415=\"\",\"\",IF(Calculations!G397=1,\"Yes\",\"No\"))","v":""}]
[null,{"$f":"Calculations!A398","v":""},{"$f":"IF(B416=\"\",0,Calculations!B398)","v":0},{"$f":"IF(B416=\"\",0,Calculations!I398)","v":0},{"$f":"IF(B416=\"\",\"\",IF(Calculations!C398=1,\"Yes\",\"No\"))","v":""},{"$f":"IF(B416=\"\",\"\",IF(Calculations!E398=1,\"Yes\",\"No\"))","v":""},{"$f":"IF(B416=\"\",\"\",IF(Calculations!F398=1,\"Yes\",\"No\"))","v":""},{"$f":"IF(B416=\"\",\"\",IF(Calculations!G398=1,\"Yes\",\"No\"))","v":""}]
[null,{"$f":"Calculations!A399","v":""},{"$f":"IF(B417=\"\",0,Calculations!B399)","v":0},{"$f":"IF(B417=\"\",0,Calculations!I399)","v":0},{"$f":"IF(B417=\"\",\"\",IF(Calculations!C399=1,\"Yes\",\"No\"))","v":""},{"$f":"IF(B417=\"\",\"\",IF(Calculations!E399=1,\"Yes\",\"No\"))","v":""},{"$f":"IF(B417=\"\",\"\",IF(Calculations!F399=1,\"Yes\",\"No\"))","v":""},{"$f":"IF(B417=\"\",\"\",IF(Calculations!G399=1,\"Yes\",\"No\"))","v":""}]
[null,{"$f":"Calculations!A400","v":""},{"$f":"IF(B418=\"\",0,Calculations!B400)","v":0},{"$f":"IF(B418=\"\",0,Calculations!I400)","v":0},{"$f":"IF(B418=\"\",\"\",IF(Calculations!C400=1,\"Yes\",\"No\"))","v":""},{"$f":"IF(B418=\"\",\"\",IF(Calculations!E400=1,\"Yes\",\"No\"))","v":""},{"$f":"IF(B418=\"\",\"\",IF(Calculations!F400=1,\"Yes\",\"No\"))","v":""},{"$f":"IF(B418=\"\",\"\",IF(Calculations!G400=1,\"Yes\",\"No\"))","v":""}]
[null,{"$f":"Calculations!A401","v":""},{"$f":"IF(B419=\"\",0,Calculations!B401)","v":0},{"$f":"IF(B419=\"\",0,Calculations!I401)","v":0},{"$f":"IF(B419=\"\",\"\",IF(Calculations!C401=1,\"Yes\",\"No\"))","v":""},{"$f":"IF(B419=\"\",\"\",IF(Calculations!E401=1,\"Yes\",\"No\"))","v":""},{"$f":"IF(B419=\"\",\"\",IF(Calculations!F401=1,\"Yes\",\"No\"))","v":""},{"$f":"IF(B419=\"\",\"\",IF(Calculations!G401=1,\"Yes\",\"No\"))","v":""}]
[null,{"$f":"Calculations!A402","v":""},{"$f":"IF(B420=\"\",0,Calculations!B402)","v":0},{"$f":"IF(B420=\"\",0,Calculations!I402)","v":0},{"$f":"IF(B420=\"\",\"\",IF(Calculations!C402=1,\"Yes\",\"No\"))","v":""},{"$f":"IF(B420=\"\",\"\",IF(Calculations!E402=1,\"Yes\",\"No\"))","v":""},{"$f":"IF(B420=\"\",\"\",IF(Calculations!F402=1,\"Yes\",\"No\"))","v":""},{"$f":"IF(B420=\"\",\"\",IF(Calculations!G402=1,\"Yes\",\"No\"))","v":""}]
[null,{"$f":"Calculations!A403","v":""},{"$f":"IF(B421=\"\",0,Calculations!B403)","v":0},{"$f":"IF(B421=\"\",0,Calculations!I403)","v":0},{"$f":"IF(B421=\"\",\"\",IF(Calculations!C403=1,\"Yes\",\"No\"))","v":""},{"$f":"IF(B421=\"\",\"\",IF(Calculations!E403=1,\"Yes\",\"No\"))","v":""},{"$f":"IF(B421=\"\",\"\",IF(Calculations!F403=1,\"Yes\",\"No\"))","v":""},{"$f":"IF(B421=\"\",\"\",IF(Calculations!G403=1,\"Yes\",\"No\"))","v":""}]
[null,{"$f":"Calculations!A404","v":""},{"$f":"IF(B422=\"\",0,Calculations!B404)","v":0},{"$f":"IF(B422=\"\",0,Calculations!I404)","v":0},{"$f":"IF(B422=\"\",\"\",IF(Calculations!C404=1,\"Yes\",\"No\"))","v":""},{"$f":"IF(B422=\"\",\"\",IF(Calculations!E404=1,\"Yes\",\"No\"))","v":""},{"$f":"IF(B422=\"\",\"\",IF(Calculations!F404=1,\"Yes\",\"No\"))","v":""},{"$f":"IF(B422=\"\",\"\",IF(Calculations!G404=1,\"Yes\",\"No\"))","v":""}]
[null,{"$f":"Calculations!A405","v":""},{"$f":"IF(B423=\"\",0,Calculations!B405)","v":0},{"$f":"IF(B423=\"\",0,Calculations!I405)","v":0},{"$f":"IF(B423=\"\",\"\",IF(Calculations!C405=1,\"Yes\",\"No\"))","v":""},{"$f":"IF(B423=\"\",\"\",IF(Calculations!E405=1,\"Yes\",\"No\"))","v":""},{"$f":"IF(B423=\"\",\"\",IF(Calculations!F405=1,\"Yes\",\"No\"))","v":""},{"$f":"IF(B423=\"\",\"\",IF(Calculations!G405=1,\"Yes\",\"No\"))","v":""}]
[null,{"$f":"Calculations!A406","v":""},{"$f":"IF(B424=\"\",0,Calculations!B406)","v":0},{"$f":"IF(B424=\"\",0,Calculations!I406)","v":0},{"$f":"IF(B424=\"\",\"\",IF(Calculations!C406=1,\"Yes\",\"No\"))","v":""},{"$f":"IF(B424=\"\",\"\",IF(Calculations!E406=1,\"Yes\",\"No\"))","v":""},{"$f":"IF(B424=\"\",\"\",IF(Calculations!F406=1,\"Yes\",\"No\"))","v":""},{"$f":"IF(B424=\"\",\"\",IF(Calculations!G406=1,\"Yes\",\"No\"))","v":""}]
[null,{"$f":"Calculations!A407","v":""},{"$f":"IF(B425=\"\",0,Calculations!B407)","v":0},{"$f":"IF(B425=\"\",0,Calculations!I407)","v":0},{"$f":"IF(B425=\"\",\"\",IF(Calculations!C407=1,\"Yes\",\"No\"))","v":""},{"$f":"IF(B425=\"\",\"\",IF(Calculations!E407=1,\"Yes\",\"No\"))","v":""},{"$f":"IF(B425=\"\",\"\",IF(Calculations!F407=1,\"Yes\",\"No\"))","v":""},{"$f":"IF(B425=\"\",\"\",IF(Calculations!G407=1,\"Yes\",\"No\"))","v":""}]
[null,{"$f":"Calculations!A408","v":""},{"$f":"IF(B426=\"\",0,Calculations!B408)","v":0},{"$f":"IF(B426=\"\",0,Calculations!I408)","v":0},{"$f":"IF(B426=\"\",\"\",IF(Calculations!C408=1,\"Yes\",\"No\"))","v":""},{"$f":"IF(B426=\"\",\"\",IF(Calculations!E408=1,\"Yes\",\"No\"))","v":""},{"$f":"IF(B426=\"\",\"\",IF(Calculations!F408=1,\"Yes\",\"No\"))","v":""},{"$f":"IF(B426=\"\",\"\",IF(Calculations!G408=1,\"Yes\",\"No\"))","v":""}]
[null,{"$f":"Calculations!A409","v":""},{"$f":"IF(B427=\"\",0,Calculations!B409)","v":0},{"$f":"IF(B427=\"\",0,Calculations!I409)","v":0},{"$f":"IF(B427=\"\",\"\",IF(Calculations!C409=1,\"Yes\",\"No\"))","v":""},{"$f":"IF(B427=\"\",\"\",IF(Calculations!E409=1,\"Yes\",\"No\"))","v":""},{"$f":"IF(B427=\"\",\"\",IF(Calculations!F409=1,\"Yes\",\"No\"))","v":""},{"$f":"IF(B427=\"\",\"\",IF(Calculations!G409=1,\"Yes\",\"No\"))","v":""}]
[null,{"$f":"Calculations!A410","v":""},{"$f":"IF(B428=\"\",0,Calculations!B410)","v":0},{"$f":"IF(B428=\"\",0,Calculations!I410)","v":0},{"$f":"IF(B428=\"\",\"\",IF(Calculations!C410=1,\"Yes\",\"No\"))","v":""},{"$f":"IF(B428=\"\",\"\",IF(Calculations!E410=1,\"Yes\",\"No\"))","v":""},{"$f":"IF(B428=\"\",\"\",IF(Calculations!F410=1,\"Yes\",\"No\"))","v":""},{"$f":"IF(B428=\"\",\"\",IF(Calculations!G410=1,\"Yes\",\"No\"))","v":""}]
[null,{"$f":"Calculations!A411","v":""},{"$f":"IF(B429=\"\",0,Calculations!B411)","v":0},{"$f":"IF(B429=\"\",0,Calculations!I411)","v":0},{"$f":"IF(B429=\"\",\"\",IF(Calculations!C411=1,\"Yes\",\"No\"))","v":""},{"$f":"IF(B429=\"\",\"\",IF(Calculations!E411=1,\"Yes\",\"No\"))","v":""},{"$f":"IF(B429=\"\",\"\",IF(Calculations!F411=1,\"Yes\",\"No\"))","v":""},{"$f":"IF(B429=\"\",\"\",IF(Calculations!G411=1,\"Yes\",\"No\"))","v":""}]
[null,{"$f":"Calculations!A412","v":""},{"$f":"IF(B430=\"\",0,Calculations!B412)","v":0},{"$f":"IF(B430=\"\",0,Calculations!I412)","v":0},{"$f":"IF(B430=\"\",\"\",IF(Calculations!C412=1,\"Yes\",\"No\"))","v":""},{"$f":"IF(B430=\"\",\"\",IF(Calculations!E412=1,\"Yes\",\"No\"))","v":""},{"$f":"IF(B430=\"\",\"\",IF(Calculations!F412=1,\"Yes\",\"No\"))","v":""},{"$f":"IF(B430=\"\",\"\",IF(Calculations!G412=1,\"Yes\",\"No\"))","v":""}]
[null,{"$f":"Calculations!A413","v":""},{"$f":"IF(B431=\"\",0,Calculations!B413)","v":0},{"$f":"IF(B431=\"\",0,Calculations!I413)","v":0},{"$f":"IF(B431=\"\",\"\",IF(Calculations!C413=1,\"Yes\",\"No\"))","v":""},{"$f":"IF(B431=\"\",\"\",IF(Calculations!E413=1,\"Yes\",\"No\"))","v":""},{"$f":"IF(B431=\"\",\"\",IF(Calculations!F413=1,\"Yes\",\"No\"))","v":""},{"$f":"IF(B431=\"\",\"\",IF(Calculations!G413=1,\"Yes\",\"No\"))","v":""}]
[null,{"$f":"Calculations!A414","v":""},{"$f":"IF(B432=\"\",0,Calculations!B414)","v":0},{"$f":"IF(B432=\"\",0,Calculations!I414)","v":0},{"$f":"IF(B432=\"\",\"\",IF(Calculations!C414=1,\"Yes\",\"No\"))","v":""},{"$f":"IF(B432=\"\",\"\",IF(Calculations!E414=1,\"Yes\",\"No\"))","v":""},{"$f":"IF(B432=\"\",\"\",IF(Calculations!F414=1,\"Yes\",\"No\"))","v":""},{"$f":"IF(B432=\"\",\"\",IF(Calculations!G414=1,\"Yes\",\"No\"))","v":""}]
[null,{"$f":"Calculations!A415","v":""},{"$f":"IF(B433=\"\",0,Calculations!B415)","v":0},{"$f":"IF(B433=\"\",0,Calculations!I415)","v":0},{"$f":"IF(B433=\"\",\"\",IF(Calculations!C415=1,\"Yes\",\"No\"))","v":""},{"$f":"IF(B433=\"\",\"\",IF(Calculations!E415=1,\"Yes\",\"No\"))","v":""},{"$f":"IF(B433=\"\",\"\",IF(Calculations!F415=1,\"Yes\",\"No\"))","v":""},{"$f":"IF(B433=\"\",\"\",IF(Calculations!G415=1,\"Yes\",\"No\"))","v":""}]
[null,{"$f":"Calculations!A416","v":""},{"$f":"IF(B434=\"\",0,Calculations!B416)","v":0},{"$f":"IF(B434=\"\",0,Calculations!I416)","v":0},{"$f":"IF(B434=\"\",\"\",IF(Calculations!C416=1,\"Yes\",\"No\"))","v":""},{"$f":"IF(B434=\"\",\"\",IF(Calculations!E416=1,\"Yes\",\"No\"))","v":""},{"$f":"IF(B434=\"\",\"\",IF(Calculations!F416=1,\"Yes\",\"No\"))","v":""},{"$f":"IF(B434=\"\",\"\",IF(Calculations!G416=1,\"Yes\",\"No\"))","v":""}]
[null,{"$f":"Calculations!A417","v":""},{"$f":"IF(B435=\"\",0,Calculations!B417)","v":0},{"$f":"IF(B435=\"\",0,Calculations!I417)","v":0},{"$f":"IF(B435=\"\",\"\",IF(Calculations!C417=1,\"Yes\",\"No\"))","v":""},{"$f":"IF(B435=\"\",\"\",IF(Calculations!E417=1,\"Yes\",\"No\"))","v":""},{"$f":"IF(B435=\"\",\"\",IF(Calculations!F417=1,\"Yes\",\"No\"))","v":""},{"$f":"IF(B435=\"\",\"\",IF(Calculations!G417=1,\"Yes\",\"No\"))","v":""}]
[null,{"$f":"Calculations!A418","v":""},{"$f":"IF(B436=\"\",0,Calculations!B418)","v":0},{"$f":"IF(B436=\"\",0,Calculations!I418)","v":0},{"$f":"IF(B436=\"\",\"\",IF(Calculations!C418=1,\"Yes\",\"No\"))","v":""},{"$f":"IF(B436=\"\",\"\",IF(Calculations!E418=1,\"Yes\",\"No\"))","v":""},{"$f":"IF(B436=\"\",\"\",IF(Calculations!F418=1,\"Yes\",\"No\"))","v":""},{"$f":"IF(B436=\"\",\"\",IF(Calculations!G418=1,\"Yes\",\"No\"))","v":""}]
[null,{"$f":"Calculations!A419","v":""},{"$f":"IF(B437=\"\",0,Calculations!B419)","v":0},{"$f":"IF(B437=\"\",0,Calculations!I419)","v":0},{"$f":"IF(B437=\"\",\"\",IF(Calculations!C419=1,\"Yes\",\"No\"))","v":""},{"$f":"IF(B437=\"\",\"\",IF(Calculations!E419=1,\"Yes\",\"No\"))","v":""},{"$f":"IF(B437=\"\",\"\",IF(Calculations!F419=1,\"Yes\",\"No\"))","v":""},{"$f":"IF(B437=\"\",\"\",IF(Calculations!G419=1,\"Yes\",\"No\"))","v":""}]
[null,{"$f":"Calculations!A420","v":""},{"$f":"IF(B438=\"\",0,Calculations!B420)","v":0},{"$f":"IF(B438=\"\",0,Calculations!I420)","v":0},{"$f":"IF(B438=\"\",\"\",IF(Calculations!C420=1,\"Yes\",\"No\"))","v":""},{"$f":"IF(B438=\"\",\"\",IF(Calculations!E420=1,\"Yes\",\"No\"))","v":""},{"$f":"IF(B438=\"\",\"\",IF(Calculations!F420=1,\"Yes\",\"No\"))","v":""},{"$f":"IF(B438=\"\",\"\",IF(Calculations!G420=1,\"Yes\",\"No\"))","v":""}]
[null,{"$f":"Calculations!A421","v":""},{"$f":"IF(B439=\"\",0,Calculations!B421)","v":0},{"$f":"IF(B439=\"\",0,Calculations!I421)","v":0},{"$f":"IF(B439=\"\",\"\",IF(Calculations!C421=1,\"Yes\",\"No\"))","v":""},{"$f":"IF(B439=\"\",\"\",IF(Calculations!E421=1,\"Yes\",\"No\"))","v":""},{"$f":"IF(B439=\"\",\"\",IF(Calculations!F421=1,\"Yes\",\"No\"))","v":""},{"$f":"IF(B439=\"\",\"\",IF(Calculations!G421=1,\"Yes\",\"No\"))","v":""}]
[null,{"$f":"Calculations!A422","v":""},{"$f":"IF(B440=\"\",0,Calculations!B422)","v":0},{"$f":"IF(B440=\"\",0,Calculations!I422)","v":0},{"$f":"IF(B440=\"\",\"\",IF(Calculations!C422=1,\"Yes\",\"No\"))","v":""},{"$f":"IF(B440=\"\",\"\",IF(Calculations!E422=1,\"Yes\",\"No\"))","v":""},{"$f":"IF(B440=\"\",\"\",IF(Calculations!F422=1,\"Yes\",\"No\"))","v":""},{"$f":"IF(B440=\"\",\"\",IF(Calculations!G422=1,\"Yes\",\"No\"))","v":""}]
[null,{"$f":"Calculations!A423","v":""},{"$f":"IF(B441=\"\",0,Calculations!B423)","v":0},{"$f":"IF(B441=\"\",0,Calculations!I423)","v":0},{"$f":"IF(B441=\"\",\"\",IF(Calculations!C423=1,\"Yes\",\"No\"))","v":""},{"$f":"IF(B441=\"\",\"\",IF(Calculations!E423=1,\"Yes\",\"No\"))","v":""},{"$f":"IF(B441=\"\",\"\",IF(Calculations!F423=1,\"Yes\",\"No\"))","v":""},{"$f":"IF(B441=\"\",\"\",IF(Calculations!G423=1,\"Yes\",\"No\"))","v":""}]
[null,{"$f":"Calculations!A424","v":""},{"$f":"IF(B442=\"\",0,Calculations!B424)","v":0},{"$f":"IF(B442=\"\",0,Calculations!I424)","v":0},{"$f":"IF(B442=\"\",\"\",IF(Calculations!C424=1,\"Yes\",\"No\"))","v":""},{"$f":"IF(B442=\"\",\"\",IF(Calculations!E424=1,\"Yes\",\"No\"))","v":""},{"$f":"IF(B442=\"\",\"\",IF(Calculations!F424=1,\"Yes\",\"No\"))","v":""},{"$f":"IF(B442=\"\",\"\",IF(Calculations!G424=1,\"Yes\",\"No\"))","v":""}]
[null,{"$f":"Calculations!A425","v":""},{"$f":"IF(B443=\"\",0,Calculations!B425)","v":0},{"$f":"IF(B443=\"\",0,Calculations!I425)","v":0},{"$f":"IF(B443=\"\",\"\",IF(Calculations!C425=1,\"Yes\",\"No\"))","v":""},{"$f":"IF(B443=\"\",\"\",IF(Calculations!E425=1,\"Yes\",\"No\"))","v":""},{"$f":"IF(B443=\"\",\"\",IF(Calculations!F425=1,\"Yes\",\"No\"))","v":""},{"$f":"IF(B443=\"\",\"\",IF(Calculations!G425=1,\"Yes\",\"No\"))","v":""}]
[null,{"$f":"Calculations!A426","v":""},{"$f":"IF(B444=\"\",0,Calculations!B426)","v":0},{"$f":"IF(B444=\"\",0,Calculations!I426)","v":0},{"$f":"IF(B444=\"\",\"\",IF(Calculations!C426=1,\"Yes\",\"No\"))","v":""},{"$f":"IF(B444=\"\",\"\",IF(Calculations!E426=1,\"Yes\",\"No\"))","v":""},{"$f":"IF(B444=\"\",\"\",IF(Calculations!F426=1,\"Yes\",\"No\"))","v":""},{"$f":"IF(B444=\"\",\"\",IF(Calculations!G426=1,\"Yes\",\"No\"))","v":""}]
[null,{"$f":"Calculations!A427","v":""},{"$f":"IF(B445=\"\",0,Calculations!B427)","v":0},{"$f":"IF(B445=\"\",0,Calculations!I427)","v":0},{"$f":"IF(B445=\"\",\"\",IF(Calculations!C427=1,\"Yes\",\"No\"))","v":""},{"$f":"IF(B445=\"\",\"\",IF(Calculations!E427=1,\"Yes\",\"No\"))","v":""},{"$f":"IF(B445=\"\",\"\",IF(Calculations!F427=1,\"Yes\",\"No\"))","v":""},{"$f":"IF(B445=\"\",\"\",IF(Calculations!G427=1,\"Yes\",\"No\"))","v":""}]
[null,{"$f":"Calculations!A428","v":""},{"$f":"IF(B446=\"\",0,Calculations!B428)","v":0},{"$f":"IF(B446=\"\",0,Calculations!I428)","v":0},{"$f":"IF(B446=\"\",\"\",IF(Calculations!C428=1,\"Yes\",\"No\"))","v":""},{"$f":"IF(B446=\"\",\"\",IF(Calculations!E428=1,\"Yes\",\"No\"))","v":""},{"$f":"IF(B446=\"\",\"\",IF(Calculations!F428=1,\"Yes\",\"No\"))","v":""},{"$f":"IF(B446=\"\",\"\",IF(Calculations!G428=1,\"Yes\",\"No\"))","v":""}]
[null,{"$f":"Calculations!A429","v":""},{"$f":"IF(B447=\"\",0,Calculations!B429)","v":0},{"$f":"IF(B447=\"\",0,Calculations!I429)","v":0},{"$f":"IF(B447=\"\",\"\",IF(Calculations!C429=1,\"Yes\",\"No\"))","v":""},{"$f":"IF(B447=\"\",\"\",IF(Calculations!E429=1,\"Yes\",\"No\"))","v":""},{"$f":"IF(B447=\"\",\"\",IF(Calculations!F429=1,\"Yes\",\"No\"))","v":""},{"$f":"IF(B447=\"\",\"\",IF(Calculations!G429=1,\"Yes\",\"No\"))","v":""}]
[null,{"$f":"Calculations!A430","v":""},{"$f":"IF(B448=\"\",0,Calculations!B430)","v":0},{"$f":"IF(B448=\"\",0,Calculations!I430)","v":0},{"$f":"IF(B448=\"\",\"\",IF(Calculations!C430=1,\"Yes\",\"No\"))","v":""},{"$f":"IF(B448=\"\",\"\",IF(Calculations!E430=1,\"Yes\",\"No\"))","v":""},{"$f":"IF(B448=\"\",\"\",IF(Calculations!F430=1,\"Yes\",\"No\"))","v":""},{"$f":"IF(B448=\"\",\"\",IF(Calculations!G430=1,\"Yes\",\"No\"))","v":""}]
[null,{"$f":"Calculations!A431","v":""},{"$f":"IF(B449=\"\",0,Calculations!B431)","v":0},{"$f":"IF(B449=\"\",0,Calculations!I431)","v":0},{"$f":"IF(B449=\"\",\"\",IF(Calculations!C431=1,\"Yes\",\"No\"))","v":""},{"$f":"IF(B449=\"\",\"\",IF(Calculations!E431=1,\"Yes\",\"No\"))","v":""},{"$f":"IF(B449=\"\",\"\",IF(Calculations!F431=1,\"Yes\",\"No\"))","v":""},{"$f":"IF(B449=\"\",\"\",IF(Calculations!G431=1,\"Yes\",\"No\"))","v":""}]
[null,{"$f":"Calculations!A432","v":""},{"$f":"IF(B450=\"\",0,Calculations!B432)","v":0},{"$f":"IF(B450=\"\",0,Calculations!I432)","v":0},{"$f":"IF(B450=\"\",\"\",IF(Calculations!C432=1,\"Yes\",\"No\"))","v":""},{"$f":"IF(B450=\"\",\"\",IF(Calculations!E432=1,\"Yes\",\"No\"))","v":""},{"$f":"IF(B450=\"\",\"\",IF(Calculations!F432=1,\"Yes\",\"No\"))","v":""},{"$f":"IF(B450=\"\",\"\",IF(Calculations!G432=1,\"Yes\",\"No\"))","v":""}]
[null,{"$f":"Calculations!A433","v":""},{"$f":"IF(B451=\"\",0,Calculations!B433)","v":0},{"$f":"IF(B451=\"\",0,Calculations!I433)","v":0},{"$f":"IF(B451=\"\",\"\",IF(Calculations!C433=1,\"Yes\",\"No\"))","v":""},{"$f":"IF(B451=\"\",\"\",IF(Calculations!E433=1,\"Yes\",\"No\"))","v":""},{"$f":"IF(B451=\"\",\"\",IF(Calculations!F433=1,\"Yes\",\"No\"))","v":""},{"$f":"IF(B451=\"\",\"\",IF(Calculations!G433=1,\"Yes\",\"No\"))","v":""}]
[null,{"$f":"Calculations!A434","v":""},{"$f":"IF(B452=\"\",0,Calculations!B434)","v":0},{"$f":"IF(B452=\"\",0,Calculations!I434)","v":0},{"$f":"IF(B452=\"\",\"\",IF(Calculations!C434=1,\"Yes\",\"No\"))","v":""},{"$f":"IF(B452=\"\",\"\",IF(Calculations!E434=1,\"Yes\",\"No\"))","v":""},{"$f":"IF(B452=\"\",\"\",IF(Calculations!F434=1,\"Yes\",\"No\"))","v":""},{"$f":"IF(B452=\"\",\"\",IF(Calculations!G434=1,\"Yes\",\"No\"))","v":""}]
[null,{"$f":"Calculations!A435","v":""},{"$f":"IF(B453=\"\",0,Calculations!B435)","v":0},{"$f":"IF(B453=\"\",0,Calculations!I435)","v":0},{"$f":"IF(B453=\"\",\"\",IF(Calculations!C435=1,\"Yes\",\"No\"))","v":""},{"$f":"IF(B453=\"\",\"\",IF(Calculations!E435=1,\"Yes\",\"No\"))","v":""},{"$f":"IF(B453=\"\",\"\",IF(Calculations!F435=1,\"Yes\",\"No\"))","v":""},{"$f":"IF(B453=\"\",\"\",IF(Calculations!G435=1,\"Yes\",\"No\"))","v":""}]
[null,{"$f":"Calculations!A436","v":""},{"$f":"IF(B454=\"\",0,Calculations!B436)","v":0},{"$f":"IF(B454=\"\",0,Calculations!I436)","v":0},{"$f":"IF(B454=\"\",\"\",IF(Calculations!C436=1,\"Yes\",\"No\"))","v":""},{"$f":"IF(B454=\"\",\"\",IF(Calculations!E436=1,\"Yes\",\"No\"))","v":""},{"$f":"IF(B454=\"\",\"\",IF(Calculations!F436=1,\"Yes\",\"No\"))","v":""},{"$f":"IF(B454=\"\",\"\",IF(Calculations!G436=1,\"Yes\",\"No\"))","v":""}]
[null,{"$f":"Calculations!A437","v":""},{"$f":"IF(B455=\"\",0,Calculations!B437)","v":0},{"$f":"IF(B455=\"\",0,Calculations!I437)","v":0},{"$f":"IF(B455=\"\",\"\",IF(Calculations!C437=1,\"Yes\",\"No\"))","v":""},{"$f":"IF(B455=\"\",\"\",IF(Calculations!E437=1,\"Yes\",\"No\"))","v":""},{"$f":"IF(B455=\"\",\"\",IF(Calculations!F437=1,\"Yes\",\"No\"))","v":""},{"$f":"IF(B455=\"\",\"\",IF(Calculations!G437=1,\"Yes\",\"No\"))","v":""}]
[null,{"$f":"Calculations!A438","v":""},{"$f":"IF(B456=\"\",0,Calculations!B438)","v":0},{"$f":"IF(B456=\"\",0,Calculations!I438)","v":0},{"$f":"IF(B456=\"\",\"\",IF(Calculations!C438=1,\"Yes\",\"No\"))","v":""},{"$f":"IF(B456=\"\",\"\",IF(Calculations!E438=1,\"Yes\",\"No\"))","v":""},{"$f":"IF(B456=\"\",\"\",IF(Calculations!F438=1,\"Yes\",\"No\"))","v":""},{"$f":"IF(B456=\"\",\"\",IF(Calculations!G438=1,\"Yes\",\"No\"))","v":""}]
[null,{"$f":"Calculations!A439","v":""},{"$f":"IF(B457=\"\",0,Calculations!B439)","v":0},{"$f":"IF(B457=\"\",0,Calculations!I439)","v":0},{"$f":"IF(B457=\"\",\"\",IF(Calculations!C439=1,\"Yes\",\"No\"))","v":""},{"$f":"IF(B457=\"\",\"\",IF(Calculations!E439=1,\"Yes\",\"No\"))","v":""},{"$f":"IF(B457=\"\",\"\",IF(Calculations!F439=1,\"Yes\",\"No\"))","v":""},{"$f":"IF(B457=\"\",\"\",IF(Calculations!G439=1,\"Yes\",\"No\"))","v":""}]
[null,{"$f":"Calculations!A440","v":""},{"$f":"IF(B458=\"\",0,Calculations!B440)","v":0},{"$f":"IF(B458=\"\",0,Calculations!I440)","v":0},{"$f":"IF(B458=\"\",\"\",IF(Calculations!C440=1,\"Yes\",\"No\"))","v":""},{"$f":"IF(B458=\"\",\"\",IF(Calculations!E440=1,\"Yes\",\"No\"))","v":""},{"$f":"IF(B458=\"\",\"\",IF(Calculations!F440=1,\"Yes\",\"No\"))","v":""},{"$f":"IF(B458=\"\",\"\",IF(Calculations!G440=1,\"Yes\",\"No\"))","v":""}]
[null,{"$f":"Calculations!A441","v":""},{"$f":"IF(B459=\"\",0,Calculations!B441)","v":0},{"$f":"IF(B459=\"\",0,Calculations!I441)","v":0},{"$f":"IF(B459=\"\",\"\",IF(Calculations!C441=1,\"Yes\",\"No\"))","v":""},{"$f":"IF(B459=\"\",\"\",IF(Calculations!E441=1,\"Yes\",\"No\"))","v":""},{"$f":"IF(B459=\"\",\"\",IF(Calculations!F441=1,\"Yes\",\"No\"))","v":""},{"$f":"IF(B459=\"\",\"\",IF(Calculations!G441=1,\"Yes\",\"No\"))","v":""}]
[null,{"$f":"Calculations!A442","v":""},{"$f":"IF(B460=\"\",0,Calculations!B442)","v":0},{"$f":"IF(B460=\"\",0,Calculations!I442)","v":0},{"$f":"IF(B460=\"\",\"\",IF(Calculations!C442=1,\"Yes\",\"No\"))","v":""},{"$f":"IF(B460=\"\",\"\",IF(Calculations!E442=1,\"Yes\",\"No\"))","v":""},{"$f":"IF(B460=\"\",\"\",IF(Calculations!F442=1,\"Yes\",\"No\"))","v":""},{"$f":"IF(B460=\"\",\"\",IF(Calculations!G442=1,\"Yes\",\"No\"))","v":""}]
[null,{"$f":"Calculations!A443","v":""},{"$f":"IF(B461=\"\",0,Calculations!B443)","v":0},{"$f":"IF(B461=\"\",0,Calculations!I443)","v":0},{"$f":"IF(B461=\"\",\"\",IF(Calculations!C443=1,\"Yes\",\"No\"))","v":""},{"$f":"IF(B461=\"\",\"\",IF(Calculations!E443=1,\"Yes\",\"No\"))","v":""},{"$f":"IF(B461=\"\",\"\",IF(Calculations!F443=1,\"Yes\",\"No\"))","v":""},{"$f":"IF(B461=\"\",\"\",IF(Calculations!G443=1,\"Yes\",\"No\"))","v":""}]
[null,{"$f":"Calculations!A444","v":""},{"$f":"IF(B462=\"\",0,Calculations!B444)","v":0},{"$f":"IF(B462=\"\",0,Calculations!I444)","v":0},{"$f":"IF(B462=\"\",\"\",IF(Calculations!C444=1,\"Yes\",\"No\"))","v":""},{"$f":"IF(B462=\"\",\"\",IF(Calculations!E444=1,\"Yes\",\"No\"))","v":""},{"$f":"IF(B462=\"\",\"\",IF(Calculations!F444=1,\"Yes\",\"No\"))","v":""},{"$f":"IF(B462=\"\",\"\",IF(Calculations!G444=1,\"Yes\",\"No\"))","v":""}]
[null,{"$f":"Calculations!A445","v":""},{"$f":"IF(B463=\"\",0,Calculations!B445)","v":0},{"$f":"IF(B463=\"\",0,Calculations!I445)","v":0},{"$f":"IF(B463=\"\",\"\",IF(Calculations!C445=1,\"Yes\",\"No\"))","v":""},{"$f":"IF(B463=\"\",\"\",IF(Calculations!E445=1,\"Yes\",\"No\"))","v":""},{"$f":"IF(B463=\"\",\"\",IF(Calculations!F445=1,\"Yes\",\"No\"))","v":""},{"$f":"IF(B463=\"\",\"\",IF(Calculations!G445=1,\"Yes\",\"No\"))","v":""}]
[null,{"$f":"Calculations!A446","v":""},{"$f":"IF(B464=\"\",0,Calculations!B446)","v":0},{"$f":"IF(B464=\"\",0,Calculations!I446)","v":0},{"$f":"IF(B464=\"\",\"\",IF(Calculations!C446=1,\"Yes\",\"No\"))","v":""},{"$f":"IF(B464=\"\",\"\",IF(Calculations!E446=1,\"Yes\",\"No\"))","v":""},{"$f":"IF(B464=\"\",\"\",IF(Calculations!F446=1,\"Yes\",\"No\"))","v":""},{"$f":"IF(B464=\"\",\"\",IF(Calculations!G446=1,\"Yes\",\"No\"))","v":""}]
[null,{"$f":"Calculations!A447","v":""},{"$f":"IF(B465=\"\",0,Calculations!B447)","v":0},{"$f":"IF(B465=\"\",0,Calculations!I447)","v":0},{"$f":"IF(B465=\"\",\"\",IF(Calculations!C447=1,\"Yes\",\"No\"))","v":""},{"$f":"IF(B465=\"\",\"\",IF(Calculations!E447=1,\"Yes\",\"No\"))","v":""},{"$f":"IF(B465=\"\",\"\",IF(Calculations!F447=1,\"Yes\",\"No\"))","v":""},{"$f":"IF(B465=\"\",\"\",IF(Calculations!G447=1,\"Yes\",\"No\"))","v":""}]
[null,{"$f":"Calculations!A448","v":""},{"$f":"IF(B466=\"\",0,Calculations!B448)","v":0},{"$f":"IF(B466=\"\",0,Calculations!I448)","v":0},{"$f":"IF(B466=\"\",\"\",IF(Calculations!C448=1,\"Yes\",\"No\"))","v":""},{"$f":"IF(B466=\"\",\"\",IF(Calculations!E448=1,\"Yes\",\"No\"))","v":""},{"$f":"IF(B466=\"\",\"\",IF(Calculations!F448=1,\"Yes\",\"No\"))","v":""},{"$f":"IF(B466=\"\",\"\",IF(Calculations!G448=1,\"Yes\",\"No\"))","v":""}]
[null,{"$f":"Calculations!A449","v":""},{"$f":"IF(B467=\"\",0,Calculations!B449)","v":0},{"$f":"IF(B467=\"\",0,Calculations!I449)","v":0},{"$f":"IF(B467=\"\",\"\",IF(Calculations!C449=1,\"Yes\",\"No\"))","v":""},{"$f":"IF(B467=\"\",\"\",IF(Calculations!E449=1,\"Yes\",\"No\"))","v":""},{"$f":"IF(B467=\"\",\"\",IF(Calculations!F449=1,\"Yes\",\"No\"))","v":""},{"$f":"IF(B467=\"\",\"\",IF(Calculations!G449=1,\"Yes\",\"No\"))","v":""}]
[null,{"$f":"Calculations!A450","v":""},{"$f":"IF(B468=\"\",0,Calculations!B450)","v":0},{"$f":"IF(B468=\"\",0,Calculations!I450)","v":0},{"$f":"IF(B468=\"\",\"\",IF(Calculations!C450=1,\"Yes\",\"No\"))","v":""},{"$f":"IF(B468=\"\",\"\",IF(Calculations!E450=1,\"Yes\",\"No\"))","v":""},{"$f":"IF(B468=\"\",\"\",IF(Calculations!F450=1,\"Yes\",\"No\"))","v":""},{"$f":"IF(B468=\"\",\"\",IF(Calculations!G450=1,\"Yes\",\"No\"))","v":""}]
[null,{"$f":"Calculations!A451","v":""},{"$f":"IF(B469=\"\",0,Calculations!B451)","v":0},{"$f":"IF(B469=\"\",0,Calculations!I451)","v":0},{"$f":"IF(B469=\"\",\"\",IF(Calculations!C451=1,\"Yes\",\"No\"))","v":""},{"$f":"IF(B469=\"\",\"\",IF(Calculations!E451=1,\"Yes\",\"No\"))","v":""},{"$f":"IF(B469=\"\",\"\",IF(Calculations!F451=1,\"Yes\",\"No\"))","v":""},{"$f":"IF(B469=\"\",\"\",IF(Calculations!G451=1,\"Yes\",\"No\"))","v":""}]
[null,{"$f":"Calculations!A452","v":""},{"$f":"IF(B470=\"\",0,Calculations!B452)","v":0},{"$f":"IF(B470=\"\",0,Calculations!I452)","v":0},{"$f":"IF(B470=\"\",\"\",IF(Calculations!C452=1,\"Yes\",\"No\"))","v":""},{"$f":"IF(B470=\"\",\"\",IF(Calculations!E452=1,\"Yes\",\"No\"))","v":""},{"$f":"IF(B470=\"\",\"\",IF(Calculations!F452=1,\"Yes\",\"No\"))","v":""},{"$f":"IF(B470=\"\",\"\",IF(Calculations!G452=1,\"Yes\",\"No\"))","v":""}]
[null,{"$f":"Calculations!A453","v":""},{"$f":"IF(B471=\"\",0,Calculations!B453)","v":0},{"$f":"IF(B471=\"\",0,Calculations!I453)","v":0},{"$f":"IF(B471=\"\",\"\",IF(Calculations!C453=1,\"Yes\",\"No\"))","v":""},{"$f":"IF(B471=\"\",\"\",IF(Calculations!E453=1,\"Yes\",\"No\"))","v":""},{"$f":"IF(B471=\"\",\"\",IF(Calculations!F453=1,\"Yes\",\"No\"))","v":""},{"$f":"IF(B471=\"\",\"\",IF(Calculations!G453=1,\"Yes\",\"No\"))","v":""}]
[null,{"$f":"Calculations!A454","v":""},{"$f":"IF(B472=\"\",0,Calculations!B454)","v":0},{"$f":"IF(B472=\"\",0,Calculations!I454)","v":0},{"$f":"IF(B472=\"\",\"\",IF(Calculations!C454=1,\"Yes\",\"No\"))","v":""},{"$f":"IF(B472=\"\",\"\",IF(Calculations!E454=1,\"Yes\",\"No\"))","v":""},{"$f":"IF(B472=\"\",\"\",IF(Calculations!F454=1,\"Yes\",\"No\"))","v":""},{"$f":"IF(B472=\"\",\"\",IF(Calculations!G454=1,\"Yes\",\"No\"))","v":""}]
[null,{"$f":"Calculations!A455","v":""},{"$f":"IF(B473=\"\",0,Calculations!B455)","v":0},{"$f":"IF(B473=\"\",0,Calculations!I455)","v":0},{"$f":"IF(B473=\"\",\"\",IF(Calculations!C455=1,\"Yes\",\"No\"))","v":""},{"$f":"IF(B473=\"\",\"\",IF(Calculations!E455=1,\"Yes\",\"No\"))","v":""},{"$f":"IF(B473=\"\",\"\",IF(Calculations!F455=1,\"Yes\",\"No\"))","v":""},{"$f":"IF(B473=\"\",\"\",IF(Calculations!G455=1,\"Yes\",\"No\"))","v":""}]
[null,{"$f":"Calculations!A456","v":""},{"$f":"IF(B474=\"\",0,Calculations!B456)","v":0},{"$f":"IF(B474=\"\",0,Calculations!I456)","v":0},{"$f":"IF(B474=\"\",\"\",IF(Calculations!C456=1,\"Yes\",\"No\"))","v":""},{"$f":"IF(B474=\"\",\"\",IF(Calculations!E456=1,\"Yes\",\"No\"))","v":""},{"$f":"IF(B474=\"\",\"\",IF(Calculations!F456=1,\"Yes\",\"No\"))","v":""},{"$f":"IF(B474=\"\",\"\",IF(Calculations!G456=1,\"Yes\",\"No\"))","v":""}]
[null,{"$f":"Calculations!A457","v":""},{"$f":"IF(B475=\"\",0,Calculations!B457)","v":0},{"$f":"IF(B475=\"\",0,Calculations!I457)","v":0},{"$f":"IF(B475=\"\",\"\",IF(Calculations!C457=1,\"Yes\",\"No\"))","v":""},{"$f":"IF(B475=\"\",\"\",IF(Calculations!E457=1,\"Yes\",\"No\"))","v":""},{"$f":"IF(B475=\"\",\"\",IF(Calculations!F457=1,\"Yes\",\"No\"))","v":""},{"$f":"IF(B475=\"\",\"\",IF(Calculations!G457=1,\"Yes\",\"No\"))","v":""}]
[null,{"$f":"Calculations!A458","v":""},{"$f":"IF(B476=\"\",0,Calculations!B458)","v":0},{"$f":"IF(B476=\"\",0,Calculations!I458)","v":0},{"$f":"IF(B476=\"\",\"\",IF(Calculations!C458=1,\"Yes\",\"No\"))","v":""},{"$f":"IF(B476=\"\",\"\",IF(Calculations!E458=1,\"Yes\",\"No\"))","v":""},{"$f":"IF(B476=\"\",\"\",IF(Calculations!F458=1,\"Yes\",\"No\"))","v":""},{"$f":"IF(B476=\"\",\"\",IF(Calculations!G458=1,\"Yes\",\"No\"))","v":""}]
[null,{"$f":"Calculations!A459","v":""},{"$f":"IF(B477=\"\",0,Calculations!B459)","v":0},{"$f":"IF(B477=\"\",0,Calculations!I459)","v":0},{"$f":"IF(B477=\"\",\"\",IF(Calculations!C459=1,\"Yes\",\"No\"))","v":""},{"$f":"IF(B477=\"\",\"\",IF(Calculations!E459=1,\"Yes\",\"No\"))","v":""},{"$f":"IF(B477=\"\",\"\",IF(Calculations!F459=1,\"Yes\",\"No\"))","v":""},{"$f":"IF(B477=\"\",\"\",IF(Calculations!G459=1,\"Yes\",\"No\"))","v":""}]
[null,{"$f":"Calculations!A460","v":""},{"$f":"IF(B478=\"\",0,Calculations!B460)","v":0},{"$f":"IF(B478=\"\",0,Calculations!I460)","v":0},{"$f":"IF(B478=\"\",\"\",IF(Calculations!C460=1,\"Yes\",\"No\"))","v":""},{"$f":"IF(B478=\"\",\"\",IF(Calculations!E460=1,\"Yes\",\"No\"))","v":""},{"$f":"IF(B478=\"\",\"\",IF(Calculations!F460=1,\"Yes\",\"No\"))","v":""},{"$f":"IF(B478=\"\",\"\",IF(Calculations!G460=1,\"Yes\",\"No\"))","v":""}]
[null,{"$f":"Calculations!A461","v":""},{"$f":"IF(B479=\"\",0,Calculations!B461)","v":0},{"$f":"IF(B479=\"\",0,Calculations!I461)","v":0},{"$f":"IF(B479=\"\",\"\",IF(Calculations!C461=1,\"Yes\",\"No\"))","v":""},{"$f":"IF(B479=\"\",\"\",IF(Calculations!E461=1,\"Yes\",\"No\"))","v":""},{"$f":"IF(B479=\"\",\"\",IF(Calculations!F461=1,\"Yes\",\"No\"))","v":""},{"$f":"IF(B479=\"\",\"\",IF(Calculations!G461=1,\"Yes\",\"No\"))","v":""}]
[null,{"$f":"Calculations!A462","v":""},{"$f":"IF(B480=\"\",0,Calculations!B462)","v":0},{"$f":"IF(B480=\"\",0,Calculations!I462)","v":0},{"$f":"IF(B480=\"\",\"\",IF(Calculations!C462=1,\"Yes\",\"No\"))","v":""},{"$f":"IF(B480=\"\",\"\",IF(Calculations!E462=1,\"Yes\",\"No\"))","v":""},{"$f":"IF(B480=\"\",\"\",IF(Calculations!F462=1,\"Yes\",\"No\"))","v":""},{"$f":"IF(B480=\"\",\"\",IF(Calculations!G462=1,\"Yes\",\"No\"))","v":""}]
[null,{"$f":"Calculations!A463","v":""},{"$f":"IF(B481=\"\",0,Calculations!B463)","v":0},{"$f":"IF(B481=\"\",0,Calculations!I463)","v":0},{"$f":"IF(B481=\"\",\"\",IF(Calculations!C463=1,\"Yes\",\"No\"))","v":""},{"$f":"IF(B481=\"\",\"\",IF(Calculations!E463=1,\"Yes\",\"No\"))","v":""},{"$f":"IF(B481=\"\",\"\",IF(Calculations!F463=1,\"Yes\",\"No\"))","v":""},{"$f":"IF(B481=\"\",\"\",IF(Calculations!G463=1,\"Yes\",\"No\"))","v":""}]
[null,{"$f":"Calculations!A464","v":""},{"$f":"IF(B482=\"\",0,Calculations!B464)","v":0},{"$f":"IF(B482=\"\",0,Calculations!I464)","v":0},{"$f":"IF(B482=\"\",\"\",IF(Calculations!C464=1,\"Yes\",\"No\"))","v":""},{"$f":"IF(B482=\"\",\"\",IF(Calculations!E464=1,\"Yes\",\"No\"))","v":""},{"$f":"IF(B482=\"\",\"\",IF(Calculations!F464=1,\"Yes\",\"No\"))","v":""},{"$f":"IF(B482=\"\",\"\",IF(Calculations!G464=1,\"Yes\",\"No\"))","v":""}]
[null,{"$f":"Calculations!A465","v":""},{"$f":"IF(B483=\"\",0,Calculations!B465)","v":0},{"$f":"IF(B483=\"\",0,Calculations!I465)","v":0},{"$f":"IF(B483=\"\",\"\",IF(Calculations!C465=1,\"Yes\",\"No\"))","v":""},{"$f":"IF(B483=\"\",\"\",IF(Calculations!E465=1,\"Yes\",\"No\"))","v":""},{"$f":"IF(B483=\"\",\"\",IF(Calculations!F465=1,\"Yes\",\"No\"))","v":""},{"$f":"IF(B483=\"\",\"\",IF(Calculations!G465=1,\"Yes\",\"No\"))","v":""}]
[null,{"$f":"Calculations!A466","v":""},{"$f":"IF(B484=\"\",0,Calculations!B466)","v":0},{"$f":"IF(B484=\"\",0,Calculations!I466)","v":0},{"$f":"IF(B484=\"\",\"\",IF(Calculations!C466=1,\"Yes\",\"No\"))","v":""},{"$f":"IF(B484=\"\",\"\",IF(Calculations!E466=1,\"Yes\",\"No\"))","v":""},{"$f":"IF(B484=\"\",\"\",IF(Calculations!F466=1,\"Yes\",\"No\"))","v":""},{"$f":"IF(B484=\"\",\"\",IF(Calculations!G466=1,\"Yes\",\"No\"))","v":""}]
[null,{"$f":"Calculations!A467","v":""},{"$f":"IF(B485=\"\",0,Calculations!B467)","v":0},{"$f":"IF(B485=\"\",0,Calculations!I467)","v":0},{"$f":"IF(B485=\"\",\"\",IF(Calculations!C467=1,\"Yes\",\"No\"))","v":""},{"$f":"IF(B485=\"\",\"\",IF(Calculations!E467=1,\"Yes\",\"No\"))","v":""},{"$f":"IF(B485=\"\",\"\",IF(Calculations!F467=1,\"Yes\",\"No\"))","v":""},{"$f":"IF(B485=\"\",\"\",IF(Calculations!G467=1,\"Yes\",\"No\"))","v":""}]
[null,{"$f":"Calculations!A468","v":""},{"$f":"IF(B486=\"\",0,Calculations!B468)","v":0},{"$f":"IF(B486=\"\",0,Calculations!I468)","v":0},{"$f":"IF(B486=\"\",\"\",IF(Calculations!C468=1,\"Yes\",\"No\"))","v":""},{"$f":"IF(B486=\"\",\"\",IF(Calculations!E468=1,\"Yes\",\"No\"))","v":""},{"$f":"IF(B486=\"\",\"\",IF(Calculations!F468=1,\"Yes\",\"No\"))","v":""},{"$f":"IF(B486=\"\",\"\",IF(Calculations!G468=1,\"Yes\",\"No\"))","v":""}]
[null,{"$f":"Calculations!A469","v":""},{"$f":"IF(B487=\"\",0,Calculations!B469)","v":0},{"$f":"IF(B487=\"\",0,Calculations!I469)","v":0},{"$f":"IF(B487=\"\",\"\",IF(Calculations!C469=1,\"Yes\",\"No\"))","v":""},{"$f":"IF(B487=\"\",\"\",IF(Calculations!E469=1,\"Yes\",\"No\"))","v":""},{"$f":"IF(B487=\"\",\"\",IF(Calculations!F469=1,\"Yes\",\"No\"))","v":""},{"$f":"IF(B487=\"\",\"\",IF(Calculations!G469=1,\"Yes\",\"No\"))","v":""}]
[null,{"$f":"Calculations!A470","v":""},{"$f":"IF(B488=\"\",0,Calculations!B470)","v":0},{"$f":"IF(B488=\"\",0,Calculations!I470)","v":0},{"$f":"IF(B488=\"\",\"\",IF(Calculations!C470=1,\"Yes\",\"No\"))","v":""},{"$f":"IF(B488=\"\",\"\",IF(Calculations!E470=1,\"Yes\",\"No\"))","v":""},{"$f":"IF(B488=\"\",\"\",IF(Calculations!F470=1,\"Yes\",\"No\"))","v":""},{"$f":"IF(B488=\"\",\"\",IF(Calculations!G470=1,\"Yes\",\"No\"))","v":""}]
[null,{"$f":"Calculations!A471","v":""},{"$f":"IF(B489=\"\",0,Calculations!B471)","v":0},{"$f":"IF(B489=\"\",0,Calculations!I471)","v":0},{"$f":"IF(B489=\"\",\"\",IF(Calculations!C471=1,\"Yes\",\"No\"))","v":""},{"$f":"IF(B489=\"\",\"\",IF(Calculations!E471=1,\"Yes\",\"No\"))","v":""},{"$f":"IF(B489=\"\",\"\",IF(Calculations!F471=1,\"Yes\",\"No\"))","v":""},{"$f":"IF(B489=\"\",\"\",IF(Calculations!G471=1,\"Yes\",\"No\"))","v":""}]
[null,{"$f":"Calculations!A472","v":""},{"$f":"IF(B490=\"\",0,Calculations!B472)","v":0},{"$f":"IF(B490=\"\",0,Calculations!I472)","v":0},{"$f":"IF(B490=\"\",\"\",IF(Calculations!C472=1,\"Yes\",\"No\"))","v":""},{"$f":"IF(B490=\"\",\"\",IF(Calculations!E472=1,\"Yes\",\"No\"))","v":""},{"$f":"IF(B490=\"\",\"\",IF(Calculations!F472=1,\"Yes\",\"No\"))","v":""},{"$f":"IF(B490=\"\",\"\",IF(Calculations!G472=1,\"Yes\",\"No\"))","v":""}]
[null,{"$f":"Calculations!A473","v":""},{"$f":"IF(B491=\"\",0,Calculations!B473)","v":0},{"$f":"IF(B491=\"\",0,Calculations!I473)","v":0},{"$f":"IF(B491=\"\",\"\",IF(Calculations!C473=1,\"Yes\",\"No\"))","v":""},{"$f":"IF(B491=\"\",\"\",IF(Calculations!E473=1,\"Yes\",\"No\"))","v":""},{"$f":"IF(B491=\"\",\"\",IF(Calculations!F473=1,\"Yes\",\"No\"))","v":""},{"$f":"IF(B491=\"\",\"\",IF(Calculations!G473=1,\"Yes\",\"No\"))","v":""}]
[null,{"$f":"Calculations!A474","v":""},{"$f":"IF(B492=\"\",0,Calculations!B474)","v":0},{"$f":"IF(B492=\"\",0,Calculations!I474)","v":0},{"$f":"IF(B492=\"\",\"\",IF(Calculations!C474=1,\"Yes\",\"No\"))","v":""},{"$f":"IF(B492=\"\",\"\",IF(Calculations!E474=1,\"Yes\",\"No\"))","v":""},{"$f":"IF(B492=\"\",\"\",IF(Calculations!F474=1,\"Yes\",\"No\"))","v":""},{"$f":"IF(B492=\"\",\"\",IF(Calculations!G474=1,\"Yes\",\"No\"))","v":""}]
[null,{"$f":"Calculations!A475","v":""},{"$f":"IF(B493=\"\",0,Calculations!B475)","v":0},{"$f":"IF(B493=\"\",0,Calculations!I475)","v":0},{"$f":"IF(B493=\"\",\"\",IF(Calculations!C475=1,\"Yes\",\"No\"))","v":""},{"$f":"IF(B493=\"\",\"\",IF(Calculations!E475=1,\"Yes\",\"No\"))","v":""},{"$f":"IF(B493=\"\",\"\",IF(Calculations!F475=1,\"Yes\",\"No\"))","v":""},{"$f":"IF(B493=\"\",\"\",IF(Calculations!G475=1,\"Yes\",\"No\"))","v":""}]
[null,{"$f":"Calculations!A476","v":""},{"$f":"IF(B494=\"\",0,Calculations!B476)","v":0},{"$f":"IF(B494=\"\",0,Calculations!I476)","v":0},{"$f":"IF(B494=\"\",\"\",IF(Calculations!C476=1,\"Yes\",\"No\"))","v":""},{"$f":"IF(B494=\"\",\"\",IF(Calculations!E476=1,\"Yes\",\"No\"))","v":""},{"$f":"IF(B494=\"\",\"\",IF(Calculations!F476=1,\"Yes\",\"No\"))","v":""},{"$f":"IF(B494=\"\",\"\",IF(Calculations!G476=1,\"Yes\",\"No\"))","v":""}]
[null,{"$f":"Calculations!A477","v":""},{"$f":"IF(B495=\"\",0,Calculations!B477)","v":0},{"$f":"IF(B495=\"\",0,Calculations!I477)","v":0},{"$f":"IF(B495=\"\",\"\",IF(Calculations!C477=1,\"Yes\",\"No\"))","v":""},{"$f":"IF(B495=\"\",\"\",IF(Calculations!E477=1,\"Yes\",\"No\"))","v":""},{"$f":"IF(B495=\"\",\"\",IF(Calculations!F477=1,\"Yes\",\"No\"))","v":""},{"$f":"IF(B495=\"\",\"\",IF(Calculations!G477=1,\"Yes\",\"No\"))","v":""}]
[null,{"$f":"Calculations!A478","v":""},{"$f":"IF(B496=\"\",0,Calculations!B478)","v":0},{"$f":"IF(B496=\"\",0,Calculations!I478)","v":0},{"$f":"IF(B496=\"\",\"\",IF(Calculations!C478=1,\"Yes\",\"No\"))","v":""},{"$f":"IF(B496=\"\",\"\",IF(Calculations!E478=1,\"Yes\",\"No\"))","v":""},{"$f":"IF(B496=\"\",\"\",IF(Calculations!F478=1,\"Yes\",\"No\"))","v":""},{"$f":"IF(B496=\"\",\"\",IF(Calculations!G478=1,\"Yes\",\"No\"))","v":""}]
[null,{"$f":"Calculations!A479","v":""},{"$f":"IF(B497=\"\",0,Calculations!B479)","v":0},{"$f":"IF(B497=\"\",0,Calculations!I479)","v":0},{"$f":"IF(B497=\"\",\"\",IF(Calculations!C479=1,\"Yes\",\"No\"))","v":""},{"$f":"IF(B497=\"\",\"\",IF(Calculations!E479=1,\"Yes\",\"No\"))","v":""},{"$f":"IF(B497=\"\",\"\",IF(Calculations!F479=1,\"Yes\",\"No\"))","v":""},{"$f":"IF(B497=\"\",\"\",IF(Calculations!G479=1,\"Yes\",\"No\"))","v":""}]
[null,{"$f":"Calculations!A480","v":""},{"$f":"IF(B498=\"\",0,Calculations!B480)","v":0},{"$f":"IF(B498=\"\",0,Calculations!I480)","v":0},{"$f":"IF(B498=\"\",\"\",IF(Calculations!C480=1,\"Yes\",\"No\"))","v":""},{"$f":"IF(B498=\"\",\"\",IF(Calculations!E480=1,\"Yes\",\"No\"))","v":""},{"$f":"IF(B498=\"\",\"\",IF(Calculations!F480=1,\"Yes\",\"No\"))","v":""},{"$f":"IF(B498=\"\",\"\",IF(Calculations!G480=1,\"Yes\",\"No\"))","v":""}]
[null,{"$f":"Calculations!A481","v":""},{"$f":"IF(B499=\"\",0,Calculations!B481)","v":0},{"$f":"IF(B499=\"\",0,Calculations!I481)","v":0},{"$f":"IF(B499=\"\",\"\",IF(Calculations!C481=1,\"Yes\",\"No\"))","v":""},{"$f":"IF(B499=\"\",\"\",IF(Calculations!E481=1,\"Yes\",\"No\"))","v":""},{"$f":"IF(B499=\"\",\"\",IF(Calculations!F481=1,\"Yes\",\"No\"))","v":""},{"$f":"IF(B499=\"\",\"\",IF(Calculations!G481=1,\"Yes\",\"No\"))","v":""}]
[null,{"$f":"Calculations!A482","v":""},{"$f":"IF(B500=\"\",0,Calculations!B482)","v":0},{"$f":"IF(B500=\"\",0,Calculations!I482)","v":0},{"$f":"IF(B500=\"\",\"\",IF(Calculations!C482=1,\"Yes\",\"No\"))","v":""},{"$f":"IF(B500=\"\",\"\",IF(Calculations!E482=1,\"Yes\",\"No\"))","v":""},{"$f":"IF(B500=\"\",\"\",IF(Calculations!F482=1,\"Yes\",\"No\"))","v":""},{"$f":"IF(B500=\"\",\"\",IF(Calculations!G482=1,\"Yes\",\"No\"))","v":""}]
[null,{"$f":"Calculations!A483","v":""},{"$f":"IF(B501=\"\",0,Calculations!B483)","v":0},{"$f":"IF(B501=\"\",0,Calculations!I483)","v":0},{"$f":"IF(B501=\"\",\"\",IF(Calculations!C483=1,\"Yes\",\"No\"))","v":""},{"$f":"IF(B501=\"\",\"\",IF(Calculations!E483=1,\"Yes\",\"No\"))","v":""},{"$f":"IF(B501=\"\",\"\",IF(Calculations!F483=1,\"Yes\",\"No\"))","v":""},{"$f":"IF(B501=\"\",\"\",IF(Calculations!G483=1,\"Yes\",\"No\"))","v":""}]
[null,{"$f":"Calculations!A484","v":""},{"$f":"IF(B502=\"\",0,Calculations!B484)","v":0},{"$f":"IF(B502=\"\",0,Calculations!I484)","v":0},{"$f":"IF(B502=\"\",\"\",IF(Calculations!C484=1,\"Yes\",\"No\"))","v":""},{"$f":"IF(B502=\"\",\"\",IF(Calculations!E484=1,\"Yes\",\"No\"))","v":""},{"$f":"IF(B502=\"\",\"\",IF(Calculations!F484=1,\"Yes\",\"No\"))","v":""},{"$f":"IF(B502=\"\",\"\",IF(Calculations!G484=1,\"Yes\",\"No\"))","v":""}]
[null,{"$f":"Calculations!A485","v":""},{"$f":"IF(B503=\"\",0,Calculations!B485)","v":0},{"$f":"IF(B503=\"\",0,Calculations!I485)","v":0},{"$f":"IF(B503=\"\",\"\",IF(Calculations!C485=1,\"Yes\",\"No\"))","v":""},{"$f":"IF(B503=\"\",\"\",IF(Calculations!E485=1,\"Yes\",\"No\"))","v":""},{"$f":"IF(B503=\"\",\"\",IF(Calculations!F485=1,\"Yes\",\"No\"))","v":""},{"$f":"IF(B503=\"\",\"\",IF(Calculations!G485=1,\"Yes\",\"No\"))","v":""}]

{"sheet":"Insights","index":5,"n_rows":62,"n_cols":6,"rows_kept":62,"cut":false,"hidden":false,"merged":[[2,0,2,6],[1,1,1,5],[56,1,56,5],[5,0,5,6],[58,1,58,2],[58,4,58,5],[6,1,6,6],[7,1,7,6],[31,1,31,6],[32,1,32,6],[30,0,30,6],[55,0,55,5]]}
[]
[null,"On this page you can get some insights into the trends of your time on scene and identify which hospitals your patients are most often delivered to. If your % of Patients delivered to Stroke Ready Hospitals is low, you can identify where the patients are taken erroneously on the Pivot table on the left. "]
["Data insights "]
[]
[]
["Time on Scene"]
[null,"Arrival at the patients residence - Departure from the patients residence"]
[null,"Median, minimum and maximum delay"]
[]
[]
[]
[]
[]
[]
[]
[]
[]
[]
[]
[]
[]
[]
[]
[]
[]
[null,null,"Minimum delay","Median delay","Maximum delay"]
[null,null,"(in minutes)","(in minutes)","(in minutes)"]
[null,null,{"$f":"MIN(Calculations!B3:B500)","v":0},{"$f":"MEDIAN(Calculations!B3:B500)","v":{"$error":"#NUM!"}},{"$f":"MAX(Calculations!B3:B500)","v":0}]
[]
[]
["Symptom-to-door time"]
[null,"Time from \"Time Last Known Normal\" to Arrival at the Hospital door"]
[null,"Median, minimum and maximum delay"]
[]
[]
[]
[]
[]
[]
[]
[]
[]
[]
[]
[]
[]
[]
[]
[]
[]
[null,null,"Minimum delay","Median delay","Maximum delay"]
[null,null,"(in minutes)","(in minutes)","(in minutes)"]
[null,null,{"$f":"MIN(Calculations!I3:I529)","v":0},{"$f":"MEDIAN(Calculations!I3:I529)","v":{"$error":"#NUM!"}},{"$f":"MAX(Calculations!I3:I529)","v":0}]
[]
[]
["Choosing the correct hospital"]
[null,"To refresh the data in the tables below please click on the \"Refresh Tables\" button."]
[]
[null,"Most popular NON-stroke ready hospitals patients are delivered to",null,null,"Most popular Stroke Ready hospitals patients are delivered to"]
[null,"Hospital names","# of patients delivered to these hospitals",null,"Hospitals","# of Patients delivered to there hospitals"]
[null,"(blank)",null,null,"(blank)"]
[null,"Grand Total",null,null,"Grand Total"]

{"sheet":"Data Definitions","index":6,"n_rows":19,"n_cols":2,"rows_kept":19,"cut":false,"hidden":false,"merged":[]}
[]
["On this page you can get a better idea of the definitions used as well as how the formulas are calculated and what dat yo need to get in oder to participate in the Angels EMS Awards program"]
[]
["Awards qualification criteria","These are minimum criteria that have to be met in order for your EMS service to qualify for an award. If your EMS service does not meet any of the below criteria please contact your local Angels Conslutant to help you put this in place. "]
["Minimum of 30 patients ","To make the data representative, you have to calculate the % using at least 30 consecutive stroke patients managed by your service. "]
["Is there a stroke specific protocol in place?","Choose yes if you have a formalised stroke protocol in place in your EMS Service "]
["Is an annual Stroke Education program in place?","Choose yes if you had a stroke related training of refresher training for all ambulance staff in the last 12 months. "]
["Does your service make use of specific stroke scales? ","Choose yes if your ambulance staff have been trained on and make active use of a specific stroke scale to diagnose suspected stroke patients. "]
[]
["Award level criteria","These criteria determined the level of award you could qualify for. "]
["Average time on scene (Minutes):","This is calculated as the time from when the ambuance arrives on the scene until the ambulance departs again. "]
["% Prenotification to hospital:","This is scored as a yes if you have any proof on record that the ambualnce crew or dispatch centre prenotified the hospital stroke team of the fact that a stroke patient is on route. "]
["% of patients delivered to Stroke Ready Hospitals:","For this calculation simply copy the name of the hospital sthe patient was deleiverd to as per your records. The spreadsheet will compare this with the list of Stroke Ready hospitals to determine if the %. Please make sure to keep the list of Stroke Ready hospitas current, and check for spelling errors in the report as the spreadsheet looks for exact matches. "]
["% of patients where medications details are reported:","Please add any proof tha the ambulance crew enquired about the patient's current medications. You can either name a drg listed or indicate yes if the medications were recorded. "]
["% of patients where time last known normal is reported:","Please add some proof tha the patient recorded the time last known normal. You can simply copy the time reported by the ambulance crew for the formula to work. "]
[]
["Overall award level","This indicate the award level you qualify for. The level is worked out on the lowest level you quaify for in the 5 criteria. "]
[]
["Stroke Ready hospital","This is a hospital that has at least a working CT scan, an emergency department and access to recanalisation therapy. You can update this list with the help of your local Angels Consultant. "]